{"text_format":"3","workbook":"xlsx","n_sheets":13,"sheets":["NOMBRE","FILTRO","P1","P2","P3","P4","P5","P6","P7","P9","P11","P12","P13"],"not_rendered":{"macros":1,"defined_names":9,"comments":1,"pivot_tables":1},"read":"whole","date_system":"1900"}

{"sheet":"NOMBRE","index":0,"n_rows":40,"n_cols":33,"rows_kept":40,"hidden":true,"merged":[[0,0,0,1],[0,2,0,7],[8,0,8,1],[14,0,14,1],[16,1,18,1]]}
[null,null,"CÓDIGOS"]
["NOMBRE DE COMUNA",{"$nulls":7},{"$f":"IF(OR(NOMBRE!C2=\"\",NOMBRE!D2=\"\",NOMBRE!E2=\"\",NOMBRE!F2=\"\",NOMBRE!G2=\"\"),\"Falta Cód. Com.\",\"\")","v":"Falta Cód. Com."},{"$nulls":23},{"$f":"IF(I2>\"\",1,0)","v":1}]
["NOMBRE ESTABLECIMIENTO/ESTRATEGIA",{"$nulls":7},{"$f":"IF(OR(NOMBRE!C3=\"\",NOMBRE!D3=\"\",NOMBRE!E3=\"\",NOMBRE!F3=\"\",NOMBRE!G3=\"\",NOMBRE!H3=\"\"),\"Falta Cód. Est.\",\"\")","v":"Falta Cód. Est."},{"$nulls":23},{"$f":"IF(I3>\"\",1,0)","v":1}]
["TIPO DE ESTABLECIMIENTO/ESTRATEGIA",{"$nulls":7},{"$f":"IF(OR(NOMBRE!B4=\"\"),\"Falta Tipo. Est.\",\"\")","v":"Falta Tipo. Est."},{"$nulls":23},{"$f":"IF(I4>\"\",1,0)","v":1}]
["DEPENDENCIA",{"$nulls":7},{"$f":"IF(OR(NOMBRE!B5=\"\"),\"Falta Dependencia. Est.\",\"\")","v":"Falta Dependencia. Est."},{"$nulls":23},{"$f":"IF(I5>\"\",1,0)","v":1}]
["MES:",{"$nulls":7},{"$f":"IF(OR(NOMBRE!C6=\"\",NOMBRE!D6=\"\"),\"Falta Cód. Mes.\",\"\")","v":"Falta Cód. Mes."},{"$nulls":23},{"$f":"IF(I6>\"\",1,0)","v":1}]
["AÑO:",2023,{"$nulls":30},{"$f":"SUM(AG2:AG6)","v":5}]
[]
["Versión 1.1: Junio 2023 "]
[]
["Director/a Servicio de Salud o Director/a Establecimiento",{"$nulls":25},"JUNIO","Establecimiento de Mayor Complejidad (EMAYC)","SERVICIO DE SALUD"]
["Jefe/a de Estadísticas",{"$nulls":25},"DICIEMBRE","Establecimiento de Mediana Complejidad (EMEDC)","MUNICIPAL"]
[{"$nulls":27},"Establecimiento de Menor Complejidad (EMENC)","Organizaciones sin fines de lucro y ONG (Delegado)"]
[{"$nulls":27},"Centros de Diagnóstico Terapeutico (CDT)"]
["MINSAL - DEIS",{"$nulls":26},"Centro de Referencia de Salud (CRS)"]
[{"$nulls":27},"Consultorio General Urbano (CGU)"]
[null,"SERIE P\n",{"$nulls":25},"Consultorio General Urbano (CGU) - CESFAM"]
[{"$nulls":27},"Consultorio General Urbano(CGU) con SAPU/SUR/SAR"]
[{"$nulls":27},"Consultorio General Urbano (CGU) - CESFAM con SAPU/SAR"]
[{"$nulls":27},"Consultorio General Rural (CGR)"]
[{"$nulls":27},"Consultorio General Rural (CGR) - CESFAM"]
[{"$nulls":27},"Consultorio General Rural (CGR) con SAPU/SAR/SUR"]
[{"$nulls":27},"Consultorio General Rural (CGR) - CESFAM con SAPU/SAR/SUR"]
[{"$nulls":27},"Posta de Salud Rural (PSR)"]
[{"$nulls":27},"Centro Comunitario de Salud Familiar (CECOF)"]
[{"$nulls":27},"Consultorio de Salud Mental (COSAM)"]
[{"$nulls":27},"Programa de Reparación y Atención Integral de Salud (PRAIS)"]
[{"$nulls":27},"Centro de Atención Funcionarios (CAF)"]
[{"$nulls":27},"Unidad de Salud de Funcionarios (USF)"]
[{"$nulls":27},"ClÍnica Dental Móvil (CDM)"]
[{"$nulls":27},"Dirección Servicio de Salud (DSS)"]
[{"$nulls":27},"Servicio de Atención Primaria de Urgencia (SAPU)"]
[{"$nulls":27},"Servicio de Atención Primaria de Urgencia de Alta Resolutividad (SAR)"]
[{"$nulls":27},"Servicio de Urgencia Rural (SUR)"]
[{"$nulls":27},"Laboratorio Clínico o Dental"]
[{"$nulls":27},"Servicio de Atención Primaria de Urgencia Dental (SAPUDENT)"]
[{"$nulls":27},"Centro de Rehabilitación (CR)"]
[{"$nulls":27},"Hospital de Campaña"]
[{"$nulls":27},"Centro Oncologico"]
[{"$nulls":27},"SAMU"]

{"sheet":"FILTRO","index":1,"n_rows":630,"n_cols":51,"rows_kept":630}
["Mes","(Todas)"]
["COMUNA ","(Todas)"]
["ESTABLECIMIENTO","(Todas)"]
[]
["Etiquetas de fila","Suma de Col01","Suma de Col02","Suma de Col03","Suma de Col04","Suma de Col05","Suma de Col06","Suma de Col07","Suma de Col08","Suma de Col09","Suma de Col10","Suma de Col11","Suma de Col12","Suma de Col13","Suma de Col14","Suma de Col15","Suma de Col16","Suma de Col17","Suma de Col18","Suma de Col19","Suma de Col20","Suma de Col21","Suma de Col22","Suma de Col23","Suma de Col24","Suma de Col25","Suma de Col26","Suma de Col27","Suma de Col28","Suma de Col29","Suma de Col30","Suma de Col31","Suma de Col32","Suma de Col33","Suma de Col34","Suma de Col35","Suma de Col36","Suma de Col37","Suma de Col38","Suma de Col39","Suma de Col40","Suma de Col41","Suma de col42","Suma de col43","Suma de col44","Suma de col45","Suma de col46","Suma de col47","Suma de col48","Cuenta de col49","Cuenta de col50"]
["P1010100",6880,0,50,376,1078,1461,1310,1062,884,528,131,{"$nulls":3},91,241,7]
["P1010201",13573,292,2145,2694,2279,2155,1840,1252,716,186,14,{"$nulls":3},148,393,3]
["P1010202",4677,20,173,317,602,717,644,798,932,434,40,{"$nulls":3},51,153,0]
["P1010203",6628,84,955,1581,1418,1059,780,476,218,51,6,{"$nulls":3},109,270,2]
["P1010301",1702,32,251,207,238,258,219,222,135,108,32,{"$nulls":3},21,91,3]
["P1010302",641,46,276,73,62,60,39,42,22,5,16,{"$nulls":3},1,39,5]
["P1020100",6,6,1,4,1]
["P1020200",172,82,8,63,25]
["P1030101",1275,1,34,252,380,365,190,52,1,0]
["P1030102",1083,1,39,240,333,289,148,31,2,0]
["P1030103",822,3,77,219,251,160,92,19,1,0]
["P1030104",127,1,22,36,34,25,8,1,0,0]
["P1030201",228,0,11,46,60,61,42,8,0,0]
["P1030202",196,0,7,41,60,59,20,8,1,0]
["P1030203",151,0,20,42,59,26,2,1,1,0]
["P1030204",6,null,2,1,2,1]
["P1030301",3788]
["P1030303",1]
["P1030304",47]
["P1030401",28]
["P1030403",278]
["P1030404",602]
["P1040500",9767,184,1780,2265,2056,1675,991,526,241,47,2,{"$nulls":3},111,771,6]
["P1040501",747,189,14,201,101]
["P1040502",339,339]
["P1040503",106,212]
["P1040504",70,210]
["P1040505",42,113]
["P1040506",17]
["P1040507",4]
["P1040508",13377,171,1242,2269,2703,2488,1802,1286,1068,338,10,{"$nulls":3},196,759,7]
["P1050100",34]
["P1050101",703]
["P1050102",588]
["P1050103",51]
["P1050104",237]
["P1060010",3199,0,11,92,176,280,492,683,810,514,141,{"$nulls":3},31,46,0]
["P1060040",2629]
["P1060050",1215]
["P1060060",607]
["P1060070",34]
["P1060080",11]
["P1060090",4882,114,1253,1109,814,617,456,271,187,54,7,{"$nulls":3},55,239,3]
["P1060100",998,219,18,378,113]
["P1060101",839,164,15,382,82]
["P1060102",438,83,8,227,58]
["P1060103",103,27,1,74,12]
["P1060104",4,1,0,2,0]
["P1060106",3,4,2,2]
["P1060107",78,137,94,62]
["P1060108",358,436,326,164]
["P1060109",478,647,459,226]
["P1060110",443,535,442,205]
["P1060111",202,283,218,109]
["P1060112",45,61,47,23]
["P1060113",2,3,2,2]
["P1060115",28]
["P1060116",102]
["P1060117",28]
["P1060118",12]
["P1060119",5]
["P1060120",24]
["P1060121",12]
["P1060122",11]
["P1060123",11]
["P1060124",1221,3,36,148,280,323,213,141,61,12,4,{"$nulls":3},29,61,2]
["P11000140",12,2,10,0,0,0,0,1,1,0,0,1,5,0,2,0,2,0,0,0,0,0,0,0,0,0,0,0,0,0,0,0,0,0,7]
["P11000150",4,null,4,{"$nulls":13},1,{"$nulls":3},2,null,1,{"$nulls":18},0,0,1,1,0,0]
["P11000160",7,null,7,{"$nulls":15},1,null,1,null,5,{"$nulls":18},0,0,0,0,0,0]
["P11000170",2228,1805,423,0,0,0,0,1,0,1,0,2,3,6,8,86,11,261,27,378,54,267,64,236,57,150,50,158,51,108,48,86,26,26,13,21,11,12,0,6,0,16,16,5,294,0,0]
["P11000180",81,60,21,0,0,0,0,0,0,0,0,0,0,0,0,6,1,13,0,12,3,13,7,11,2,1,3,4,1,0,0,0,4,0,0,0,0,0,0,0,0,0,0,0,5,0,0]
["P11000190",5,null,5,{"$nulls":13},1,{"$nulls":3},2,null,2,{"$nulls":18},0,0,1,1,0,0]
["P11000200",1934,1577,357,0,0,0,0,1,0,0,0,2,3,5,5,68,9,212,23,327,39,231,50,219,50,136,43,139,44,96,42,76,25,26,12,21,11,12,0,6,1,12,0,4,143,0,0]
["P1200190",2907,61,528,676,626,487,301,173,50,5,0,{"$nulls":3},40,323,2]
["P1200200",566,7,94,104,111,80,50,47,24,27,15,2,3,2,14,25,3]
["P1200210",36,4,14,2,5,1,2,1,2,1,2,2,0,0,0,2,0]
["P1200220",1087,0,21,53,71,78,73,80,147,207,175,104,47,31,7,36,2]
["P1200230",16,1,1,1,1,1,2,5,3,0,0,1,0,0,0,0,0]
["P1200240",2859,0,0,17,122,343,623,689,551,319,195,{"$nulls":3},48,138,7]
["P1200250",5,{"$nulls":4},2,1,1,1,{"$nulls":5},0,0,0]
["P1200270",386,5,50,109,114,63,37,7,1,0,0,{"$nulls":3},12,16,0]
["P1200280",62,4,10,23,17,8,0,2]
["P1200290",148,3,24,54,46,21,2,2]
["P1200300",40,1,3,14,15,7,0,1]
["P1200310",73,36,6,16,12,3,0,0]
["P1200320",9,0,5,4,0,0,0,0]
["P1200330",450,10,83,199,128,30,3,13]
["P1200340",22]
["P1200350",325,4,42,52,62,58,43,19,40,3,0,0,2,0,1,7,0]
["P1206010",9131,0]
["P1206020",9559,0]
["P1206030",8440,0]
["P1206040",7751,0]
["P1206050",7574,0]
["P1206060",7408,0]
["P1206070",6987,0]
["P1206080",5683,0]
["P1207010",2657,2211,320,73,17,21,5,8,1,1,0]
["P1207020",2775,2285,285,52,102,15,11,23,1,1,0]
["P1207030",6679]
["P1207040",5397]
["P1207050",3008]
["P1207060",1259]
["P1207070",477]
["P1207080",168]
["P1207090",7623]
["P1207100",5949]
["P1207110",2695]
["P1207120",759]
["P1207130",245]
["P1207140",62]
["P1207150",5831,0]
["P1207160",2376,0]
["P1207170",1348,1102,170,34,13,17,10,2,0,0,0]
["P1207180",23203]
["P1207190",165]
["P1208020",2437,1993,242,52,112,12,8,15,3,0,0]
["P1208030",2275,1906,204,36,92,10,6,19,2,0,0]
["P1208040",2312,1985,181,46,80,7,3,7,3,0,0]
["P1208050",2158,1897,165,25,58,3,2,7,1,0,0]
["P1208060",2101,1784,191,31,85,1,4,4,1,0,0]
["P1208070",1690,1472,146,19,47,2,0,2,1,1,0]
["P1208080",617,553,53,6,2,1,0,1,0,1,0]
["P1208090",166,154,5,5,0,2,0,0,0,0,0]
["P1208100",47,45,1,1,0,0,0,0,0,0,0]
["P1220020",10697]
["P1220030",7030]
["P1220070",25215]
["P1220090",8159]
["P1220091",2,0,0,1,0,0,0,1,0,0,0]
["P1220092",9,6,0,1,0,1,0,1,0,0,0]
["P1220093",13,10,0,0,0,3,0,0,0,0,0]
["P1220094",10,7,0,0,0,1,1,1,0,0,0]
["P1220095",18,14,0,1,0,1,1,1,0,0,0]
["P1220096",10,7,1,0,0,1,1,0,0,0,0]
["P1220097",12,7,0,0,1,1,1,0,1,1,0]
["P1220098",6,5,0,1,0,0,0,0,0,0,0]
["P1220099",1,1]
["P1220101",1,{"$nulls":8},1]
["P1230001",554,0]
["P1230002",197,0]
["P1230003",47,0]
["P1230004",8,8,0,0,0,0,0,0,0,0,0]
["P1240010",2765,0]
["P1240011",2935,0]
["P1240012",2565,0]
["P1240013",2538,0]
["P1240014",2330,0]
["P1240015",2124,0]
["P1240016",1497,0]
["P1240017",1685,1305,93,23,281,0]
["P1240018",1779,1518,63,24,206,0]
["P1240019",1574,1371,65,17,148,0]
["P1240020",1540,1374,46,7,129,0]
["P1240021",1359,1207,59,10,101,0]
["P1240022",1311,1167,37,10,108,0]
["P1240023",872,789,26,2,62,0]
["P1240024",117,107,2,2,6,0]
["P1240025",2,2,0,0,0,0]
["P1240026",1,{"$nulls":3},1]
["P1240028",3,0,1,0,2,0]
["P1240030",1,1]
["P1240032",1,0,1,0,0,0]
["P1240033",2,1,0,0,1,0]
["P1240034",1,1,0,0,0,0]
["P1310020",2708,1240,1468,327,388,326,290,364,432,206,323,12,9,5,26,32,47]
["P1310030",199,102,97,19,11,24,19,29,34,30,33,0,0,0,0,4,0]
["P1310040",27,26,1,{"$nulls":4},1,0,20,1,5,0,0,0,1,1]
["P1310050",430,7,423,{"$nulls":4},4,42,3,131,0,55,0,195,5,10,117,30]
["P1310060",19,6,13,{"$nulls":4},1,2,3,10,2,0,0,1,0,0,19,0]
["P1310070",644,328,316,139,138,189,178,{"$nulls":8},5,12,423,36]
["P1310080",467,209,258,{"$nulls":4},136,166,73,92,0,0,0,0,7,11,355,32]
["P1310090",1230,562,668,12,14,174,147,194,262,165,219,13,7,4,19,18,10,760,293]
["P1320010",153,64,89,9,18,20,22,24,26,10,23,1,0,null,null,2,4,98,20]
["P1600100",19923,113,1309,2762,3722,3742,3165,2505,1899,832]
["P1600101",19356,206,1865,2946,3420,3480,2927,2133,1604,775]
["P1600102",16202,375,2989,3470,2988,2511,1614,1153,791,311]
["P1600103",886,41,270,216,174,86,51,26,19,3]
["P1600105",222,1,17,40,45,57,41,15,5,1,0,{"$nulls":3},3,9,0]
["P1600106",174,1,33,44,48,32,10,5,1,0,0,{"$nulls":3},0,12,0]
["P1600107",6,0,1,3,2,0,0,0,0,0,0,{"$nulls":3},0,1,0]
["P1600108",82,2,10,29,12,14,9,4,2,0,0,{"$nulls":3},0,12,1]
["P1600109",6,0,0,2,1,2,1,0,0,0,0,{"$nulls":3},0,2,0]
["P1600110",78,7,7,23,30,11,0,3]
["P1600111",6,6,4,6,6,6]
["P1600112",165,153,154,53,48,47]
["P1600113",747,687,672,153,136,134]
["P1600114",983,918,900,219,180,174]
["P1600115",830,758,747,212,169,168]
["P1600116",423,388,378,104,81,81]
["P1600117",99,95,91,21,16,14]
["P1600118",4,4,4,1,1,1]
["P1600120",null,95,133,null,233,270]
["P2060000",30654,15560,15094,104,113,336,332,394,424,367,383,399,450,266,296,491,460,1329,1346,1655,1541,1541,1523,2773,2655,2951,2840,2954,2731,153,204,347,359]
["P2070101",1633,904,729,3,6,27,20,31,38,24,19,18,23,14,11,27,15,57,56,112,60,110,74,166,122,170,154,145,131,7,10,18,28]
["P2070102",239,141,98,4,0,7,13,11,4,3,4,5,3,5,3,3,0,5,3,23,7,18,10,23,20,21,15,13,16,1,0,4,3]
["P2070201",3634,1920,1714,0,1,21,21,23,18,32,25,43,27,27,18,54,44,175,155,205,177,163,155,277,277,426,382,474,414,6,7,9,15]
["P2070202",6871,3457,3414,6,8,59,49,91,98,81,72,93,113,70,80,129,130,386,363,412,416,350,374,597,560,587,624,596,527,17,22,34,32]
["P2070301",883,509,374,7,5,17,18,19,19,14,6,16,12,9,1,19,8,35,25,39,28,46,40,108,68,102,81,78,63,1,5,14,14]
["P2070302",137,83,54,4,1,4,4,5,2,6,3,0,2,2,2,1,1,5,5,13,3,5,1,10,11,19,8,9,11,0,0,1,13]
["P2070401",3969,2086,1883,5,2,36,44,60,58,59,33,56,47,35,33,67,55,219,200,285,219,258,216,359,327,346,337,301,312,14,18,42,64]
["P2070402",706,430,276,2,0,16,10,25,11,12,8,14,5,10,5,15,4,47,24,88,36,61,29,65,45,39,51,36,48,5,3,7,7]
["P2070501",979,556,423,null,null,21,21,27,29,22,17,18,19,12,10,22,15,51,44,46,32,52,35,106,58,104,80,75,63,7,7,18,17]
["P2070502",115,80,35,null,null,3,4,10,2,4,1,3,1,5,3,3,0,3,2,11,3,6,0,7,10,18,4,7,5,0,0,1,4]
["P2070503",7156,3593,3563,null,null,59,48,89,101,86,76,88,111,75,82,130,137,405,382,439,442,368,401,621,588,609,690,647,568,36,45,68,65]
["P2070504",3809,1997,1812,null,null,24,11,22,17,32,29,47,30,26,24,62,47,184,172,213,187,173,169,291,290,435,427,488,451,21,23,25,18]
["P2070505",18326,9206,9120,null,null,229,256,246,273,222,260,241,288,149,176,274,261,684,742,944,875,941,916,1746,1701,1892,1800,1829,1757,86,96,217,234]
["P2070506",13,5,8,null,null,0,1,0,0,0,0,1,0,0,0,0,0,0,1,1,0,0,1,1,1,1,3,1,1,0,0,1,1]
["P2090300",7422,421,780,878,678,840,607,862,2356,null,48,22]
["P2090400",1182,24,100,130,103,136,86,148,455,173,7,3]
["P2100100",474,4,37,55,35,49,63,57,174,166,2,5]
["P2100200",115,59,56,4,2]
["P2100500",9,7,2,0,0]
["P2100600",53,25,28,2,0]
["P2200700",2409]
["P2200800",1540]
["P2300000",12,12,0,1,0]
["P2300100",51,34,17,3,2]
["P2300200",271,169,102,3,3]
["P2300300",12,9,3,0,0]
["P2300400",136,94,42,1,2]
["P2300530",12741,6181,6560,684,769,2102,2199,3395,3592,0]
["P2300540",697,350,347,32,29,103,117,215,201,3]
["P2300550",236,122,114,17,17,34,31,71,66,4]
["P2300560",56,31,25,3,8,15,5,13,12,10]
["P2300570",9456,1378,1903,1713,1640,1568,1254]
["P2300580",4195,681,888,705,595,704,622]
["P2400100",2634,1409,1225,1,0,10,2,9,9,21,24,32,23,18,19,42,27,105,110,134,116,107,113,219,210,351,284,360,288,14,11,20,17]
["P2400110",5932,2910,3022,6,11,49,34,60,55,60,75,71,74,44,63,104,112,295,326,324,341,319,345,491,585,538,550,549,451,16,38,43,42]
["P2400120",780,459,321,1,2,6,6,4,3,9,6,10,9,4,2,23,10,40,27,30,27,33,28,78,59,99,65,122,77,4,7,7,10]
["P2400130",3501,1765,1736,6,11,25,16,21,40,29,38,42,42,23,31,52,42,151,156,161,161,158,168,288,374,393,365,416,292,14,25,30,20]
["P2400140",17267,8575,9178,45,50,206,222,224,270,200,257,242,293,158,183,279,295,738,799,938,924,859,922,1662,1559,1799,1756,1721,1648,85,106,174,150]
["P2400150",17414,8788,8626,2540,2503,2152,2011,1668,1667,1374,1391,1054,1054,124,116,308,296]
["P2400160",1546,1006,540,187,93,242,129,218,127,217,119,142,72,3,0,4,4]
["P2400170",2972,1472,1500,366,358,295,325,270,290,271,300,270,227,8,6,16,11]
["P2400180",3565,1735,1830,484,459,388,409,355,367,288,325,220,270,11,6,25,22]
["P2400190",608,320,288,87,79,92,63,70,63,46,52,25,31,2,0,14,17]
["P2400200",66,32,34,7,10,9,4,7,7,8,6,1,7,0,0,1,2]
["P2400210",6705,3288,3417,1080,1134,919,872,572,620,397,432,320,359,42,46,163,177]
["P2400220",873,430,443,123,108,108,95,72,93,63,91,64,56,5,7,12,7]
["P2400230",2906,1497,1409,403,325,344,309,290,285,267,272,193,218,16,15,27,31]
["P2400240",1437,736,701,239,245,167,140,130,157,120,88,80,71,7,9,41,39]
["P2400250",198,109,89,35,28,25,15,19,25,15,11,15,10,2,2,7,1]
["P2400260",9382,4738,4644,1392,1407,1181,1110,899,872,690,696,576,559,63,63,141,147]
["P2400270",8276,4112,4164,1219,1232,1065,1016,796,809,621,628,411,479,37,37,125,144]
["P2400280",2725,1359,1366,348,328,319,289,258,268,239,264,195,217,16,11,13,17]
["P2400290",3323,1766,1557,396,328,345,315,364,336,368,333,293,245,14,13,21,13]
["P2400300",586,299,287,80,81,83,63,68,59,46,56,22,28,6,3,14,18]
["P2400310",62,32,30,8,7,7,3,6,9,9,5,2,6,0,0,1,2]
["P2400320",3575,1740,1835,518,462,390,413,350,366,286,321,223,273,26,24,49,42]
["P2400330",3028,1508,1520,398,366,296,321,281,299,281,301,270,233,16,19,23,24]
["P2400340",1510,986,524,184,90,236,129,215,119,207,117,144,69,8,3,15,4]
["P2400350",8652,4222,4430,1398,1493,1137,1082,747,816,545,592,395,447,64,66,173,176]
["P2400360",7,3,4,0,3,2,1,0,0,0,0,1,0,0,0,0,0]
["P2500200",14,8,6,0,0,0,0,0,0,0,0,0,0,0,0,0,0,0,0,0,0,0,0,0,0,0,0,0,0,0,1,4,0,2,3,1,1,1,1,0,0,0,0,0,0]
["P2500300",1,0,1,{"$nulls":33},1,0,0,0,0,0,0,0,0]
["P2500400",119,49,70,0,0,0,0,0,1,1,1,3,2,1,0,0,0,1,5,2,6,2,4,9,8,5,4,1,0,8,8,7,9,4,14,4,3,3,3,0,4,1,0,1,1]
["P2500500",821,609,212,0,0,0,0,0,0,0,0,0,0,1,0,0,0,0,0,4,0,3,1,37,19,78,31,33,10,132,55,99,34,121,36,73,13,32,12,8,4,1,3,3,0]
["P2500600",9,6,3,0,0,0,0,0,0,0,0,0,0,0,0,0,0,0,0,0,0,0,0,0,0,1,0,0,0,2,0,0,1,1,0,0,0,2,2,1,0,0,0,0,0]
["P2500700",52,28,24,0,0,0,0,0,0,0,0,0,0,0,0,0,2,0,0,0,1,1,0,2,0,2,0,0,0,3,1,2,1,6,6,0,2,8,7,6,4,0,0,0,1]
["P2501400",3,0,3,0,0,0,0,0,0,0,0,0,0,0,0,0,0,0,0,0,0,0,0,0,0,0,1,0,0,0,0,0,0,0,0,0,2,0,0,0,0,0,0,0,0]
["P2501600",1489,835,654,3,4,17,6,20,10,17,13,14,12,9,8,18,13,73,61,115,88,66,38,107,107,88,56,17,13,102,77,85,52,114,97,58,49,5,3,0,3,4,5,2,5]
["P2501700",32,18,14,{"$nulls":8},1,{"$nulls":5},2,2,2,2,1,null,2,2,2,1,null,null,3,2,3,1,2,4,{"$nulls":6},0,0,0,0]
["P2501800",160,80,80,72,74,0,0,0,0,0,0,0,0,0,0,0,0,0,0,0,2,0,2,1,0,3,0,4,2,0,0,0,0]
["P2501801",18,8,10,1,1,2,3,1,1,1,2,3,3,0,0,0,0]
["P2501802",2386,1210,1176,27,8]
["P2501803",819,403,416,5,6]
["P2501804",2067,981,1086,18,17]
["P2501805",979,490,489,4,3]
["P2501806",2144,1006,1138,27,30]
["P2501807",688,371,317,7,3]
["P2501808",71,42,29,0,0]
["P2501809",38,20,18,1,0]
["P2501810",138,84,54,4,2]
["P2501811",107,78,29,2,2]
["P2501812",207,106,101,3,4]
["P2501813",19,15,4,0,0]
["P2501814",109,72,37,3,2]
["P2501815",210,127,83,4,4]
["P2501816",24,15,9,0,1]
["P2501817",95,68,27,1,1]
["P2501818",551]
["P2501819",914]
["P2501820",1353]
["P2501821",3229]
["P2501822",9998]
["P2501823",1,0,1,{"$nulls":37},1,0,0,0,0]
["P2501824",64,29,35,0,0,0,0,0,0,0,1,0,0,1,0,0,0,1,0,1,3,0,0,2,3,4,2,0,0,2,4,1,1,8,8,2,2,4,8,6,4,0,0,0,0]
["P2501825",55,33,22,0,0,0,0,0,0,0,0,0,0,0,0,0,0,1,0,1,1,2,1,5,3,1,2,1,0,1,2,7,3,8,4,5,3,1,2,0,1,0,0,0,0]
["P2501826",43,25,18,0,0,0,0,0,0,0,0,0,0,0,0,0,0,0,0,0,0,0,0,0,0,1,1,3,1,2,2,5,3,6,5,3,5,1,0,4,1,0,0,0,0]
["P2501827",15,12,3,0,0,0,0,0,0,0,0,1,0,0,0,0,0,1,0,1,0,2,0,2,0,1,0,0,0,0,0,1,1,1,1,1,0,0,1,1,0,0,0,0,0]
["P2501828",22,11,11,0,0,0,0,0,1,0,0,0,0,0,0,0,1,1,2,1,1,0,0,0,1,0,0,1,0,2,0,0,0,1,0,3,4,2,1,0,0,0,0,0,0]
["P2501829",78,45,33,0,0,0,1,1,0,1,0,1,1,2,2,1,1,9,6,13,4,4,2,3,3,0,0,0,0,0,0,1,2,0,3,3,2,4,4,2,2,0,0,0,0]
["P2501830",9,6,3,{"$nulls":16},1,null,2,{"$nulls":9},1,1,null,null,1,null,0,1,1,1,0,0,0,0]
["P2501831",31,16,15,0,0,0,0,0,0,0,0,0,1,2,0,2,0,1,2,0,0,3,1,3,1,1,1,0,0,1,2,1,1,0,2,1,1,0,1,1,2,0,0,0,0]
["P2501832",6,4,2,0,0,0,0,0,0,0,0,0,0,0,0,0,0,0,1,1,0,0,0,0,0,0,0,0,0,0,0,0,0,2,0,1,0,0,1,0,0,0,0,0,0]
["P2501833",155,86,69,0,0,1,1,2,1,1,0,1,2,3,0,3,3,10,3,12,7,13,7,4,4,7,3,0,0,4,10,7,4,6,8,7,8,5,5,0,3,1,0,0,0]
["P2501834",42,17,25,0,0,0,0,0,0,0,0,1,1,0,0,0,0,1,0,1,0,2,0,1,0,0,0,0,0,3,6,1,2,3,6,0,5,2,4,2,1,0,0,0,0]
["P2501835",5,1,4,{"$nulls":16},1,{"$nulls":4},1,{"$nulls":5},1,{"$nulls":3},1,{"$nulls":3},1,null,null,0,0,0,0]
["P2501836",42,27,15,0,0,0,0,1,0,0,0,0,0,0,0,0,0,3,0,3,0,0,0,4,4,1,0,0,0,1,1,3,3,2,1,1,3,6,3,2,0,0,0,0,0]
["P2501837",2,0,2,{"$nulls":21},1,null,1,{"$nulls":14},0,0,0,0]
["P2501838",86,47,39,0,0,0,1,1,1,0,0,0,0,4,2,1,2,9,3,5,8,12,5,6,4,2,4,0,0,2,2,2,1,2,5,1,1,0,0,0,0,1,0,0,0]
["P2501839",5,3,2,{"$nulls":14},1,{"$nulls":15},2,2,{"$nulls":6},0,0,0,0]
["P2501840",28,13,15,0,0,0,0,0,0,0,0,0,0,0,0,0,1,2,2,0,1,1,0,1,0,0,1,0,0,0,4,1,0,3,2,3,1,2,2,0,1,0,1,0,0]
["P2501841",4,2,2,{"$nulls":17},1,1,{"$nulls":12},1,null,null,1,{"$nulls":3},0,0,0,0]
["P2501842",47,27,20,0,0,0,0,0,0,0,0,0,0,0,0,0,0,3,2,4,0,4,0,1,2,3,2,0,0,0,4,2,3,2,4,3,1,3,2,2,0,0,0,0,0]
["P2501843",73,42,31,0,0,0,1,0,0,0,0,0,0,0,0,0,3,5,0,1,0,2,0,3,2,2,2,0,0,2,1,2,3,6,4,7,6,8,6,4,3,0,0,1,1]
["P2501844",1,1,0,1,{"$nulls":37},0,0,0,0]
["P2501846",4,1,3,{"$nulls":11},1,{"$nulls":11},1,null,null,1,1,{"$nulls":10},0,0,0,0]
["P2501847",633,330,303,0,0,0,0,0,0,0,0,0,0,0,0,0,0,1,1,4,3,7,5,10,10,16,10,6,7,27,32,63,46,78,67,103,98,125,102,61,64,0,0,0,2]
["P2501848",61,34,27,0,0,0,0,1,1,1,0,0,0,0,1,3,0,4,2,6,4,2,2,5,4,2,3,0,0,2,4,3,3,4,0,1,2,0,1,0,0,0,0,0,0]
["P2501850",21,12,9,0,0,0,0,0,0,0,0,0,0,1,0,1,0,0,0,1,0,0,1,0,0,0,0,0,0,1,2,1,2,4,1,1,3,1,0,1,0,0,0,0,0]
["P2501851",6,2,4,{"$nulls":27},1,{"$nulls":3},1,1,1,null,1,1,null,0,0,0,0]
["P2501852",24,15,9,0,0,0,0,0,0,0,0,0,0,0,0,0,2,1,0,1,0,0,0,1,4,0,0,0,0,2,0,2,1,4,0,0,2,1,0,3,0,0,0,0,0]
["P2501853",1,0,1,{"$nulls":17},1,{"$nulls":20},0,0,0,0]
["P2501854",7,3,4,{"$nulls":22},1,{"$nulls":10},1,0,3,2,0,0,0,0,0]
["P2501855",34,10,24,0,0,0,0,0,0,0,3,2,0,2,5,1,3,4,7,0,3,0,0,0,0,0,0,0,0,0,1,0,0,0,1,1,0,0,1,0,0,0,0,0,0]
["P2501858",2682,1590,1092,1,0,5,6,9,7,9,7,17,6,11,9,15,12,77,38,100,76,65,36,117,94,136,96,28,18,189,115,170,92,222,170,198,129,151,116,70,65,4,4,3,2]
["P2501859",48,33,15,0,0,0,0,3,3,0,0,0,1,1,0,1,0,0,1,1,0,4,1,1,3,3,1,0,0,5,1,3,1,7,0,2,2,1,0,1,1,0,0,0,0]
["P2501860",21,10,11,0,0,0,0,0,1,0,0,0,0,0,0,2,1,0,0,0,0,0,2,0,1,0,0,0,0,1,1,0,4,3,0,2,0,0,1,2,0,0,0,0,0]
["P2501861",8224,4184,4040,433,423,353,370,401,365,361,343,388,358,422,422,514,514,422,411,460,475,430,359,14,13,32,45,9,12,4,2,12,7]
["P2501862",7605,3771,3834,657,631,616,672,433,428,389,359,326,319,268,321,433,430,262,270,218,200,169,204,24,25,20,43,3,1,9,12,5,6]
["P2501863",11021,5616,5405,1219,1060,952,982,754,687,506,432,428,401,310,330,558,571,327,333,273,294,289,315,21,20,36,55,3,6,4,5,10,3]
["P2501864",2821,1404,1417,81,5,38,26,63,68,118,105,144,146,166,200,228,227,198,211,182,221,186,208,0,1,37,56,3,3,10,11,7,7]
["P2501865",1906,952,954,43,0,6,8,24,45,75,85,105,117,127,148,144,159,127,114,159,133,142,145,2,6,14,16,2,0,9,9,8,7]
["P2501866",1187,585,602,13,1,3,2,13,15,33,47,48,57,81,103,127,119,85,88,98,85,84,85,3,1,9,8,2,1,2,3,3,1]
["P2501867",749,407,342,12,0,0,1,12,6,20,16,31,30,57,54,75,65,70,63,76,54,54,53,1,0,8,5,4,1,3,2,2,2]
["P2501868",604,338,266,4,0,0,0,4,6,13,16,27,34,53,48,92,63,60,34,48,41,37,24,1,1,13,17,3,0,1,2,1,1]
["P2501869",9188,4717,4471,197,219,388,364,346,378,434,389,610,469,500,501,606,665,586,567,457,491,593,428,54,0,14,41,3,2,0,0,15,13]
["P3120500",277,124,153,4,3,6,3,1,2,4,1,1,0,2,1,0,0,1,0,2,2,2,0,0,2,8,5,6,9,7,15,20,18,18,32,42,60,null,0,0,0,1]
["P3120600",14,11,3,3,0,0,1,4,1,2,0,2,0,0,1,0,0,0,0,0,0,0,0,0,0,0,0,0,0,{"$nulls":9},0,0,0,0]
["P3120700",2186,1050,1136,17,14,30,32,41,31,58,85,65,57,56,85,66,80,91,84,82,85,80,90,90,88,99,85,74,86,64,69,41,53,42,41,54,71,null,53,68,3,5]
["P3120800",1278,613,665,0,1,1,0,0,1,1,2,5,0,7,4,10,10,5,25,9,33,14,54,18,65,39,74,53,47,80,69,107,59,103,85,161,136,null,0,0,0,1]
["P3130200",321,169,152,0,0,0,0,0,1,0,0,0,0,0,0,1,1,1,1,1,3,0,3,1,1,7,5,4,8,20,17,23,13,32,27,79,72,null,1,0,0,2]
["P3140200",855,440,415,0,0,0,0,0,0,0,0,0,0,1,0,0,0,0,3,3,2,5,3,27,28,23,26,35,33,66,44,76,63,75,72,129,142,null,14,18,0,3]
["P3140300",11671,2717,8954,0,0,0,0,0,0,1,2,0,4,1,6,1,10,6,15,3,41,16,115,41,260,150,788,373,1305,422,1532,492,1567,454,1304,757,2005,null,13,54,4,17]
["P3140400",3284,1142,2142,4,3,16,10,19,22,22,23,29,10,28,21,26,29,34,23,32,22,33,24,44,39,55,46,53,39,68,92,104,141,150,242,425,1356,null,1,3,0,0]
["P3160800",3585,1315,2270,4,3,16,10,18,22,21,24,28,9,27,21,31,25,35,24,33,25,35,26,47,37,61,51,57,50,87,107,130,147,184,271,501,1418,null,0,2,1,3]
["P3160910",1670,562,1108,0,0,0,0,0,0,2,0,0,0,0,0,1,3,0,1,3,2,3,6,5,4,6,6,16,14,63,113,70,146,111,225,282,588,null,0,0,0,0]
["P3160920",608,191,417,0,0,0,0,0,0,0,0,0,4,3,2,1,2,4,3,1,4,5,2,3,5,9,12,9,17,19,22,13,34,37,48,87,262,null,0,0,0,0]
["P3160950",438,245,193,245,193,{"$nulls":32},1,0,0,1,4]
["P3160960",334,193,141,193,141,{"$nulls":32},0,1,0,3,2]
["P3160970",21,9,12,9,12,{"$nulls":32},0,0,0,0,0]
["P3160980",7954,2918,5036,85,101,784,584,648,516,339,299,128,251,108,218,61,204,46,220,61,207,42,263,54,287,70,337,97,337,111,351,90,336,103,227,91,298,1517,2,7,15,34]
["P3160990",4440,1611,2829,97,64,413,306,339,274,176,154,44,93,48,104,35,115,33,113,18,115,28,140,45,157,41,219,52,202,64,186,49,200,44,156,85,231,512,1,3,9,11]
["P3161000",536,132,404,2,0,6,9,13,8,3,8,2,6,3,7,5,17,5,15,1,18,5,20,7,27,10,34,14,56,10,40,15,47,12,38,19,54,96,0,0,1,1]
["P3161010",3028,1460,1568,{"$nulls":16},4,6,14,17,18,28,57,74,113,144,179,239,250,240,288,246,537,574,690,2,0,1,1]
["P3161020",480,241,239,{"$nulls":16},0,0,1,1,6,6,8,9,13,15,31,29,42,31,50,52,90,96,112,0,0,0,1]
["P3161030",1180,626,554,13,15,30,22,7,11,3,1,2,4,0,5,2,9,2,10,7,13,7,10,9,15,29,29,43,45,70,58,108,63,101,96,193,148,null,2,0,5,5]
["P3161040",23308,4176,19132,1,2,7,3,11,16,55,162,69,345,54,443,57,590,75,821,94,941,144,1319,246,1715,341,2365,496,2629,508,2140,570,1926,520,1599,928,2116,null,14,29,3,55]
["P3161041",7946,2959,4987,95,72,771,532,708,549,366,294,102,218,93,168,56,171,40,198,44,197,35,255,58,277,71,353,104,358,109,380,101,374,95,267,111,324]
["P3161042",2382,797,1585,54,42,246,208,157,141,63,94,22,54,24,71,16,77,20,63,13,66,20,76,13,98,23,106,25,106,32,106,24,101,22,77,23,99]
["P3161043",978,316,662,21,26,87,74,63,53,26,31,4,21,10,34,5,42,6,30,12,27,9,42,12,44,10,45,12,52,13,42,7,39,7,20,12,40]
["P3161044",1370,489,881,16,14,102,93,71,62,52,42,33,40,25,43,19,54,16,45,15,41,12,43,8,52,17,56,15,58,20,55,21,56,22,51,25,76]
["P3161045",2343,1136,1207,{"$nulls":16},5,4,10,9,16,21,47,53,85,101,144,190,189,205,229,190,411,434]
["P3161046",424,180,244,{"$nulls":16},1,2,2,4,2,4,8,11,9,32,29,34,33,29,36,44,60,84]
["P3161047",608,278,330,{"$nulls":16},0,1,4,3,6,7,7,11,23,28,28,39,46,42,52,41,112,158]
["P3161050",51,26,25,0,1,0,3,3,2,3,0,3,0,4,0,0,1,1,1,0,0,0,0,1,3,0,1,0,3,3,4,3,3,3,1,2,2,null,0,0,0,0]
["P3170100",317,109,208,0,0,0,0,0,0,0,0,0,1,0,0,0,2,0,1,1,3,1,11,3,17,4,25,17,32,22,34,18,33,14,17,29,32,null,0,0,0,0]
["P3170200",93,30,63,0,1,1,1,3,1,1,2,0,3,1,0,1,1,3,0,0,0,2,2,1,0,1,0,0,3,2,2,3,4,6,10,5,33,null,0,0,0,0]
["P3170400",66,28,38,0,0,1,0,0,0,0,0,0,0,0,0,0,1,1,0,1,0,0,1,3,1,2,1,1,4,5,6,3,9,8,9,3,6]
["P3170500",19,11,8,{"$nulls":8},2,{"$nulls":5},1,{"$nulls":4},1,null,null,2,1,null,null,1,3,2,null,3,2,null,1]
["P3170600",30,13,17,null,null,3,{"$nulls":10},1,{"$nulls":6},1,1,null,null,1,3,2,3,2,4,3,2,1,3]
["P3170800",1284,631,653,{"$nulls":16},2,3,8,6,9,11,28,27,61,68,89,99,107,118,131,106,196,215]
["P3170900",642,336,306,{"$nulls":16},0,2,3,3,3,2,15,9,42,33,45,48,63,65,73,48,92,96]
["P3171000",274,117,157,{"$nulls":16},4,0,1,1,1,2,5,7,6,13,20,28,13,26,24,25,43,55]
["P3171100",4056,1340,2716,50,53,317,250,262,209,113,96,59,126,60,107,33,120,24,131,23,117,33,174,32,187,43,219,50,213,77,244,52,181,62,125,50,164]
["P3171200",2039,659,1380,15,17,146,118,101,116,61,47,34,70,34,48,19,56,11,60,8,53,14,92,20,96,24,93,24,129,39,131,30,97,46,73,33,84]
["P3171300",640,233,407,12,25,61,43,37,29,15,11,1,14,11,20,5,10,4,19,5,14,4,23,8,30,3,29,22,31,15,40,7,29,13,22,10,18]
["P3171400",396,252,144,0,1,0,0,0,1,0,0,0,0,0,0,0,1,0,1,4,3,3,6,5,5,6,3,19,19,33,19,44,19,53,31,85,35]
["P3171500",192,139,53,0,1,0,0,0,0,0,0,0,0,0,0,0,1,0,0,2,1,2,2,1,1,4,1,16,6,20,7,30,4,32,16,32,13]
["P3171600",79,47,32,0,0,0,0,0,0,0,0,0,0,0,0,0,1,0,0,2,0,0,1,0,0,2,1,1,8,4,2,5,4,6,4,27,11]
["P3171610",331,114,217,0,0,1,0,0,0,0,1,2,1,0,1,2,1,2,0,1,1,0,3,5,0,2,2,7,5,7,12,18,22,18,33,49,135,null,0,0,0,0]
["P3171611",312,166,146,0,0,0,0,0,1,0,0,0,0,0,0,1,1,1,1,1,3,0,3,1,1,7,5,4,8,19,17,23,13,30,27,79,66,null,1,0,0,2]
["P3171612",3003,1057,1946,4,3,14,10,19,20,22,20,27,9,25,21,27,25,34,22,30,18,31,22,44,36,53,40,51,39,58,85,97,132,133,217,388,1227,null,1,3,1,3]
["P3171613",687,152,535,0,0,0,0,0,0,0,0,0,0,0,0,0,1,1,0,0,0,0,0,1,1,0,2,3,4,8,17,11,35,26,58,102,417,null,0,0,0,2]
["P3171614",235,81,154,0,0,0,0,0,0,0,0,0,0,0,0,0,0,0,0,0,0,0,0,0,1,1,0,2,2,12,6,13,5,13,28,40,112,null,0,0,0,0]
["P3171615",295,98,197,0,0,1,0,0,0,0,1,2,0,0,1,1,0,0,0,1,0,0,2,5,0,3,2,5,5,7,7,17,21,16,31,40,127,null,0,0,1,1]
["P4150100",106189,38372,67817,64,52,95,182,178,416,365,800,600,1387,1038,2428,1703,3712,2616,5927,3883,8336,5191,9249,5955,9574,5755,8695,4799,7331,6130,9728,361,678,224,428]
["P4150601",81040,29600,51440,17,12,44,50,84,174,200,360,327,712,572,1374,1004,2290,1653,3794,2689,5800,3888,6712,4721,7409,4765,7185,4137,6418,5499,9150,166,317,163,318]
["P4150602",42408,16166,26242,14,9,27,47,53,150,122,316,252,546,407,866,728,1388,1195,2215,1743,3323,2385,3755,2732,3963,2490,3511,1938,2785,2080,3368,155,293,77,157]
["P4150603",60398,20024,40374,24,26,44,98,78,194,171,372,288,642,512,1190,895,1914,1459,3176,2054,5199,2850,6039,3255,6314,3164,5572,2499,4325,2731,5313,154,364,104,199]
["P4150701",7920,3218,4702,{"$nulls":16},548,1109,775,1276,714,1053,537,664,361,359,283,241,20,29,18,17]
["P4150703",27988,9373,18615,11,8,29,46,52,99,116,196,143,363,260,678,386,1072,657,1756,1043,2357,1278,2697,1387,2715,1457,2442,1276,2008,1278,2178,89,184,47,111]
["P4150801",56714,22808,33906,25,14,35,58,68,157,142,340,290,596,517,1010,907,1573,1405,2525,2115,3883,3016,4500,3661,4787,3512,4420,2871,3789,4244,6254,138,219,102,166]
["P4170300",2155,799,1356,0,1,1,2,0,3,7,9,12,12,14,22,24,50,49,86,69,145,111,199,133,191,115,195,135,214,129,227,1,8,4,6]
["P4170500",1627,1128,499,0,1,0,1,0,2,4,4,30,20,18,37,104,26,115,37,147,74,194,100,155,42,208,73,82,28,71,54,1,0,3,2]
["P4180200",40228,14187,26041,8,7,27,28,39,98,110,214,190,451,328,849,556,1455,969,2387,1513,3645,2200,4161,2729,4622,2937,4334,2581,3790,null,null,71,135,64,142]
["P4180300",16097,5823,10274,8,5,9,22,20,68,41,113,76,246,135,360,282,586,425,902,636,1426,885,1659,1202,1801,1123,1682,981,1404,null,null,34,63,18,44]
["P4180500",22495,9160,13335,5,5,11,19,19,58,53,115,93,226,156,362,306,618,535,919,820,1465,1110,1763,1472,1914,1460,1783,1272,1599,1848,2489,41,69,27,61]
["P4180800",11035,4310,6725,13,9,13,24,30,40,33,86,88,128,126,211,221,362,341,575,525,915,659,1086,725,1060,635,906,438,632,463,691,28,38,17,29]
["P4190100",21487,6191,15296,28,30,31,78,58,160,107,264,167,428,261,740,410,1067,554,1646,725,2096,897,2052,907,2072,786,1833,652,1534,608,1296,134,275,75,151]
["P4190500",4464,1711,2753,1,0,0,2,2,6,5,15,12,22,32,43,37,68,64,155,121,237,170,309,269,405,282,421,300,400,416,670,6,7,5,6]
["P4190600",1607,898,709,0,2,0,0,0,1,3,7,6,9,15,21,42,25,46,43,103,80,136,101,175,116,148,102,115,86,109,116,5,1,2,2]
["P4190800",46859,16647,30405,39,43,57,109,120,281,217,510,358,844,581,1413,902,2064,1265,3019,1852,4142,2496,4428,2652,4200,2339,3547,1768,2658,2001,3147,145,312,124,233,13549]
["P4190801",13475,4933,8542,12,2,10,30,30,50,54,106,97,191,140,339,245,493,427,885,617,1169,789,1420,875,1400,739,1032,480,694,418,731,41,97,17,27,3872]
["P4190803",604,270,334,0,0,0,0,0,0,2,2,0,0,0,4,5,8,8,18,20,14,20,20,37,32,35,39,47,54,96,143,2,3,2,0,272]
["P4190804",452,208,244,0,0,1,0,1,3,2,2,4,4,2,9,13,10,14,25,23,26,29,33,38,28,30,36,25,35,26,33,1,1,0,2,150]
["P4190805",23655,8739,14916,5,4,16,22,27,62,57,148,128,276,204,459,352,749,586,1181,947,1893,1261,2233,1470,2325,1403,2039,1081,1632,1202,1893,46,90,44,83]
["P4190806",27086,10021,17065,12,11,19,40,29,93,76,194,146,334,250,561,420,881,711,1396,1103,2202,1415,2532,1705,2613,1569,2238,1249,1832,1317,2138,55,102,50,94]
["P4190807",3957,1534,2423,0,0,0,1,1,6,9,7,5,14,15,39,46,48,62,138,109,187,204,294,272,385,261,385,251,365,299,554,3,2,3,5]
["P4190808",28205,10576,17629,14,6,19,44,29,88,70,194,153,367,255,543,434,930,727,1521,1111,2337,1520,2472,1815,2738,1709,2338,1323,1909,1397,2142,46,109,39,97]
["P4190809",20176,7107,13069,11,7,19,27,31,72,64,171,120,282,179,495,348,756,556,1187,774,1822,984,2028,1207,2128,1273,1697,864,1314,677,1083,39,81,35,61]
["P4190810",4965,1788,3177,0,0,1,0,2,1,2,5,5,7,9,19,12,46,38,55,47,122,121,215,205,323,276,475,338,635,732,1274,11,22,10,13,1541]
["P4190811",1928,736,1192,0,0,0,0,0,1,0,2,2,7,4,8,11,17,12,33,17,36,30,61,85,137,111,142,128,185,336,563,5,4,4,1,695]
["P4190812",38377,13847,24530,6,5,16,24,41,71,80,150,136,291,262,593,422,1075,784,1794,1262,2750,1754,3280,2153,3610,2316,3543,2018,3044,2597,4300,52,106,61,138]
["P4190900",3468,1866,1602,0,0,1,0,1,1,2,1,8,8,20,20,37,25,74,92,133,125,217,191,297,224,365,248,314,283,397,384,6,8,11,8]
["P4190910",3656,1837,1819,0,0,0,0,4,0,3,5,8,10,15,25,34,36,74,84,110,132,243,217,311,246,318,269,284,296,433,499,10,14,9,6]
["P4190920",7870,3028,4842,1,0,6,7,8,31,20,51,38,88,60,144,117,251,177,377,273,516,375,661,505,766,474,644,457,594,517,712,24,38,7,17]
["P4190930",3472,1884,1588,0,0,0,0,4,0,3,3,2,7,16,23,40,31,90,96,133,135,264,222,321,227,350,236,272,244,389,364,7,8,7,2]
["P4190940",3695,1977,1718,0,0,0,0,3,0,3,3,6,7,20,23,44,33,80,98,131,136,259,217,327,238,359,246,319,315,426,402,13,20,10,2]
["P4190950",17974,6555,11419,11,12,13,22,26,59,49,143,107,248,157,375,276,624,462,1004,742,1547,1012,1845,1156,1888,1056,1480,783,1128,705,1044,20,31,8,23]
["P4190960",7205,2764,4441,8,6,11,22,13,42,37,72,71,118,110,199,178,317,240,476,362,720,479,757,452,618,340,490,239,306,224,298,18,28,17,31]
["P4190970",127,64,63,0,0,0,0,0,0,0,1,1,4,2,3,4,8,1,8,13,9,13,18,6,4,9,3,4,1,11,4,0,0,0,0]
["P4200100",9275,3717,5558,{"$nulls":26},3717,5558,15,18,7,10]
["P4200200",3272,1260,2012,{"$nulls":26},1260,2012,12,27,3,8]
["P4200300",22916,8601,14315,41,43,30,42,29,96,79,170,180,343,211,442,392,679,557,1131,814,1742,1148,2078,1428,2285,1447,1924,1083,1559,1162,1781,28,65,29,66]
["P4200400",8763,3301,5462,1,1,2,5,8,19,23,36,35,79,61,151,133,238,209,412,353,585,493,723,549,772,539,795,417,631,478,1015,19,40,31,72]
["P4200500",23432,6484,16948,26,29,57,99,89,243,200,481,293,865,492,1403,763,2092,1075,3037,1508,4296,1981,4403,{"$nulls":8},41,100,45,116]
["P4200600",18223,6547,11676,7,11,11,16,27,66,44,104,80,205,112,328,226,533,406,882,595,1430,861,1632,1131,1853,1099,1636,909,1293,1039,1687,25,42,17,37]
["P4200700",3388,1408,1980,7,3,4,9,10,14,15,19,31,31,36,66,56,79,95,147,122,205,195,262,212,306,224,286,171,230,230,323,14,19,6,5]
["P4200800",599,360,239,0,0,0,0,0,2,3,5,5,5,8,11,20,14,35,25,52,33,54,48,67,33,58,21,31,20,27,22,2,0,0,0]
["P4200900",29741,11078,18663,0,0,8,6,8,30,39,70,88,157,144,337,344,620,587,1228,1194,2281,1539,2670,1956,2985,1896,2865,1551,2350,1724,3064,57,103,31,65]
["P4201100",1629,768,861,0,0,0,0,1,0,0,0,3,1,2,9,17,21,32,37,52,52,98,108,149,121,142,163,130,135,142,214,6,10,5,5]
["P4201200",1762,935,827,0,0,0,0,0,0,2,1,3,4,3,5,16,14,39,48,58,74,119,107,181,114,185,131,179,144,150,185,4,10,4,4]
["P4201500",14574,5360,9214,17,32,25,57,42,120,99,195,186,326,299,618,515,1015,915,1584,1360,2451,1902,2816,{"$nulls":8},32,41,37,78]
["P4201600",16216,6776,9440,{"$nulls":20},1893,2595,1804,2391,1492,2028,1587,2426,13,40,15,15]
["P4201700",13823,4103,9720,{"$nulls":20},1336,3393,1225,2599,806,1880,736,1848,25,37,10,21]
["P4301010",46535,16990,29545,6,9,22,29,53,89,96,203,170,394,335,780,540,1372,976,2221,1566,3444,2237,4033,2718,4197,2756,4180,2465,3680,3050,4914,70,134,83,185]
["P4301020",18203,6678,11525,1,1,3,3,3,11,11,25,32,77,61,152,154,326,286,666,454,1117,764,1542,1141,1831,1263,1961,1093,1700,1412,2113,32,76,20,54,5569]
["P4301030",1502,733,769,0,0,0,1,3,5,8,13,10,14,28,43,40,41,67,77,95,133,142,157,116,114,103,87,63,56,58,28,8,3,2,0]
["P4301040",20916,7757,13159,5,4,13,23,20,59,52,144,115,262,186,424,319,671,564,1090,853,1736,1111,1960,1315,2031,1230,1763,938,1412,1036,1580,32,73,38,68]
["P4301050",4699,1944,2755,2,5,2,4,12,28,18,46,63,79,95,164,125,208,213,309,275,476,379,549,326,432,215,254,133,128,86,73,13,19,11,12]
["P4301060",167,132,35,0,0,0,0,0,0,2,1,26,1,2,1,6,4,3,2,13,5,6,5,11,2,49,6,5,4,9,4,0,0,0,0]
["P4301070",9347,3480,5867,1,0,1,4,4,17,10,26,28,56,43,82,93,201,203,353,271,584,433,763,615,912,627,894,502,821,649,1154,10,19,11,22]
["P4301080",37136,13456,23680,4,5,16,21,37,67,75,139,132,283,261,585,409,1045,773,1761,1226,2713,1743,3155,2078,3424,2228,3489,1955,2953,2519,4040,53,114,62,137]
["P4302100",227,95,132,3,4,5,5,3,2,4,3,5,6,5,7,6,6,6,10,9,10,15,18,6,15,10,18,10,14,8,14,0,0,0,0]
["P4302101",1188,607,581,0,0,0,0,4,0,5,2,1,3,7,9,9,6,17,25,11,85,115,53,95,118,112,124,85,67,146,89,0,0,0,0]
["P4302102",1550,675,875,0,0,1,2,1,6,4,9,9,11,13,30,29,49,45,67,99,126,116,124,123,141,89,136,80,98,66,76,0,3,2,3]
["P4302103",9900,3577,6323,2,1,8,9,15,24,32,49,105,82,74,180,133,305,210,493,374,740,536,890,609,920,570,993,473,783,436,854,3,3,2,8]
["P4302104",4936,1860,3076,7,6,10,11,9,33,15,58,33,60,46,165,79,255,121,282,177,361,219,474,328,485,353,399,229,253,234,234,6,7,15,24]
["P5180100",11061,4819,6242,1330,2121,1456,1818,1065,1224,660,767,239,245,58,59,10,8,1,0,27,23,7,8,12,8]
["P5180200",9138,3644,5494,1047,1670,960,1462,792,1179,500,716,253,359,82,94,9,12,1,2,9,20,10,7,2,4]
["P5190200",2965,1191,1774,200,260,237,313,245,296,247,374,160,276,76,175,21,64,5,16,0,3,2,0,26,57]
["P5190300",11175,5043,6132,1130,1515,1229,1284,1098,1235,837,983,469,660,225,347,47,95,8,13,23,16,8,8,51,51]
["P5190400",9611,3884,5727,1099,1546,992,1447,813,1199,551,816,299,472,102,198,20,44,8,5,14,22,4,5,23,18]
["P5200100",7233,2127,5106,651,1629,550,1356,434,976,276,653,156,343,50,116,8,31,2,2,12,20,3,6,7,16]
["P5300100",3544,1193,2351,150,259,158,341,221,456,282,523,220,447,130,265,27,52,5,8,7,5,1,2,45,52]
["P5300200",750,248,502,29,31,24,37,45,69,49,129,46,115,43,91,7,28,5,2,2,4,0,0,22,20]
["P5300400",181,64,117,10,30,19,33,19,27,7,14,6,7,2,4,1,2,0,0,0,0,0,0,0,0]
["P5300500",5117,2151,2966,627,1038,617,863,522,622,265,320,96,99,23,19,1,5,0,0,5,11,8,4,2,0]
["P5300510",4313,1537,2776,200,325,220,456,331,584,368,655,268,436,117,255,26,56,7,9,10,15,2,1,5,3]
["P5300520",844,261,583,33,22,27,53,48,82,54,122,52,132,29,109,16,57,2,6,0,2,0,1,15,30]
["P5300530",915,283,632,38,31,36,45,41,134,72,150,55,113,26,104,9,41,6,14,0,0,0,1,31,50]
["P5300540",10211,4274,5937,1325,2111,1255,1779,951,1158,494,631,211,195,33,57,5,6,0,0,18,21,11,7,4,3]
["P5300550",4349,1596,2753,280,598,370,667,352,604,355,481,165,286,66,93,7,23,1,1,4,16,5,8,10,8]
["P5300560",2567,931,1636,157,264,149,266,176,332,216,351,143,251,68,144,17,22,5,6,0,2,0,0,1,11]
["P5300570",3197,619,2578,88,595,135,699,167,552,134,442,60,195,30,74,4,17,1,3,0,1,4,13,1,3]
["P5300580",1350,284,1066,null,null,56,270,74,318,69,266,63,161,20,47,2,4,0,0,0,0,0,6,0,0]
["P5300590",374,85,289,null,null,9,27,12,58,17,65,24,84,14,39,8,12,1,2,0,2,0,1,0,1]
["P5300600",3614,830,2919,1905,743,926,770,677,2041,1025]
["P5400100",11010,4668,6342,1464,2179,1282,1797,1006,1204,588,730,259,310,64,106,5,15,0,1,19,24,10,8,5,2]
["P5400200",7914,3016,4898,510,1042,701,1105,680,1105,607,863,327,501,147,226,34,50,10,6,10,15,5,6,15,22]
["P6221000",36813,11258,25555,154,115,1453,951,1459,2049,1252,2488,689,1582,607,1558,573,1567,569,1482,545,1544,566,1536,572,1863,554,1928,559,1775,482,1630,416,1320,331,943,477,1224,164,703,74,174,98,207,142,1577,2748,186,27]
["P6221100",1282,275,1007,3,5,52,32,69,93,60,119,6,42,11,73,13,73,5,58,6,66,21,79,4,95,5,74,7,70,5,63,1,26,1,27,6,12,14,49,2,6,4,15,31,210,62,2,0]
["P6221200",468,247,221,0,0,0,1,2,8,42,18,12,13,22,23,19,24,29,17,23,20,24,25,19,23,21,17,11,16,10,7,6,4,4,4,3,1,1,7,1,0,1,1,44,21,4,0,0]
["P6221500",321,37,284,0,0,6,8,13,66,8,94,4,13,0,16,1,16,2,13,1,7,1,15,0,10,0,7,1,7,0,7,0,3,0,0,0,2,3,13,0,0,1,3,8,100,15,3,1]
["P6221600",3342,598,2744,0,0,6,10,43,131,76,211,55,157,37,165,29,167,29,143,24,175,25,172,33,229,32,230,55,250,31,223,43,171,40,136,40,175,15,69,5,14,3,14,14,26,121,4,0]
["P6221700",96,null,96,{"$nulls":5},0,null,7,null,16,null,18,null,25,null,14,null,11,null,3,null,1,null,1,{"$nulls":11},53,null,1,null,3,0,0,1,0,0]
["P6221800",451,121,330,0,0,0,0,4,6,8,22,10,27,17,32,11,26,20,26,11,19,5,37,11,29,4,28,12,29,2,23,1,15,4,6,1,5,1,5,0,3,0,1,0,2,32,0,0]
["P6222300",323,112,211,0,0,0,0,0,0,0,0,0,0,0,3,0,0,0,0,1,0,1,1,1,0,4,4,3,7,10,27,17,34,20,46,55,89,null,null,0,1,4,0,0,0,19,0,0]
["P6222400",969,584,385,0,0,0,0,6,6,11,6,62,21,67,20,65,11,63,35,56,27,67,26,55,46,52,51,42,52,19,33,7,20,7,19,5,12,0,1,1,1,3,2,0,178,127,0,2]
["P6222500",322,38,284,0,0,2,5,9,60,12,128,2,35,2,19,1,7,2,11,4,10,1,4,0,3,2,2,1,0,0,0,0,0,0,0,0,0,3,8,1,4,0,1,1,30,21,1,1]
["P6222600",1074,744,330,6,10,294,131,317,123,109,48,7,9,6,3,3,2,1,2,0,1,0,1,0,0,1,0,0,0,0,0,0,0,0,0,0,0,0,null,9,3,8,3,13,93,138,0,0]
["P6222800",489,267,222,1,0,21,4,39,26,26,17,24,21,12,20,20,11,15,20,22,12,22,22,23,13,15,26,12,5,7,9,5,7,0,9,3,0,0,4,1,0,1,2,12,41,44,0,0]
["P6222900",1736,364,1372,0,0,0,0,14,39,52,179,49,122,37,116,28,111,28,88,19,94,34,82,33,131,13,124,18,111,21,84,7,47,8,27,3,17,10,31,4,11,0,5,4,125,140,7,2]
["P6223060",194,127,67,0,2,41,23,59,30,23,9,2,2,2,0,0,0,0,0,0,0,0,0,0,0,0,1,0,0,0,0,0,0,0,0,0,0,0,null,1,0,0,1,5,22,14,2,0]
["P6223070",90,48,42,3,2,23,23,22,17,{"$nulls":28},0,null,0,0,0,0,0,5,11,0,0]
["P6223080",2439,1145,1294,17,32,513,437,431,521,174,289,10,15,{"$nulls":24},0,null,10,11,16,14,7,207,310,13,4]
["P6223090",3147,1263,1884,1,3,44,22,96,126,103,247,136,118,148,120,147,134,102,123,96,132,92,137,85,165,80,175,53,136,39,104,21,69,13,45,7,28,3,20,8,12,6,4,27,54,1013,4,6]
["P6223100",90,18,72,0,0,3,1,7,5,3,29,1,3,1,2,0,3,1,1,1,2,0,7,0,5,0,4,1,7,0,1,0,2,0,0,0,0,2,2,0,0,0,0,6,6,61,1,0]
["P6223110",13,6,7,0,0,0,0,0,0,0,0,0,0,1,1,0,2,0,0,0,1,0,1,0,0,2,0,0,2,1,0,0,0,2,0,0,0,1,2,0,0,0,0,0,0,11,0,0]
["P6223140",51,4,47,0,0,0,3,1,6,1,18,2,2,0,2,0,1,0,4,0,2,0,5,0,3,0,1,0,0,0,0,0,0,0,0,0,0,1,2,0,0,0,1,3,3,45,1,0]
["P6223170",2602,1031,1571,0,1,17,14,63,57,74,160,113,107,120,112,122,123,82,107,80,119,84,119,75,145,72,155,52,124,38,97,20,62,13,42,6,27,3,19,8,12,3,1,3,30,989,3,5]
["P6223180",252,45,207,0,1,0,0,4,4,0,12,2,4,3,10,2,12,2,14,2,9,3,16,0,26,9,26,4,21,4,22,8,17,1,7,1,6,0,0,0,0,0,0,0,0,91,0,0]
["P6223190",125,27,98,0,0,0,0,2,3,3,10,1,7,3,5,1,6,0,9,3,15,3,8,3,8,0,7,2,7,4,7,0,1,1,0,1,5,0,1,0,0,0,0,0,0,16,0,2]
["P6223200",200,44,156,0,0,0,0,1,26,12,37,2,17,5,5,4,11,3,9,4,11,2,8,5,10,1,9,2,5,1,6,1,1,0,0,1,1,0,3,1,5,0,0,2,9,72,1,1]
["P6223210",1,null,1,{"$nulls":17},1,{"$nulls":17},0,null,0,null,0,0,0,0,0,0]
["P6223220",524,138,386,0,1,0,0,1,2,7,13,16,22,15,21,18,36,13,38,14,35,12,40,12,43,10,50,9,33,8,20,2,17,0,9,1,6,2,3,0,1,0,1,0,0,146,0,0]
["P6223260",42,38,4,0,0,10,1,19,1,8,1,1,0,0,0,0,0,0,0,0,0,0,0,0,0,0,1,0,0,0,0,0,0,0,0,0,0,0,null,2,0,1,0,1,2,23,0,0]
["P6223270",6,6,0,0,0,3,0,1,0,2,0,0,0,0,0,0,0,0,0,0,0,0,0,0,0,0,0,0,0,0,0,0,0,0,0,0,0,0,null,0,0,0,0,0,0,4,0,0]
["P6223290",97,49,48,0,0,6,3,25,17,18,28,0,0,{"$nulls":24},0,null,2,0,0,0,1,8,29,0,1]
["P6223310",25,8,17,0,0,0,0,0,0,0,0,0,0,0,0,0,0,0,0,0,0,1,0,0,1,0,1,0,1,1,1,1,1,2,4,3,8,null,null,0,0,0,0,0,0,2,0,0]
["P6223330",755,511,244,0,0,0,0,0,1,12,2,51,13,75,23,81,18,55,24,55,20,55,22,43,27,42,30,20,27,9,16,7,8,4,9,2,4,0,0,2,4,1,0,0,1,217,0,0]
["P6223350",78,5,73,0,0,0,0,2,16,3,41,0,7,0,1,0,2,0,3,0,2,0,1,0,0,0,0,0,0,0,0,0,0,0,0,0,0,1,2,0,0,0,0,0,3,36,0,0]
["P6223360",109,65,44,0,0,1,0,7,3,6,6,11,6,4,1,9,3,11,1,4,1,4,7,3,4,2,3,3,1,0,6,0,2,0,0,0,0,0,0,0,0,0,0,0,1,26,0,0]
["P6223370",421,72,349,0,0,0,0,5,6,2,49,5,31,8,33,9,35,7,20,4,25,6,21,12,26,5,38,5,26,2,20,0,12,2,6,0,1,1,2,0,3,0,0,0,1,132,2,1]
["P6227500",5554,896,4658,0,1,6,3,32,160,120,349,73,241,63,267,45,286,41,242,44,316,42,332,69,457,61,456,71,441,58,380,64,294,46,202,61,231,23,155,4,39,6,36,14,67,176,9,5]
["P6227600",1212,252,960,0,0,0,4,8,54,37,128,23,76,24,52,11,51,24,73,19,60,18,59,16,100,16,96,24,75,10,69,11,33,6,13,5,17,4,18,1,7,2,9,2,19,144,9,1]
["P6227601",34618,10515,24103,129,91,1348,870,1325,1869,1177,2308,669,1489,573,1461,536,1463,537,1408,502,1456,531,1466,538,1785,523,1852,539,1707,452,1557,396,1260,308,900,432,1161,130,603,61,164,75,187,102,1475,1849,67,25]
["P6227602",5866,2039,3827,54,34,215,157,231,327,215,345,117,203,81,204,89,196,89,216,94,203,109,184,109,258,111,280,86,301,113,287,113,211,78,174,135,247,38,93,10,19,18,30,61,273,288,20,7]
["P6227603",213,100,113,0,0,1,1,6,5,5,17,23,8,9,9,11,7,4,8,5,7,5,6,7,12,7,10,1,11,10,6,1,3,5,2,0,1,0,0,3,1,0,0,1,2,87,0,2]
["P6230100",438,162,276,0,0,0,0,0,1,1,0,1,0,2,0,0,0,2,0,0,3,0,0,2,2,2,8,7,7,10,19,16,29,29,49,90,158,null,null,0,0,2,3,0,1,55,0,0]
["P6230200",92,28,64,0,0,0,0,0,1,0,0,0,0,1,1,0,0,0,0,1,0,0,1,1,0,0,1,2,4,2,3,2,6,6,12,13,35,null,null,0,0,0,0,0,0,24,0,0]
["P6230300",917,395,522,65,70,93,76,140,157,84,158,13,61,21,28]
["P6230400",25,9,16,0,0,0,0,0,0,0,0,0,0,1,0,0,0,0,0,0,0,0,0,0,0,0,0,1,0,0,2,3,1,2,3,2,10,null,null,0,0,0,0,0,0,1,0,0]
["P6230500",16,5,11,0,0,0,0,0,0,0,0,0,0,0,0,0,0,0,0,0,0,0,1,0,0,0,0,0,0,0,1,0,0,2,6,3,3,null,null,0,0,0,0,0,0,0,0,0]
["P6230800",802,172,630,null,null,3,3,14,92,53,151,21,47,17,39,10,51,8,34,4,17,6,34,5,44,8,39,6,20,8,26,4,14,4,16,1,3,10,21,1,6,1,7,7,91,78,5,7]
["P6230900",475,127,348,null,null,1,1,10,47,29,99,21,40,18,18,6,22,8,19,6,11,6,15,8,26,4,18,0,12,4,10,0,5,5,4,1,1,3,16,0,4,0,4,8,73,22,4,4]
["P6231000",496,129,367,1,1,13,5,14,55,18,56,8,30,7,24,8,23,5,23,6,22,7,21,9,29,10,19,10,21,7,20,4,9,1,4,1,5,2,14,1,4,0,5,1,36,50,2,0]
["P6231300",191,64,127,0,0,2,0,4,13,14,13,7,14,3,6,3,15,5,4,5,3,4,6,0,3,2,14,5,12,3,9,7,11,0,1,0,3,0,3,0,4,0,1,0,1,2,0,0]
["P6231400",2633,637,1996,1,2,16,23,40,81,58,153,54,141,35,137,39,140,46,142,41,146,62,161,42,157,43,133,57,149,30,138,27,127,26,90,20,76,17,50,0,12,4,10,3,10,46,5,1]
["P6231500",7475,1706,5769,4,2,69,66,120,309,200,534,142,397,145,401,107,410,93,404,110,401,100,428,115,439,93,453,97,424,116,381,77,329,61,209,57,182,39,190,17,61,5,42,26,68,165,12,5]
["P6231600",237,104,133,3,2,2,2,11,14,6,10,5,7,6,13,11,10,9,8,14,9,6,11,5,11,6,17,8,6,4,5,2,3,3,2,3,3,0,1,0,0,0,0,0,3,8,0,0]
["P6231900",63,11,52,null,null,0,0,3,14,4,15,1,0,1,2,0,5,1,3,0,1,0,7,0,3,0,0,0,2,1,0,0,0,0,0,0,0,1,3,0,0,0,0,3,5,39,0,0]
["P6232000",78,18,60,null,null,0,0,1,11,4,24,3,6,3,1,1,5,0,1,3,4,1,1,1,4,0,1,1,1,0,0,0,1,0,0,0,0,0,2,0,0,0,0,0,5,53,1,0]
["P6232100",99,14,85,0,1,2,1,0,6,3,16,0,5,3,8,0,12,0,5,2,7,1,6,0,4,1,7,1,4,0,1,1,1,0,0,0,1,0,0,0,0,0,0,0,0,28,0,0]
["P6232400",5,4,1,0,0,0,0,1,0,0,0,1,1,1,0,1,0,0,0,0,0,0,0,0,0,0,0,0,0,0,0,0,0,0,0,0,0,0,0,0,0,0,0,0,1,4,0,0]
["P6232500",33,8,25,0,0,0,0,1,2,2,6,1,3,2,3,0,2,0,1,1,0,0,1,0,1,0,3,0,1,0,0,0,2,0,0,1,0,0,0,0,0,0,0,0,0,6,0,0]
["P6232600",85,22,63,0,0,0,3,4,5,4,8,0,3,5,8,2,7,1,4,1,2,2,5,1,3,0,7,1,4,1,1,0,3,0,0,0,0,0,0,1,0,0,0,0,0,30,0,0]
["P6232700",8,4,4,0,0,0,0,0,0,1,0,0,0,1,0,1,0,1,1,0,1,0,0,0,1,0,0,0,0,0,0,0,1,0,0,0,0,0,0,0,0,0,0,0,0,1,0,0]
["P6241010",794,580,214,57,14,274,73,141,70,66,36,21,9,9,5,4,2,3,0,3,0,1,3,1,1,0,0,0,0,0,0,0,1,0,0,0,0,0,0,1,1,4,0,3,29,106,1,0]
["P6241020",80,62,18,0,1,9,2,21,4,20,8,6,2,2,0,2,0,2,0,0,1,0,0,0,0,0,0,0,0,0,0,0,0,0,0,0,0,0,0,1,0,1,0,0,2,0,1,1]
["P6241040",3,2,1,null,null,1,null,1,null,null,1,{"$nulls":26},0,0,0,0,0,0,0,0,0,0,0]
["P6241050",179,134,45,8,2,50,7,41,20,27,9,2,0,4,2,1,0,0,0,0,0,0,2,0,3,1,0,0,0,0,0,0,0,0,0,0,0,0,0,1,0,2,0,0,5,46,0,0]
["P6241060",113,87,26,1,1,26,3,20,7,12,8,13,1,8,5,2,1,4,0,0,0,1,0,0,0,0,0,0,0,0,0,0,0,0,0,0,0,0,0,0,0,0,0,0,0,17,0,1]
["P6241070",7,5,2,0,0,1,0,2,1,0,1,1,0,0,0,0,0,1,0,0,0,0,0,0,0,0,0,0,0,0,0,0,0,0,0,0,0,0,0,0,0,0,0,0,2,1,0,0]
["P6241090",2,1,1,0,0,0,0,1,0,0,1,0,0,0,0,0,0,0,0,0,0,0,0,0,0,0,0,0,0,0,0,0,0,0,0,0,0,0,0,0,0,0,0,0,0,0,0,0]
["P6241100",7,6,1,0,0,0,0,2,0,1,1,2,0,1,0,0,0,0,0,0,0,0,0,0,0,0,0,0,0,0,0,0,0,0,0,0,0,0,0,0,0,0,0,0,1,3,0,0]
["P6241110",303,219,84,0,0,0,0,1,0,2,3,7,2,7,6,20,8,20,11,25,11,32,7,30,10,29,14,17,7,18,4,6,0,2,1,3,0,0,3,1,0,1,0,1,2,31,0,0]
["P6241111",145,99,46,0,0,0,0,1,0,3,1,2,4,2,5,7,1,9,4,10,2,15,5,10,6,13,9,12,3,7,2,5,3,3,1,0,0,0,0,1,0,2,0,2,0,12,0,0]
["P6241112",204,142,62,0,0,0,0,2,3,16,8,22,7,22,7,23,10,27,1,12,6,6,7,2,4,2,2,2,4,4,1,2,0,0,1,0,1,0,5,2,0,1,0,8,4,13,1,0]
["P6241113",200,108,92,0,0,0,0,0,2,6,3,7,4,12,7,23,12,16,6,7,11,7,6,10,1,5,6,3,6,5,8,1,6,2,7,4,7,0,4,0,0,2,3,0,8,2,0,0]
["P6241114",380,248,132,0,0,0,0,3,0,33,20,25,11,23,10,40,22,44,14,28,16,22,16,14,9,8,8,4,4,1,2,3,0,0,0,0,0,1,8,1,0,0,2,14,14,37,0,2]
["P6241115",1204,242,962,0,0,2,4,12,70,36,144,26,79,17,79,20,77,19,55,13,73,22,65,16,81,20,72,22,56,7,39,5,29,4,25,1,14,6,17,2,2,0,4,5,14,30,1,0]
["P6241116",1668,471,1197,0,1,70,54,69,88,69,91,26,60,21,86,16,96,21,76,19,62,23,58,17,82,13,80,33,70,20,79,27,49,14,43,13,122,13,40,1,6,5,16,18,55,40,3,0]
["P6241117",11,5,6,0,0,0,0,0,0,0,0,0,0,0,0,0,1,0,1,3,1,1,0,1,0,0,1,0,1,0,1,0,0,0,0,0,0,0,0,0,0,0,0,0,0,5,0,0]
["P6241118",9,6,3,0,0,0,0,0,0,0,0,0,0,0,0,0,1,0,1,1,1,2,0,1,0,1,0,0,0,0,0,1,0,0,0,0,0,0,0,0,0,0,0,0,0,1,0,0]
["P6241119",43,27,16,0,0,0,0,0,0,2,3,4,4,11,1,1,1,3,0,2,4,1,1,0,1,2,1,0,0,1,0,0,0,0,0,0,0,0,0,0,0,0,0,0,0,16,0,0]
["P6241120",25,15,10,0,0,0,0,0,0,1,0,3,1,3,2,4,0,3,3,1,3,0,0,0,1,0,0,0,0,0,0,0,0,0,0,0,0,0,1,0,0,0,0,0,0,8,0,0]
["P6241121",23,16,7,0,0,0,0,0,0,0,0,5,0,1,2,2,0,2,0,0,2,2,0,4,0,0,3,0,0,0,0,0,0,0,0,0,0,0,0,0,0,0,0,0,0,3,0,0]
["P6241122",11,1,10,0,0,0,0,0,0,0,1,0,1,0,0,1,1,0,0,0,4,0,0,0,0,0,1,0,0,0,2,0,0,0,0,0,0,0,0,0,0,0,0,0,0,3,0,0]
["P6241123",17,7,10,0,0,0,1,1,1,2,1,0,1,1,1,1,1,0,0,0,0,0,0,1,1,0,1,0,0,1,0,0,0,0,2,0,0,0,0,0,0,1,0,0,0,6,0,0]
["P7010100",128245,61296,49699,17250,0,0,0,0,0]
["P7010200",19252,10739,6922,1591,0]
["P7010300",12773,7208,4645,920,0]
["P7010400",44636,39108,4546,982]
["P7010500",11282,8957,1860,465]
["P7010600",5890,4964,528,398]
["P7200100",3794,2027,1215,552,0]
["P7200200",1250,776,355,119,0,5]
["P7200300",1605,1324,233,48]
["P7200400",637,556,62,19]
["P7200500",8300,4342,2476,1482]
["P7200700",1836,731,707,398]
["P7200800",862,304,414,144]
["P7200900",574,303,126,145]
["P7201000",133,52,52,29]
["P7201100",133,51,60,22]
["P7201300",8350,6089,1881,414,null,0]
["P7201400",1665,1113,426,129,null,0]
["P7201500",632,389,155,88]
["P9100100",7880,3477,4403,5883,2729,3154,1997,748,1249,478,197,281,249,97,152]
["P9100110",365,195,170,266,153,113,99,42,57,27,13,14,4,1,3]
["P9100120",1625,769,856,1238,636,602,387,133,254,105,34,71,25,6,19]
["P9100130",2061,811,1250,1561,652,909,500,159,341,140,55,85,65,28,37]
["P9100140",411,217,194,286,149,137,125,68,57,24,13,11,14,6,8]
["P9100150",75,46,29,54,33,21,21,13,8,6,3,3,1,1,0]
["P9100160",3185,1340,1845,2349,1016,1333,836,324,512,179,77,102,143,61,82]
["P9100170",269,163,106,245,152,93,24,11,13,13,7,6,5,3,2]
["P9100180",1032,526,506,913,466,447,119,60,59,56,25,31,27,15,12]
["P9100190",993,345,648,627,254,373,366,91,275,50,18,32,34,12,22]
["P9100200",183,66,117,118,53,65,65,13,52,17,6,11,13,6,7]
["P9100210",4656,2079,2577,3433,1559,1874,1223,520,703,290,118,172,151,58,93]
["P9100220",3889,1674,2215,2836,1249,1587,1053,425,628,231,99,132,177,73,104]
["P9100230",1663,737,926,1272,604,668,391,133,258,98,36,62,44,21,23]
["P9100240",1736,835,901,1380,700,680,356,135,221,120,45,75,21,8,13]
["P9100250",408,214,194,283,144,139,125,70,55,23,14,9,13,6,7]
["P9100260",73,45,28,51,31,20,22,14,8,7,3,4,1,1,0]
["P9100270",2077,814,1263,1578,659,919,499,155,344,132,52,80,67,30,37]
["P9100280",1603,748,855,1221,618,603,382,130,252,108,38,70,25,8,17]
["P9100290",339,188,151,247,152,95,92,36,56,28,15,13,4,1,3]
["P9100300",3226,1381,1845,2415,1066,1349,811,315,496,185,74,111,148,62,86]
["P9100310",4,2,2,4,2,2,0,0,0,0,0,0,0,0,0]
["P9100320",7707,3400,4307,5797,2682,3115,1910,718,1192,468,183,285,265,106,159]
["P9100330",67,33,34,24,14,10,43,19,24,8,6,2,5,2,3]
["P9100340",7,5,2,7,5,2,0,null,null,1,1,0,1,1,0]
["P9100350",105,53,52,0,null,null,105,53,52,8,5,3,2,0,2]
["P9100360",1,1,0,1,1,0,0,0,0,0,0,0,0,0,0]
["P9100440",6565,2940,3625,5465,2527,2938,1100,413,687,429,171,258,245,99,146]
["P9100450",217,66,151,73,29,44,144,37,107,6,2,4,7,1,6]
["P9100460",783,266,517,97,25,72,686,241,445,51,24,27,20,4,16]
["P9100470",662,148,514,87,13,74,575,135,440,35,11,24,13,2,11]
["P9100480",322,88,234,26,5,21,296,83,213,16,6,10,2,0,2]
["P9100490",28,2,26,0,0,0,28,2,26,0,0,0,2,0,2]
["P9100500",2,0,2,0,0,0,2,0,2,0,0,0,0,0,0]
["P9100510",12,0,12,1,0,1,11,0,11,0,0,0,0,0,0]
["P9100520",10,1,9,1,0,1,9,1,8,0,0,0,0,0,0]
["P9100530",84,10,74,42,6,36,42,4,38,3,2,1,3,0,3]
["P9100570",4493,2118,2375,231,99,132,152,72,80,575,255,320]
["P9100580",1461,525,936,77,25,52,50,11,39,237,63,174]
["P9100590",4204,2011,2193,212,91,121,138,57,81,534,247,287]
["P9100600",1273,505,768,75,27,48,48,16,32,250,92,158]
["P9100610",1322,599,723,57,17,40,62,27,35,278,133,145]
["P9100620",471,193,278,29,13,16,29,7,22,76,28,48]
["P9100630",1209,566,643,40,11,29,52,21,31,285,139,146]
["P9100640",440,170,270,17,6,11,11,2,9,98,38,60]
["P9100650",2011,812,1199,65,19,46,66,23,43,488,194,294]
["P9100660",1328,237,1091,53,12,41,55,8,47,331,67,264]
["P9100670",1086,387,699,23,2,21,42,15,27,294,112,182]
["P9100680",1339,136,1203,30,2,28,40,3,37,332,61,271]
["P9100690",1025,453,572,27,7,20,35,14,21,313,145,168]
["P9100700",575,108,467,26,2,24,23,1,22,190,53,137]
["P9100710",656,192,464,225,57,168,431,135,296,35,5,30,12,2,10]
["P9100711",432,87,345,266,48,218,166,39,127,26,4,22,9,1,8]
["P9100712",125,51,74,72,30,42,53,21,32,14,6,8,5,3,2]
["P9100713",868,285,583,537,186,351,331,99,232,60,17,43,23,4,19]
["P9100714",370,139,231,288,124,164,82,15,67,41,15,26,7,1,6]
["P9100715",297,112,185,84,31,53,213,81,132,14,0,14,8,3,5]
["P9100716",382,203,179,266,138,128,116,65,51,27,14,13,11,6,5]
["P9100717",3439,1482,1957,2670,1222,1448,769,260,509,228,84,144,87,36,51]
["P9100718",44,25,19,14,10,4,30,15,15,4,3,1,3,2,1]
["P9100719",1353,600,753,1003,468,535,350,132,218,75,31,44,46,17,29]
["(en blanco)"]
["Total general",2457948,876113,1194628,131160,86549,88994,77993,55654,68652,39987,41642,26138,35240,17906,36913,28634,47960,38083,70202,51733,100215,66470,113230,78486,121690,77968,115054,66724,98956,67600,112137,8773,17273,7130,13628,34158,17971,3833,2647,622,810,476,667,624,5477,10256,371,114]

{"sheet":"P1","index":2,"n_rows":178,"n_cols":114,"rows_kept":178,"merged":[[5,3,5,16],[6,1,6,7],[8,1,9,2],[8,3,9,3],[8,4,8,16],[8,17,9,17],[8,18,9,18],[8,19,9,19],[10,1,10,2],[12,1,18,1],[19,1,20,1],[21,1,22,1],[23,1,23,2],[24,1,24,2],[25,1,26,1],[27,1,28,1],[29,1,29,2],[30,1,30,2],[31,1,32,1],[33,1,34,1],[35,1,35,2],[36,1,36,6],[37,1,38,1],[37,2,38,2],[37,3,38,3],[37,4,38,4],[37,5,38,5],[37,6,38,6],[50,1,51,1],[50,2,51,2],[50,3,51,3],[57,1,57,12],[58,1,59,1],[58,2,59,2],[58,3,59,3],[58,4,58,12],[60,1,64,1],[65,1,69,1],[77,1,77,5],[84,1,84,2],[86,1,87,2],[86,3,87,3],[86,4,86,8],[86,9,87,9],[86,10,87,10],[88,1,88,2],[90,1,90,2],[91,1,91,2],[92,1,92,2],[93,1,93,2],[94,1,94,2],[96,1,97,1],[96,2,96,3],[96,4,97,4],[96,5,97,5],[109,1,110,1],[109,2,110,2],[109,3,110,3],[109,4,109,12],[111,1,115,1],[130,1,130,8]]}
[null,"DATOS DEL ESTABLECIMIENTO"]
[null,{"$f":"CONCATENATE(\"COMUNA: \",NOMBRE!$B$2,\" - \",\"( \",NOMBRE!$C$2,NOMBRE!$D$2,NOMBRE!$E$2,NOMBRE!$F$2,NOMBRE!$G$2,\" )\")","v":"COMUNA:  - (  )"}]
[null,{"$f":"CONCATENATE(\"ESTABLECIMIENTO/ESTRATEGIA: \",NOMBRE!$B$3,\" - \",\"( \",NOMBRE!$C$3,NOMBRE!$D$3,NOMBRE!$E$3,NOMBRE!$F$3,NOMBRE!$G$3,NOMBRE!$H$3,\" )\")","v":"ESTABLECIMIENTO/ESTRATEGIA:  - (  )"}]
[null,{"$f":"CONCATENATE(\"MES: \",NOMBRE!$B$6,\" - \",\"( \",NOMBRE!$C$6,NOMBRE!$D$6,\" )\")","v":"MES:  - (  )"}]
[null,{"$f":"CONCATENATE(\"AÑO: \",NOMBRE!$B$7)","v":"AÑO: 2023"}]
[{"$nulls":3},"REM-P1. POBLACIÓN EN CONTROL PROGRAMA DE SALUD DE LA MUJER"]
[null,"ATENCIÓN PRIMARIA DE SALUD"]
[null,"SECCION A: POBLACIÓN EN CONTROL SEGÚN MÉTODO DE REGULACIÓN DE FERTILIDAD Y SALUD SEXUAL"]
[null,"MÉTODOS",null,"TOTAL","GRUPO DE EDAD (en años)",{"$nulls":12},"Pueblos Originarios"," Migrantes","PV-VIH (personas viviendo con VIH)"]
[{"$nulls":4},"Menor \nde 15 años","15 a 19 años","20 a 24 años","25 a 29 años","30 a 34 años","35 a 39 años","40 a 44 años","45 a 49 años","50 a 54 años","55 a 59 años","60 a 64 años","65 a 69 años","70 y más años"]
["P1010100","D . I . U T con Cobre",null,{"$f":"IFERROR(VLOOKUP($A11,FILTRO!$A5:$AY630,2,FALSE),0)","v":6880},{"$f":"IFERROR(VLOOKUP($A11,FILTRO!$A5:$AY630,3,FALSE),0)","v":0},{"$f":"IFERROR(VLOOKUP($A11,FILTRO!$A5:$AY630,4,FALSE),0)","v":50},{"$f":"IFERROR(VLOOKUP($A11,FILTRO!$A5:$AY630,5,FALSE),0)","v":376},{"$f":"IFERROR(VLOOKUP($A11,FILTRO!$A5:$AY630,6,FALSE),0)","v":1078},{"$f":"IFERROR(VLOOKUP($A11,FILTRO!$A5:$AY630,7,FALSE),0)","v":1461},{"$f":"IFERROR(VLOOKUP($A11,FILTRO!$A5:$AY630,8,FALSE),0)","v":1310},{"$f":"IFERROR(VLOOKUP($A11,FILTRO!$A5:$AY630,9,FALSE),0)","v":1062},{"$f":"IFERROR(VLOOKUP($A11,FILTRO!$A5:$AY630,10,FALSE),0)","v":884},{"$f":"IFERROR(VLOOKUP($A11,FILTRO!$A5:$AY630,11,FALSE),0)","v":528},{"$f":"IFERROR(VLOOKUP($A11,FILTRO!$A5:$AY630,12,FALSE),0)","v":131},{"$f":"IFERROR(VLOOKUP($A11,FILTRO!$A5:$AY630,13,FALSE),0)","v":0},{"$f":"IFERROR(VLOOKUP($A11,FILTRO!$A5:$AY630,14,FALSE),0)","v":0},{"$f":"IFERROR(VLOOKUP($A11,FILTRO!$A5:$AY630,15,FALSE),0)","v":0},{"$f":"IFERROR(VLOOKUP($A11,FILTRO!$A5:$AY630,16,FALSE),0)","v":91},{"$f":"IFERROR(VLOOKUP($A11,FILTRO!$A5:$AY630,17,FALSE),0)","v":241},{"$f":"IFERROR(VLOOKUP($A11,FILTRO!$A5:$AY630,18,FALSE),0)","v":7},{"$nulls":60},{"$f":"IF($R11>$D11,\"* La celda 'Pueblos Originarios' debe ser menor o igual al Total en control. \",\"\")","v":""},{"$f":"IF($S11>$D11,\"* La celda 'Población Migrantes' debe ser menor o igual al Total en control. \",\"\")","v":""},{"$f":"IF($T11>$D11,\"* La celda 'Personas Viviendo con VIH' debe ser menor o igual al Total en control. \",\"\")","v":""},{"$f":"IF(AND($D11<>0,$R11=\"\"),\"* No olvide escribir en la celda de 'Pueblos Originarios' (Digite CERO si no tiene). \",\"\")","v":""},{"$f":"IF(AND($D11<>0,$S11=\"\"),\"* No olvide escribir en la celda de 'Población Migrantes' (Digite CERO si no tiene). \",\"\")","v":""},{"$f":"IF(AND($D11<>0,$T11=\"\"),\"* No olvide escribir en la celda de 'PV-VIH' (Digite CERO si no tiene). \",\"\")","v":""},{"$nulls":20},{"$f":"IF($R11>$D11,1,0)","v":0},{"$f":"IF($S11>$D11,1,0)","v":0},{"$f":"IF($T11>$D11,1,0)","v":0},{"$f":"IF(AND($D11<>0,$R11=\"\"),1,0)","v":0},{"$f":"IF(AND($D11<>0,$S11=\"\"),1,0)","v":0},{"$f":"IF(AND($D11<>0,$T11=\"\"),1,0)","v":0}]
["P1060124","D . I . U con Levonorgestrel",null,{"$f":"IFERROR(VLOOKUP($A12,FILTRO!$A6:$AY631,2,FALSE),0)","v":1221},{"$f":"IFERROR(VLOOKUP($A12,FILTRO!$A6:$AY631,3,FALSE),0)","v":3},{"$f":"IFERROR(VLOOKUP($A12,FILTRO!$A6:$AY631,4,FALSE),0)","v":36},{"$f":"IFERROR(VLOOKUP($A12,FILTRO!$A6:$AY631,5,FALSE),0)","v":148},{"$f":"IFERROR(VLOOKUP($A12,FILTRO!$A6:$AY631,6,FALSE),0)","v":280},{"$f":"IFERROR(VLOOKUP($A12,FILTRO!$A6:$AY631,7,FALSE),0)","v":323},{"$f":"IFERROR(VLOOKUP($A12,FILTRO!$A6:$AY631,8,FALSE),0)","v":213},{"$f":"IFERROR(VLOOKUP($A12,FILTRO!$A6:$AY631,9,FALSE),0)","v":141},{"$f":"IFERROR(VLOOKUP($A12,FILTRO!$A6:$AY631,10,FALSE),0)","v":61},{"$f":"IFERROR(VLOOKUP($A12,FILTRO!$A6:$AY631,11,FALSE),0)","v":12},{"$f":"IFERROR(VLOOKUP($A12,FILTRO!$A6:$AY631,12,FALSE),0)","v":4},{"$f":"IFERROR(VLOOKUP($A12,FILTRO!$A6:$AY631,13,FALSE),0)","v":0},{"$f":"IFERROR(VLOOKUP($A12,FILTRO!$A6:$AY631,14,FALSE),0)","v":0},{"$f":"IFERROR(VLOOKUP($A12,FILTRO!$A6:$AY631,15,FALSE),0)","v":0},{"$f":"IFERROR(VLOOKUP($A12,FILTRO!$A6:$AY631,16,FALSE),0)","v":29},{"$f":"IFERROR(VLOOKUP($A12,FILTRO!$A6:$AY631,17,FALSE),0)","v":61},{"$f":"IFERROR(VLOOKUP($A12,FILTRO!$A6:$AY631,18,FALSE),0)","v":2},{"$nulls":60},"","","","","","",{"$nulls":20},0,0,0,0,0,0]
["P1010201","HORMONAL","Oral Combinado",{"$f":"IFERROR(VLOOKUP($A13,FILTRO!$A7:$AY632,2,FALSE),0)","v":13573},{"$f":"IFERROR(VLOOKUP($A13,FILTRO!$A7:$AY632,3,FALSE),0)","v":292},{"$f":"IFERROR(VLOOKUP($A13,FILTRO!$A7:$AY632,4,FALSE),0)","v":2145},{"$f":"IFERROR(VLOOKUP($A13,FILTRO!$A7:$AY632,5,FALSE),0)","v":2694},{"$f":"IFERROR(VLOOKUP($A13,FILTRO!$A7:$AY632,6,FALSE),0)","v":2279},{"$f":"IFERROR(VLOOKUP($A13,FILTRO!$A7:$AY632,7,FALSE),0)","v":2155},{"$f":"IFERROR(VLOOKUP($A13,FILTRO!$A7:$AY632,8,FALSE),0)","v":1840},{"$f":"IFERROR(VLOOKUP($A13,FILTRO!$A7:$AY632,9,FALSE),0)","v":1252},{"$f":"IFERROR(VLOOKUP($A13,FILTRO!$A7:$AY632,10,FALSE),0)","v":716},{"$f":"IFERROR(VLOOKUP($A13,FILTRO!$A7:$AY632,11,FALSE),0)","v":186},{"$f":"IFERROR(VLOOKUP($A13,FILTRO!$A7:$AY632,12,FALSE),0)","v":14},{"$f":"IFERROR(VLOOKUP($A13,FILTRO!$A7:$AY632,13,FALSE),0)","v":0},{"$f":"IFERROR(VLOOKUP($A13,FILTRO!$A7:$AY632,14,FALSE),0)","v":0},{"$f":"IFERROR(VLOOKUP($A13,FILTRO!$A7:$AY632,15,FALSE),0)","v":0},{"$f":"IFERROR(VLOOKUP($A13,FILTRO!$A7:$AY632,16,FALSE),0)","v":148},{"$f":"IFERROR(VLOOKUP($A13,FILTRO!$A7:$AY632,17,FALSE),0)","v":393},{"$f":"IFERROR(VLOOKUP($A13,FILTRO!$A7:$AY632,18,FALSE),0)","v":3},{"$nulls":60},"","","","","","",{"$nulls":20},0,0,0,0,0,0]
["P1010202",null,"Oral Progestágeno",{"$f":"IFERROR(VLOOKUP($A14,FILTRO!$A8:$AY633,2,FALSE),0)","v":4677},{"$f":"IFERROR(VLOOKUP($A14,FILTRO!$A8:$AY633,3,FALSE),0)","v":20},{"$f":"IFERROR(VLOOKUP($A14,FILTRO!$A8:$AY633,4,FALSE),0)","v":173},{"$f":"IFERROR(VLOOKUP($A14,FILTRO!$A8:$AY633,5,FALSE),0)","v":317},{"$f":"IFERROR(VLOOKUP($A14,FILTRO!$A8:$AY633,6,FALSE),0)","v":602},{"$f":"IFERROR(VLOOKUP($A14,FILTRO!$A8:$AY633,7,FALSE),0)","v":717},{"$f":"IFERROR(VLOOKUP($A14,FILTRO!$A8:$AY633,8,FALSE),0)","v":644},{"$f":"IFERROR(VLOOKUP($A14,FILTRO!$A8:$AY633,9,FALSE),0)","v":798},{"$f":"IFERROR(VLOOKUP($A14,FILTRO!$A8:$AY633,10,FALSE),0)","v":932},{"$f":"IFERROR(VLOOKUP($A14,FILTRO!$A8:$AY633,11,FALSE),0)","v":434},{"$f":"IFERROR(VLOOKUP($A14,FILTRO!$A8:$AY633,12,FALSE),0)","v":40},{"$f":"IFERROR(VLOOKUP($A14,FILTRO!$A8:$AY633,13,FALSE),0)","v":0},{"$f":"IFERROR(VLOOKUP($A14,FILTRO!$A8:$AY633,14,FALSE),0)","v":0},{"$f":"IFERROR(VLOOKUP($A14,FILTRO!$A8:$AY633,15,FALSE),0)","v":0},{"$f":"IFERROR(VLOOKUP($A14,FILTRO!$A8:$AY633,16,FALSE),0)","v":51},{"$f":"IFERROR(VLOOKUP($A14,FILTRO!$A8:$AY633,17,FALSE),0)","v":153},{"$f":"IFERROR(VLOOKUP($A14,FILTRO!$A8:$AY633,18,FALSE),0)","v":0},{"$nulls":60},"","","","","","",{"$nulls":20},0,0,0,0,0,0]
["P1010203",null,"Inyectable Combinado",{"$f":"IFERROR(VLOOKUP($A15,FILTRO!$A9:$AY634,2,FALSE),0)","v":6628},{"$f":"IFERROR(VLOOKUP($A15,FILTRO!$A9:$AY634,3,FALSE),0)","v":84},{"$f":"IFERROR(VLOOKUP($A15,FILTRO!$A9:$AY634,4,FALSE),0)","v":955},{"$f":"IFERROR(VLOOKUP($A15,FILTRO!$A9:$AY634,5,FALSE),0)","v":1581},{"$f":"IFERROR(VLOOKUP($A15,FILTRO!$A9:$AY634,6,FALSE),0)","v":1418},{"$f":"IFERROR(VLOOKUP($A15,FILTRO!$A9:$AY634,7,FALSE),0)","v":1059},{"$f":"IFERROR(VLOOKUP($A15,FILTRO!$A9:$AY634,8,FALSE),0)","v":780},{"$f":"IFERROR(VLOOKUP($A15,FILTRO!$A9:$AY634,9,FALSE),0)","v":476},{"$f":"IFERROR(VLOOKUP($A15,FILTRO!$A9:$AY634,10,FALSE),0)","v":218},{"$f":"IFERROR(VLOOKUP($A15,FILTRO!$A9:$AY634,11,FALSE),0)","v":51},{"$f":"IFERROR(VLOOKUP($A15,FILTRO!$A9:$AY634,12,FALSE),0)","v":6},{"$f":"IFERROR(VLOOKUP($A15,FILTRO!$A9:$AY634,13,FALSE),0)","v":0},{"$f":"IFERROR(VLOOKUP($A15,FILTRO!$A9:$AY634,14,FALSE),0)","v":0},{"$f":"IFERROR(VLOOKUP($A15,FILTRO!$A9:$AY634,15,FALSE),0)","v":0},{"$f":"IFERROR(VLOOKUP($A15,FILTRO!$A9:$AY634,16,FALSE),0)","v":109},{"$f":"IFERROR(VLOOKUP($A15,FILTRO!$A9:$AY634,17,FALSE),0)","v":270},{"$f":"IFERROR(VLOOKUP($A15,FILTRO!$A9:$AY634,18,FALSE),0)","v":2},{"$nulls":60},"","","","","","",{"$nulls":20},0,0,0,0,0,0]
["P1040508",null,"Inyectable Progestágeno",{"$f":"IFERROR(VLOOKUP($A16,FILTRO!$A10:$AY635,2,FALSE),0)","v":13377},{"$f":"IFERROR(VLOOKUP($A16,FILTRO!$A10:$AY635,3,FALSE),0)","v":171},{"$f":"IFERROR(VLOOKUP($A16,FILTRO!$A10:$AY635,4,FALSE),0)","v":1242},{"$f":"IFERROR(VLOOKUP($A16,FILTRO!$A10:$AY635,5,FALSE),0)","v":2269},{"$f":"IFERROR(VLOOKUP($A16,FILTRO!$A10:$AY635,6,FALSE),0)","v":2703},{"$f":"IFERROR(VLOOKUP($A16,FILTRO!$A10:$AY635,7,FALSE),0)","v":2488},{"$f":"IFERROR(VLOOKUP($A16,FILTRO!$A10:$AY635,8,FALSE),0)","v":1802},{"$f":"IFERROR(VLOOKUP($A16,FILTRO!$A10:$AY635,9,FALSE),0)","v":1286},{"$f":"IFERROR(VLOOKUP($A16,FILTRO!$A10:$AY635,10,FALSE),0)","v":1068},{"$f":"IFERROR(VLOOKUP($A16,FILTRO!$A10:$AY635,11,FALSE),0)","v":338},{"$f":"IFERROR(VLOOKUP($A16,FILTRO!$A10:$AY635,12,FALSE),0)","v":10},{"$f":"IFERROR(VLOOKUP($A16,FILTRO!$A10:$AY635,13,FALSE),0)","v":0},{"$f":"IFERROR(VLOOKUP($A16,FILTRO!$A10:$AY635,14,FALSE),0)","v":0},{"$f":"IFERROR(VLOOKUP($A16,FILTRO!$A10:$AY635,15,FALSE),0)","v":0},{"$f":"IFERROR(VLOOKUP($A16,FILTRO!$A10:$AY635,16,FALSE),0)","v":196},{"$f":"IFERROR(VLOOKUP($A16,FILTRO!$A10:$AY635,17,FALSE),0)","v":759},{"$f":"IFERROR(VLOOKUP($A16,FILTRO!$A10:$AY635,18,FALSE),0)","v":7},{"$nulls":60},"","","","","","",{"$nulls":20},0,0,0,0,0,0]
["P1040500",null,"Implante Etonogestrel (3 años)",{"$f":"IFERROR(VLOOKUP($A17,FILTRO!$A11:$AY636,2,FALSE),0)","v":9767},{"$f":"IFERROR(VLOOKUP($A17,FILTRO!$A11:$AY636,3,FALSE),0)","v":184},{"$f":"IFERROR(VLOOKUP($A17,FILTRO!$A11:$AY636,4,FALSE),0)","v":1780},{"$f":"IFERROR(VLOOKUP($A17,FILTRO!$A11:$AY636,5,FALSE),0)","v":2265},{"$f":"IFERROR(VLOOKUP($A17,FILTRO!$A11:$AY636,6,FALSE),0)","v":2056},{"$f":"IFERROR(VLOOKUP($A17,FILTRO!$A11:$AY636,7,FALSE),0)","v":1675},{"$f":"IFERROR(VLOOKUP($A17,FILTRO!$A11:$AY636,8,FALSE),0)","v":991},{"$f":"IFERROR(VLOOKUP($A17,FILTRO!$A11:$AY636,9,FALSE),0)","v":526},{"$f":"IFERROR(VLOOKUP($A17,FILTRO!$A11:$AY636,10,FALSE),0)","v":241},{"$f":"IFERROR(VLOOKUP($A17,FILTRO!$A11:$AY636,11,FALSE),0)","v":47},{"$f":"IFERROR(VLOOKUP($A17,FILTRO!$A11:$AY636,12,FALSE),0)","v":2},{"$f":"IFERROR(VLOOKUP($A17,FILTRO!$A11:$AY636,13,FALSE),0)","v":0},{"$f":"IFERROR(VLOOKUP($A17,FILTRO!$A11:$AY636,14,FALSE),0)","v":0},{"$f":"IFERROR(VLOOKUP($A17,FILTRO!$A11:$AY636,15,FALSE),0)","v":0},{"$f":"IFERROR(VLOOKUP($A17,FILTRO!$A11:$AY636,16,FALSE),0)","v":111},{"$f":"IFERROR(VLOOKUP($A17,FILTRO!$A11:$AY636,17,FALSE),0)","v":771},{"$f":"IFERROR(VLOOKUP($A17,FILTRO!$A11:$AY636,18,FALSE),0)","v":6},{"$nulls":60},"","","","","","",{"$nulls":20},0,0,0,0,0,0]
["P1200190",null,"Implante Levonorgestrel (5 años)",{"$f":"IFERROR(VLOOKUP($A18,FILTRO!$A12:$AY637,2,FALSE),0)","v":2907},{"$f":"IFERROR(VLOOKUP($A18,FILTRO!$A12:$AY637,3,FALSE),0)","v":61},{"$f":"IFERROR(VLOOKUP($A18,FILTRO!$A12:$AY637,4,FALSE),0)","v":528},{"$f":"IFERROR(VLOOKUP($A18,FILTRO!$A12:$AY637,5,FALSE),0)","v":676},{"$f":"IFERROR(VLOOKUP($A18,FILTRO!$A12:$AY637,6,FALSE),0)","v":626},{"$f":"IFERROR(VLOOKUP($A18,FILTRO!$A12:$AY637,7,FALSE),0)","v":487},{"$f":"IFERROR(VLOOKUP($A18,FILTRO!$A12:$AY637,8,FALSE),0)","v":301},{"$f":"IFERROR(VLOOKUP($A18,FILTRO!$A12:$AY637,9,FALSE),0)","v":173},{"$f":"IFERROR(VLOOKUP($A18,FILTRO!$A12:$AY637,10,FALSE),0)","v":50},{"$f":"IFERROR(VLOOKUP($A18,FILTRO!$A12:$AY637,11,FALSE),0)","v":5},{"$f":"IFERROR(VLOOKUP($A18,FILTRO!$A12:$AY637,12,FALSE),0)","v":0},{"$f":"IFERROR(VLOOKUP($A18,FILTRO!$A12:$AY637,13,FALSE),0)","v":0},{"$f":"IFERROR(VLOOKUP($A18,FILTRO!$A12:$AY637,14,FALSE),0)","v":0},{"$f":"IFERROR(VLOOKUP($A18,FILTRO!$A12:$AY637,15,FALSE),0)","v":0},{"$f":"IFERROR(VLOOKUP($A18,FILTRO!$A12:$AY637,16,FALSE),0)","v":40},{"$f":"IFERROR(VLOOKUP($A18,FILTRO!$A12:$AY637,17,FALSE),0)","v":323},{"$f":"IFERROR(VLOOKUP($A18,FILTRO!$A12:$AY637,18,FALSE),0)","v":2},{"$nulls":60},"","","","","","",{"$nulls":20},0,0,0,0,0,0]
["P1600105",null,"Anillo Vaginal",{"$f":"IFERROR(VLOOKUP($A19,FILTRO!$A13:$AY638,2,FALSE),0)","v":222},{"$f":"IFERROR(VLOOKUP($A19,FILTRO!$A13:$AY638,3,FALSE),0)","v":1},{"$f":"IFERROR(VLOOKUP($A19,FILTRO!$A13:$AY638,4,FALSE),0)","v":17},{"$f":"IFERROR(VLOOKUP($A19,FILTRO!$A13:$AY638,5,FALSE),0)","v":40},{"$f":"IFERROR(VLOOKUP($A19,FILTRO!$A13:$AY638,6,FALSE),0)","v":45},{"$f":"IFERROR(VLOOKUP($A19,FILTRO!$A13:$AY638,7,FALSE),0)","v":57},{"$f":"IFERROR(VLOOKUP($A19,FILTRO!$A13:$AY638,8,FALSE),0)","v":41},{"$f":"IFERROR(VLOOKUP($A19,FILTRO!$A13:$AY638,9,FALSE),0)","v":15},{"$f":"IFERROR(VLOOKUP($A19,FILTRO!$A13:$AY638,10,FALSE),0)","v":5},{"$f":"IFERROR(VLOOKUP($A19,FILTRO!$A13:$AY638,11,FALSE),0)","v":1},{"$f":"IFERROR(VLOOKUP($A19,FILTRO!$A13:$AY638,12,FALSE),0)","v":0},{"$f":"IFERROR(VLOOKUP($A19,FILTRO!$A13:$AY638,13,FALSE),0)","v":0},{"$f":"IFERROR(VLOOKUP($A19,FILTRO!$A13:$AY638,14,FALSE),0)","v":0},{"$f":"IFERROR(VLOOKUP($A19,FILTRO!$A13:$AY638,15,FALSE),0)","v":0},{"$f":"IFERROR(VLOOKUP($A19,FILTRO!$A13:$AY638,16,FALSE),0)","v":3},{"$f":"IFERROR(VLOOKUP($A19,FILTRO!$A13:$AY638,17,FALSE),0)","v":9},{"$f":"IFERROR(VLOOKUP($A19,FILTRO!$A13:$AY638,18,FALSE),0)","v":0},{"$nulls":60},"","","","","","",{"$nulls":20},0,0,0,0,0,0]
["P1010301"," SÓLO PRESERVATIVO  MAC                                                                                                                                                                                                                               ","Mujer",{"$f":"IFERROR(VLOOKUP($A20,FILTRO!$A14:$AY639,2,FALSE),0)","v":0},{"$f":"IFERROR(VLOOKUP($A20,FILTRO!$A14:$AY639,3,FALSE),0)","v":0},{"$f":"IFERROR(VLOOKUP($A20,FILTRO!$A14:$AY639,4,FALSE),0)","v":0},{"$f":"IFERROR(VLOOKUP($A20,FILTRO!$A14:$AY639,5,FALSE),0)","v":0},{"$f":"IFERROR(VLOOKUP($A20,FILTRO!$A14:$AY639,6,FALSE),0)","v":0},{"$f":"IFERROR(VLOOKUP($A20,FILTRO!$A14:$AY639,7,FALSE),0)","v":0},{"$f":"IFERROR(VLOOKUP($A20,FILTRO!$A14:$AY639,8,FALSE),0)","v":0},{"$f":"IFERROR(VLOOKUP($A20,FILTRO!$A14:$AY639,9,FALSE),0)","v":0},{"$f":"IFERROR(VLOOKUP($A20,FILTRO!$A14:$AY639,10,FALSE),0)","v":0},{"$f":"IFERROR(VLOOKUP($A20,FILTRO!$A14:$AY639,11,FALSE),0)","v":0},{"$f":"IFERROR(VLOOKUP($A20,FILTRO!$A14:$AY639,12,FALSE),0)","v":0},{"$f":"IFERROR(VLOOKUP($A20,FILTRO!$A14:$AY639,13,FALSE),0)","v":0},{"$f":"IFERROR(VLOOKUP($A20,FILTRO!$A14:$AY639,14,FALSE),0)","v":0},{"$f":"IFERROR(VLOOKUP($A20,FILTRO!$A14:$AY639,15,FALSE),0)","v":0},{"$f":"IFERROR(VLOOKUP($A20,FILTRO!$A14:$AY639,16,FALSE),0)","v":0},{"$f":"IFERROR(VLOOKUP($A20,FILTRO!$A14:$AY639,17,FALSE),0)","v":0},{"$f":"IFERROR(VLOOKUP($A20,FILTRO!$A14:$AY639,18,FALSE),0)","v":0},{"$nulls":60},"","","","","","",{"$nulls":20},0,0,0,0,0,0]
["P1010302",null,"Hombres",{"$f":"IFERROR(VLOOKUP($A21,FILTRO!$A15:$AY640,2,FALSE),0)","v":0},{"$f":"IFERROR(VLOOKUP($A21,FILTRO!$A15:$AY640,3,FALSE),0)","v":0},{"$f":"IFERROR(VLOOKUP($A21,FILTRO!$A15:$AY640,4,FALSE),0)","v":0},{"$f":"IFERROR(VLOOKUP($A21,FILTRO!$A15:$AY640,5,FALSE),0)","v":0},{"$f":"IFERROR(VLOOKUP($A21,FILTRO!$A15:$AY640,6,FALSE),0)","v":0},{"$f":"IFERROR(VLOOKUP($A21,FILTRO!$A15:$AY640,7,FALSE),0)","v":0},{"$f":"IFERROR(VLOOKUP($A21,FILTRO!$A15:$AY640,8,FALSE),0)","v":0},{"$f":"IFERROR(VLOOKUP($A21,FILTRO!$A15:$AY640,9,FALSE),0)","v":0},{"$f":"IFERROR(VLOOKUP($A21,FILTRO!$A15:$AY640,10,FALSE),0)","v":0},{"$f":"IFERROR(VLOOKUP($A21,FILTRO!$A15:$AY640,11,FALSE),0)","v":0},{"$f":"IFERROR(VLOOKUP($A21,FILTRO!$A15:$AY640,12,FALSE),0)","v":0},{"$f":"IFERROR(VLOOKUP($A21,FILTRO!$A15:$AY640,13,FALSE),0)","v":0},{"$f":"IFERROR(VLOOKUP($A21,FILTRO!$A15:$AY640,14,FALSE),0)","v":0},{"$f":"IFERROR(VLOOKUP($A21,FILTRO!$A15:$AY640,15,FALSE),0)","v":0},{"$f":"IFERROR(VLOOKUP($A21,FILTRO!$A15:$AY640,16,FALSE),0)","v":0},{"$f":"IFERROR(VLOOKUP($A21,FILTRO!$A15:$AY640,17,FALSE),0)","v":0},{"$f":"IFERROR(VLOOKUP($A21,FILTRO!$A15:$AY640,18,FALSE),0)","v":0},{"$nulls":60},"","","","","","",{"$nulls":20},0,0,0,0,0,0]
["P1200240","ESTERILIZACIÓN QUIRURGICA","Mujer",{"$f":"IFERROR(VLOOKUP($A22,FILTRO!$A16:$AY641,2,FALSE),0)","v":2859},{"$f":"IFERROR(VLOOKUP($A22,FILTRO!$A16:$AY641,3,FALSE),0)","v":0},{"$f":"IFERROR(VLOOKUP($A22,FILTRO!$A16:$AY641,4,FALSE),0)","v":0},{"$f":"IFERROR(VLOOKUP($A22,FILTRO!$A16:$AY641,5,FALSE),0)","v":17},{"$f":"IFERROR(VLOOKUP($A22,FILTRO!$A16:$AY641,6,FALSE),0)","v":122},{"$f":"IFERROR(VLOOKUP($A22,FILTRO!$A16:$AY641,7,FALSE),0)","v":343},{"$f":"IFERROR(VLOOKUP($A22,FILTRO!$A16:$AY641,8,FALSE),0)","v":623},{"$f":"IFERROR(VLOOKUP($A22,FILTRO!$A16:$AY641,9,FALSE),0)","v":689},{"$f":"IFERROR(VLOOKUP($A22,FILTRO!$A16:$AY641,10,FALSE),0)","v":551},{"$f":"IFERROR(VLOOKUP($A22,FILTRO!$A16:$AY641,11,FALSE),0)","v":319},{"$f":"IFERROR(VLOOKUP($A22,FILTRO!$A16:$AY641,12,FALSE),0)","v":195},{"$f":"IFERROR(VLOOKUP($A22,FILTRO!$A16:$AY641,13,FALSE),0)","v":0},{"$f":"IFERROR(VLOOKUP($A22,FILTRO!$A16:$AY641,14,FALSE),0)","v":0},{"$f":"IFERROR(VLOOKUP($A22,FILTRO!$A16:$AY641,15,FALSE),0)","v":0},{"$f":"IFERROR(VLOOKUP($A22,FILTRO!$A16:$AY641,16,FALSE),0)","v":48},{"$f":"IFERROR(VLOOKUP($A22,FILTRO!$A16:$AY641,17,FALSE),0)","v":138},{"$f":"IFERROR(VLOOKUP($A22,FILTRO!$A16:$AY641,18,FALSE),0)","v":7},{"$nulls":60},"","","","","","",{"$nulls":20},0,0,0,0,0,0]
["P1200250",null,"Hombres",{"$f":"IFERROR(VLOOKUP($A23,FILTRO!$A17:$AY642,2,FALSE),0)","v":5},{"$f":"IFERROR(VLOOKUP($A23,FILTRO!$A17:$AY642,3,FALSE),0)","v":0},{"$f":"IFERROR(VLOOKUP($A23,FILTRO!$A17:$AY642,4,FALSE),0)","v":0},{"$f":"IFERROR(VLOOKUP($A23,FILTRO!$A17:$AY642,5,FALSE),0)","v":0},{"$f":"IFERROR(VLOOKUP($A23,FILTRO!$A17:$AY642,6,FALSE),0)","v":0},{"$f":"IFERROR(VLOOKUP($A23,FILTRO!$A17:$AY642,7,FALSE),0)","v":2},{"$f":"IFERROR(VLOOKUP($A23,FILTRO!$A17:$AY642,8,FALSE),0)","v":1},{"$f":"IFERROR(VLOOKUP($A23,FILTRO!$A17:$AY642,9,FALSE),0)","v":1},{"$f":"IFERROR(VLOOKUP($A23,FILTRO!$A17:$AY642,10,FALSE),0)","v":1},{"$f":"IFERROR(VLOOKUP($A23,FILTRO!$A17:$AY642,11,FALSE),0)","v":0},{"$f":"IFERROR(VLOOKUP($A23,FILTRO!$A17:$AY642,12,FALSE),0)","v":0},{"$f":"IFERROR(VLOOKUP($A23,FILTRO!$A17:$AY642,13,FALSE),0)","v":0},{"$f":"IFERROR(VLOOKUP($A23,FILTRO!$A17:$AY642,14,FALSE),0)","v":0},{"$f":"IFERROR(VLOOKUP($A23,FILTRO!$A17:$AY642,15,FALSE),0)","v":0},{"$f":"IFERROR(VLOOKUP($A23,FILTRO!$A17:$AY642,16,FALSE),0)","v":0},{"$f":"IFERROR(VLOOKUP($A23,FILTRO!$A17:$AY642,17,FALSE),0)","v":0},{"$f":"IFERROR(VLOOKUP($A23,FILTRO!$A17:$AY642,18,FALSE),0)","v":0},{"$nulls":60},"","","","","","",{"$nulls":20},0,0,0,0,0,0]
[null," TOTAL",null,{"$f":"SUM(D11:D23)","v":62116},{"$f":"SUM(E11:E23)","v":816},6926,10383,11209,10767,8546,6419,4727,1921,402,0,0,0,826,3118,36]
["P1060010"," Mujeres en control con enfermedad cardiovascular (DM-HTA)\n",null,{"$f":"IFERROR(VLOOKUP($A25,FILTRO!$A19:$AY644,2,FALSE),0)","v":3199},{"$f":"IFERROR(VLOOKUP($A25,FILTRO!$A19:$AY644,3,FALSE),0)","v":0},{"$f":"IFERROR(VLOOKUP($A25,FILTRO!$A19:$AY644,4,FALSE),0)","v":11},{"$f":"IFERROR(VLOOKUP($A25,FILTRO!$A19:$AY644,5,FALSE),0)","v":92},{"$f":"IFERROR(VLOOKUP($A25,FILTRO!$A19:$AY644,6,FALSE),0)","v":176},{"$f":"IFERROR(VLOOKUP($A25,FILTRO!$A19:$AY644,7,FALSE),0)","v":280},{"$f":"IFERROR(VLOOKUP($A25,FILTRO!$A19:$AY644,8,FALSE),0)","v":492},{"$f":"IFERROR(VLOOKUP($A25,FILTRO!$A19:$AY644,9,FALSE),0)","v":683},{"$f":"IFERROR(VLOOKUP($A25,FILTRO!$A19:$AY644,10,FALSE),0)","v":810},{"$f":"IFERROR(VLOOKUP($A25,FILTRO!$A19:$AY644,11,FALSE),0)","v":514},{"$f":"IFERROR(VLOOKUP($A25,FILTRO!$A19:$AY644,12,FALSE),0)","v":141},{"$f":"IFERROR(VLOOKUP($A25,FILTRO!$A19:$AY644,13,FALSE),0)","v":0},{"$f":"IFERROR(VLOOKUP($A25,FILTRO!$A19:$AY644,14,FALSE),0)","v":0},{"$f":"IFERROR(VLOOKUP($A25,FILTRO!$A19:$AY644,15,FALSE),0)","v":0},{"$f":"IFERROR(VLOOKUP($A25,FILTRO!$A19:$AY644,16,FALSE),0)","v":31},{"$f":"IFERROR(VLOOKUP($A25,FILTRO!$A19:$AY644,17,FALSE),0)","v":46},{"$f":"IFERROR(VLOOKUP($A25,FILTRO!$A19:$AY644,18,FALSE),0)","v":0},{"$nulls":60},{"$f":"IF($R25>$D25,\"* La celda 'Pueblos Originarios' debe ser menor o igual al Total en control. \",\"\")","v":""},{"$f":"IF($S25>$D25,\"* La celda 'Población Migrantes' debe ser menor o igual al Total en control. \",\"\")","v":""},{"$f":"IF($T25>$D25,\"* La celda 'Personas Viviendo con VIH' debe ser menor o igual al Total en control. \",\"\")","v":""},{"$f":"IF(AND($D25<>0,$R25=\"\"),\"* No olvide escribir en la celda de 'Pueblos Originarios' (Digite CERO si no tiene). \",\"\")","v":""},{"$f":"IF(AND($D25<>0,$S25=\"\"),\"* No olvide escribir en la celda de 'Población Migrantes' (Digite CERO si no tiene). \",\"\")","v":""},{"$f":"IF(AND($D25<>0,$T25=\"\"),\"* No olvide escribir en la celda de 'PV-VIH' (Digite CERO si no tiene). \",\"\")","v":""},{"$nulls":20},{"$f":"IF($R25>$D25,1,0)","v":0},{"$f":"IF($S25>$D25,1,0)","v":0},{"$f":"IF($T25>$D25,1,0)","v":0},{"$f":"IF(AND($D25<>0,$R25=\"\"),1,0)","v":0},{"$f":"IF(AND($D25<>0,$S25=\"\"),1,0)","v":0},{"$f":"IF(AND($D25<>0,$T25=\"\"),1,0)","v":0}]
["P1600106","Mujeres con Retiro de Implante Anticipado en el semestre (antes de los 3 años)","En APS",{"$f":"IFERROR(VLOOKUP($A26,FILTRO!$A20:$AY645,2,FALSE),0)","v":174},{"$f":"IFERROR(VLOOKUP($A26,FILTRO!$A20:$AY645,3,FALSE),0)","v":1},{"$f":"IFERROR(VLOOKUP($A26,FILTRO!$A20:$AY645,4,FALSE),0)","v":33},{"$f":"IFERROR(VLOOKUP($A26,FILTRO!$A20:$AY645,5,FALSE),0)","v":44},{"$f":"IFERROR(VLOOKUP($A26,FILTRO!$A20:$AY645,6,FALSE),0)","v":48},{"$f":"IFERROR(VLOOKUP($A26,FILTRO!$A20:$AY645,7,FALSE),0)","v":32},{"$f":"IFERROR(VLOOKUP($A26,FILTRO!$A20:$AY645,8,FALSE),0)","v":10},{"$f":"IFERROR(VLOOKUP($A26,FILTRO!$A20:$AY645,9,FALSE),0)","v":5},{"$f":"IFERROR(VLOOKUP($A26,FILTRO!$A20:$AY645,10,FALSE),0)","v":1},{"$f":"IFERROR(VLOOKUP($A26,FILTRO!$A20:$AY645,11,FALSE),0)","v":0},{"$f":"IFERROR(VLOOKUP($A26,FILTRO!$A20:$AY645,12,FALSE),0)","v":0},{"$f":"IFERROR(VLOOKUP($A26,FILTRO!$A20:$AY645,13,FALSE),0)","v":0},{"$f":"IFERROR(VLOOKUP($A26,FILTRO!$A20:$AY645,14,FALSE),0)","v":0},{"$f":"IFERROR(VLOOKUP($A26,FILTRO!$A20:$AY645,15,FALSE),0)","v":0},{"$f":"IFERROR(VLOOKUP($A26,FILTRO!$A20:$AY645,16,FALSE),0)","v":0},{"$f":"IFERROR(VLOOKUP($A26,FILTRO!$A20:$AY645,17,FALSE),0)","v":12},{"$f":"IFERROR(VLOOKUP($A26,FILTRO!$A20:$AY645,18,FALSE),0)","v":0},{"$nulls":60},"","","","","","",{"$nulls":20},0,0,0,0,0,0]
["P1600107",null,"En Extrasistema ",{"$f":"IFERROR(VLOOKUP($A27,FILTRO!$A21:$AY646,2,FALSE),0)","v":6},{"$f":"IFERROR(VLOOKUP($A27,FILTRO!$A21:$AY646,3,FALSE),0)","v":0},{"$f":"IFERROR(VLOOKUP($A27,FILTRO!$A21:$AY646,4,FALSE),0)","v":1},{"$f":"IFERROR(VLOOKUP($A27,FILTRO!$A21:$AY646,5,FALSE),0)","v":3},{"$f":"IFERROR(VLOOKUP($A27,FILTRO!$A21:$AY646,6,FALSE),0)","v":2},{"$f":"IFERROR(VLOOKUP($A27,FILTRO!$A21:$AY646,7,FALSE),0)","v":0},{"$f":"IFERROR(VLOOKUP($A27,FILTRO!$A21:$AY646,8,FALSE),0)","v":0},{"$f":"IFERROR(VLOOKUP($A27,FILTRO!$A21:$AY646,9,FALSE),0)","v":0},{"$f":"IFERROR(VLOOKUP($A27,FILTRO!$A21:$AY646,10,FALSE),0)","v":0},{"$f":"IFERROR(VLOOKUP($A27,FILTRO!$A21:$AY646,11,FALSE),0)","v":0},{"$f":"IFERROR(VLOOKUP($A27,FILTRO!$A21:$AY646,12,FALSE),0)","v":0},{"$f":"IFERROR(VLOOKUP($A27,FILTRO!$A21:$AY646,13,FALSE),0)","v":0},{"$f":"IFERROR(VLOOKUP($A27,FILTRO!$A21:$AY646,14,FALSE),0)","v":0},{"$f":"IFERROR(VLOOKUP($A27,FILTRO!$A21:$AY646,15,FALSE),0)","v":0},{"$f":"IFERROR(VLOOKUP($A27,FILTRO!$A21:$AY646,16,FALSE),0)","v":0},{"$f":"IFERROR(VLOOKUP($A27,FILTRO!$A21:$AY646,17,FALSE),0)","v":1},{"$f":"IFERROR(VLOOKUP($A27,FILTRO!$A21:$AY646,18,FALSE),0)","v":0}]
["P1600108","Mujeres con Retiro de Implante Anticipado en el semestre (antes de los 5 años)","En APS",{"$f":"IFERROR(VLOOKUP($A28,FILTRO!$A22:$AY647,2,FALSE),0)","v":82},{"$f":"IFERROR(VLOOKUP($A28,FILTRO!$A22:$AY647,3,FALSE),0)","v":2},{"$f":"IFERROR(VLOOKUP($A28,FILTRO!$A22:$AY647,4,FALSE),0)","v":10},{"$f":"IFERROR(VLOOKUP($A28,FILTRO!$A22:$AY647,5,FALSE),0)","v":29},{"$f":"IFERROR(VLOOKUP($A28,FILTRO!$A22:$AY647,6,FALSE),0)","v":12},{"$f":"IFERROR(VLOOKUP($A28,FILTRO!$A22:$AY647,7,FALSE),0)","v":14},{"$f":"IFERROR(VLOOKUP($A28,FILTRO!$A22:$AY647,8,FALSE),0)","v":9},{"$f":"IFERROR(VLOOKUP($A28,FILTRO!$A22:$AY647,9,FALSE),0)","v":4},{"$f":"IFERROR(VLOOKUP($A28,FILTRO!$A22:$AY647,10,FALSE),0)","v":2},{"$f":"IFERROR(VLOOKUP($A28,FILTRO!$A22:$AY647,11,FALSE),0)","v":0},{"$f":"IFERROR(VLOOKUP($A28,FILTRO!$A22:$AY647,12,FALSE),0)","v":0},{"$f":"IFERROR(VLOOKUP($A28,FILTRO!$A22:$AY647,13,FALSE),0)","v":0},{"$f":"IFERROR(VLOOKUP($A28,FILTRO!$A22:$AY647,14,FALSE),0)","v":0},{"$f":"IFERROR(VLOOKUP($A28,FILTRO!$A22:$AY647,15,FALSE),0)","v":0},{"$f":"IFERROR(VLOOKUP($A28,FILTRO!$A22:$AY647,16,FALSE),0)","v":0},{"$f":"IFERROR(VLOOKUP($A28,FILTRO!$A22:$AY647,17,FALSE),0)","v":12},{"$f":"IFERROR(VLOOKUP($A28,FILTRO!$A22:$AY647,18,FALSE),0)","v":1}]
["P1600109",null,"En Extrasistema ",{"$f":"IFERROR(VLOOKUP($A29,FILTRO!$A23:$AY648,2,FALSE),0)","v":6},{"$f":"IFERROR(VLOOKUP($A29,FILTRO!$A23:$AY648,3,FALSE),0)","v":0},{"$f":"IFERROR(VLOOKUP($A29,FILTRO!$A23:$AY648,4,FALSE),0)","v":0},{"$f":"IFERROR(VLOOKUP($A29,FILTRO!$A23:$AY648,5,FALSE),0)","v":2},{"$f":"IFERROR(VLOOKUP($A29,FILTRO!$A23:$AY648,6,FALSE),0)","v":1},{"$f":"IFERROR(VLOOKUP($A29,FILTRO!$A23:$AY648,7,FALSE),0)","v":2},{"$f":"IFERROR(VLOOKUP($A29,FILTRO!$A23:$AY648,8,FALSE),0)","v":1},{"$f":"IFERROR(VLOOKUP($A29,FILTRO!$A23:$AY648,9,FALSE),0)","v":0},{"$f":"IFERROR(VLOOKUP($A29,FILTRO!$A23:$AY648,10,FALSE),0)","v":0},{"$f":"IFERROR(VLOOKUP($A29,FILTRO!$A23:$AY648,11,FALSE),0)","v":0},{"$f":"IFERROR(VLOOKUP($A29,FILTRO!$A23:$AY648,12,FALSE),0)","v":0},{"$f":"IFERROR(VLOOKUP($A29,FILTRO!$A23:$AY648,13,FALSE),0)","v":0},{"$f":"IFERROR(VLOOKUP($A29,FILTRO!$A23:$AY648,14,FALSE),0)","v":0},{"$f":"IFERROR(VLOOKUP($A29,FILTRO!$A23:$AY648,15,FALSE),0)","v":0},{"$f":"IFERROR(VLOOKUP($A29,FILTRO!$A23:$AY648,16,FALSE),0)","v":0},{"$f":"IFERROR(VLOOKUP($A29,FILTRO!$A23:$AY648,17,FALSE),0)","v":2},{"$f":"IFERROR(VLOOKUP($A29,FILTRO!$A23:$AY648,18,FALSE),0)","v":0},{"$nulls":60},"","","","","","",{"$nulls":20},0,0,0,0,0,0]
["P1060090","Método de Regulación de Fertilidad más Preservativo",null,{"$f":"IFERROR(VLOOKUP($A30,FILTRO!$A24:$AY649,2,FALSE),0)","v":4882},{"$f":"IFERROR(VLOOKUP($A30,FILTRO!$A24:$AY649,3,FALSE),0)","v":114},{"$f":"IFERROR(VLOOKUP($A30,FILTRO!$A24:$AY649,4,FALSE),0)","v":1253},{"$f":"IFERROR(VLOOKUP($A30,FILTRO!$A24:$AY649,5,FALSE),0)","v":1109},{"$f":"IFERROR(VLOOKUP($A30,FILTRO!$A24:$AY649,6,FALSE),0)","v":814},{"$f":"IFERROR(VLOOKUP($A30,FILTRO!$A24:$AY649,7,FALSE),0)","v":617},{"$f":"IFERROR(VLOOKUP($A30,FILTRO!$A24:$AY649,8,FALSE),0)","v":456},{"$f":"IFERROR(VLOOKUP($A30,FILTRO!$A24:$AY649,9,FALSE),0)","v":271},{"$f":"IFERROR(VLOOKUP($A30,FILTRO!$A24:$AY649,10,FALSE),0)","v":187},{"$f":"IFERROR(VLOOKUP($A30,FILTRO!$A24:$AY649,11,FALSE),0)","v":54},{"$f":"IFERROR(VLOOKUP($A30,FILTRO!$A24:$AY649,12,FALSE),0)","v":7},{"$f":"IFERROR(VLOOKUP($A30,FILTRO!$A24:$AY649,13,FALSE),0)","v":0},{"$f":"IFERROR(VLOOKUP($A30,FILTRO!$A24:$AY649,14,FALSE),0)","v":0},{"$f":"IFERROR(VLOOKUP($A30,FILTRO!$A24:$AY649,15,FALSE),0)","v":0},{"$f":"IFERROR(VLOOKUP($A30,FILTRO!$A24:$AY649,16,FALSE),0)","v":55},{"$f":"IFERROR(VLOOKUP($A30,FILTRO!$A24:$AY649,17,FALSE),0)","v":239},{"$f":"IFERROR(VLOOKUP($A30,FILTRO!$A24:$AY649,18,FALSE),0)","v":3},{"$nulls":60},"","","","","","",{"$nulls":20},0,0,0,0,0,0]
["P1200270","Gestantes que reciben preservativo",null,{"$f":"IFERROR(VLOOKUP($A31,FILTRO!$A25:$AY650,2,FALSE),0)","v":386},{"$f":"IFERROR(VLOOKUP($A31,FILTRO!$A25:$AY650,3,FALSE),0)","v":5},{"$f":"IFERROR(VLOOKUP($A31,FILTRO!$A25:$AY650,4,FALSE),0)","v":50},{"$f":"IFERROR(VLOOKUP($A31,FILTRO!$A25:$AY650,5,FALSE),0)","v":109},{"$f":"IFERROR(VLOOKUP($A31,FILTRO!$A25:$AY650,6,FALSE),0)","v":114},{"$f":"IFERROR(VLOOKUP($A31,FILTRO!$A25:$AY650,7,FALSE),0)","v":63},{"$f":"IFERROR(VLOOKUP($A31,FILTRO!$A25:$AY650,8,FALSE),0)","v":37},{"$f":"IFERROR(VLOOKUP($A31,FILTRO!$A25:$AY650,9,FALSE),0)","v":7},{"$f":"IFERROR(VLOOKUP($A31,FILTRO!$A25:$AY650,10,FALSE),0)","v":1},{"$f":"IFERROR(VLOOKUP($A31,FILTRO!$A25:$AY650,11,FALSE),0)","v":0},{"$f":"IFERROR(VLOOKUP($A31,FILTRO!$A25:$AY650,12,FALSE),0)","v":0},{"$f":"IFERROR(VLOOKUP($A31,FILTRO!$A25:$AY650,13,FALSE),0)","v":0},{"$f":"IFERROR(VLOOKUP($A31,FILTRO!$A25:$AY650,14,FALSE),0)","v":0},{"$f":"IFERROR(VLOOKUP($A31,FILTRO!$A25:$AY650,15,FALSE),0)","v":0},{"$f":"IFERROR(VLOOKUP($A31,FILTRO!$A25:$AY650,16,FALSE),0)","v":12},{"$f":"IFERROR(VLOOKUP($A31,FILTRO!$A25:$AY650,17,FALSE),0)","v":16},{"$f":"IFERROR(VLOOKUP($A31,FILTRO!$A25:$AY650,18,FALSE),0)","v":0},{"$nulls":60},"","","","","","",{"$nulls":20},0,0,0,0,0,0]
["P1200200","PRESERVATIVO/PRACTICA SEXUAL SEGURA","Mujer",{"$f":"IFERROR(VLOOKUP($A32,FILTRO!$A26:$AY651,2,FALSE),0)","v":566},{"$f":"IFERROR(VLOOKUP($A32,FILTRO!$A26:$AY651,3,FALSE),0)","v":7},{"$f":"IFERROR(VLOOKUP($A32,FILTRO!$A26:$AY651,4,FALSE),0)","v":94},{"$f":"IFERROR(VLOOKUP($A32,FILTRO!$A26:$AY651,5,FALSE),0)","v":104},{"$f":"IFERROR(VLOOKUP($A32,FILTRO!$A26:$AY651,6,FALSE),0)","v":111},{"$f":"IFERROR(VLOOKUP($A32,FILTRO!$A26:$AY651,7,FALSE),0)","v":80},{"$f":"IFERROR(VLOOKUP($A32,FILTRO!$A26:$AY651,8,FALSE),0)","v":50},{"$f":"IFERROR(VLOOKUP($A32,FILTRO!$A26:$AY651,9,FALSE),0)","v":47},{"$f":"IFERROR(VLOOKUP($A32,FILTRO!$A26:$AY651,10,FALSE),0)","v":24},{"$f":"IFERROR(VLOOKUP($A32,FILTRO!$A26:$AY651,11,FALSE),0)","v":27},{"$f":"IFERROR(VLOOKUP($A32,FILTRO!$A26:$AY651,12,FALSE),0)","v":15},{"$f":"IFERROR(VLOOKUP($A32,FILTRO!$A26:$AY651,13,FALSE),0)","v":2},{"$f":"IFERROR(VLOOKUP($A32,FILTRO!$A26:$AY651,14,FALSE),0)","v":3},{"$f":"IFERROR(VLOOKUP($A32,FILTRO!$A26:$AY651,15,FALSE),0)","v":2},{"$f":"IFERROR(VLOOKUP($A32,FILTRO!$A26:$AY651,16,FALSE),0)","v":14},{"$f":"IFERROR(VLOOKUP($A32,FILTRO!$A26:$AY651,17,FALSE),0)","v":25},{"$f":"IFERROR(VLOOKUP($A32,FILTRO!$A26:$AY651,18,FALSE),0)","v":3},{"$nulls":60},"","","","","","",{"$nulls":20},0,0,0,0,0,0]
["P1200210",null,"Hombres",{"$f":"IFERROR(VLOOKUP($A33,FILTRO!$A27:$AY652,2,FALSE),0)","v":36},{"$f":"IFERROR(VLOOKUP($A33,FILTRO!$A27:$AY652,3,FALSE),0)","v":4},{"$f":"IFERROR(VLOOKUP($A33,FILTRO!$A27:$AY652,4,FALSE),0)","v":14},{"$f":"IFERROR(VLOOKUP($A33,FILTRO!$A27:$AY652,5,FALSE),0)","v":2},{"$f":"IFERROR(VLOOKUP($A33,FILTRO!$A27:$AY652,6,FALSE),0)","v":5},{"$f":"IFERROR(VLOOKUP($A33,FILTRO!$A27:$AY652,7,FALSE),0)","v":1},{"$f":"IFERROR(VLOOKUP($A33,FILTRO!$A27:$AY652,8,FALSE),0)","v":2},{"$f":"IFERROR(VLOOKUP($A33,FILTRO!$A27:$AY652,9,FALSE),0)","v":1},{"$f":"IFERROR(VLOOKUP($A33,FILTRO!$A27:$AY652,10,FALSE),0)","v":2},{"$f":"IFERROR(VLOOKUP($A33,FILTRO!$A27:$AY652,11,FALSE),0)","v":1},{"$f":"IFERROR(VLOOKUP($A33,FILTRO!$A27:$AY652,12,FALSE),0)","v":2},{"$f":"IFERROR(VLOOKUP($A33,FILTRO!$A27:$AY652,13,FALSE),0)","v":2},{"$f":"IFERROR(VLOOKUP($A33,FILTRO!$A27:$AY652,14,FALSE),0)","v":0},{"$f":"IFERROR(VLOOKUP($A33,FILTRO!$A27:$AY652,15,FALSE),0)","v":0},{"$f":"IFERROR(VLOOKUP($A33,FILTRO!$A27:$AY652,16,FALSE),0)","v":0},{"$f":"IFERROR(VLOOKUP($A33,FILTRO!$A27:$AY652,17,FALSE),0)","v":2},{"$f":"IFERROR(VLOOKUP($A33,FILTRO!$A27:$AY652,18,FALSE),0)","v":0},{"$nulls":60},"","","","","","",{"$nulls":20},0,0,0,0,0,0]
["P1200220","LUBRICANTES","Mujer",{"$f":"IFERROR(VLOOKUP($A34,FILTRO!$A28:$AY653,2,FALSE),0)","v":1087},{"$f":"IFERROR(VLOOKUP($A34,FILTRO!$A28:$AY653,3,FALSE),0)","v":0},{"$f":"IFERROR(VLOOKUP($A34,FILTRO!$A28:$AY653,4,FALSE),0)","v":21},{"$f":"IFERROR(VLOOKUP($A34,FILTRO!$A28:$AY653,5,FALSE),0)","v":53},{"$f":"IFERROR(VLOOKUP($A34,FILTRO!$A28:$AY653,6,FALSE),0)","v":71},{"$f":"IFERROR(VLOOKUP($A34,FILTRO!$A28:$AY653,7,FALSE),0)","v":78},{"$f":"IFERROR(VLOOKUP($A34,FILTRO!$A28:$AY653,8,FALSE),0)","v":73},{"$f":"IFERROR(VLOOKUP($A34,FILTRO!$A28:$AY653,9,FALSE),0)","v":80},{"$f":"IFERROR(VLOOKUP($A34,FILTRO!$A28:$AY653,10,FALSE),0)","v":147},{"$f":"IFERROR(VLOOKUP($A34,FILTRO!$A28:$AY653,11,FALSE),0)","v":207},{"$f":"IFERROR(VLOOKUP($A34,FILTRO!$A28:$AY653,12,FALSE),0)","v":175},{"$f":"IFERROR(VLOOKUP($A34,FILTRO!$A28:$AY653,13,FALSE),0)","v":104},{"$f":"IFERROR(VLOOKUP($A34,FILTRO!$A28:$AY653,14,FALSE),0)","v":47},{"$f":"IFERROR(VLOOKUP($A34,FILTRO!$A28:$AY653,15,FALSE),0)","v":31},{"$f":"IFERROR(VLOOKUP($A34,FILTRO!$A28:$AY653,16,FALSE),0)","v":7},{"$f":"IFERROR(VLOOKUP($A34,FILTRO!$A28:$AY653,17,FALSE),0)","v":36},{"$f":"IFERROR(VLOOKUP($A34,FILTRO!$A28:$AY653,18,FALSE),0)","v":2},{"$nulls":60},"","","","","","",{"$nulls":20},0,0,0,0,0,0]
["P1200230",null,"Hombres",{"$f":"IFERROR(VLOOKUP($A35,FILTRO!$A29:$AY654,2,FALSE),0)","v":16},{"$f":"IFERROR(VLOOKUP($A35,FILTRO!$A29:$AY654,3,FALSE),0)","v":1},{"$f":"IFERROR(VLOOKUP($A35,FILTRO!$A29:$AY654,4,FALSE),0)","v":1},{"$f":"IFERROR(VLOOKUP($A35,FILTRO!$A29:$AY654,5,FALSE),0)","v":1},{"$f":"IFERROR(VLOOKUP($A35,FILTRO!$A29:$AY654,6,FALSE),0)","v":1},{"$f":"IFERROR(VLOOKUP($A35,FILTRO!$A29:$AY654,7,FALSE),0)","v":1},{"$f":"IFERROR(VLOOKUP($A35,FILTRO!$A29:$AY654,8,FALSE),0)","v":2},{"$f":"IFERROR(VLOOKUP($A35,FILTRO!$A29:$AY654,9,FALSE),0)","v":5},{"$f":"IFERROR(VLOOKUP($A35,FILTRO!$A29:$AY654,10,FALSE),0)","v":3},{"$f":"IFERROR(VLOOKUP($A35,FILTRO!$A29:$AY654,11,FALSE),0)","v":0},{"$f":"IFERROR(VLOOKUP($A35,FILTRO!$A29:$AY654,12,FALSE),0)","v":0},{"$f":"IFERROR(VLOOKUP($A35,FILTRO!$A29:$AY654,13,FALSE),0)","v":1},{"$f":"IFERROR(VLOOKUP($A35,FILTRO!$A29:$AY654,14,FALSE),0)","v":0},{"$f":"IFERROR(VLOOKUP($A35,FILTRO!$A29:$AY654,15,FALSE),0)","v":0},{"$f":"IFERROR(VLOOKUP($A35,FILTRO!$A29:$AY654,16,FALSE),0)","v":0},{"$f":"IFERROR(VLOOKUP($A35,FILTRO!$A29:$AY654,17,FALSE),0)","v":0},{"$f":"IFERROR(VLOOKUP($A35,FILTRO!$A29:$AY654,18,FALSE),0)","v":0},{"$nulls":60},"","","","","","",{"$nulls":20},0,0,0,0,0,0]
["P1200350","CONDON FEMENINO",null,{"$f":"IFERROR(VLOOKUP($A36,FILTRO!$A30:$AY655,2,FALSE),0)","v":325},{"$f":"IFERROR(VLOOKUP($A36,FILTRO!$A30:$AY655,3,FALSE),0)","v":4},{"$f":"IFERROR(VLOOKUP($A36,FILTRO!$A30:$AY655,4,FALSE),0)","v":42},{"$f":"IFERROR(VLOOKUP($A36,FILTRO!$A30:$AY655,5,FALSE),0)","v":52},{"$f":"IFERROR(VLOOKUP($A36,FILTRO!$A30:$AY655,6,FALSE),0)","v":62},{"$f":"IFERROR(VLOOKUP($A36,FILTRO!$A30:$AY655,7,FALSE),0)","v":58},{"$f":"IFERROR(VLOOKUP($A36,FILTRO!$A30:$AY655,8,FALSE),0)","v":43},{"$f":"IFERROR(VLOOKUP($A36,FILTRO!$A30:$AY655,9,FALSE),0)","v":19},{"$f":"IFERROR(VLOOKUP($A36,FILTRO!$A30:$AY655,10,FALSE),0)","v":40},{"$f":"IFERROR(VLOOKUP($A36,FILTRO!$A30:$AY655,11,FALSE),0)","v":3},{"$f":"IFERROR(VLOOKUP($A36,FILTRO!$A30:$AY655,12,FALSE),0)","v":0},{"$f":"IFERROR(VLOOKUP($A36,FILTRO!$A30:$AY655,13,FALSE),0)","v":0},{"$f":"IFERROR(VLOOKUP($A36,FILTRO!$A30:$AY655,14,FALSE),0)","v":2},{"$f":"IFERROR(VLOOKUP($A36,FILTRO!$A30:$AY655,15,FALSE),0)","v":0},{"$f":"IFERROR(VLOOKUP($A36,FILTRO!$A30:$AY655,16,FALSE),0)","v":1},{"$f":"IFERROR(VLOOKUP($A36,FILTRO!$A30:$AY655,17,FALSE),0)","v":7},{"$f":"IFERROR(VLOOKUP($A36,FILTRO!$A30:$AY655,18,FALSE),0)","v":0},{"$nulls":60},"","","","","","",{"$nulls":20},0,0,0,0,0,0]
[null,"SECCION B: GESTANTES EN CONTROL CON EVALUACIÓN RIESGO BIOPSICOSOCIAL "]
[null,"GRUPOS DE EDAD","TOTAL DE GESTANTES EN CONTROL","EN RIESGO \nPSICO-\nSOCIAL","QUE PRESENTAN VIOLENCIA DE GÉNERO","GESTANTES QUE PRESENTAN ARO","MIGRANTES"]
[]
["P1020100","Menos de 15 años",{"$f":"IFERROR(VLOOKUP($A40,FILTRO!$A34:$AY659,2,FALSE),0)","v":0},{"$f":"IFERROR(VLOOKUP($A40,FILTRO!$A34:$AY659,3,FALSE),0)","v":0},{"$f":"IFERROR(VLOOKUP($A40,FILTRO!$A34:$AY659,4,FALSE),0)","v":0},{"$f":"IFERROR(VLOOKUP($A40,FILTRO!$A34:$AY659,5,FALSE),0)","v":0},{"$f":"IFERROR(VLOOKUP($A40,FILTRO!$A34:$AY659,6,FALSE),0)","v":0},{"$f":"($CB40&$CC40&$CD40&$CE40&$CF40&$CG40&$CH40&$CI40&$CJ40&$CK40&$CM40&$CN40&$CO40&$CP40&$CQ40&$CR40&$CS40&$CT40&$CU40&$CV40&$CW40&$CX40&$CY40&$CZ40&$DA40)","v":""},{"$nulls":71},{"$f":"IF($D40<$E40,\"* Las Gestantes Menores de 15 años con violencia de género deben estar incluidas en las Gestantes con riesgo psicosocial. \",\"\")","v":""},{"$f":"IF($C40<$D40,\"* Las Gestantes Menores de 15 años con Riesgo Psicosocial deben estar incluidas en el Total de Gestantes en Control misma edad. \",\"\")","v":""},{"$f":"IF($C40<$F40,\"* Las Gestantes Menores de 15 años que presentan ARO deben estar incluidas en el Total de Gestantes en Control misma edad. \",\"\")","v":""},{"$f":"IF($C40<$G40,\"* Las Gestantes Menores de 15 años que pertenecen a 'Población Migrantes' deben estar incluidas en el Total de Gestantes en Control misma edad. \",\"\")","v":""},null,{"$f":"IF(AND(C40<>0,G40=\"\"),\"* No olvide escribir en la celda de 'Población Migrantes' (Digite CERO si no tiene). \",\"\")","v":""},{"$nulls":20},{"$f":"IF($D40<$E40,1,0)","v":0},{"$f":"IF($C40<$D40,1,0)","v":0},{"$f":"IF($C40<$F40,1,0)","v":0},{"$f":"IF($C40<$G40,1,0)","v":0},null,{"$f":"IF(AND(C40<>0,G40=\"\"),1,0)","v":0}]
["P1020200","15 a 19 años",{"$f":"IFERROR(VLOOKUP($A41,FILTRO!$A35:$AY660,2,FALSE),0)","v":0},{"$f":"IFERROR(VLOOKUP($A41,FILTRO!$A35:$AY660,3,FALSE),0)","v":0},{"$f":"IFERROR(VLOOKUP($A41,FILTRO!$A35:$AY660,4,FALSE),0)","v":0},{"$f":"IFERROR(VLOOKUP($A41,FILTRO!$A35:$AY660,5,FALSE),0)","v":0},{"$f":"IFERROR(VLOOKUP($A41,FILTRO!$A35:$AY660,6,FALSE),0)","v":0},"",{"$nulls":71},{"$f":"IF($D41<$E41,\"* Las Gestantes de 15 a 19 años con violencia de género deben estar incluidas en las Gestantes con riesgo psicosocial. \",\"\")","v":""},{"$f":"IF($C41<$D41,\"* Las Gestantes de 15 a 19 años con Riesgo Psicosocial deben estar incluidas en el Total de Gestantes en Control misma edad. \",\"\")","v":""},{"$f":"IF($C41<$F41,\"* Las Gestantes de 15 a 19 años que presentan ARO deben estar incluidas en el Total de Gestantes en Control misma edad. \",\"\")","v":""},{"$f":"IF($C41<$G41,\"* Las Gestantes de 15 a 19 años que pertenecen a 'Población Migrantes' deben estar incluidas en el Total de Gestantes en Control misma edad. \",\"\")","v":""},null,"",{"$nulls":20},0,0,0,0,null,0]
["P1040501","20 a 24 años",{"$f":"IFERROR(VLOOKUP($A42,FILTRO!$A36:$AY661,2,FALSE),0)","v":0},{"$f":"IFERROR(VLOOKUP($A42,FILTRO!$A36:$AY661,3,FALSE),0)","v":0},{"$f":"IFERROR(VLOOKUP($A42,FILTRO!$A36:$AY661,4,FALSE),0)","v":0},{"$f":"IFERROR(VLOOKUP($A42,FILTRO!$A36:$AY661,5,FALSE),0)","v":0},{"$f":"IFERROR(VLOOKUP($A42,FILTRO!$A36:$AY661,6,FALSE),0)","v":0},"",{"$nulls":71},{"$f":"IF($D42<$E42,\"* Las Gestantes de 20 a 24 años con violencia de género deben estar incluidas en las Gestantes con riesgo psicosocial. \",\"\")","v":""},{"$f":"IF($C42<$D42,\"* Las Gestantes de 20 a 24 años con Riesgo Psicosocial deben estar incluidas en el Total de Gestantes en Control misma edad. \",\"\")","v":""},{"$f":"IF($C42<$F42,\"* Las Gestantes de 20 a 24 años que presentan ARO deben estar incluidas en el Total de Gestantes en Control misma edad. \",\"\")","v":""},{"$f":"IF($C42<$G42,\"* Las Gestantes de 20 a 24 años que pertenecen a 'Población Migrantes' deben estar incluidas en el Total de Gestantes en Control misma edad. \",\"\")","v":""},null,"",{"$nulls":20},0,0,0,0,null,0]
["P1060100","25 a 29 años",{"$f":"IFERROR(VLOOKUP($A43,FILTRO!$A37:$AY662,2,FALSE),0)","v":998},{"$f":"IFERROR(VLOOKUP($A43,FILTRO!$A37:$AY662,3,FALSE),0)","v":219},{"$f":"IFERROR(VLOOKUP($A43,FILTRO!$A37:$AY662,4,FALSE),0)","v":18},{"$f":"IFERROR(VLOOKUP($A43,FILTRO!$A37:$AY662,5,FALSE),0)","v":378},{"$f":"IFERROR(VLOOKUP($A43,FILTRO!$A37:$AY662,6,FALSE),0)","v":113},"",{"$nulls":71},{"$f":"IF($D43<$E43,\"* Las Gestantes de 25 a 29 años con violencia de género deben estar incluidas en las Gestantes con riesgo psicosocial. \",\"\")","v":""},{"$f":"IF($C43<$D43,\"* Las Gestantes de 25 a 29 años con Riesgo Psicosocial deben estar incluidas en el Total de Gestantes en Control misma edad. \",\"\")","v":""},{"$f":"IF($C43<$F43,\"* Las Gestantes de 25 a 29 años que presentan ARO deben estar incluidas en el Total de Gestantes en Control misma edad. \",\"\")","v":""},{"$f":"IF($C43<$G43,\"* Las Gestantes de 25 a 29 años que pertenecen a 'Población Migrantes' deben estar incluidas en el Total de Gestantes en Control misma edad. \",\"\")","v":""},null,"",{"$nulls":20},0,0,0,0,null,0]
["P1060101","30 a 34 años",{"$f":"IFERROR(VLOOKUP($A44,FILTRO!$A38:$AY663,2,FALSE),0)","v":839},{"$f":"IFERROR(VLOOKUP($A44,FILTRO!$A38:$AY663,3,FALSE),0)","v":164},{"$f":"IFERROR(VLOOKUP($A44,FILTRO!$A38:$AY663,4,FALSE),0)","v":15},{"$f":"IFERROR(VLOOKUP($A44,FILTRO!$A38:$AY663,5,FALSE),0)","v":382},{"$f":"IFERROR(VLOOKUP($A44,FILTRO!$A38:$AY663,6,FALSE),0)","v":82},"",{"$nulls":71},{"$f":"IF($D44<$E44,\"* Las Gestantes de 30 a 34 años con violencia de género deben estar incluidas en las Gestantes con riesgo psicosocial. \",\"\")","v":""},{"$f":"IF($C44<$D44,\"* Las Gestantes de 30 a 34 años con Riesgo Psicosocial deben estar incluidas en el Total de Gestantes en Control misma edad. \",\"\")","v":""},{"$f":"IF($C44<$F44,\"* Las Gestantes de 30 a 34 años que presentan ARO deben estar incluidas en el Total de Gestantes en Control misma edad. \",\"\")","v":""},{"$f":"IF($C44<$G44,\"* Las Gestantes de 30 a 34 años que pertenecen a 'Población Migrantes' deben estar incluidas en el Total de Gestantes en Control misma edad. \",\"\")","v":""},null,"",{"$nulls":20},0,0,0,0,null,0]
["P1060102","35 a 39 años",{"$f":"IFERROR(VLOOKUP($A45,FILTRO!$A39:$AY664,2,FALSE),0)","v":438},{"$f":"IFERROR(VLOOKUP($A45,FILTRO!$A39:$AY664,3,FALSE),0)","v":83},{"$f":"IFERROR(VLOOKUP($A45,FILTRO!$A39:$AY664,4,FALSE),0)","v":8},{"$f":"IFERROR(VLOOKUP($A45,FILTRO!$A39:$AY664,5,FALSE),0)","v":227},{"$f":"IFERROR(VLOOKUP($A45,FILTRO!$A39:$AY664,6,FALSE),0)","v":58},"",{"$nulls":71},{"$f":"IF($D45<$E45,\"* Las Gestantes de 35 a 39 años con violencia de género deben estar incluidas en las Gestantes con riesgo psicosocial. \",\"\")","v":""},{"$f":"IF($C45<$D45,\"* Las Gestantes de 35 a 39 años con Riesgo Psicosocial deben estar incluidas en el Total de Gestantes en Control misma edad. \",\"\")","v":""},{"$f":"IF($C45<$F45,\"* Las Gestantes de 35 a 39 años que presentan ARO deben estar incluidas en el Total de Gestantes en Control misma edad. \",\"\")","v":""},{"$f":"IF($C45<$G45,\"* Las Gestantes de 35 a 39 años que pertenecen a 'Población Migrantes' deben estar incluidas en el Total de Gestantes en Control misma edad. \",\"\")","v":""},null,"",{"$nulls":20},0,0,0,0,null,0]
["P1060103","40 a 44 años",{"$f":"IFERROR(VLOOKUP($A46,FILTRO!$A40:$AY665,2,FALSE),0)","v":103},{"$f":"IFERROR(VLOOKUP($A46,FILTRO!$A40:$AY665,3,FALSE),0)","v":27},{"$f":"IFERROR(VLOOKUP($A46,FILTRO!$A40:$AY665,4,FALSE),0)","v":1},{"$f":"IFERROR(VLOOKUP($A46,FILTRO!$A40:$AY665,5,FALSE),0)","v":74},{"$f":"IFERROR(VLOOKUP($A46,FILTRO!$A40:$AY665,6,FALSE),0)","v":12},"",{"$nulls":71},{"$f":"IF($D46<$E46,\"* Las Gestantes de 40 a 44 años con violencia de género deben estar incluidas en las Gestantes con riesgo psicosocial. \",\"\")","v":""},{"$f":"IF($C46<$D46,\"* Las Gestantes de 40 a 44 años con Riesgo Psicosocial deben estar incluidas en el Total de Gestantes en Control misma edad. \",\"\")","v":""},{"$f":"IF($C46<$F46,\"* Las Gestantes de 40 a 44 años que presentan ARO deben estar incluidas en el Total de Gestantes en Control misma edad. \",\"\")","v":""},{"$f":"IF($C46<$G46,\"* Las Gestantes de 40 a 44 años que pertenecen a 'Población Migrantes' deben estar incluidas en el Total de Gestantes en Control misma edad. \",\"\")","v":""},null,"",{"$nulls":20},0,0,0,0,null,0]
["P1060104","45 a 49 años",{"$f":"IFERROR(VLOOKUP($A47,FILTRO!$A41:$AY666,2,FALSE),0)","v":4},{"$f":"IFERROR(VLOOKUP($A47,FILTRO!$A41:$AY666,3,FALSE),0)","v":1},{"$f":"IFERROR(VLOOKUP($A47,FILTRO!$A41:$AY666,4,FALSE),0)","v":0},{"$f":"IFERROR(VLOOKUP($A47,FILTRO!$A41:$AY666,5,FALSE),0)","v":2},{"$f":"IFERROR(VLOOKUP($A47,FILTRO!$A41:$AY666,6,FALSE),0)","v":0},"",{"$nulls":71},{"$f":"IF($D47<$E47,\"* Las Gestantes de 45 a 49 años con violencia de género deben estar incluidas en las Gestantes con riesgo psicosocial. \",\"\")","v":""},{"$f":"IF($C47<$D47,\"* Las Gestantes de 45 a 49 años con Riesgo Psicosocial deben estar incluidas en el Total de Gestantes en Control misma edad. \",\"\")","v":""},{"$f":"IF($C47<$F47,\"* Las Gestantes de 45 a 49 años que presentan ARO deben estar incluidas en el Total de Gestantes en Control misma edad. \",\"\")","v":""},{"$f":"IF($C47<$G47,\"* Las Gestantes de 45 a 49 años que pertenecen a 'Población Migrantes' deben estar incluidas en el Total de Gestantes en Control misma edad. \",\"\")","v":""},null,"",{"$nulls":20},0,0,0,0,null,0]
["P1060105","50 a 54 años",{"$f":"IFERROR(VLOOKUP($A48,FILTRO!$A42:$AY667,2,FALSE),0)","v":0},{"$f":"IFERROR(VLOOKUP($A48,FILTRO!$A42:$AY667,3,FALSE),0)","v":0},{"$f":"IFERROR(VLOOKUP($A48,FILTRO!$A42:$AY667,4,FALSE),0)","v":0},{"$f":"IFERROR(VLOOKUP($A48,FILTRO!$A42:$AY667,5,FALSE),0)","v":0},{"$f":"IFERROR(VLOOKUP($A48,FILTRO!$A42:$AY667,6,FALSE),0)","v":0},"",{"$nulls":71},{"$f":"IF($D48<$E48,\"* Las Gestantes de 50 a 54 años con violencia de género deben estar incluidas en las Gestantes con riesgo psicosocial. \",\"\")","v":""},{"$f":"IF($C48<$D48,\"* Las Gestantes de 50 a 54 años con Riesgo Psicosocial deben estar incluidas en el Total de Gestantes en Control misma edad. \",\"\")","v":""},{"$f":"IF($C48<$F48,\"* Las Gestantes de 50 a 54 años que presentan ARO deben estar incluidas en el Total de Gestantes en Control misma edad. \",\"\")","v":""},{"$f":"IF($C48<$G48,\"* Las Gestantes de 50 a 54 años que pertenecen a 'Población Migrantes' deben estar incluidas en el Total de Gestantes en Control misma edad. \",\"\")","v":""},null,"",{"$nulls":20},0,0,0,0,null,0]
[null,"TOTAL",{"$f":"SUM(C40:C48)","v":2382},{"$f":"SUM(D40:D48)","v":494},{"$f":"SUM(E40:E48)","v":42},{"$f":"SUM(F40:F48)","v":1063},{"$f":"SUM(G40:G48)","v":265}]
[null,"SECCION C: GESTANTES EN RIESGO PSICOSOCIAL CON VISITA DOMICILIARIA INTEGRAL REALIZADA EN EL SEMESTRE"]
[null,"N° VDI","N° Gestantes \ncon VDI","TOTAL de Visitas"]
[]
["P1040502","1 Visita",{"$f":"IFERROR(VLOOKUP($A53,FILTRO!$A5:$AY630,2,FALSE),0)","v":339},{"$f":"IFERROR(VLOOKUP($A53,FILTRO!$A5:$AY630,3,FALSE),0)","v":339},{"$f":"($CB53&$CC53&$CD53&$CE53&$CF53&$CG53&$CH53&$CI53&$CJ53&$CK53&$CM53&$CN53&$CO53&$CP53&$CQ53&$CR53&$CS53&$CT53&$CU53&$CV53&$CW53&$CX53&$CY53&$CZ53&$DA53)","v":""},{"$nulls":74},{"$f":"IF($D$53<>$C$53*1,\"* NO ALTERE LAS FÓRMULAS, el Total de Visitas equivale a 1 visita por gestante. \",\"\")","v":""},{"$nulls":25},{"$f":"IF($D$53<>$C$53*1,1,0)","v":0}]
["P1040503","2 Visitas",{"$f":"IFERROR(VLOOKUP($A54,FILTRO!$A6:$AY631,2,FALSE),0)","v":106},{"$f":"IFERROR(VLOOKUP($A54,FILTRO!$A6:$AY631,3,FALSE),0)","v":212},{"$f":"($CB54&$CC54&$CD54&$CE54&$CF54&$CG54&$CH54&$CI54&$CJ54&$CK54&$CM54&$CN54&$CO54&$CP54&$CQ54&$CR54&$CS54&$CT54&$CU54&$CV54&$CW54&$CX54&$CY54&$CZ54&$DA54)","v":""},{"$nulls":74},{"$f":"IF($D$54<>$C$54*2,\"* NO ALTERE LAS FÓRMULAS, el Total de Visitas equivale a 2 visitas por gestante. \",\"\")","v":""},{"$nulls":25},{"$f":"IF($D$54<>$C$54*2,1,0)","v":0}]
["P1040504","3 Visitas",{"$f":"IFERROR(VLOOKUP($A55,FILTRO!$A7:$AY632,2,FALSE),0)","v":70},{"$f":"IFERROR(VLOOKUP($A55,FILTRO!$A7:$AY632,3,FALSE),0)","v":210},{"$f":"($CB55&$CC55&$CD55&$CE55&$CF55&$CG55&$CH55&$CI55&$CJ55&$CK55&$CM55&$CN55&$CO55&$CP55&$CQ55&$CR55&$CS55&$CT55&$CU55&$CV55&$CW55&$CX55&$CY55&$CZ55&$DA55)","v":""},{"$nulls":74},{"$f":"IF($D$55<>$C$55*3,\"* NO ALTERE LAS FÓRMULAS, el Total de Visitas equivale a 3 visitas por gestante. \",\"\")","v":""},{"$nulls":25},{"$f":"IF($D$55<>$C$55*3,1,0)","v":0}]
["P1040505","4 y más visitas",{"$f":"IFERROR(VLOOKUP($A56,FILTRO!$A8:$AY633,2,FALSE),0)","v":42},{"$f":"IFERROR(VLOOKUP($A56,FILTRO!$A8:$AY633,3,FALSE),0)","v":113},{"$f":"($CB56&$CC56&$CD56&$CE56&$CF56&$CG56&$CH56&$CI56&$CJ56&$CK56&$CM56&$CN56&$CO56&$CP56&$CQ56&$CR56&$CS56&$CT56&$CU56&$CV56&$CW56&$CX56&$CY56&$CZ56&$DA56)","v":""}]
[null,"TOTAL",{"$f":"SUM(C53:C56)","v":557},{"$f":"SUM(D53:D56)","v":874}]
[null,"SECCION D: GESTANTES Y MUJERES DE 8° MES POST-PARTO EN CONTROL, SEGÚN ESTADO NUTRICIONAL"]
[null,"POBLACION","ESTADO\nNUTRICIONAL","TOTAL","GRUPOS DE EDAD (en años)"]
[{"$nulls":4},"Menos 15 años","15 a 19 años","20 a 24 años","25 a 29 años","30 a 34 años","35 a 39 años","40 a 44 años","45 a 49 años","50 a 54 años"]
["P1030101","GESTANTES EN CONTROL\n(Información a la fecha de corte)","OBESA",{"$f":"IFERROR(VLOOKUP($A61,FILTRO!$A5:$AY630,2,FALSE),0)","v":1275},{"$f":"IFERROR(VLOOKUP($A61,FILTRO!$A5:$AY630,3,FALSE),0)","v":1},{"$f":"IFERROR(VLOOKUP($A61,FILTRO!$A5:$AY630,4,FALSE),0)","v":34},{"$f":"IFERROR(VLOOKUP($A61,FILTRO!$A5:$AY630,5,FALSE),0)","v":252},{"$f":"IFERROR(VLOOKUP($A61,FILTRO!$A5:$AY630,6,FALSE),0)","v":380},{"$f":"IFERROR(VLOOKUP($A61,FILTRO!$A5:$AY630,7,FALSE),0)","v":365},{"$f":"IFERROR(VLOOKUP($A61,FILTRO!$A5:$AY630,8,FALSE),0)","v":190},{"$f":"IFERROR(VLOOKUP($A61,FILTRO!$A5:$AY630,9,FALSE),0)","v":52},{"$f":"IFERROR(VLOOKUP($A61,FILTRO!$A5:$AY630,10,FALSE),0)","v":1},{"$f":"IFERROR(VLOOKUP($A61,FILTRO!$A5:$AY630,11,FALSE),0)","v":0},{"$f":"($CB61&$CC61&$CD61&$CE61&$CF61&$CG61&$CH61&$CI61&$CJ61&$CK61&$CM61&$CN61&$CO61&$CP61&$CQ61&$CR61&$CS61&$CT61&$CU61&$CV61&$CW61&$CX61&$CY61&$CZ61&$DA61)","v":""}]
["P1030102",null,"SOBREPESO",{"$f":"IFERROR(VLOOKUP($A62,FILTRO!$A6:$AY631,2,FALSE),0)","v":1083},{"$f":"IFERROR(VLOOKUP($A62,FILTRO!$A6:$AY631,3,FALSE),0)","v":1},{"$f":"IFERROR(VLOOKUP($A62,FILTRO!$A6:$AY631,4,FALSE),0)","v":39},{"$f":"IFERROR(VLOOKUP($A62,FILTRO!$A6:$AY631,5,FALSE),0)","v":240},{"$f":"IFERROR(VLOOKUP($A62,FILTRO!$A6:$AY631,6,FALSE),0)","v":333},{"$f":"IFERROR(VLOOKUP($A62,FILTRO!$A6:$AY631,7,FALSE),0)","v":289},{"$f":"IFERROR(VLOOKUP($A62,FILTRO!$A6:$AY631,8,FALSE),0)","v":148},{"$f":"IFERROR(VLOOKUP($A62,FILTRO!$A6:$AY631,9,FALSE),0)","v":31},{"$f":"IFERROR(VLOOKUP($A62,FILTRO!$A6:$AY631,10,FALSE),0)","v":2},{"$f":"IFERROR(VLOOKUP($A62,FILTRO!$A6:$AY631,11,FALSE),0)","v":0},""]
["P1030103",null,"NORMAL",{"$f":"IFERROR(VLOOKUP($A63,FILTRO!$A7:$AY632,2,FALSE),0)","v":822},{"$f":"IFERROR(VLOOKUP($A63,FILTRO!$A7:$AY632,3,FALSE),0)","v":3},{"$f":"IFERROR(VLOOKUP($A63,FILTRO!$A7:$AY632,4,FALSE),0)","v":77},{"$f":"IFERROR(VLOOKUP($A63,FILTRO!$A7:$AY632,5,FALSE),0)","v":219},{"$f":"IFERROR(VLOOKUP($A63,FILTRO!$A7:$AY632,6,FALSE),0)","v":251},{"$f":"IFERROR(VLOOKUP($A63,FILTRO!$A7:$AY632,7,FALSE),0)","v":160},{"$f":"IFERROR(VLOOKUP($A63,FILTRO!$A7:$AY632,8,FALSE),0)","v":92},{"$f":"IFERROR(VLOOKUP($A63,FILTRO!$A7:$AY632,9,FALSE),0)","v":19},{"$f":"IFERROR(VLOOKUP($A63,FILTRO!$A7:$AY632,10,FALSE),0)","v":1},{"$f":"IFERROR(VLOOKUP($A63,FILTRO!$A7:$AY632,11,FALSE),0)","v":0},""]
["P1030104",null,"BAJO PESO",{"$f":"IFERROR(VLOOKUP($A64,FILTRO!$A8:$AY633,2,FALSE),0)","v":127},{"$f":"IFERROR(VLOOKUP($A64,FILTRO!$A8:$AY633,3,FALSE),0)","v":1},{"$f":"IFERROR(VLOOKUP($A64,FILTRO!$A8:$AY633,4,FALSE),0)","v":22},{"$f":"IFERROR(VLOOKUP($A64,FILTRO!$A8:$AY633,5,FALSE),0)","v":36},{"$f":"IFERROR(VLOOKUP($A64,FILTRO!$A8:$AY633,6,FALSE),0)","v":34},{"$f":"IFERROR(VLOOKUP($A64,FILTRO!$A8:$AY633,7,FALSE),0)","v":25},{"$f":"IFERROR(VLOOKUP($A64,FILTRO!$A8:$AY633,8,FALSE),0)","v":8},{"$f":"IFERROR(VLOOKUP($A64,FILTRO!$A8:$AY633,9,FALSE),0)","v":1},{"$f":"IFERROR(VLOOKUP($A64,FILTRO!$A8:$AY633,10,FALSE),0)","v":0},{"$f":"IFERROR(VLOOKUP($A64,FILTRO!$A8:$AY633,11,FALSE),0)","v":0},""]
[null,null,"TOTAL",{"$f":"SUM(D61:D64)","v":3307},{"$f":"SUM(E61:E64)","v":6},172,747,998,839,438,103,4,0,{"$f":" CB65 & CC65 & CD65 & CE65 & CF65 & CG65 & CH65 & CI65 & CJ65","v":"* Las Gestantes Menores de 15 años, según Estado Nutricional debe ser igual al Total de gestantes en Control de esa edad en Sección B. * Las gestantes 15-19 años, según Estado Nutricional debe ser igual al Total de gestantes en Control de esa edad en Sección B. * Las gestantes20-24 años, según Estado Nutricional debe ser igual al Total de gestantes en Control de esa edad en Sección B. "},{"$nulls":65},{"$f":"IF($C$40<>$E65,\"* Las Gestantes Menores de 15 años, según Estado Nutricional debe ser igual al Total de gestantes en Control de esa edad en Sección B. \",\"\")","v":"* Las Gestantes Menores de 15 años, según Estado Nutricional debe ser igual al Total de gestantes en Control de esa edad en Sección B. "},{"$f":"IF($C$41<>$F65,\"* Las gestantes 15-19 años, según Estado Nutricional debe ser igual al Total de gestantes en Control de esa edad en Sección B. \",\"\")","v":"* Las gestantes 15-19 años, según Estado Nutricional debe ser igual al Total de gestantes en Control de esa edad en Sección B. "},{"$f":"IF($C$42<>$G65,\"* Las gestantes20-24 años, según Estado Nutricional debe ser igual al Total de gestantes en Control de esa edad en Sección B. \",\"\")","v":"* Las gestantes20-24 años, según Estado Nutricional debe ser igual al Total de gestantes en Control de esa edad en Sección B. "},{"$f":"IF($C$43<>$H65,\"* Las gestantes 25-29 años, según Estado Nutricional debe ser igual al Total de gestantes en Control de esa edad en Sección B. \",\"\")","v":""},{"$f":"IF($C$44<>$I65,\"* Las gestantes30-34 años, según Estado Nutricional debe ser igual al Total de gestantes en Control de esa edad en Sección B. \",\"\")","v":""},{"$f":"IF($C$45<>$J65,\"* Las gestantes 35-39 años, según Estado Nutricional debe ser igual al Total de gestantes en Control de esa edad en Sección B. \",\"\")","v":""},{"$f":"IF($C$46<>$K65,\"* Las gestantes 40-44 años, según Estado Nutricional debe ser igual al Total de gestantes en Control de esa edad en Sección B. \",\"\")","v":""},{"$f":"IF($C$47<>$L65,\"* Las gestantes 45-49 años, según Estado Nutricional debe ser igual al Total de gestantes en Control de esa edad en Sección B. \",\"\")","v":""},{"$f":"IF($C$48<>$M65,\"* Las gestantes 50-54 años, según Estado Nutricional debe ser igual al Total de gestantes en Control de esa edad en Sección B. \",\"\")","v":""},{"$nulls":17},{"$f":"IF($C$40<>$E65,1,0)","v":1},{"$f":"IF($C$41<>$F65,1,0)","v":1},{"$f":"IF($C$42<>$G65,1,0)","v":1},{"$f":"IF($C$43<>$H65,1,0)","v":0},{"$f":"IF($C$44<>$I65,1,0)","v":0},{"$f":"IF($C$45<>$J65,1,0)","v":0},{"$f":"IF($C$46<>$K65,1,0)","v":0},{"$f":"IF($C$47<>$L65,1,0)","v":0},{"$f":"IF($C$48<>$M65,1,0)","v":0}]
["P1030201","CONTROL AL 8º MES POST-PARTO\n(Información del semestre)","OBESA",{"$f":"IFERROR(VLOOKUP($A66,FILTRO!$A10:$AY635,2,FALSE),0)","v":228},{"$f":"IFERROR(VLOOKUP($A66,FILTRO!$A10:$AY635,3,FALSE),0)","v":0},{"$f":"IFERROR(VLOOKUP($A66,FILTRO!$A10:$AY635,4,FALSE),0)","v":11},{"$f":"IFERROR(VLOOKUP($A66,FILTRO!$A10:$AY635,5,FALSE),0)","v":46},{"$f":"IFERROR(VLOOKUP($A66,FILTRO!$A10:$AY635,6,FALSE),0)","v":60},{"$f":"IFERROR(VLOOKUP($A66,FILTRO!$A10:$AY635,7,FALSE),0)","v":61},{"$f":"IFERROR(VLOOKUP($A66,FILTRO!$A10:$AY635,8,FALSE),0)","v":42},{"$f":"IFERROR(VLOOKUP($A66,FILTRO!$A10:$AY635,9,FALSE),0)","v":8},{"$f":"IFERROR(VLOOKUP($A66,FILTRO!$A10:$AY635,10,FALSE),0)","v":0},{"$f":"IFERROR(VLOOKUP($A66,FILTRO!$A10:$AY635,11,FALSE),0)","v":0},""]
["P1030202",null,"SOBREPESO",{"$f":"IFERROR(VLOOKUP($A67,FILTRO!$A11:$AY636,2,FALSE),0)","v":196},{"$f":"IFERROR(VLOOKUP($A67,FILTRO!$A11:$AY636,3,FALSE),0)","v":0},{"$f":"IFERROR(VLOOKUP($A67,FILTRO!$A11:$AY636,4,FALSE),0)","v":7},{"$f":"IFERROR(VLOOKUP($A67,FILTRO!$A11:$AY636,5,FALSE),0)","v":41},{"$f":"IFERROR(VLOOKUP($A67,FILTRO!$A11:$AY636,6,FALSE),0)","v":60},{"$f":"IFERROR(VLOOKUP($A67,FILTRO!$A11:$AY636,7,FALSE),0)","v":59},{"$f":"IFERROR(VLOOKUP($A67,FILTRO!$A11:$AY636,8,FALSE),0)","v":20},{"$f":"IFERROR(VLOOKUP($A67,FILTRO!$A11:$AY636,9,FALSE),0)","v":8},{"$f":"IFERROR(VLOOKUP($A67,FILTRO!$A11:$AY636,10,FALSE),0)","v":1},{"$f":"IFERROR(VLOOKUP($A67,FILTRO!$A11:$AY636,11,FALSE),0)","v":0},""]
["P1030203",null,"NORMAL",{"$f":"IFERROR(VLOOKUP($A68,FILTRO!$A12:$AY637,2,FALSE),0)","v":151},{"$f":"IFERROR(VLOOKUP($A68,FILTRO!$A12:$AY637,3,FALSE),0)","v":0},{"$f":"IFERROR(VLOOKUP($A68,FILTRO!$A12:$AY637,4,FALSE),0)","v":20},{"$f":"IFERROR(VLOOKUP($A68,FILTRO!$A12:$AY637,5,FALSE),0)","v":42},{"$f":"IFERROR(VLOOKUP($A68,FILTRO!$A12:$AY637,6,FALSE),0)","v":59},{"$f":"IFERROR(VLOOKUP($A68,FILTRO!$A12:$AY637,7,FALSE),0)","v":26},{"$f":"IFERROR(VLOOKUP($A68,FILTRO!$A12:$AY637,8,FALSE),0)","v":2},{"$f":"IFERROR(VLOOKUP($A68,FILTRO!$A12:$AY637,9,FALSE),0)","v":1},{"$f":"IFERROR(VLOOKUP($A68,FILTRO!$A12:$AY637,10,FALSE),0)","v":1},{"$f":"IFERROR(VLOOKUP($A68,FILTRO!$A12:$AY637,11,FALSE),0)","v":0},""]
["P1030204",null,"BAJO PESO",{"$f":"IFERROR(VLOOKUP($A69,FILTRO!$A13:$AY638,2,FALSE),0)","v":6},{"$f":"IFERROR(VLOOKUP($A69,FILTRO!$A13:$AY638,3,FALSE),0)","v":0},{"$f":"IFERROR(VLOOKUP($A69,FILTRO!$A13:$AY638,4,FALSE),0)","v":2},{"$f":"IFERROR(VLOOKUP($A69,FILTRO!$A13:$AY638,5,FALSE),0)","v":1},{"$f":"IFERROR(VLOOKUP($A69,FILTRO!$A13:$AY638,6,FALSE),0)","v":2},{"$f":"IFERROR(VLOOKUP($A69,FILTRO!$A13:$AY638,7,FALSE),0)","v":1},{"$f":"IFERROR(VLOOKUP($A69,FILTRO!$A13:$AY638,8,FALSE),0)","v":0},{"$f":"IFERROR(VLOOKUP($A69,FILTRO!$A13:$AY638,9,FALSE),0)","v":0},{"$f":"IFERROR(VLOOKUP($A69,FILTRO!$A13:$AY638,10,FALSE),0)","v":0},{"$f":"IFERROR(VLOOKUP($A69,FILTRO!$A13:$AY638,11,FALSE),0)","v":0},""]
[null,null,"TOTAL",{"$f":"SUM(E70:M70)","v":581},{"$f":"SUM(E66:E69)","v":0},{"$f":"SUM(F66:F69)","v":40},{"$f":"SUM(G66:G69)","v":130},{"$f":"SUM(H66:H69)","v":181},147,64,{"$f":"SUM(K66:K69)","v":17},2,0]
[null,"SECCION E: MUJERES Y GESTANTES EN CONTROL CON CONSULTA NUTRICIONAL "]
[null,"MUJERES","TOTAL"]
["P1050100","Gestantes con malnutrición por déficit (bajo peso)",{"$f":"IFERROR(VLOOKUP($A73,FILTRO!$A17:$AY642,2,FALSE),0)","v":34},{"$nulls":76},{"$f":"IF($C$73<=$D$64,\"\",\"* Gestantes malnutricion no debe ser mayor que Gestantes en Control Bajo Peso (Seccion D). \")","v":""},{"$nulls":25},{"$f":"IF($C$73<=$D$64,0,1)","v":0}]
["P1050101","Gestantes con malnutrición por exceso - Obesa",{"$f":"IFERROR(VLOOKUP($A74,FILTRO!$A18:$AY643,2,FALSE),0)","v":703},{"$nulls":76},{"$f":"IF($C$74<=$D$61,\"\",\"* Gestantes malnutricion no debe ser mayor que Gestantes en Control Obesa (Seccion D). \")","v":""},{"$nulls":25},{"$f":"IF($C$74<=$D$61,0,1)","v":0}]
["P1050102","Gestantes con malnutrición por exceso - Sobrepeso",{"$f":"IFERROR(VLOOKUP($A75,FILTRO!$A19:$AY644,2,FALSE),0)","v":588},{"$nulls":76},{"$f":"IF($C$75<=$D$62,\"\",\"* Gestantes malnutricion no debe ser mayor que Gestantes en Control Sobrepeso (Seccion D). \")","v":""},{"$nulls":25},{"$f":"IF($C$75<=$D$62,0,1)","v":0}]
["P1050103","En 3º mes post parto",{"$f":"IFERROR(VLOOKUP($A76,FILTRO!$A20:$AY645,2,FALSE),0)","v":51}]
["P1050104","En 6º mes post parto",{"$f":"IFERROR(VLOOKUP($A77,FILTRO!$A21:$AY646,2,FALSE),0)","v":237}]
[null,"SECCION F: MUJERES EN CONTROL DE CLIMATERIO "]
[null,"Población","45 a 64 años"]
["P1030301","Población en Control",{"$f":"IFERROR(VLOOKUP($A80,FILTRO!$A24:$AY649,2,FALSE),0)","v":0},{"$f":"($CB80&$CC80&$CD80&$CE80&$CF80&$CG80&$CH80&$CI80&$CJ80&$CK80&$CM80&$CN80&$CO80&$CP80&$CQ80&$CR80&$CS80&$CT80&$CU80&$CV80&$CW80&$CX80&$CY80&$CZ80&$DA80)","v":""}]
["P1060040","Mujeres con pauta aplicada MRS*",{"$f":"IFERROR(VLOOKUP($A81,FILTRO!$A25:$AY650,2,FALSE),0)","v":2629},{"$f":"($CB81&$CC81&$CD81&$CE81&$CF81&$CG81&$CH81&$CI81&$CJ81&$CK81&$CM81&$CN81&$CO81&$CP81&$CQ81&$CR81&$CS81&$CT81&$CU81&$CV81&$CW81&$CX81&$CY81&$CZ81&$DA81)","v":"* El Nº de mujeres con pauta aplicada MRS no debe ser mayor a la población de mujeres en control por climaterio. "},{"$nulls":75},{"$f":"IF($C81>$C80,\"* El Nº de mujeres con pauta aplicada MRS no debe ser mayor a la población de mujeres en control por climaterio. \",\"\")","v":"* El Nº de mujeres con pauta aplicada MRS no debe ser mayor a la población de mujeres en control por climaterio. "},{"$nulls":25},{"$f":"IF($C81>$C80,1,0)","v":1}]
["P1060050","Mujeres con MRS elevado*",{"$f":"IFERROR(VLOOKUP($A82,FILTRO!$A26:$AY651,2,FALSE),0)","v":1215},{"$f":"($CB82&$CC82&$CD82&$CE82&$CF82&$CG82&$CH82&$CI82&$CJ82&$CK82&$CM82&$CN82&$CO82&$CP82&$CQ82&$CR82&$CS82&$CT82&$CU82&$CV82&$CW82&$CX82&$CY82&$CZ82&$DA82)","v":""},{"$nulls":75},{"$f":"IF($C82>$C81,\"* El Nº de mujeres con puntaje elevado de MRS no debe ser mayor al Nº de mujeres con pauta aplicada MRS. \",\"\")","v":""},{"$nulls":25},{"$f":"IF($C82>$C81,1,0)","v":0}]
["P1060060","Mujeres con aplicación de terapia hormonal de la menopausia según MRS*",{"$f":"IFERROR(VLOOKUP($A83,FILTRO!$A27:$AY652,2,FALSE),0)","v":607},{"$f":"($CB83&$CC83&$CD83&$CE83&$CF83&$CG83&$CH83&$CI83&$CJ83&$CK83&$CM83&$CN83&$CO83&$CP83&$CQ83&$CR83&$CS83&$CT83&$CU83&$CV83&$CW83&$CX83&$CY83&$CZ83&$DA83)","v":""},{"$nulls":75},{"$f":"IF($C83>$C82,\"* El Nº de mujeres con aplicación de terapia hormonal de reemplazo según MRS no debe ser mayor que el numero de mujeres con puntaje elevado de MRS. \",\"\")","v":""},{"$nulls":25},{"$f":"IF($C83>$C82,1,0)","v":0}]
["P1200340","Mujeres que asisten a Talleres Educativos",{"$f":"IFERROR(VLOOKUP($A84,FILTRO!$A28:$AY653,2,FALSE),0)","v":22},{"$f":"($CB84&$CC84&$CD84&$CE84&$CF84&$CG84&$CH84&$CI84&$CJ84&$CK84&$CM84&$CN84&$CO84&$CP84&$CQ84&$CR84&$CS84&$CT84&$CU84&$CV84&$CW84&$CX84&$CY84&$CZ84&$DA84)","v":""}]
[null,"* MRS: Menopause Rating Scale"]
[null,"SECCION F.1: POBLACIÓN EN CONTROL CLIMATERIO SEGÚN TIPO TERAPIA REEMPLAZO HORMONAL"]
[null,"MÉTODOS",null,"TOTAL","GRUPO DE EDAD (en años)",{"$nulls":4},"Pueblos Originarios"," Migrantes"]
[{"$nulls":4},"Menor \nde 45 años","45 a 49 años","50 a 54 años","55 a 60 años","60 a 64 años"]
["P1200280","Estradiol Micronizado 1mg",null,{"$f":"IFERROR(VLOOKUP($A89,FILTRO!$A5:$AY630,2,FALSE),0)","v":62},{"$f":"IFERROR(VLOOKUP($A89,FILTRO!$A5:$AY630,3,FALSE),0)","v":4},{"$f":"IFERROR(VLOOKUP($A89,FILTRO!$A5:$AY630,4,FALSE),0)","v":10},{"$f":"IFERROR(VLOOKUP($A89,FILTRO!$A5:$AY630,5,FALSE),0)","v":23},{"$f":"IFERROR(VLOOKUP($A89,FILTRO!$A5:$AY630,6,FALSE),0)","v":17},{"$f":"IFERROR(VLOOKUP($A89,FILTRO!$A5:$AY630,7,FALSE),0)","v":8},{"$f":"IFERROR(VLOOKUP($A89,FILTRO!$A5:$AY630,8,FALSE),0)","v":0},{"$f":"IFERROR(VLOOKUP($A89,FILTRO!$A5:$AY630,9,FALSE),0)","v":2},{"$f":"($CB89&$CC89&$CD89&$CE89&$CF89&$CG89&$CH89&$CI89&$CJ89&$CK89&$CM89&$CN89&$CO89&$CP89&$CQ89&$CR89&$CS89&$CT89&$CU89&$CV89&$CW89&$CX89&$CY89&$CZ89&$DA89)","v":""},{"$nulls":67},{"$f":"IF($J89>$D89,\"* La celda 'Pueblos Originarios' debe ser menor o igual al Total en control. \",\"\")","v":""},{"$f":"IF($K89>$D89,\"* La celda 'Población Migrantes' debe ser menor o igual al Total en control. \",\"\")","v":""},{"$f":"IF(AND($D89<>0,$J89=\"\"),\"* No olvide escribir en la celda de 'Pueblos Originarios' (Digite CERO si no tiene). \",\"\")","v":""},{"$f":"IF(AND($D89<>0,$K89=\"\"),\"* No olvide escribir en la celda de 'Población Migrantes' (Digite CERO si no tiene). \",\"\")","v":""},{"$nulls":22},{"$f":"IF($J89>$D89,1,0)","v":0},{"$f":"IF($K89>$D89,1,0)","v":0},{"$f":"IF(AND($D89<>0,$J89=\"\"),1,0)","v":0},{"$f":"IF(AND($D89<>0,$K89=\"\"),1,0)","v":0}]
["P1200290","Estradiol Gel",null,{"$f":"IFERROR(VLOOKUP($A90,FILTRO!$A6:$AY631,2,FALSE),0)","v":148},{"$f":"IFERROR(VLOOKUP($A90,FILTRO!$A6:$AY631,3,FALSE),0)","v":3},{"$f":"IFERROR(VLOOKUP($A90,FILTRO!$A6:$AY631,4,FALSE),0)","v":24},{"$f":"IFERROR(VLOOKUP($A90,FILTRO!$A6:$AY631,5,FALSE),0)","v":54},{"$f":"IFERROR(VLOOKUP($A90,FILTRO!$A6:$AY631,6,FALSE),0)","v":46},{"$f":"IFERROR(VLOOKUP($A90,FILTRO!$A6:$AY631,7,FALSE),0)","v":21},{"$f":"IFERROR(VLOOKUP($A90,FILTRO!$A6:$AY631,8,FALSE),0)","v":2},{"$f":"IFERROR(VLOOKUP($A90,FILTRO!$A6:$AY631,9,FALSE),0)","v":2},"",{"$nulls":67},"","","","",{"$nulls":22},0,0,0,0]
["P1200300","Progesterona Micronizada 100mg",null,{"$f":"IFERROR(VLOOKUP($A91,FILTRO!$A7:$AY632,2,FALSE),0)","v":40},{"$f":"IFERROR(VLOOKUP($A91,FILTRO!$A7:$AY632,3,FALSE),0)","v":1},{"$f":"IFERROR(VLOOKUP($A91,FILTRO!$A7:$AY632,4,FALSE),0)","v":3},{"$f":"IFERROR(VLOOKUP($A91,FILTRO!$A7:$AY632,5,FALSE),0)","v":14},{"$f":"IFERROR(VLOOKUP($A91,FILTRO!$A7:$AY632,6,FALSE),0)","v":15},{"$f":"IFERROR(VLOOKUP($A91,FILTRO!$A7:$AY632,7,FALSE),0)","v":7},{"$f":"IFERROR(VLOOKUP($A91,FILTRO!$A7:$AY632,8,FALSE),0)","v":0},{"$f":"IFERROR(VLOOKUP($A91,FILTRO!$A7:$AY632,9,FALSE),0)","v":1},"",{"$nulls":67},"","","","",{"$nulls":22},0,0,0,0]
["P1200310","Progesterona Micronizada 200mg",null,{"$f":"IFERROR(VLOOKUP($A92,FILTRO!$A8:$AY633,2,FALSE),0)","v":73},{"$f":"IFERROR(VLOOKUP($A92,FILTRO!$A8:$AY633,3,FALSE),0)","v":36},{"$f":"IFERROR(VLOOKUP($A92,FILTRO!$A8:$AY633,4,FALSE),0)","v":6},{"$f":"IFERROR(VLOOKUP($A92,FILTRO!$A8:$AY633,5,FALSE),0)","v":16},{"$f":"IFERROR(VLOOKUP($A92,FILTRO!$A8:$AY633,6,FALSE),0)","v":12},{"$f":"IFERROR(VLOOKUP($A92,FILTRO!$A8:$AY633,7,FALSE),0)","v":3},{"$f":"IFERROR(VLOOKUP($A92,FILTRO!$A8:$AY633,8,FALSE),0)","v":0},{"$f":"IFERROR(VLOOKUP($A92,FILTRO!$A8:$AY633,9,FALSE),0)","v":0},"",{"$nulls":67},"","","","",{"$nulls":22},0,0,0,0]
["P1200320","Nomegestrol 5mg comp.",null,{"$f":"IFERROR(VLOOKUP($A93,FILTRO!$A9:$AY634,2,FALSE),0)","v":9},{"$f":"IFERROR(VLOOKUP($A93,FILTRO!$A9:$AY634,3,FALSE),0)","v":0},{"$f":"IFERROR(VLOOKUP($A93,FILTRO!$A9:$AY634,4,FALSE),0)","v":5},{"$f":"IFERROR(VLOOKUP($A93,FILTRO!$A9:$AY634,5,FALSE),0)","v":4},{"$f":"IFERROR(VLOOKUP($A93,FILTRO!$A9:$AY634,6,FALSE),0)","v":0},{"$f":"IFERROR(VLOOKUP($A93,FILTRO!$A9:$AY634,7,FALSE),0)","v":0},{"$f":"IFERROR(VLOOKUP($A93,FILTRO!$A9:$AY634,8,FALSE),0)","v":0},{"$f":"IFERROR(VLOOKUP($A93,FILTRO!$A9:$AY634,9,FALSE),0)","v":0},"",{"$nulls":67},"","","","",{"$nulls":22},0,0,0,0]
["P1200330","Tibolona 2,5mg comp.",null,{"$f":"IFERROR(VLOOKUP($A94,FILTRO!$A10:$AY635,2,FALSE),0)","v":450},{"$f":"IFERROR(VLOOKUP($A94,FILTRO!$A10:$AY635,3,FALSE),0)","v":10},{"$f":"IFERROR(VLOOKUP($A94,FILTRO!$A10:$AY635,4,FALSE),0)","v":83},{"$f":"IFERROR(VLOOKUP($A94,FILTRO!$A10:$AY635,5,FALSE),0)","v":199},{"$f":"IFERROR(VLOOKUP($A94,FILTRO!$A10:$AY635,6,FALSE),0)","v":128},{"$f":"IFERROR(VLOOKUP($A94,FILTRO!$A10:$AY635,7,FALSE),0)","v":30},{"$f":"IFERROR(VLOOKUP($A94,FILTRO!$A10:$AY635,8,FALSE),0)","v":3},{"$f":"IFERROR(VLOOKUP($A94,FILTRO!$A10:$AY635,9,FALSE),0)","v":13},"",{"$nulls":67},"","","","",{"$nulls":22},0,0,0,0]
["P1600110","Terapia Dual",null,{"$f":"IFERROR(VLOOKUP($A95,FILTRO!$A11:$AY636,2,FALSE),0)","v":78},{"$f":"IFERROR(VLOOKUP($A95,FILTRO!$A11:$AY636,3,FALSE),0)","v":7},{"$f":"IFERROR(VLOOKUP($A95,FILTRO!$A11:$AY636,4,FALSE),0)","v":7},{"$f":"IFERROR(VLOOKUP($A95,FILTRO!$A11:$AY636,5,FALSE),0)","v":23},{"$f":"IFERROR(VLOOKUP($A95,FILTRO!$A11:$AY636,6,FALSE),0)","v":30},{"$f":"IFERROR(VLOOKUP($A95,FILTRO!$A11:$AY636,7,FALSE),0)","v":11},{"$f":"IFERROR(VLOOKUP($A95,FILTRO!$A11:$AY636,8,FALSE),0)","v":0},{"$f":"IFERROR(VLOOKUP($A95,FILTRO!$A11:$AY636,9,FALSE),0)","v":3}]
[null,"SECCION G: GESTANTES EN CONTROL CON ECOGRAFÍA POR TRIMESTRE DE GESTACION (EN EL SEMESTRE)"]
[null,"Población","Primer trimestre",null,"Segundo trimestre 22-24 semanas","Tercer trimestre 30-34 semanas"]
[null,null,"<11 semanas","11- 13+6 semanas"]
["P1060106","Menor de 15",{"$f":"IFERROR(VLOOKUP($A99,FILTRO!A5:AY630,2,FALSE),0)","v":3},{"$f":"IFERROR(VLOOKUP($A99,FILTRO!B5:AZ630,3,FALSE),0)","v":0},{"$f":"IFERROR(VLOOKUP($A99,FILTRO!C5:BA630,4,FALSE),0)","v":0},{"$f":"IFERROR(VLOOKUP($A99,FILTRO!D5:BB630,5,FALSE),0)","v":0}]
["P1060107","15 - 19 ",{"$f":"IFERROR(VLOOKUP($A100,FILTRO!A6:AY631,2,FALSE),0)","v":78},{"$f":"IFERROR(VLOOKUP($A100,FILTRO!B6:AZ631,3,FALSE),0)","v":0},{"$f":"IFERROR(VLOOKUP($A100,FILTRO!C6:BA631,4,FALSE),0)","v":0},{"$f":"IFERROR(VLOOKUP($A100,FILTRO!D6:BB631,5,FALSE),0)","v":0}]
["P1060108","20 - 24",{"$f":"IFERROR(VLOOKUP($A101,FILTRO!A7:AY632,2,FALSE),0)","v":358},{"$f":"IFERROR(VLOOKUP($A101,FILTRO!B7:AZ632,3,FALSE),0)","v":0},{"$f":"IFERROR(VLOOKUP($A101,FILTRO!C7:BA632,4,FALSE),0)","v":0},{"$f":"IFERROR(VLOOKUP($A101,FILTRO!D7:BB632,5,FALSE),0)","v":0}]
["P1060109","25 - 29",{"$f":"IFERROR(VLOOKUP($A102,FILTRO!A8:AY633,2,FALSE),0)","v":478},{"$f":"IFERROR(VLOOKUP($A102,FILTRO!B8:AZ633,3,FALSE),0)","v":0},{"$f":"IFERROR(VLOOKUP($A102,FILTRO!C8:BA633,4,FALSE),0)","v":0},{"$f":"IFERROR(VLOOKUP($A102,FILTRO!D8:BB633,5,FALSE),0)","v":0}]
["P1060110","30 - 34",{"$f":"IFERROR(VLOOKUP($A103,FILTRO!A9:AY634,2,FALSE),0)","v":443},{"$f":"IFERROR(VLOOKUP($A103,FILTRO!B9:AZ634,3,FALSE),0)","v":0},{"$f":"IFERROR(VLOOKUP($A103,FILTRO!C9:BA634,4,FALSE),0)","v":0},{"$f":"IFERROR(VLOOKUP($A103,FILTRO!D9:BB634,5,FALSE),0)","v":0}]
["P1060111","35 - 39",{"$f":"IFERROR(VLOOKUP($A104,FILTRO!A10:AY635,2,FALSE),0)","v":202},{"$f":"IFERROR(VLOOKUP($A104,FILTRO!B10:AZ635,3,FALSE),0)","v":0},{"$f":"IFERROR(VLOOKUP($A104,FILTRO!C10:BA635,4,FALSE),0)","v":0},{"$f":"IFERROR(VLOOKUP($A104,FILTRO!D10:BB635,5,FALSE),0)","v":0}]
["P1060112","40 - 44",{"$f":"IFERROR(VLOOKUP($A105,FILTRO!A11:AY636,2,FALSE),0)","v":45},{"$f":"IFERROR(VLOOKUP($A105,FILTRO!B11:AZ636,3,FALSE),0)","v":0},{"$f":"IFERROR(VLOOKUP($A105,FILTRO!C11:BA636,4,FALSE),0)","v":0},{"$f":"IFERROR(VLOOKUP($A105,FILTRO!D11:BB636,5,FALSE),0)","v":0}]
["P1060113","45 - 49",{"$f":"IFERROR(VLOOKUP($A106,FILTRO!A12:AY637,2,FALSE),0)","v":2},{"$f":"IFERROR(VLOOKUP($A106,FILTRO!B12:AZ637,3,FALSE),0)","v":0},{"$f":"IFERROR(VLOOKUP($A106,FILTRO!C12:BA637,4,FALSE),0)","v":0},{"$f":"IFERROR(VLOOKUP($A106,FILTRO!D12:BB637,5,FALSE),0)","v":0}]
["P1060114","50 - 54",{"$f":"IFERROR(VLOOKUP($A107,FILTRO!A13:AY638,2,FALSE),0)","v":0},{"$f":"IFERROR(VLOOKUP($A107,FILTRO!B13:AZ638,3,FALSE),0)","v":0},{"$f":"IFERROR(VLOOKUP($A107,FILTRO!C13:BA638,4,FALSE),0)","v":0},{"$f":"IFERROR(VLOOKUP($A107,FILTRO!D13:BB638,5,FALSE),0)","v":0}]
[null,"TOTAL",{"$f":"SUM(C99:C107)","v":1609},{"$f":"SUM(D99:D107)","v":0},{"$f":"SUM(E99:E107)","v":0},{"$f":"SUM(F99:F107)","v":0}]
[null,"SECCION H: MUJERES BAJO CONTROL DE REGULACIÓN DE FERTILIDAD SEGÚN ESTADO NUTRICIONAL "]
[null,"POBLACION","ESTADO\nNUTRICIONAL","TOTAL","GRUPOS DE EDAD (en años)"]
[{"$nulls":4},"Menos 15 años","15 a 19 años","20 a 24 años","25 a 29 años","30 a 34 años","35 a 39 años","40 a 44 años","45 a 49 años","50 a 54 años"]
["P1600100","MUJERES BAJO CONTROL DE REGULACIÓN DE FERTILIDAD SEGÚN ESTADO NUTRICIONAL ","OBESA",{"$f":"IFERROR(VLOOKUP($A112,FILTRO!$A5:$AY630,2,FALSE),0)","v":19923},{"$f":"IFERROR(VLOOKUP($A112,FILTRO!$A5:$AY630,3,FALSE),0)","v":113},{"$f":"IFERROR(VLOOKUP($A112,FILTRO!$A5:$AY630,4,FALSE),0)","v":1309},{"$f":"IFERROR(VLOOKUP($A112,FILTRO!$A5:$AY630,5,FALSE),0)","v":2762},{"$f":"IFERROR(VLOOKUP($A112,FILTRO!$A5:$AY630,6,FALSE),0)","v":3722},{"$f":"IFERROR(VLOOKUP($A112,FILTRO!$A5:$AY630,7,FALSE),0)","v":3742},{"$f":"IFERROR(VLOOKUP($A112,FILTRO!$A5:$AY630,8,FALSE),0)","v":3165},{"$f":"IFERROR(VLOOKUP($A112,FILTRO!$A5:$AY630,9,FALSE),0)","v":2505},{"$f":"IFERROR(VLOOKUP($A112,FILTRO!$A5:$AY630,10,FALSE),0)","v":1899},{"$f":"IFERROR(VLOOKUP($A112,FILTRO!$A5:$AY630,11,FALSE),0)","v":832}]
["P1600101",null,"SOBREPESO",{"$f":"IFERROR(VLOOKUP($A113,FILTRO!$A6:$AY631,2,FALSE),0)","v":19356},{"$f":"IFERROR(VLOOKUP($A113,FILTRO!$A6:$AY631,3,FALSE),0)","v":206},{"$f":"IFERROR(VLOOKUP($A113,FILTRO!$A6:$AY631,4,FALSE),0)","v":1865},{"$f":"IFERROR(VLOOKUP($A113,FILTRO!$A6:$AY631,5,FALSE),0)","v":2946},{"$f":"IFERROR(VLOOKUP($A113,FILTRO!$A6:$AY631,6,FALSE),0)","v":3420},{"$f":"IFERROR(VLOOKUP($A113,FILTRO!$A6:$AY631,7,FALSE),0)","v":3480},{"$f":"IFERROR(VLOOKUP($A113,FILTRO!$A6:$AY631,8,FALSE),0)","v":2927},{"$f":"IFERROR(VLOOKUP($A113,FILTRO!$A6:$AY631,9,FALSE),0)","v":2133},{"$f":"IFERROR(VLOOKUP($A113,FILTRO!$A6:$AY631,10,FALSE),0)","v":1604},{"$f":"IFERROR(VLOOKUP($A113,FILTRO!$A6:$AY631,11,FALSE),0)","v":775}]
["P1600102",null,"NORMAL",{"$f":"IFERROR(VLOOKUP($A114,FILTRO!$A7:$AY632,2,FALSE),0)","v":16202},{"$f":"IFERROR(VLOOKUP($A114,FILTRO!$A7:$AY632,3,FALSE),0)","v":375},{"$f":"IFERROR(VLOOKUP($A114,FILTRO!$A7:$AY632,4,FALSE),0)","v":2989},{"$f":"IFERROR(VLOOKUP($A114,FILTRO!$A7:$AY632,5,FALSE),0)","v":3470},{"$f":"IFERROR(VLOOKUP($A114,FILTRO!$A7:$AY632,6,FALSE),0)","v":2988},{"$f":"IFERROR(VLOOKUP($A114,FILTRO!$A7:$AY632,7,FALSE),0)","v":2511},{"$f":"IFERROR(VLOOKUP($A114,FILTRO!$A7:$AY632,8,FALSE),0)","v":1614},{"$f":"IFERROR(VLOOKUP($A114,FILTRO!$A7:$AY632,9,FALSE),0)","v":1153},{"$f":"IFERROR(VLOOKUP($A114,FILTRO!$A7:$AY632,10,FALSE),0)","v":791},{"$f":"IFERROR(VLOOKUP($A114,FILTRO!$A7:$AY632,11,FALSE),0)","v":311}]
["P1600103",null,"BAJO PESO",{"$f":"IFERROR(VLOOKUP($A115,FILTRO!$A8:$AY633,2,FALSE),0)","v":886},{"$f":"IFERROR(VLOOKUP($A115,FILTRO!$A8:$AY633,3,FALSE),0)","v":41},{"$f":"IFERROR(VLOOKUP($A115,FILTRO!$A8:$AY633,4,FALSE),0)","v":270},{"$f":"IFERROR(VLOOKUP($A115,FILTRO!$A8:$AY633,5,FALSE),0)","v":216},{"$f":"IFERROR(VLOOKUP($A115,FILTRO!$A8:$AY633,6,FALSE),0)","v":174},{"$f":"IFERROR(VLOOKUP($A115,FILTRO!$A8:$AY633,7,FALSE),0)","v":86},{"$f":"IFERROR(VLOOKUP($A115,FILTRO!$A8:$AY633,8,FALSE),0)","v":51},{"$f":"IFERROR(VLOOKUP($A115,FILTRO!$A8:$AY633,9,FALSE),0)","v":26},{"$f":"IFERROR(VLOOKUP($A115,FILTRO!$A8:$AY633,10,FALSE),0)","v":19},{"$f":"IFERROR(VLOOKUP($A115,FILTRO!$A8:$AY633,11,FALSE),0)","v":3}]
[null,null,"TOTAL",{"$f":"SUM(E116:M116)","v":56493},{"$f":"SUM(E112:E115)","v":735},{"$f":"SUM(F112:F115)","v":6433},9394,10304,9819,7757,5817,4313,1921]
[null,"SECCION I: GESTANTES EN CONTROL CON TEST DE VIH/SIFILIS TOMADO (EN EL SEMESTRE, RED PÚBLICA O EXTRASISTEMA)"]
[null,"Población","TOTAL GESTANTES BAJO CONTROL","GESTANTES EN CONTROL CON RESULTADO 1° VIH","GESTANTES EN CONTROL CON RESULTADO 1° TAMIZAJE SIFILIS","TOTAL GESTANTES EN CONTROL >34 sem","GESTANTES EN CONTROL CON RESULTADO 2° VIH","GESTANTES EN CONTROL CON RESULTADO TAMIZAJE SIFILIS 3° TRIMESTRE GESTACION "]
["P1600111","Menor de 15",{"$f":"IFERROR(VLOOKUP($A119,FILTRO!$A12:$AY637,2,FALSE),0)","v":6},{"$f":"IFERROR(VLOOKUP($A119,FILTRO!$A12:$AY637,3,FALSE),0)","v":6},{"$f":"IFERROR(VLOOKUP($A119,FILTRO!$A12:$AY637,4,FALSE),0)","v":4},{"$f":"IFERROR(VLOOKUP($A119,FILTRO!$A12:$AY637,5,FALSE),0)","v":6},{"$f":"IFERROR(VLOOKUP($A119,FILTRO!$A12:$AY637,6,FALSE),0)","v":6},{"$f":"IFERROR(VLOOKUP($A119,FILTRO!$A12:$AY637,7,FALSE),0)","v":6}]
["P1600112","15 - 19 ",{"$f":"IFERROR(VLOOKUP($A120,FILTRO!$A13:$AY638,2,FALSE),0)","v":165},{"$f":"IFERROR(VLOOKUP($A120,FILTRO!$A13:$AY638,3,FALSE),0)","v":153},{"$f":"IFERROR(VLOOKUP($A120,FILTRO!$A13:$AY638,4,FALSE),0)","v":154},{"$f":"IFERROR(VLOOKUP($A120,FILTRO!$A13:$AY638,5,FALSE),0)","v":53},{"$f":"IFERROR(VLOOKUP($A120,FILTRO!$A13:$AY638,6,FALSE),0)","v":48},{"$f":"IFERROR(VLOOKUP($A120,FILTRO!$A13:$AY638,7,FALSE),0)","v":47}]
["P1600113","20 - 24",{"$f":"IFERROR(VLOOKUP($A121,FILTRO!$A14:$AY639,2,FALSE),0)","v":747},{"$f":"IFERROR(VLOOKUP($A121,FILTRO!$A14:$AY639,3,FALSE),0)","v":687},{"$f":"IFERROR(VLOOKUP($A121,FILTRO!$A14:$AY639,4,FALSE),0)","v":672},{"$f":"IFERROR(VLOOKUP($A121,FILTRO!$A14:$AY639,5,FALSE),0)","v":153},{"$f":"IFERROR(VLOOKUP($A121,FILTRO!$A14:$AY639,6,FALSE),0)","v":136},{"$f":"IFERROR(VLOOKUP($A121,FILTRO!$A14:$AY639,7,FALSE),0)","v":134}]
["P1600114","25 - 29",{"$f":"IFERROR(VLOOKUP($A122,FILTRO!$A15:$AY640,2,FALSE),0)","v":983},{"$f":"IFERROR(VLOOKUP($A122,FILTRO!$A15:$AY640,3,FALSE),0)","v":918},{"$f":"IFERROR(VLOOKUP($A122,FILTRO!$A15:$AY640,4,FALSE),0)","v":900},{"$f":"IFERROR(VLOOKUP($A122,FILTRO!$A15:$AY640,5,FALSE),0)","v":219},{"$f":"IFERROR(VLOOKUP($A122,FILTRO!$A15:$AY640,6,FALSE),0)","v":180},{"$f":"IFERROR(VLOOKUP($A122,FILTRO!$A15:$AY640,7,FALSE),0)","v":174}]
["P1600115","30 - 34",{"$f":"IFERROR(VLOOKUP($A123,FILTRO!$A16:$AY641,2,FALSE),0)","v":830},{"$f":"IFERROR(VLOOKUP($A123,FILTRO!$A16:$AY641,3,FALSE),0)","v":758},{"$f":"IFERROR(VLOOKUP($A123,FILTRO!$A16:$AY641,4,FALSE),0)","v":747},{"$f":"IFERROR(VLOOKUP($A123,FILTRO!$A16:$AY641,5,FALSE),0)","v":212},{"$f":"IFERROR(VLOOKUP($A123,FILTRO!$A16:$AY641,6,FALSE),0)","v":169},{"$f":"IFERROR(VLOOKUP($A123,FILTRO!$A16:$AY641,7,FALSE),0)","v":168}]
["P1600116","35 - 39",{"$f":"IFERROR(VLOOKUP($A124,FILTRO!$A17:$AY642,2,FALSE),0)","v":423},{"$f":"IFERROR(VLOOKUP($A124,FILTRO!$A17:$AY642,3,FALSE),0)","v":388},{"$f":"IFERROR(VLOOKUP($A124,FILTRO!$A17:$AY642,4,FALSE),0)","v":378},{"$f":"IFERROR(VLOOKUP($A124,FILTRO!$A17:$AY642,5,FALSE),0)","v":104},{"$f":"IFERROR(VLOOKUP($A124,FILTRO!$A17:$AY642,6,FALSE),0)","v":81},{"$f":"IFERROR(VLOOKUP($A124,FILTRO!$A17:$AY642,7,FALSE),0)","v":81}]
["P1600117","40 - 44",{"$f":"IFERROR(VLOOKUP($A125,FILTRO!$A18:$AY643,2,FALSE),0)","v":99},{"$f":"IFERROR(VLOOKUP($A125,FILTRO!$A18:$AY643,3,FALSE),0)","v":95},{"$f":"IFERROR(VLOOKUP($A125,FILTRO!$A18:$AY643,4,FALSE),0)","v":91},{"$f":"IFERROR(VLOOKUP($A125,FILTRO!$A18:$AY643,5,FALSE),0)","v":21},{"$f":"IFERROR(VLOOKUP($A125,FILTRO!$A18:$AY643,6,FALSE),0)","v":16},{"$f":"IFERROR(VLOOKUP($A125,FILTRO!$A18:$AY643,7,FALSE),0)","v":14}]
["P1600118","45 - 49",{"$f":"IFERROR(VLOOKUP($A126,FILTRO!$A19:$AY644,2,FALSE),0)","v":4},{"$f":"IFERROR(VLOOKUP($A126,FILTRO!$A19:$AY644,3,FALSE),0)","v":4},{"$f":"IFERROR(VLOOKUP($A126,FILTRO!$A19:$AY644,4,FALSE),0)","v":4},{"$f":"IFERROR(VLOOKUP($A126,FILTRO!$A19:$AY644,5,FALSE),0)","v":1},{"$f":"IFERROR(VLOOKUP($A126,FILTRO!$A19:$AY644,6,FALSE),0)","v":1},{"$f":"IFERROR(VLOOKUP($A126,FILTRO!$A19:$AY644,7,FALSE),0)","v":1}]
["P1600119","50 - 54",{"$f":"IFERROR(VLOOKUP($A127,FILTRO!$A20:$AY645,2,FALSE),0)","v":0},{"$f":"IFERROR(VLOOKUP($A127,FILTRO!$A20:$AY645,3,FALSE),0)","v":0},{"$f":"IFERROR(VLOOKUP($A127,FILTRO!$A20:$AY645,4,FALSE),0)","v":0},{"$f":"IFERROR(VLOOKUP($A127,FILTRO!$A20:$AY645,5,FALSE),0)","v":0},{"$f":"IFERROR(VLOOKUP($A127,FILTRO!$A20:$AY645,6,FALSE),0)","v":0},{"$f":"IFERROR(VLOOKUP($A127,FILTRO!$A20:$AY645,7,FALSE),0)","v":0}]
[null,"TOTAL",{"$f":"SUM(C119:C127)","v":3257},{"$f":"SUM(D119:D127)","v":3009},2950,769,637,625]
["P1600120","Gestantes con Tamizajes resultado pendiente",{"$f":"IFERROR(VLOOKUP($A129,FILTRO!$A22:$AY647,2,FALSE),0)","v":0},{"$f":"IFERROR(VLOOKUP($A129,FILTRO!$A22:$AY647,3,FALSE),0)","v":95},{"$f":"IFERROR(VLOOKUP($A129,FILTRO!$A22:$AY647,4,FALSE),0)","v":133},{"$f":"IFERROR(VLOOKUP($A129,FILTRO!$A22:$AY647,5,FALSE),0)","v":0},{"$f":"IFERROR(VLOOKUP($A129,FILTRO!$A22:$AY647,6,FALSE),0)","v":233},{"$f":"IFERROR(VLOOKUP($A129,FILTRO!$A22:$AY647,7,FALSE),0)","v":270}]
[null,"NIVEL SECUNDARIO"]
[null,"SECCIÓN J: POBLACIÓN EN CONTROL POR PATOLOGÍAS DE ALTO RIESGO OBSTÉTRICO"]
[null,"PATOLOGÍA","TOTAL"]
["P1030303","Preeclampsia (PE) ",{"$f":"IFERROR(VLOOKUP($A133,FILTRO!$A26:$AY651,2,FALSE),0)","v":0},{"$f":"($CB111&$CC111&$CD111&$CE111&$CF111&$CG111&$CH111&$CI111&$CJ111&$CK111&$CM111&$CN111&$CO111&$CP111&$CQ111&$CR111&$CS111&$CT111&$CU111&$CV111&$CW111&$CX111&$CY111&$CZ111&$DA111)","v":""}]
["P1060070","Sindrome Hipertensivo del Embarazo (SHE)",{"$f":"IFERROR(VLOOKUP($A134,FILTRO!$A27:$AY652,2,FALSE),0)","v":34},""]
["P1030304","Factores de riesgo y condicionantes de Parto Prematuro",{"$f":"IFERROR(VLOOKUP($A135,FILTRO!$A28:$AY653,2,FALSE),0)","v":0},""]
["P1030401","Retardo Crecimiento Intrauterino (RCIU)",{"$f":"IFERROR(VLOOKUP($A136,FILTRO!$A29:$AY654,2,FALSE),0)","v":0},""]
["P1040506","Sífilis",{"$f":"IFERROR(VLOOKUP($A137,FILTRO!$A30:$AY655,2,FALSE),0)","v":17},""]
["P1040507","VIH",{"$f":"IFERROR(VLOOKUP($A138,FILTRO!$A31:$AY656,2,FALSE),0)","v":4},""]
["P1060115","Diabetes Pre Gestacional",{"$f":"IFERROR(VLOOKUP($A139,FILTRO!$A32:$AY657,2,FALSE),0)","v":28},{"$f":"($CB130&$CC130&$CD130&$CE130&$CF130&$CG130&$CH130&$CI130&$CJ130&$CK130&$CM130&$CN130&$CO130&$CP130&$CQ130&$CR130&$CS130&$CT130&$CU130&$CV130&$CW130&$CX130&$CY130&$CZ130&$DA130)","v":""}]
["P1060116","Diabetes Gestacional",{"$f":"IFERROR(VLOOKUP($A140,FILTRO!$A33:$AY658,2,FALSE),0)","v":102},""]
["P1030403","Cesárea anterior",{"$f":"IFERROR(VLOOKUP($A141,FILTRO!$A34:$AY659,2,FALSE),0)","v":0},""]
["P1060080","Malformación Congénita",{"$f":"IFERROR(VLOOKUP($A142,FILTRO!$A35:$AY660,2,FALSE),0)","v":11},""]
["P1060117","Anemia",{"$f":"IFERROR(VLOOKUP($A143,FILTRO!$A36:$AY661,2,FALSE),0)","v":28},""]
["P1060118","Cardiopatías",{"$f":"IFERROR(VLOOKUP($A144,FILTRO!$A37:$AY662,2,FALSE),0)","v":12},""]
["P1060119","Pielonefritis",{"$f":"IFERROR(VLOOKUP($A145,FILTRO!$A38:$AY663,2,FALSE),0)","v":5},""]
["P1060120","Rh(-) sensibilizada",{"$f":"IFERROR(VLOOKUP($A146,FILTRO!$A39:$AY664,2,FALSE),0)","v":24},""]
["P1060121","Placenta previa",{"$f":"IFERROR(VLOOKUP($A147,FILTRO!$A40:$AY665,2,FALSE),0)","v":12},""]
["P1060122","Chagas",{"$f":"IFERROR(VLOOKUP($A148,FILTRO!$A41:$AY666,2,FALSE),0)","v":11},""]
["P1060123","Colestasia Intrahépatica de Embarazo",{"$f":"IFERROR(VLOOKUP($A149,FILTRO!$A42:$AY667,2,FALSE),0)","v":11},""]
["P1030404","Otras patologías del embarazo",{"$f":"IFERROR(VLOOKUP($A150,FILTRO!$A43:$AY668,2,FALSE),0)","v":0},""]
[null,"TOTAL",{"$f":"SUM(C133:C150)","v":299}]
[]
[]
[]
[]
[]
["CODIGOS ELIMINADOS"]
["P1060020"]
["P1200260"]
[null,{"$f":"SUM(D11:T36,C40:G49,C53:D57,D61:M70,C73:C77,C80:C84,D89:K95,C99:F108,,C133:C151,E112:M116)","v":430021},"datos"]
[null,{"$f":"SUM(DB$10:EA153)","v":4},"errores"]
["CODIGOS NUEVOS"]
["P1600105"]
["P1600106"]
["P1600107"]
["P1600108"]
["P1600109"]
["P1600110"]
["P1600111"]
["P1600112"]
["P1600113"]
["P1600114"]
["P1600115"]
["P1600116"]
["P1600117"]
["P1600118"]
["P1600119"]
["P1600120"]

{"sheet":"P2","index":3,"n_rows":299,"n_cols":120,"rows_kept":299,"merged":[[5,1,5,24],[7,1,9,2],[7,3,8,5],[7,6,7,31],[7,32,8,33],[7,34,8,35],[8,6,8,7],[8,8,8,9],[8,10,8,11],[8,12,8,13],[8,14,8,15],[8,16,8,17],[8,18,8,19],[8,20,8,21],[8,22,8,23],[8,24,8,25],[8,26,8,27],[8,28,8,29],[8,30,8,31],[10,1,10,2],[11,1,16,1],[17,1,22,1],[23,1,29,1],[30,1,37,1],[38,1,38,2],[39,1,39,13],[40,1,42,2],[40,3,41,5],[40,6,40,19],[41,6,41,7],[41,8,41,9],[41,10,41,11],[41,12,41,13],[41,14,41,15],[41,16,41,17],[41,18,41,19],[43,1,43,2],[44,1,51,1],[52,1,58,1],[59,1,62,1],[63,1,71,1],[72,1,72,2],[73,1,73,20],[75,1,75,2],[76,1,81,1],[82,1,87,1],[88,1,93,1],[94,1,99,1],[101,1,102,2],[101,3,102,3],[101,4,102,4],[101,5,102,5],[101,6,102,6],[101,7,102,7],[101,8,102,8],[101,9,102,9],[101,10,102,10],[101,11,102,11],[101,12,102,12],[101,13,102,13],[101,14,102,14],[103,1,106,1],[108,1,109,2],[108,3,109,3],[110,1,110,2],[111,1,111,2],[113,1,114,2],[113,3,114,3],[115,1,115,2],[116,1,116,2],[117,1,117,2],[118,1,118,2],[119,1,119,2],[120,1,120,2],[122,1,124,2],[122,3,123,5],[122,6,122,11],[122,12,124,12],[123,6,123,7],[123,8,123,9],[123,10,123,11],[125,1,125,2],[126,1,126,2],[127,1,127,2],[128,1,128,2],[129,1,129,2],[131,1,132,2],[131,3,132,3],[131,4,131,9],[133,1,133,2],[134,1,134,2],[135,1,135,2],[137,1,139,2],[137,3,138,5],[137,6,137,43],[137,44,138,45],[137,46,138,47],[138,6,138,7],[138,8,138,9],[138,10,138,11],[138,12,138,13],[138,14,138,15],[138,16,138,17],[138,18,138,19],[138,20,138,21],[138,22,138,23],[138,24,138,25],[138,26,138,27],[138,28,138,29],[138,30,138,31],[138,32,138,33],[138,34,138,35],[138,36,138,37],[138,38,138,39],[138,40,138,41],[138,42,138,43],[140,1,140,2],[141,1,141,2],[142,1,142,2],[143,1,143,2],[144,1,144,2],[145,1,145,2],[146,1,146,2],[147,1,147,2],[148,1,148,2],[149,1,149,2],[150,1,150,2],[151,1,151,2],[152,1,152,2],[153,1,153,2],[154,1,154,2],[155,1,155,2],[156,1,156,2],[157,1,157,2],[158,1,158,2],[159,1,159,2],[160,1,160,2],[161,1,161,2],[162,1,162,2],[163,1,163,2],[164,1,164,2],[165,1,165,2],[166,1,166,2],[167,1,167,2],[168,1,168,2],[169,1,169,2],[170,1,170,2],[171,1,171,2],[172,1,172,2],[173,1,173,2],[174,1,174,2],[175,1,175,2],[176,1,176,2],[177,1,177,2],[178,1,178,2],[179,1,179,2],[180,1,180,2],[181,1,181,2],[182,1,182,2],[183,1,183,2],[184,1,184,2],[186,1,188,2],[186,3,187,5],[186,6,186,43],[186,44,187,45],[186,46,187,47],[187,6,187,7],[187,8,187,9],[187,10,187,11],[187,12,187,13],[187,14,187,15],[187,16,187,17],[187,18,187,19],[187,20,187,21],[187,22,187,23],[187,24,187,25],[187,26,187,27],[187,28,187,29],[187,30,187,31],[187,32,187,33],[187,34,187,35],[187,36,187,37],[187,38,187,39],[187,40,187,41],[187,42,187,43],[189,1,189,2],[190,1,190,2],[191,1,191,2],[192,1,192,2],[194,1,196,2],[194,3,195,5],[194,6,194,25],[194,26,195,27],[194,28,195,29],[194,30,195,31],[194,32,195,33],[194,34,195,35],[195,6,195,7],[195,8,195,9],[195,10,195,11],[195,12,195,13],[195,14,195,15],[195,16,195,17],[195,18,195,19],[195,20,195,21],[195,22,195,23],[195,24,195,25],[197,1,197,2],[198,1,200,1],[201,1,207,1],[208,1,208,2]]}
[null,"DATOS DEL ESTABLECIMIENTO"]
[null,{"$f":"CONCATENATE(\"COMUNA: \",NOMBRE!$B$2,\" - \",\"( \",NOMBRE!$C$2,NOMBRE!$D$2,NOMBRE!$E$2,NOMBRE!$F$2,NOMBRE!$G$2,\" )\")","v":"COMUNA:  - (  )"}]
[null,{"$f":"CONCATENATE(\"ESTABLECIMIENTO/ESTRATEGIA: \",NOMBRE!$B$3,\" - \",\"( \",NOMBRE!$C$3,NOMBRE!$D$3,NOMBRE!$E$3,NOMBRE!$F$3,NOMBRE!$G$3,NOMBRE!$H$3,\" )\")","v":"ESTABLECIMIENTO/ESTRATEGIA:  - (  )"}]
[null,{"$f":"CONCATENATE(\"MES: \",NOMBRE!$B$6,\" - \",\"( \",NOMBRE!$C$6,NOMBRE!$D$6,\" )\")","v":"MES:  - (  )"}]
[null,{"$f":"CONCATENATE(\"AÑO: \",NOMBRE!$B$7)","v":"AÑO: 2023"}]
[null,"REM-P2. POBLACIÓN EN CONTROL PROGRAMA NACIONAL  DE SALUD DE LA INFANCIA "]
[null,"SECCION A: POBLACIÓN EN CONTROL, SEGÚN ESTADO NUTRICIONAL PARA NIÑOS MENOR DE UN MES- 59 MESES"]
[null,"INDICADOR NUTRICIONAL\nY\nPARÁMETROS DE MEDICIÓN",null,"TOTAL",null,null,"GRUPOS DE EDAD (en meses) Y SEXO",{"$nulls":25},"Pueblos Originarios",null," Migrantes"]
[{"$nulls":6},"Menor de 1 mes",null,"1 mes",null,"2 meses",null,"3 meses",null,"4 meses",null,"5 meses",null,"6 meses",null,"7 a 11 meses",null,"12 a 17 meses",null,"18 a 23 meses",null,"24 a 35 meses",null,"36 a 47 meses",null,"48 a 59 meses"]
[{"$nulls":3},"Ambos sexos","Hombres","Mujeres","Hombres","Mujeres","Hombres","Mujeres","Hombres","Mujeres","Hombres","Mujeres","Hombres","Mujeres","Hombres","Mujeres","Hombres","Mujeres","Hombres","Mujeres","Hombres","Mujeres","Hombres","Mujeres","Hombres","Mujeres","Hombres","Mujeres","Hombres","Mujeres","Hombres","Mujeres","Hombres","Mujeres"]
["P2060000","TOTAL DE NIÑOS EN CONTROL",null,{"$f":"IFERROR(VLOOKUP($A11,FILTRO!$A5:$AY630,2,FALSE),0)","v":30654},{"$f":"IFERROR(VLOOKUP($A11,FILTRO!$A5:$AY630,3,FALSE),0)","v":15560},{"$f":"IFERROR(VLOOKUP($A11,FILTRO!$A5:$AY630,4,FALSE),0)","v":15094},{"$f":"IFERROR(VLOOKUP($A11,FILTRO!$A5:$AY630,5,FALSE),0)","v":104},{"$f":"IFERROR(VLOOKUP($A11,FILTRO!$A5:$AY630,6,FALSE),0)","v":113},{"$f":"IFERROR(VLOOKUP($A11,FILTRO!$A5:$AY630,7,FALSE),0)","v":336},{"$f":"IFERROR(VLOOKUP($A11,FILTRO!$A5:$AY630,8,FALSE),0)","v":332},{"$f":"IFERROR(VLOOKUP($A11,FILTRO!$A5:$AY630,9,FALSE),0)","v":394},{"$f":"IFERROR(VLOOKUP($A11,FILTRO!$A5:$AY630,10,FALSE),0)","v":424},{"$f":"IFERROR(VLOOKUP($A11,FILTRO!$A5:$AY630,11,FALSE),0)","v":367},{"$f":"IFERROR(VLOOKUP($A11,FILTRO!$A5:$AY630,12,FALSE),0)","v":383},{"$f":"IFERROR(VLOOKUP($A11,FILTRO!$A5:$AY630,13,FALSE),0)","v":399},{"$f":"IFERROR(VLOOKUP($A11,FILTRO!$A5:$AY630,14,FALSE),0)","v":450},{"$f":"IFERROR(VLOOKUP($A11,FILTRO!$A5:$AY630,15,FALSE),0)","v":266},{"$f":"IFERROR(VLOOKUP($A11,FILTRO!$A5:$AY630,16,FALSE),0)","v":296},{"$f":"IFERROR(VLOOKUP($A11,FILTRO!$A5:$AY630,17,FALSE),0)","v":491},{"$f":"IFERROR(VLOOKUP($A11,FILTRO!$A5:$AY630,18,FALSE),0)","v":460},{"$f":"IFERROR(VLOOKUP($A11,FILTRO!$A5:$AY630,19,FALSE),0)","v":1329},{"$f":"IFERROR(VLOOKUP($A11,FILTRO!$A5:$AY630,20,FALSE),0)","v":1346},{"$f":"IFERROR(VLOOKUP($A11,FILTRO!$A5:$AY630,21,FALSE),0)","v":1655},{"$f":"IFERROR(VLOOKUP($A11,FILTRO!$A5:$AY630,22,FALSE),0)","v":1541},{"$f":"IFERROR(VLOOKUP($A11,FILTRO!$A5:$AY630,23,FALSE),0)","v":1541},{"$f":"IFERROR(VLOOKUP($A11,FILTRO!$A5:$AY630,24,FALSE),0)","v":1523},{"$f":"IFERROR(VLOOKUP($A11,FILTRO!$A5:$AY630,25,FALSE),0)","v":2773},{"$f":"IFERROR(VLOOKUP($A11,FILTRO!$A5:$AY630,26,FALSE),0)","v":2655},{"$f":"IFERROR(VLOOKUP($A11,FILTRO!$A5:$AY630,27,FALSE),0)","v":2951},{"$f":"IFERROR(VLOOKUP($A11,FILTRO!$A5:$AY630,28,FALSE),0)","v":2840},{"$f":"IFERROR(VLOOKUP($A11,FILTRO!$A5:$AY630,29,FALSE),0)","v":2954},{"$f":"IFERROR(VLOOKUP($A11,FILTRO!$A5:$AY630,30,FALSE),0)","v":2731},{"$f":"IFERROR(VLOOKUP($A11,FILTRO!$A5:$AY630,31,FALSE),0)","v":153},{"$f":"IFERROR(VLOOKUP($A11,FILTRO!$A5:$AY630,32,FALSE),0)","v":204},{"$f":"IFERROR(VLOOKUP($A11,FILTRO!$A5:$AY630,33,FALSE),0)","v":347},{"$f":"IFERROR(VLOOKUP($A11,FILTRO!$A5:$AY630,34,FALSE),0)","v":359},{"$f":" BO11 & BP11 & BQ11 & BR11 & BS11 & BT11 & BU11 & BV11 & BT12 & BO12 & BP12 & BQ12 & BR12 & BS12 & BU12 & BV12 & BW12 & BV13 & BW13","v":"* El Total de niños (as) en Control de 1 mes debe ser igual al Total de niños(as) según Diagnóstico Nutricional Integrado. * El Total de niños (as) en Control de 2 meses debe ser igual al Total de niños(as) según Diagnóstico Nutricional Integrado. * El Total de niños (as) en Control de 3 meses debe ser igual al Total de niños(as) según Diagnóstico Nutricional Integrado. * El Total de niños (as) en Control de 4 meses debe ser igual al Total de niños(as) según Diagnóstico Nutricional Integrado. * El Total de niños (as) en Control de 7 a 11 meses debe ser igual al Total de niños(as) según Diagnóstico Nutricional Integrado. * El Total de niños (as) en Control de 12 a 17 meses debe ser igual al Total de niños(as) según Diagnóstico Nutricional Integrado. * El Total de niños (as) en Control de 18 a 23 meses debe ser igual al Total de niños(as) según Diagnóstico Nutricional Integrado. * El Total de niños (as) en Control de 24 a 35 meses debe ser igual al Total de niños(as) según Diagnóstico Nutricional Integrado. * El Total de niños (as) en Control de 36 a 47 meses debe ser igual al Total de niños(as) según Diagnóstico Nutricional Integrado. * El Total de niños (as) en Control de 48 a 59 meses debe ser igual al Total de niños(as) según Diagnóstico Nutricional Integrado. * El Total de niños (as) en Control de Pueblos Originarios debe ser igual al Total de niños(as) según Diagnóstico Nutricional Integrado. * El Total de niños (as) en Control de Población Migrantes debe ser igual al Total de niños(as) según Diagnóstico Nutricional Integrado. "},{"$nulls":29},{"$f":"IF(I11+J11<>I38+J38,\"* El Total de niños (as) en Control de 1 mes debe ser igual al Total de niños(as) según Diagnóstico Nutricional Integrado. \",\"\")","v":"* El Total de niños (as) en Control de 1 mes debe ser igual al Total de niños(as) según Diagnóstico Nutricional Integrado. "},{"$f":"IF(K11+L11<>K38+L38,\"* El Total de niños (as) en Control de 2 meses debe ser igual al Total de niños(as) según Diagnóstico Nutricional Integrado. \",\"\")","v":"* El Total de niños (as) en Control de 2 meses debe ser igual al Total de niños(as) según Diagnóstico Nutricional Integrado. "},{"$f":"IF(M11+N11<>M38+N38,\"* El Total de niños (as) en Control de 3 meses debe ser igual al Total de niños(as) según Diagnóstico Nutricional Integrado. \",\"\")","v":"* El Total de niños (as) en Control de 3 meses debe ser igual al Total de niños(as) según Diagnóstico Nutricional Integrado. "},{"$f":"IF(O11+P11<>O38+P38,\"* El Total de niños (as) en Control de 4 meses debe ser igual al Total de niños(as) según Diagnóstico Nutricional Integrado. \",\"\")","v":"* El Total de niños (as) en Control de 4 meses debe ser igual al Total de niños(as) según Diagnóstico Nutricional Integrado. "},{"$f":"IF(Q11+R11<>Q38+R38,\"* El Total de niños (as) en Control de 5 meses debe ser igual al Total de niños(as) según Diagnóstico Nutricional Integrado. \",\"\")","v":""},{"$f":"IF($S$11+$T$11<>$S$38+$T$38,\"* El Total de niños (as) en Control de 6 meses debe ser igual al Total de niños(as) según Diagnóstico Nutricional Integrado. \",\"\")","v":""},{"$f":"IF($U$11+$V$11<>$U$38+$V$38,\"* El Total de niños (as) en Control de 7 a 11 meses debe ser igual al Total de niños(as) según Diagnóstico Nutricional Integrado. \",\"\")","v":"* El Total de niños (as) en Control de 7 a 11 meses debe ser igual al Total de niños(as) según Diagnóstico Nutricional Integrado. "},{"$f":"IF($W$11+$X$11<>$W$38+$X$38,\"* El Total de niños (as) en Control de 12 a 17 meses debe ser igual al Total de niños(as) según Diagnóstico Nutricional Integrado. \",\"\")","v":"* El Total de niños (as) en Control de 12 a 17 meses debe ser igual al Total de niños(as) según Diagnóstico Nutricional Integrado. "},{"$nulls":22},{"$f":"IF($G$11+$H$11<>$G$39+$H$39,1,0)","v":1},{"$f":"IF($I$11+$J$11<>$I$39+$J$39,1,0)","v":1},{"$f":"IF($K$11+$L$11<>$K$39+$L$39,1,0)","v":1}]
["P2400100","INDICADOR PESO/EDAD","+ 2 D.S. (>= +2.0)",{"$f":"IFERROR(VLOOKUP($A12,FILTRO!$A6:$AY631,2,FALSE),0)","v":2634},{"$f":"IFERROR(VLOOKUP($A12,FILTRO!$A6:$AY631,3,FALSE),0)","v":1409},{"$f":"IFERROR(VLOOKUP($A12,FILTRO!$A6:$AY631,4,FALSE),0)","v":1225},{"$f":"IFERROR(VLOOKUP($A12,FILTRO!$A6:$AY631,5,FALSE),0)","v":1},{"$f":"IFERROR(VLOOKUP($A12,FILTRO!$A6:$AY631,6,FALSE),0)","v":0},{"$f":"IFERROR(VLOOKUP($A12,FILTRO!$A6:$AY631,7,FALSE),0)","v":10},{"$f":"IFERROR(VLOOKUP($A12,FILTRO!$A6:$AY631,8,FALSE),0)","v":2},{"$f":"IFERROR(VLOOKUP($A12,FILTRO!$A6:$AY631,9,FALSE),0)","v":9},{"$f":"IFERROR(VLOOKUP($A12,FILTRO!$A6:$AY631,10,FALSE),0)","v":9},{"$f":"IFERROR(VLOOKUP($A12,FILTRO!$A6:$AY631,11,FALSE),0)","v":21},{"$f":"IFERROR(VLOOKUP($A12,FILTRO!$A6:$AY631,12,FALSE),0)","v":24},{"$f":"IFERROR(VLOOKUP($A12,FILTRO!$A6:$AY631,13,FALSE),0)","v":32},{"$f":"IFERROR(VLOOKUP($A12,FILTRO!$A6:$AY631,14,FALSE),0)","v":23},{"$f":"IFERROR(VLOOKUP($A12,FILTRO!$A6:$AY631,15,FALSE),0)","v":18},{"$f":"IFERROR(VLOOKUP($A12,FILTRO!$A6:$AY631,16,FALSE),0)","v":19},{"$f":"IFERROR(VLOOKUP($A12,FILTRO!$A6:$AY631,17,FALSE),0)","v":42},{"$f":"IFERROR(VLOOKUP($A12,FILTRO!$A6:$AY631,18,FALSE),0)","v":27},{"$f":"IFERROR(VLOOKUP($A12,FILTRO!$A6:$AY631,19,FALSE),0)","v":105},{"$f":"IFERROR(VLOOKUP($A12,FILTRO!$A6:$AY631,20,FALSE),0)","v":110},{"$f":"IFERROR(VLOOKUP($A12,FILTRO!$A6:$AY631,21,FALSE),0)","v":134},{"$f":"IFERROR(VLOOKUP($A12,FILTRO!$A6:$AY631,22,FALSE),0)","v":116},{"$f":"IFERROR(VLOOKUP($A12,FILTRO!$A6:$AY631,23,FALSE),0)","v":107},{"$f":"IFERROR(VLOOKUP($A12,FILTRO!$A6:$AY631,24,FALSE),0)","v":113},{"$f":"IFERROR(VLOOKUP($A12,FILTRO!$A6:$AY631,25,FALSE),0)","v":219},{"$f":"IFERROR(VLOOKUP($A12,FILTRO!$A6:$AY631,26,FALSE),0)","v":210},{"$f":"IFERROR(VLOOKUP($A12,FILTRO!$A6:$AY631,27,FALSE),0)","v":351},{"$f":"IFERROR(VLOOKUP($A12,FILTRO!$A6:$AY631,28,FALSE),0)","v":284},{"$f":"IFERROR(VLOOKUP($A12,FILTRO!$A6:$AY631,29,FALSE),0)","v":360},{"$f":"IFERROR(VLOOKUP($A12,FILTRO!$A6:$AY631,30,FALSE),0)","v":288},{"$f":"IFERROR(VLOOKUP($A12,FILTRO!$A6:$AY631,31,FALSE),0)","v":14},{"$f":"IFERROR(VLOOKUP($A12,FILTRO!$A6:$AY631,32,FALSE),0)","v":11},{"$f":"IFERROR(VLOOKUP($A12,FILTRO!$A6:$AY631,33,FALSE),0)","v":20},{"$f":"IFERROR(VLOOKUP($A12,FILTRO!$A6:$AY631,34,FALSE),0)","v":17},{"$nulls":30},{"$f":"IF($Y$11+$Z$11<>$Y$38+$Z$38,\"* El Total de niños (as) en Control de 18 a 23 meses debe ser igual al Total de niños(as) según Diagnóstico Nutricional Integrado. \",\"\")","v":"* El Total de niños (as) en Control de 18 a 23 meses debe ser igual al Total de niños(as) según Diagnóstico Nutricional Integrado. "},{"$f":"IF($AA$11+$AB$11<>$AA$38+$AB$38,\"* El Total de niños (as) en Control de 24 a 35 meses debe ser igual al Total de niños(as) según Diagnóstico Nutricional Integrado. \",\"\")","v":"* El Total de niños (as) en Control de 24 a 35 meses debe ser igual al Total de niños(as) según Diagnóstico Nutricional Integrado. "},{"$f":"IF(AC11+AD11<>AC38+AD38,\"* El Total de niños (as) en Control de 36 a 47 meses debe ser igual al Total de niños(as) según Diagnóstico Nutricional Integrado. \",\"\")","v":"* El Total de niños (as) en Control de 36 a 47 meses debe ser igual al Total de niños(as) según Diagnóstico Nutricional Integrado. "},{"$f":"IF($AE$11+$AF$11<>$AE$38+$AF$38,\"* El Total de niños (as) en Control de 48 a 59 meses debe ser igual al Total de niños(as) según Diagnóstico Nutricional Integrado. \",\"\")","v":"* El Total de niños (as) en Control de 48 a 59 meses debe ser igual al Total de niños(as) según Diagnóstico Nutricional Integrado. "},null,{"$f":"IF($D11>=$W11+$X11,\"\",\"* El Total de Pueblos Originarios no debe ser mayor al total de niños en control. \")","v":""},{"$f":"IF($D11>=$Y11+$Z11,\"\",\"* El Total de Población Migrantes no debe ser mayor al total de niños en control. \")","v":""},{"$f":"IF($W$11+$X$11<>$U$39+$V$39,\"* El Total de niños (as) en Control de Pueblos Originarios debe ser igual al Total de niños(as) según Diagnóstico Nutricional Integrado. \",\"\")","v":"* El Total de niños (as) en Control de Pueblos Originarios debe ser igual al Total de niños(as) según Diagnóstico Nutricional Integrado. "},{"$f":"IF($Y$11+$Z$11<>$W$39+$X$39,\"* El Total de niños (as) en Control de Población Migrantes debe ser igual al Total de niños(as) según Diagnóstico Nutricional Integrado. \",\"\")","v":"* El Total de niños (as) en Control de Población Migrantes debe ser igual al Total de niños(as) según Diagnóstico Nutricional Integrado. "},{"$nulls":16},{"$f":"IF($M$11+$N$11<>$M$39+$N$39,1,0)","v":1},{"$f":"IF($O$11+$P$11<>$O$39+$P$39,1,0)","v":1},null,{"$f":"IF($Q$11+$R$11<>$Q$39+$R$39,1,0)","v":1},{"$f":"IF($S$11+$T$11<>$S$39+$T$39,1,0)","v":1},{"$f":"IF($D11>=$W11+$X11,0,1)","v":0},{"$f":"IF($D11>=$Y11+$Z11,0,1)","v":0},{"$f":"IF($W$11+$X$11<>$U$39+$V$39,1,0)","v":1},{"$f":"IF($Y$11+$Z$11<>$W$39+$X$39,1,0)","v":1}]
["P2400110",null,"+ 1 D.S. (+1.0 a +1.9)",{"$f":"IFERROR(VLOOKUP($A13,FILTRO!$A7:$AY632,2,FALSE),0)","v":5932},{"$f":"IFERROR(VLOOKUP($A13,FILTRO!$A7:$AY632,3,FALSE),0)","v":2910},{"$f":"IFERROR(VLOOKUP($A13,FILTRO!$A7:$AY632,4,FALSE),0)","v":3022},{"$f":"IFERROR(VLOOKUP($A13,FILTRO!$A7:$AY632,5,FALSE),0)","v":6},{"$f":"IFERROR(VLOOKUP($A13,FILTRO!$A7:$AY632,6,FALSE),0)","v":11},{"$f":"IFERROR(VLOOKUP($A13,FILTRO!$A7:$AY632,7,FALSE),0)","v":49},{"$f":"IFERROR(VLOOKUP($A13,FILTRO!$A7:$AY632,8,FALSE),0)","v":34},{"$f":"IFERROR(VLOOKUP($A13,FILTRO!$A7:$AY632,9,FALSE),0)","v":60},{"$f":"IFERROR(VLOOKUP($A13,FILTRO!$A7:$AY632,10,FALSE),0)","v":55},{"$f":"IFERROR(VLOOKUP($A13,FILTRO!$A7:$AY632,11,FALSE),0)","v":60},{"$f":"IFERROR(VLOOKUP($A13,FILTRO!$A7:$AY632,12,FALSE),0)","v":75},{"$f":"IFERROR(VLOOKUP($A13,FILTRO!$A7:$AY632,13,FALSE),0)","v":71},{"$f":"IFERROR(VLOOKUP($A13,FILTRO!$A7:$AY632,14,FALSE),0)","v":74},{"$f":"IFERROR(VLOOKUP($A13,FILTRO!$A7:$AY632,15,FALSE),0)","v":44},{"$f":"IFERROR(VLOOKUP($A13,FILTRO!$A7:$AY632,16,FALSE),0)","v":63},{"$f":"IFERROR(VLOOKUP($A13,FILTRO!$A7:$AY632,17,FALSE),0)","v":104},{"$f":"IFERROR(VLOOKUP($A13,FILTRO!$A7:$AY632,18,FALSE),0)","v":112},{"$f":"IFERROR(VLOOKUP($A13,FILTRO!$A7:$AY632,19,FALSE),0)","v":295},{"$f":"IFERROR(VLOOKUP($A13,FILTRO!$A7:$AY632,20,FALSE),0)","v":326},{"$f":"IFERROR(VLOOKUP($A13,FILTRO!$A7:$AY632,21,FALSE),0)","v":324},{"$f":"IFERROR(VLOOKUP($A13,FILTRO!$A7:$AY632,22,FALSE),0)","v":341},{"$f":"IFERROR(VLOOKUP($A13,FILTRO!$A7:$AY632,23,FALSE),0)","v":319},{"$f":"IFERROR(VLOOKUP($A13,FILTRO!$A7:$AY632,24,FALSE),0)","v":345},{"$f":"IFERROR(VLOOKUP($A13,FILTRO!$A7:$AY632,25,FALSE),0)","v":491},{"$f":"IFERROR(VLOOKUP($A13,FILTRO!$A7:$AY632,26,FALSE),0)","v":585},{"$f":"IFERROR(VLOOKUP($A13,FILTRO!$A7:$AY632,27,FALSE),0)","v":538},{"$f":"IFERROR(VLOOKUP($A13,FILTRO!$A7:$AY632,28,FALSE),0)","v":550},{"$f":"IFERROR(VLOOKUP($A13,FILTRO!$A7:$AY632,29,FALSE),0)","v":549},{"$f":"IFERROR(VLOOKUP($A13,FILTRO!$A7:$AY632,30,FALSE),0)","v":451},{"$f":"IFERROR(VLOOKUP($A13,FILTRO!$A7:$AY632,31,FALSE),0)","v":16},{"$f":"IFERROR(VLOOKUP($A13,FILTRO!$A7:$AY632,32,FALSE),0)","v":38},{"$f":"IFERROR(VLOOKUP($A13,FILTRO!$A7:$AY632,33,FALSE),0)","v":43},{"$f":"IFERROR(VLOOKUP($A13,FILTRO!$A7:$AY632,34,FALSE),0)","v":42},{"$nulls":37},{"$f":"IF(AND(E11<>0,W11=\"\"), \"* No olvide escribir en la celda de Pueblos Originarios (Digite CERO si no tiene). \",IF(AND(F11<>0,X11=\"\"), \"* No olvide escribir en la celda de Pueblos Originarios (Digite CERO si no tiene). \",\"\"))","v":""},{"$f":"IF(AND(E11<>0,Y11=\"\"), \"* No olvide escribir en la celda de Población Migrantes (Digite CERO si no tiene). \",IF(AND(F11<>0,Z11=\"\"), \"* No olvide escribir en la celda de Población Migrantes (Digite CERO si no tiene). \",\"\"))","v":""},{"$nulls":23},{"$f":"IF(AND(E11<>0,W11=\"\"), 1,IF(AND(F11<>0,X11=\"\"), 1,0))","v":0},{"$f":"IF(AND(E11<>0,Y11=\"\"), 1,IF(AND(F11<>0,Z11=\"\"), 1,0))","v":0}]
[null,null,"TOTAL",{"$f":"SUM(D11:D13)","v":39220},{"$f":"SUM(E11:E13)","v":19879},19341,111,124,395,368,463,488,448,482,502,547,328,378,637,599,1729,1782,2113,1998,1967,1981,3483,3450,3840,3674,3863,3470,183,253,410,418,{"$nulls":30},{"$f":"IF($D14>=$W14+$X14,\"\",\"* El Total de Pueblos Originarios no debe ser mayor al Total Indicador peso/edad\")","v":""},{"$f":"IF($D14>=$Y14+$Z14,\"\",\"* El Total de Población Migrante no debe ser mayor al Total Indicador peso/edad\")","v":""},null,{"$f":"IF(AND(E12<>0,W12=\"\"), \"* No olvide escribir en la celda de Pueblos Originarios (Digite CERO si no tiene). \",IF(AND(F12<>0,X12=\"\"), \"* No olvide escribir en la celda de Pueblos Originarios (Digite CERO si no tiene). \",\"\"))","v":""},{"$f":"IF(AND(E12<>0,Y12=\"\"), \"* No olvide escribir en la celda de Población Migrantes (Digite CERO si no tiene). \",IF(AND(F12<>0,Z12=\"\"), \"* No olvide escribir en la celda de Población Migrantes (Digite CERO si no tiene). \",\"\"))","v":""},{"$f":"IF(AND(E13<>0,W13=\"\"), \"* No olvide escribir en la celda de Pueblos Originarios (Digite CERO si no tiene). \",IF(AND(F13<>0,X13=\"\"), \"* No olvide escribir en la celda de Pueblos Originarios (Digite CERO si no tiene). \",\"\"))","v":""},{"$f":"IF(AND(E13<>0,Y13=\"\"), \"* No olvide escribir en la celda de Población Migrantes (Digite CERO si no tiene). \",IF(AND(F13<>0,Z13=\"\"), \"* No olvide escribir en la celda de Población Migrantes (Digite CERO si no tiene). \",\"\"))","v":""},{"$nulls":18},{"$f":"IF($D14>=$W14+$X14,0,1)","v":0},{"$f":"IF($D14>=$Y14+$Z14,0,1)","v":0},null,null,{"$f":"IF(AND(E12<>0,W12=\"\"), 1,IF(AND(F12<>0,X12=\"\"), 1,0))","v":0},{"$f":"IF(AND(E12<>0,Y12=\"\"), 1,IF(AND(F12<>0,Z12=\"\"), 1,0))","v":0},{"$f":"IF(AND(E13<>0,Y13=\"\"), 1,IF(AND(F13<>0,Z13=\"\"), 1,0))","v":0},{"$f":"IF(AND(E13<>0,Y13=\"\"), 1,IF(AND(F13<>0,Z13=\"\"), 1,0))","v":0}]
["P2070101",null,"- 1 D.S. (-1.0 a -1.9)",{"$f":"IFERROR(VLOOKUP($A15,FILTRO!$A9:$AY634,2,FALSE),0)","v":1633},{"$f":"IFERROR(VLOOKUP($A15,FILTRO!$A9:$AY634,3,FALSE),0)","v":904},{"$f":"IFERROR(VLOOKUP($A15,FILTRO!$A9:$AY634,4,FALSE),0)","v":729},{"$f":"IFERROR(VLOOKUP($A15,FILTRO!$A9:$AY634,5,FALSE),0)","v":3},{"$f":"IFERROR(VLOOKUP($A15,FILTRO!$A9:$AY634,6,FALSE),0)","v":6},{"$f":"IFERROR(VLOOKUP($A15,FILTRO!$A9:$AY634,7,FALSE),0)","v":27},{"$f":"IFERROR(VLOOKUP($A15,FILTRO!$A9:$AY634,8,FALSE),0)","v":20},{"$f":"IFERROR(VLOOKUP($A15,FILTRO!$A9:$AY634,9,FALSE),0)","v":31},{"$f":"IFERROR(VLOOKUP($A15,FILTRO!$A9:$AY634,10,FALSE),0)","v":38},{"$f":"IFERROR(VLOOKUP($A15,FILTRO!$A9:$AY634,11,FALSE),0)","v":24},{"$f":"IFERROR(VLOOKUP($A15,FILTRO!$A9:$AY634,12,FALSE),0)","v":19},{"$f":"IFERROR(VLOOKUP($A15,FILTRO!$A9:$AY634,13,FALSE),0)","v":18},{"$f":"IFERROR(VLOOKUP($A15,FILTRO!$A9:$AY634,14,FALSE),0)","v":23},{"$f":"IFERROR(VLOOKUP($A15,FILTRO!$A9:$AY634,15,FALSE),0)","v":14},{"$f":"IFERROR(VLOOKUP($A15,FILTRO!$A9:$AY634,16,FALSE),0)","v":11},{"$f":"IFERROR(VLOOKUP($A15,FILTRO!$A9:$AY634,17,FALSE),0)","v":27},{"$f":"IFERROR(VLOOKUP($A15,FILTRO!$A9:$AY634,18,FALSE),0)","v":15},{"$f":"IFERROR(VLOOKUP($A15,FILTRO!$A9:$AY634,19,FALSE),0)","v":57},{"$f":"IFERROR(VLOOKUP($A15,FILTRO!$A9:$AY634,20,FALSE),0)","v":56},{"$f":"IFERROR(VLOOKUP($A15,FILTRO!$A9:$AY634,21,FALSE),0)","v":112},{"$f":"IFERROR(VLOOKUP($A15,FILTRO!$A9:$AY634,22,FALSE),0)","v":60},{"$f":"IFERROR(VLOOKUP($A15,FILTRO!$A9:$AY634,23,FALSE),0)","v":110},{"$f":"IFERROR(VLOOKUP($A15,FILTRO!$A9:$AY634,24,FALSE),0)","v":74},{"$f":"IFERROR(VLOOKUP($A15,FILTRO!$A9:$AY634,25,FALSE),0)","v":166},{"$f":"IFERROR(VLOOKUP($A15,FILTRO!$A9:$AY634,26,FALSE),0)","v":122},{"$f":"IFERROR(VLOOKUP($A15,FILTRO!$A9:$AY634,27,FALSE),0)","v":170},{"$f":"IFERROR(VLOOKUP($A15,FILTRO!$A9:$AY634,28,FALSE),0)","v":154},{"$f":"IFERROR(VLOOKUP($A15,FILTRO!$A9:$AY634,29,FALSE),0)","v":145},{"$f":"IFERROR(VLOOKUP($A15,FILTRO!$A9:$AY634,30,FALSE),0)","v":131},{"$f":"IFERROR(VLOOKUP($A15,FILTRO!$A9:$AY634,31,FALSE),0)","v":7},{"$f":"IFERROR(VLOOKUP($A15,FILTRO!$A9:$AY634,32,FALSE),0)","v":10},{"$f":"IFERROR(VLOOKUP($A15,FILTRO!$A9:$AY634,33,FALSE),0)","v":18},{"$f":"IFERROR(VLOOKUP($A15,FILTRO!$A9:$AY634,34,FALSE),0)","v":28},{"$nulls":30},{"$f":"IF($D17>=$W17+$X17,\"\",\"* El Total de Pueblos Originarios no debe ser mayor al Total Indicador peso/edad\")","v":""},{"$f":"IF($D17>=$Y17+$Z17,\"\",\"* El Total de Población Migrante no debe ser mayor al Total Indicador peso/edad\")","v":""},{"$nulls":5},{"$f":"IF(AND(E15<>0,W15=\"\"), \"* No olvide escribir en la celda de Pueblos Originarios (Digite CERO si no tiene). \",IF(AND(F15<>0,X15=\"\"), \"* No olvide escribir en la celda de Pueblos Originarios (Digite CERO si no tiene). \",\"\"))","v":""},{"$f":"IF(AND(E15<>0,Y15=\"\"), \"* No olvide escribir en la celda de Población Migrantes (Digite CERO si no tiene). \",IF(AND(F15<>0,Z15=\"\"), \"* No olvide escribir en la celda de Población Migrantes (Digite CERO si no tiene). \",\"\"))","v":""},{"$nulls":16},{"$f":"IF($D17>=$W17+$X17,0,1)","v":0},{"$f":"IF($D17>=$Y17+$Z17,0,1)","v":0},{"$nulls":5},{"$f":"IF(AND(E15<>0,W15=\"\"), 1,IF(AND(F15<>0,X15=\"\"), 1,0))","v":0},{"$f":"IF(AND(E15<>0,Y15=\"\"), 1,IF(AND(F15<>0,Z15=\"\"), 1,0))","v":0}]
["P2070102",null,"- 2 D.S. (<= -2.0)",{"$f":"IFERROR(VLOOKUP($A16,FILTRO!$A10:$AY635,2,FALSE),0)","v":239},{"$f":"IFERROR(VLOOKUP($A16,FILTRO!$A10:$AY635,3,FALSE),0)","v":141},{"$f":"IFERROR(VLOOKUP($A16,FILTRO!$A10:$AY635,4,FALSE),0)","v":98},{"$f":"IFERROR(VLOOKUP($A16,FILTRO!$A10:$AY635,5,FALSE),0)","v":4},{"$f":"IFERROR(VLOOKUP($A16,FILTRO!$A10:$AY635,6,FALSE),0)","v":0},{"$f":"IFERROR(VLOOKUP($A16,FILTRO!$A10:$AY635,7,FALSE),0)","v":7},{"$f":"IFERROR(VLOOKUP($A16,FILTRO!$A10:$AY635,8,FALSE),0)","v":13},{"$f":"IFERROR(VLOOKUP($A16,FILTRO!$A10:$AY635,9,FALSE),0)","v":11},{"$f":"IFERROR(VLOOKUP($A16,FILTRO!$A10:$AY635,10,FALSE),0)","v":4},{"$f":"IFERROR(VLOOKUP($A16,FILTRO!$A10:$AY635,11,FALSE),0)","v":3},{"$f":"IFERROR(VLOOKUP($A16,FILTRO!$A10:$AY635,12,FALSE),0)","v":4},{"$f":"IFERROR(VLOOKUP($A16,FILTRO!$A10:$AY635,13,FALSE),0)","v":5},{"$f":"IFERROR(VLOOKUP($A16,FILTRO!$A10:$AY635,14,FALSE),0)","v":3},{"$f":"IFERROR(VLOOKUP($A16,FILTRO!$A10:$AY635,15,FALSE),0)","v":5},{"$f":"IFERROR(VLOOKUP($A16,FILTRO!$A10:$AY635,16,FALSE),0)","v":3},{"$f":"IFERROR(VLOOKUP($A16,FILTRO!$A10:$AY635,17,FALSE),0)","v":3},{"$f":"IFERROR(VLOOKUP($A16,FILTRO!$A10:$AY635,18,FALSE),0)","v":0},{"$f":"IFERROR(VLOOKUP($A16,FILTRO!$A10:$AY635,19,FALSE),0)","v":5},{"$f":"IFERROR(VLOOKUP($A16,FILTRO!$A10:$AY635,20,FALSE),0)","v":3},{"$f":"IFERROR(VLOOKUP($A16,FILTRO!$A10:$AY635,21,FALSE),0)","v":23},{"$f":"IFERROR(VLOOKUP($A16,FILTRO!$A10:$AY635,22,FALSE),0)","v":7},{"$f":"IFERROR(VLOOKUP($A16,FILTRO!$A10:$AY635,23,FALSE),0)","v":18},{"$f":"IFERROR(VLOOKUP($A16,FILTRO!$A10:$AY635,24,FALSE),0)","v":10},{"$f":"IFERROR(VLOOKUP($A16,FILTRO!$A10:$AY635,25,FALSE),0)","v":23},{"$f":"IFERROR(VLOOKUP($A16,FILTRO!$A10:$AY635,26,FALSE),0)","v":20},{"$f":"IFERROR(VLOOKUP($A16,FILTRO!$A10:$AY635,27,FALSE),0)","v":21},{"$f":"IFERROR(VLOOKUP($A16,FILTRO!$A10:$AY635,28,FALSE),0)","v":15},{"$f":"IFERROR(VLOOKUP($A16,FILTRO!$A10:$AY635,29,FALSE),0)","v":13},{"$f":"IFERROR(VLOOKUP($A16,FILTRO!$A10:$AY635,30,FALSE),0)","v":16},{"$f":"IFERROR(VLOOKUP($A16,FILTRO!$A10:$AY635,31,FALSE),0)","v":1},{"$f":"IFERROR(VLOOKUP($A16,FILTRO!$A10:$AY635,32,FALSE),0)","v":0},{"$f":"IFERROR(VLOOKUP($A16,FILTRO!$A10:$AY635,33,FALSE),0)","v":4},{"$f":"IFERROR(VLOOKUP($A16,FILTRO!$A10:$AY635,34,FALSE),0)","v":3},{"$nulls":37},{"$f":"IF(AND(E16<>0,W16=\"\"), \"* No olvide escribir en la celda de Pueblos Originarios (Digite CERO si no tiene). \",IF(AND(F16<>0,X16=\"\"), \"* No olvide escribir en la celda de Pueblos Originarios (Digite CERO si no tiene). \",\"\"))","v":""},{"$f":"IF(AND(E16<>0,Y16=\"\"), \"* No olvide escribir en la celda de Población Migrantes (Digite CERO si no tiene). \",IF(AND(F16<>0,Z16=\"\"), \"* No olvide escribir en la celda de Población Migrantes (Digite CERO si no tiene). \",\"\"))","v":""},{"$nulls":23},{"$f":"IF(AND(E16<>0,W16=\"\"), 1,IF(AND(F16<>0,X16=\"\"), 1,0))","v":0},{"$f":"IF(AND(E16<>0,Y16=\"\"), 1,IF(AND(F16<>0,Z16=\"\"), 1,0))","v":0}]
[null,null,"TOTAL",{"$f":"SUM(D15:D16)","v":1872},{"$f":"SUM(E15:E16)","v":1045},827,7,6,34,33,42,42,27,23,23,26,19,14,30,15,62,59,135,67,128,84,189,142,191,169,158,147,8,10,22,31]
["P2070201","INDICADOR PESO/TALLA","+ 2 D.S. (>= +2.0)",{"$f":"IFERROR(VLOOKUP($A18,FILTRO!$A12:$AY637,2,FALSE),0)","v":3634},{"$f":"IFERROR(VLOOKUP($A18,FILTRO!$A12:$AY637,3,FALSE),0)","v":1920},{"$f":"IFERROR(VLOOKUP($A18,FILTRO!$A12:$AY637,4,FALSE),0)","v":1714},{"$f":"IFERROR(VLOOKUP($A18,FILTRO!$A12:$AY637,5,FALSE),0)","v":0},{"$f":"IFERROR(VLOOKUP($A18,FILTRO!$A12:$AY637,6,FALSE),0)","v":1},{"$f":"IFERROR(VLOOKUP($A18,FILTRO!$A12:$AY637,7,FALSE),0)","v":21},{"$f":"IFERROR(VLOOKUP($A18,FILTRO!$A12:$AY637,8,FALSE),0)","v":21},{"$f":"IFERROR(VLOOKUP($A18,FILTRO!$A12:$AY637,9,FALSE),0)","v":23},{"$f":"IFERROR(VLOOKUP($A18,FILTRO!$A12:$AY637,10,FALSE),0)","v":18},{"$f":"IFERROR(VLOOKUP($A18,FILTRO!$A12:$AY637,11,FALSE),0)","v":32},{"$f":"IFERROR(VLOOKUP($A18,FILTRO!$A12:$AY637,12,FALSE),0)","v":25},{"$f":"IFERROR(VLOOKUP($A18,FILTRO!$A12:$AY637,13,FALSE),0)","v":43},{"$f":"IFERROR(VLOOKUP($A18,FILTRO!$A12:$AY637,14,FALSE),0)","v":27},{"$f":"IFERROR(VLOOKUP($A18,FILTRO!$A12:$AY637,15,FALSE),0)","v":27},{"$f":"IFERROR(VLOOKUP($A18,FILTRO!$A12:$AY637,16,FALSE),0)","v":18},{"$f":"IFERROR(VLOOKUP($A18,FILTRO!$A12:$AY637,17,FALSE),0)","v":54},{"$f":"IFERROR(VLOOKUP($A18,FILTRO!$A12:$AY637,18,FALSE),0)","v":44},{"$f":"IFERROR(VLOOKUP($A18,FILTRO!$A12:$AY637,19,FALSE),0)","v":175},{"$f":"IFERROR(VLOOKUP($A18,FILTRO!$A12:$AY637,20,FALSE),0)","v":155},{"$f":"IFERROR(VLOOKUP($A18,FILTRO!$A12:$AY637,21,FALSE),0)","v":205},{"$f":"IFERROR(VLOOKUP($A18,FILTRO!$A12:$AY637,22,FALSE),0)","v":177},{"$f":"IFERROR(VLOOKUP($A18,FILTRO!$A12:$AY637,23,FALSE),0)","v":163},{"$f":"IFERROR(VLOOKUP($A18,FILTRO!$A12:$AY637,24,FALSE),0)","v":155},{"$f":"IFERROR(VLOOKUP($A18,FILTRO!$A12:$AY637,25,FALSE),0)","v":277},{"$f":"IFERROR(VLOOKUP($A18,FILTRO!$A12:$AY637,26,FALSE),0)","v":277},{"$f":"IFERROR(VLOOKUP($A18,FILTRO!$A12:$AY637,27,FALSE),0)","v":426},{"$f":"IFERROR(VLOOKUP($A18,FILTRO!$A12:$AY637,28,FALSE),0)","v":382},{"$f":"IFERROR(VLOOKUP($A18,FILTRO!$A12:$AY637,29,FALSE),0)","v":474},{"$f":"IFERROR(VLOOKUP($A18,FILTRO!$A12:$AY637,30,FALSE),0)","v":414},{"$f":"IFERROR(VLOOKUP($A18,FILTRO!$A12:$AY637,31,FALSE),0)","v":6},{"$f":"IFERROR(VLOOKUP($A18,FILTRO!$A12:$AY637,32,FALSE),0)","v":7},{"$f":"IFERROR(VLOOKUP($A18,FILTRO!$A12:$AY637,33,FALSE),0)","v":9},{"$f":"IFERROR(VLOOKUP($A18,FILTRO!$A12:$AY637,34,FALSE),0)","v":15},{"$nulls":37},{"$f":"IF(AND(E18<>0,W18=\"\"), \"* No olvide escribir en la celda de Pueblos Originarios (Digite CERO si no tiene). \",IF(AND(F18<>0,X18=\"\"), \"* No olvide escribir en la celda de Pueblos Originarios (Digite CERO si no tiene). \",\"\"))","v":""},{"$f":"IF(AND(E18<>0,Y18=\"\"), \"* No olvide escribir en la celda de Población Migrantes (Digite CERO si no tiene). \",IF(AND(F18<>0,Z18=\"\"), \"* No olvide escribir en la celda de Población Migrantes (Digite CERO si no tiene). \",\"\"))","v":""},{"$nulls":23},{"$f":"IF(AND(E18<>0,W18=\"\"), 1,IF(AND(F18<>0,X18=\"\"), 1,0))","v":0},{"$f":"IF(AND(E18<>0,Y18=\"\"), 1,IF(AND(F18<>0,Z18=\"\"), 1,0))","v":0}]
["P2070202",null,"+ 1 D.S. (+1.0 a +1.9)",{"$f":"IFERROR(VLOOKUP($A19,FILTRO!$A13:$AY638,2,FALSE),0)","v":6871},{"$f":"IFERROR(VLOOKUP($A19,FILTRO!$A13:$AY638,3,FALSE),0)","v":3457},{"$f":"IFERROR(VLOOKUP($A19,FILTRO!$A13:$AY638,4,FALSE),0)","v":3414},{"$f":"IFERROR(VLOOKUP($A19,FILTRO!$A13:$AY638,5,FALSE),0)","v":6},{"$f":"IFERROR(VLOOKUP($A19,FILTRO!$A13:$AY638,6,FALSE),0)","v":8},{"$f":"IFERROR(VLOOKUP($A19,FILTRO!$A13:$AY638,7,FALSE),0)","v":59},{"$f":"IFERROR(VLOOKUP($A19,FILTRO!$A13:$AY638,8,FALSE),0)","v":49},{"$f":"IFERROR(VLOOKUP($A19,FILTRO!$A13:$AY638,9,FALSE),0)","v":91},{"$f":"IFERROR(VLOOKUP($A19,FILTRO!$A13:$AY638,10,FALSE),0)","v":98},{"$f":"IFERROR(VLOOKUP($A19,FILTRO!$A13:$AY638,11,FALSE),0)","v":81},{"$f":"IFERROR(VLOOKUP($A19,FILTRO!$A13:$AY638,12,FALSE),0)","v":72},{"$f":"IFERROR(VLOOKUP($A19,FILTRO!$A13:$AY638,13,FALSE),0)","v":93},{"$f":"IFERROR(VLOOKUP($A19,FILTRO!$A13:$AY638,14,FALSE),0)","v":113},{"$f":"IFERROR(VLOOKUP($A19,FILTRO!$A13:$AY638,15,FALSE),0)","v":70},{"$f":"IFERROR(VLOOKUP($A19,FILTRO!$A13:$AY638,16,FALSE),0)","v":80},{"$f":"IFERROR(VLOOKUP($A19,FILTRO!$A13:$AY638,17,FALSE),0)","v":129},{"$f":"IFERROR(VLOOKUP($A19,FILTRO!$A13:$AY638,18,FALSE),0)","v":130},{"$f":"IFERROR(VLOOKUP($A19,FILTRO!$A13:$AY638,19,FALSE),0)","v":386},{"$f":"IFERROR(VLOOKUP($A19,FILTRO!$A13:$AY638,20,FALSE),0)","v":363},{"$f":"IFERROR(VLOOKUP($A19,FILTRO!$A13:$AY638,21,FALSE),0)","v":412},{"$f":"IFERROR(VLOOKUP($A19,FILTRO!$A13:$AY638,22,FALSE),0)","v":416},{"$f":"IFERROR(VLOOKUP($A19,FILTRO!$A13:$AY638,23,FALSE),0)","v":350},{"$f":"IFERROR(VLOOKUP($A19,FILTRO!$A13:$AY638,24,FALSE),0)","v":374},{"$f":"IFERROR(VLOOKUP($A19,FILTRO!$A13:$AY638,25,FALSE),0)","v":597},{"$f":"IFERROR(VLOOKUP($A19,FILTRO!$A13:$AY638,26,FALSE),0)","v":560},{"$f":"IFERROR(VLOOKUP($A19,FILTRO!$A13:$AY638,27,FALSE),0)","v":587},{"$f":"IFERROR(VLOOKUP($A19,FILTRO!$A13:$AY638,28,FALSE),0)","v":624},{"$f":"IFERROR(VLOOKUP($A19,FILTRO!$A13:$AY638,29,FALSE),0)","v":596},{"$f":"IFERROR(VLOOKUP($A19,FILTRO!$A13:$AY638,30,FALSE),0)","v":527},{"$f":"IFERROR(VLOOKUP($A19,FILTRO!$A13:$AY638,31,FALSE),0)","v":17},{"$f":"IFERROR(VLOOKUP($A19,FILTRO!$A13:$AY638,32,FALSE),0)","v":22},{"$f":"IFERROR(VLOOKUP($A19,FILTRO!$A13:$AY638,33,FALSE),0)","v":34},{"$f":"IFERROR(VLOOKUP($A19,FILTRO!$A13:$AY638,34,FALSE),0)","v":32},{"$nulls":37},{"$f":"IF(AND(E19<>0,W19=\"\"), \"* No olvide escribir en la celda de Pueblos Originarios (Digite CERO si no tiene). \",IF(AND(F19<>0,X19=\"\"), \"* No olvide escribir en la celda de Pueblos Originarios (Digite CERO si no tiene). \",\"\"))","v":""},{"$f":"IF(AND(E19<>0,Y19=\"\"), \"* No olvide escribir en la celda de Población Migrantes (Digite CERO si no tiene). \",IF(AND(F19<>0,Z19=\"\"), \"* No olvide escribir en la celda de Población Migrantes (Digite CERO si no tiene). \",\"\"))","v":""},{"$nulls":23},{"$f":"IF(AND(E19<>0,W19=\"\"), 1,IF(AND(F19<>0,X19=\"\"), 1,0))","v":0},{"$f":"IF(AND(E19<>0,Y19=\"\"), 1,IF(AND(F19<>0,Z19=\"\"), 1,0))","v":0}]
[null,null,"TOTAL",{"$f":"SUM(D18:D19)","v":10505},{"$f":"SUM(E18:E19)","v":5377},5128,6,9,80,70,114,116,113,97,136,140,97,98,183,174,561,518,617,593,513,529,874,837,1013,1006,1070,941,23,29,43,47,{"$nulls":30},{"$f":"IF($D20>=$W20+$X20,\"\",\"* El Total de Pueblos Originarios no debe ser mayor al Total Indicador peso/talla\")","v":""},{"$f":"IF($D20>=$Y20+$Z20,\"\",\"* El Total de Población Migrante no debe ser mayor al Total Indicador peso/talla\")","v":""},{"$nulls":23},{"$f":"IF($D20>=$W20+$X20,0,1)","v":0},{"$f":"IF($D20>=$Y20+$Z20,0,1)","v":0}]
["P2070301",null,"- 1 D.S. (-1.0 a -1.9)",{"$f":"IFERROR(VLOOKUP($A21,FILTRO!$A15:$AY640,2,FALSE),0)","v":883},{"$f":"IFERROR(VLOOKUP($A21,FILTRO!$A15:$AY640,3,FALSE),0)","v":509},{"$f":"IFERROR(VLOOKUP($A21,FILTRO!$A15:$AY640,4,FALSE),0)","v":374},{"$f":"IFERROR(VLOOKUP($A21,FILTRO!$A15:$AY640,5,FALSE),0)","v":7},{"$f":"IFERROR(VLOOKUP($A21,FILTRO!$A15:$AY640,6,FALSE),0)","v":5},{"$f":"IFERROR(VLOOKUP($A21,FILTRO!$A15:$AY640,7,FALSE),0)","v":17},{"$f":"IFERROR(VLOOKUP($A21,FILTRO!$A15:$AY640,8,FALSE),0)","v":18},{"$f":"IFERROR(VLOOKUP($A21,FILTRO!$A15:$AY640,9,FALSE),0)","v":19},{"$f":"IFERROR(VLOOKUP($A21,FILTRO!$A15:$AY640,10,FALSE),0)","v":19},{"$f":"IFERROR(VLOOKUP($A21,FILTRO!$A15:$AY640,11,FALSE),0)","v":14},{"$f":"IFERROR(VLOOKUP($A21,FILTRO!$A15:$AY640,12,FALSE),0)","v":6},{"$f":"IFERROR(VLOOKUP($A21,FILTRO!$A15:$AY640,13,FALSE),0)","v":16},{"$f":"IFERROR(VLOOKUP($A21,FILTRO!$A15:$AY640,14,FALSE),0)","v":12},{"$f":"IFERROR(VLOOKUP($A21,FILTRO!$A15:$AY640,15,FALSE),0)","v":9},{"$f":"IFERROR(VLOOKUP($A21,FILTRO!$A15:$AY640,16,FALSE),0)","v":1},{"$f":"IFERROR(VLOOKUP($A21,FILTRO!$A15:$AY640,17,FALSE),0)","v":19},{"$f":"IFERROR(VLOOKUP($A21,FILTRO!$A15:$AY640,18,FALSE),0)","v":8},{"$f":"IFERROR(VLOOKUP($A21,FILTRO!$A15:$AY640,19,FALSE),0)","v":35},{"$f":"IFERROR(VLOOKUP($A21,FILTRO!$A15:$AY640,20,FALSE),0)","v":25},{"$f":"IFERROR(VLOOKUP($A21,FILTRO!$A15:$AY640,21,FALSE),0)","v":39},{"$f":"IFERROR(VLOOKUP($A21,FILTRO!$A15:$AY640,22,FALSE),0)","v":28},{"$f":"IFERROR(VLOOKUP($A21,FILTRO!$A15:$AY640,23,FALSE),0)","v":46},{"$f":"IFERROR(VLOOKUP($A21,FILTRO!$A15:$AY640,24,FALSE),0)","v":40},{"$f":"IFERROR(VLOOKUP($A21,FILTRO!$A15:$AY640,25,FALSE),0)","v":108},{"$f":"IFERROR(VLOOKUP($A21,FILTRO!$A15:$AY640,26,FALSE),0)","v":68},{"$f":"IFERROR(VLOOKUP($A21,FILTRO!$A15:$AY640,27,FALSE),0)","v":102},{"$f":"IFERROR(VLOOKUP($A21,FILTRO!$A15:$AY640,28,FALSE),0)","v":81},{"$f":"IFERROR(VLOOKUP($A21,FILTRO!$A15:$AY640,29,FALSE),0)","v":78},{"$f":"IFERROR(VLOOKUP($A21,FILTRO!$A15:$AY640,30,FALSE),0)","v":63},{"$f":"IFERROR(VLOOKUP($A21,FILTRO!$A15:$AY640,31,FALSE),0)","v":1},{"$f":"IFERROR(VLOOKUP($A21,FILTRO!$A15:$AY640,32,FALSE),0)","v":5},{"$f":"IFERROR(VLOOKUP($A21,FILTRO!$A15:$AY640,33,FALSE),0)","v":14},{"$f":"IFERROR(VLOOKUP($A21,FILTRO!$A15:$AY640,34,FALSE),0)","v":14},{"$nulls":37},{"$f":"IF(AND(E21<>0,W21=\"\"), \"* No olvide escribir en la celda de Pueblos Originarios (Digite CERO si no tiene). \",IF(AND(F21<>0,X21=\"\"), \"* No olvide escribir en la celda de Pueblos Originarios (Digite CERO si no tiene). \",\"\"))","v":""},{"$f":"IF(AND(E21<>0,Y21=\"\"), \"* No olvide escribir en la celda de Población Migrantes (Digite CERO si no tiene). \",IF(AND(F21<>0,Z21=\"\"), \"* No olvide escribir en la celda de Población Migrantes (Digite CERO si no tiene). \",\"\"))","v":""},{"$nulls":23},{"$f":"IF(AND(E21<>0,W21=\"\"), 1,IF(AND(F21<>0,X21=\"\"), 1,0))","v":0},{"$f":"IF(AND(E21<>0,Y21=\"\"), 1,IF(AND(F21<>0,Z21=\"\"), 1,0))","v":0}]
["P2070302",null,"- 2 D.S. (<= -2.0)",{"$f":"IFERROR(VLOOKUP($A22,FILTRO!$A16:$AY641,2,FALSE),0)","v":137},{"$f":"IFERROR(VLOOKUP($A22,FILTRO!$A16:$AY641,3,FALSE),0)","v":83},{"$f":"IFERROR(VLOOKUP($A22,FILTRO!$A16:$AY641,4,FALSE),0)","v":54},{"$f":"IFERROR(VLOOKUP($A22,FILTRO!$A16:$AY641,5,FALSE),0)","v":4},{"$f":"IFERROR(VLOOKUP($A22,FILTRO!$A16:$AY641,6,FALSE),0)","v":1},{"$f":"IFERROR(VLOOKUP($A22,FILTRO!$A16:$AY641,7,FALSE),0)","v":4},{"$f":"IFERROR(VLOOKUP($A22,FILTRO!$A16:$AY641,8,FALSE),0)","v":4},{"$f":"IFERROR(VLOOKUP($A22,FILTRO!$A16:$AY641,9,FALSE),0)","v":5},{"$f":"IFERROR(VLOOKUP($A22,FILTRO!$A16:$AY641,10,FALSE),0)","v":2},{"$f":"IFERROR(VLOOKUP($A22,FILTRO!$A16:$AY641,11,FALSE),0)","v":6},{"$f":"IFERROR(VLOOKUP($A22,FILTRO!$A16:$AY641,12,FALSE),0)","v":3},{"$f":"IFERROR(VLOOKUP($A22,FILTRO!$A16:$AY641,13,FALSE),0)","v":0},{"$f":"IFERROR(VLOOKUP($A22,FILTRO!$A16:$AY641,14,FALSE),0)","v":2},{"$f":"IFERROR(VLOOKUP($A22,FILTRO!$A16:$AY641,15,FALSE),0)","v":2},{"$f":"IFERROR(VLOOKUP($A22,FILTRO!$A16:$AY641,16,FALSE),0)","v":2},{"$f":"IFERROR(VLOOKUP($A22,FILTRO!$A16:$AY641,17,FALSE),0)","v":1},{"$f":"IFERROR(VLOOKUP($A22,FILTRO!$A16:$AY641,18,FALSE),0)","v":1},{"$f":"IFERROR(VLOOKUP($A22,FILTRO!$A16:$AY641,19,FALSE),0)","v":5},{"$f":"IFERROR(VLOOKUP($A22,FILTRO!$A16:$AY641,20,FALSE),0)","v":5},{"$f":"IFERROR(VLOOKUP($A22,FILTRO!$A16:$AY641,21,FALSE),0)","v":13},{"$f":"IFERROR(VLOOKUP($A22,FILTRO!$A16:$AY641,22,FALSE),0)","v":3},{"$f":"IFERROR(VLOOKUP($A22,FILTRO!$A16:$AY641,23,FALSE),0)","v":5},{"$f":"IFERROR(VLOOKUP($A22,FILTRO!$A16:$AY641,24,FALSE),0)","v":1},{"$f":"IFERROR(VLOOKUP($A22,FILTRO!$A16:$AY641,25,FALSE),0)","v":10},{"$f":"IFERROR(VLOOKUP($A22,FILTRO!$A16:$AY641,26,FALSE),0)","v":11},{"$f":"IFERROR(VLOOKUP($A22,FILTRO!$A16:$AY641,27,FALSE),0)","v":19},{"$f":"IFERROR(VLOOKUP($A22,FILTRO!$A16:$AY641,28,FALSE),0)","v":8},{"$f":"IFERROR(VLOOKUP($A22,FILTRO!$A16:$AY641,29,FALSE),0)","v":9},{"$f":"IFERROR(VLOOKUP($A22,FILTRO!$A16:$AY641,30,FALSE),0)","v":11},{"$f":"IFERROR(VLOOKUP($A22,FILTRO!$A16:$AY641,31,FALSE),0)","v":0},{"$f":"IFERROR(VLOOKUP($A22,FILTRO!$A16:$AY641,32,FALSE),0)","v":0},{"$f":"IFERROR(VLOOKUP($A22,FILTRO!$A16:$AY641,33,FALSE),0)","v":1},{"$f":"IFERROR(VLOOKUP($A22,FILTRO!$A16:$AY641,34,FALSE),0)","v":13},{"$nulls":37},{"$f":"IF(AND(E22<>0,W22=\"\"), \"* No olvide escribir en la celda de Pueblos Originarios (Digite CERO si no tiene). \",IF(AND(F22<>0,X22=\"\"), \"* No olvide escribir en la celda de Pueblos Originarios (Digite CERO si no tiene). \",\"\"))","v":""},{"$f":"IF(AND(E22<>0,Y22=\"\"), \"* No olvide escribir en la celda de Población Migrantes (Digite CERO si no tiene). \",IF(AND(F22<>0,Z22=\"\"), \"* No olvide escribir en la celda de Población Migrantes (Digite CERO si no tiene). \",\"\"))","v":""},{"$nulls":23},{"$f":"IF(AND(E22<>0,W22=\"\"), 1,IF(AND(F22<>0,X22=\"\"), 1,0))","v":0},{"$f":"IF(AND(E22<>0,Y22=\"\"), 1,IF(AND(F22<>0,Z22=\"\"), 1,0))","v":0}]
[null,null,"TOTAL",{"$f":"SUM(D21:D22)","v":1020},{"$f":"SUM(E21:E22)","v":592},428,11,6,21,22,24,21,20,9,16,14,11,3,20,9,40,30,52,31,51,41,118,79,121,89,87,74,1,5,15,27,{"$nulls":30},{"$f":"IF($D23>=$W23+$X23,\"\",\"* El Total de Pueblos Originarios no debe ser mayor al Total Indicador peso/talla. \")","v":""},{"$f":"IF($D23>=$Y23+$Z23,\"\",\"* El Total de Población Migrantes no debe ser mayor al Total Indicador peso/talla. \")","v":""},{"$nulls":23},{"$f":"IF($D23>=$W23+$X23,0,1)","v":0},{"$f":"IF($D23>=$Y23+$Z23,0,1)","v":0}]
["P2400120","INDICADOR TALLA/EDAD","+ 2 D.S. (>= +2.0)",{"$f":"IFERROR(VLOOKUP($A24,FILTRO!$A18:$AY643,2,FALSE),0)","v":780},{"$f":"IFERROR(VLOOKUP($A24,FILTRO!$A18:$AY643,3,FALSE),0)","v":459},{"$f":"IFERROR(VLOOKUP($A24,FILTRO!$A18:$AY643,4,FALSE),0)","v":321},{"$f":"IFERROR(VLOOKUP($A24,FILTRO!$A18:$AY643,5,FALSE),0)","v":1},{"$f":"IFERROR(VLOOKUP($A24,FILTRO!$A18:$AY643,6,FALSE),0)","v":2},{"$f":"IFERROR(VLOOKUP($A24,FILTRO!$A18:$AY643,7,FALSE),0)","v":6},{"$f":"IFERROR(VLOOKUP($A24,FILTRO!$A18:$AY643,8,FALSE),0)","v":6},{"$f":"IFERROR(VLOOKUP($A24,FILTRO!$A18:$AY643,9,FALSE),0)","v":4},{"$f":"IFERROR(VLOOKUP($A24,FILTRO!$A18:$AY643,10,FALSE),0)","v":3},{"$f":"IFERROR(VLOOKUP($A24,FILTRO!$A18:$AY643,11,FALSE),0)","v":9},{"$f":"IFERROR(VLOOKUP($A24,FILTRO!$A18:$AY643,12,FALSE),0)","v":6},{"$f":"IFERROR(VLOOKUP($A24,FILTRO!$A18:$AY643,13,FALSE),0)","v":10},{"$f":"IFERROR(VLOOKUP($A24,FILTRO!$A18:$AY643,14,FALSE),0)","v":9},{"$f":"IFERROR(VLOOKUP($A24,FILTRO!$A18:$AY643,15,FALSE),0)","v":4},{"$f":"IFERROR(VLOOKUP($A24,FILTRO!$A18:$AY643,16,FALSE),0)","v":2},{"$f":"IFERROR(VLOOKUP($A24,FILTRO!$A18:$AY643,17,FALSE),0)","v":23},{"$f":"IFERROR(VLOOKUP($A24,FILTRO!$A18:$AY643,18,FALSE),0)","v":10},{"$f":"IFERROR(VLOOKUP($A24,FILTRO!$A18:$AY643,19,FALSE),0)","v":40},{"$f":"IFERROR(VLOOKUP($A24,FILTRO!$A18:$AY643,20,FALSE),0)","v":27},{"$f":"IFERROR(VLOOKUP($A24,FILTRO!$A18:$AY643,21,FALSE),0)","v":30},{"$f":"IFERROR(VLOOKUP($A24,FILTRO!$A18:$AY643,22,FALSE),0)","v":27},{"$f":"IFERROR(VLOOKUP($A24,FILTRO!$A18:$AY643,23,FALSE),0)","v":33},{"$f":"IFERROR(VLOOKUP($A24,FILTRO!$A18:$AY643,24,FALSE),0)","v":28},{"$f":"IFERROR(VLOOKUP($A24,FILTRO!$A18:$AY643,25,FALSE),0)","v":78},{"$f":"IFERROR(VLOOKUP($A24,FILTRO!$A18:$AY643,26,FALSE),0)","v":59},{"$f":"IFERROR(VLOOKUP($A24,FILTRO!$A18:$AY643,27,FALSE),0)","v":99},{"$f":"IFERROR(VLOOKUP($A24,FILTRO!$A18:$AY643,28,FALSE),0)","v":65},{"$f":"IFERROR(VLOOKUP($A24,FILTRO!$A18:$AY643,29,FALSE),0)","v":122},{"$f":"IFERROR(VLOOKUP($A24,FILTRO!$A18:$AY643,30,FALSE),0)","v":77},{"$f":"IFERROR(VLOOKUP($A24,FILTRO!$A18:$AY643,31,FALSE),0)","v":4},{"$f":"IFERROR(VLOOKUP($A24,FILTRO!$A18:$AY643,32,FALSE),0)","v":7},{"$f":"IFERROR(VLOOKUP($A24,FILTRO!$A18:$AY643,33,FALSE),0)","v":7},{"$f":"IFERROR(VLOOKUP($A24,FILTRO!$A18:$AY643,34,FALSE),0)","v":10},{"$nulls":37},{"$f":"IF(AND(E24<>0,U24=\"\"), \"* No olvide escribir en la celda de Pueblos Originarios (Digite CERO si no tiene). \",IF(AND(F24<>0,V24=\"\"), \"* No olvide escribir en la celda de Pueblos Originarios (Digite CERO si no tiene). \",\"\"))","v":""},{"$f":"IF(AND(E24<>0,W24=\"\"), \"* No olvide escribir en la celda de Población Migrantes (Digite CERO si no tiene). \",IF(AND(F24<>0,X24=\"\"), \"* No olvide escribir en la celda de Población Migrantes (Digite CERO si no tiene). \",\"\"))","v":""},{"$nulls":23},{"$f":"IF(AND(E24<>0,U24=\"\"), 1,IF(AND(F24<>0,V24=\"\"), 1,0))","v":0},{"$f":"IF(AND(E24<>0,W24=\"\"), 1,IF(AND(F24<>0,X24=\"\"), 1,0))","v":0}]
["P2400130",null,"+ 1 D.S. (+1.0 a +1.9)",{"$f":"IFERROR(VLOOKUP($A25,FILTRO!$A19:$AY644,2,FALSE),0)","v":3501},{"$f":"IFERROR(VLOOKUP($A25,FILTRO!$A19:$AY644,3,FALSE),0)","v":1765},{"$f":"IFERROR(VLOOKUP($A25,FILTRO!$A19:$AY644,4,FALSE),0)","v":1736},{"$f":"IFERROR(VLOOKUP($A25,FILTRO!$A19:$AY644,5,FALSE),0)","v":6},{"$f":"IFERROR(VLOOKUP($A25,FILTRO!$A19:$AY644,6,FALSE),0)","v":11},{"$f":"IFERROR(VLOOKUP($A25,FILTRO!$A19:$AY644,7,FALSE),0)","v":25},{"$f":"IFERROR(VLOOKUP($A25,FILTRO!$A19:$AY644,8,FALSE),0)","v":16},{"$f":"IFERROR(VLOOKUP($A25,FILTRO!$A19:$AY644,9,FALSE),0)","v":21},{"$f":"IFERROR(VLOOKUP($A25,FILTRO!$A19:$AY644,10,FALSE),0)","v":40},{"$f":"IFERROR(VLOOKUP($A25,FILTRO!$A19:$AY644,11,FALSE),0)","v":29},{"$f":"IFERROR(VLOOKUP($A25,FILTRO!$A19:$AY644,12,FALSE),0)","v":38},{"$f":"IFERROR(VLOOKUP($A25,FILTRO!$A19:$AY644,13,FALSE),0)","v":42},{"$f":"IFERROR(VLOOKUP($A25,FILTRO!$A19:$AY644,14,FALSE),0)","v":42},{"$f":"IFERROR(VLOOKUP($A25,FILTRO!$A19:$AY644,15,FALSE),0)","v":23},{"$f":"IFERROR(VLOOKUP($A25,FILTRO!$A19:$AY644,16,FALSE),0)","v":31},{"$f":"IFERROR(VLOOKUP($A25,FILTRO!$A19:$AY644,17,FALSE),0)","v":52},{"$f":"IFERROR(VLOOKUP($A25,FILTRO!$A19:$AY644,18,FALSE),0)","v":42},{"$f":"IFERROR(VLOOKUP($A25,FILTRO!$A19:$AY644,19,FALSE),0)","v":151},{"$f":"IFERROR(VLOOKUP($A25,FILTRO!$A19:$AY644,20,FALSE),0)","v":156},{"$f":"IFERROR(VLOOKUP($A25,FILTRO!$A19:$AY644,21,FALSE),0)","v":161},{"$f":"IFERROR(VLOOKUP($A25,FILTRO!$A19:$AY644,22,FALSE),0)","v":161},{"$f":"IFERROR(VLOOKUP($A25,FILTRO!$A19:$AY644,23,FALSE),0)","v":158},{"$f":"IFERROR(VLOOKUP($A25,FILTRO!$A19:$AY644,24,FALSE),0)","v":168},{"$f":"IFERROR(VLOOKUP($A25,FILTRO!$A19:$AY644,25,FALSE),0)","v":288},{"$f":"IFERROR(VLOOKUP($A25,FILTRO!$A19:$AY644,26,FALSE),0)","v":374},{"$f":"IFERROR(VLOOKUP($A25,FILTRO!$A19:$AY644,27,FALSE),0)","v":393},{"$f":"IFERROR(VLOOKUP($A25,FILTRO!$A19:$AY644,28,FALSE),0)","v":365},{"$f":"IFERROR(VLOOKUP($A25,FILTRO!$A19:$AY644,29,FALSE),0)","v":416},{"$f":"IFERROR(VLOOKUP($A25,FILTRO!$A19:$AY644,30,FALSE),0)","v":292},{"$f":"IFERROR(VLOOKUP($A25,FILTRO!$A19:$AY644,31,FALSE),0)","v":14},{"$f":"IFERROR(VLOOKUP($A25,FILTRO!$A19:$AY644,32,FALSE),0)","v":25},{"$f":"IFERROR(VLOOKUP($A25,FILTRO!$A19:$AY644,33,FALSE),0)","v":30},{"$f":"IFERROR(VLOOKUP($A25,FILTRO!$A19:$AY644,34,FALSE),0)","v":20},{"$nulls":37},{"$f":"IF(AND(E25<>0,U25=\"\"), \"* No olvide escribir en la celda de Pueblos Originarios (Digite CERO si no tiene). \",IF(AND(F25<>0,V25=\"\"), \"* No olvide escribir en la celda de Pueblos Originarios (Digite CERO si no tiene). \",\"\"))","v":""},{"$f":"IF(AND(E25<>0,W25=\"\"), \"* No olvide escribir en la celda de Población Migrantes (Digite CERO si no tiene). \",IF(AND(F25<>0,X25=\"\"), \"* No olvide escribir en la celda de Población Migrantes (Digite CERO si no tiene). \",\"\"))","v":""},{"$nulls":23},{"$f":"IF(AND(E25<>0,U25=\"\"), 1,IF(AND(F25<>0,V25=\"\"), 1,0))","v":0},{"$f":"IF(AND(E25<>0,W25=\"\"), 1,IF(AND(F25<>0,X25=\"\"), 1,0))","v":0}]
[null,null,"TOTAL",{"$f":"SUM(D24:D25)","v":4281},{"$f":"SUM(E24:E25)","v":2224},2057,7,13,31,22,25,43,38,44,52,51,27,33,75,52,191,183,191,188,191,196,366,433,492,430,538,369,18,32,37,30,{"$nulls":30},{"$f":"IF($D26>=$U26+$V26,\"\",\"* El Total de Pueblos Originarios no debe ser mayor al Total Indicador peso/talla. \")","v":""},{"$f":"IF($D26>=$W26+$X26,\"\",\"* El Total de Población Migrantes no debe ser mayor al Total Indicador peso/talla. \")","v":""},{"$nulls":23},{"$f":"IF($D26>=$U26+$V26,0,1)","v":0},{"$f":"IF($D26>=$W26+$X26,0,1)","v":0}]
["P2070401",null,"- 1 D.S. (-1.0 a -1.9)",{"$f":"IFERROR(VLOOKUP($A27,FILTRO!$A21:$AY646,2,FALSE),0)","v":3969},{"$f":"IFERROR(VLOOKUP($A27,FILTRO!$A21:$AY646,3,FALSE),0)","v":2086},{"$f":"IFERROR(VLOOKUP($A27,FILTRO!$A21:$AY646,4,FALSE),0)","v":1883},{"$f":"IFERROR(VLOOKUP($A27,FILTRO!$A21:$AY646,5,FALSE),0)","v":5},{"$f":"IFERROR(VLOOKUP($A27,FILTRO!$A21:$AY646,6,FALSE),0)","v":2},{"$f":"IFERROR(VLOOKUP($A27,FILTRO!$A21:$AY646,7,FALSE),0)","v":36},{"$f":"IFERROR(VLOOKUP($A27,FILTRO!$A21:$AY646,8,FALSE),0)","v":44},{"$f":"IFERROR(VLOOKUP($A27,FILTRO!$A21:$AY646,9,FALSE),0)","v":60},{"$f":"IFERROR(VLOOKUP($A27,FILTRO!$A21:$AY646,10,FALSE),0)","v":58},{"$f":"IFERROR(VLOOKUP($A27,FILTRO!$A21:$AY646,11,FALSE),0)","v":59},{"$f":"IFERROR(VLOOKUP($A27,FILTRO!$A21:$AY646,12,FALSE),0)","v":33},{"$f":"IFERROR(VLOOKUP($A27,FILTRO!$A21:$AY646,13,FALSE),0)","v":56},{"$f":"IFERROR(VLOOKUP($A27,FILTRO!$A21:$AY646,14,FALSE),0)","v":47},{"$f":"IFERROR(VLOOKUP($A27,FILTRO!$A21:$AY646,15,FALSE),0)","v":35},{"$f":"IFERROR(VLOOKUP($A27,FILTRO!$A21:$AY646,16,FALSE),0)","v":33},{"$f":"IFERROR(VLOOKUP($A27,FILTRO!$A21:$AY646,17,FALSE),0)","v":67},{"$f":"IFERROR(VLOOKUP($A27,FILTRO!$A21:$AY646,18,FALSE),0)","v":55},{"$f":"IFERROR(VLOOKUP($A27,FILTRO!$A21:$AY646,19,FALSE),0)","v":219},{"$f":"IFERROR(VLOOKUP($A27,FILTRO!$A21:$AY646,20,FALSE),0)","v":200},{"$f":"IFERROR(VLOOKUP($A27,FILTRO!$A21:$AY646,21,FALSE),0)","v":285},{"$f":"IFERROR(VLOOKUP($A27,FILTRO!$A21:$AY646,22,FALSE),0)","v":219},{"$f":"IFERROR(VLOOKUP($A27,FILTRO!$A21:$AY646,23,FALSE),0)","v":258},{"$f":"IFERROR(VLOOKUP($A27,FILTRO!$A21:$AY646,24,FALSE),0)","v":216},{"$f":"IFERROR(VLOOKUP($A27,FILTRO!$A21:$AY646,25,FALSE),0)","v":359},{"$f":"IFERROR(VLOOKUP($A27,FILTRO!$A21:$AY646,26,FALSE),0)","v":327},{"$f":"IFERROR(VLOOKUP($A27,FILTRO!$A21:$AY646,27,FALSE),0)","v":346},{"$f":"IFERROR(VLOOKUP($A27,FILTRO!$A21:$AY646,28,FALSE),0)","v":337},{"$f":"IFERROR(VLOOKUP($A27,FILTRO!$A21:$AY646,29,FALSE),0)","v":301},{"$f":"IFERROR(VLOOKUP($A27,FILTRO!$A21:$AY646,30,FALSE),0)","v":312},{"$f":"IFERROR(VLOOKUP($A27,FILTRO!$A21:$AY646,31,FALSE),0)","v":14},{"$f":"IFERROR(VLOOKUP($A27,FILTRO!$A21:$AY646,32,FALSE),0)","v":18},{"$f":"IFERROR(VLOOKUP($A27,FILTRO!$A21:$AY646,33,FALSE),0)","v":42},{"$f":"IFERROR(VLOOKUP($A27,FILTRO!$A21:$AY646,34,FALSE),0)","v":64},{"$nulls":37},{"$f":"IF(AND(E27<>0,U27=\"\"), \"* No olvide escribir en la celda de Pueblos Originarios (Digite CERO si no tiene). \",IF(AND(F27<>0,V27=\"\"), \"* No olvide escribir en la celda de Pueblos Originarios (Digite CERO si no tiene). \",\"\"))","v":""},{"$f":"IF(AND(E27<>0,W27=\"\"), \"* No olvide escribir en la celda de Población Migrantes (Digite CERO si no tiene). \",IF(AND(F27<>0,X27=\"\"), \"* No olvide escribir en la celda de Población Migrantes (Digite CERO si no tiene). \",\"\"))","v":""},{"$nulls":23},{"$f":"IF(AND(E27<>0,U27=\"\"), 1,IF(AND(F27<>0,V27=\"\"), 1,0))","v":0},{"$f":"IF(AND(E27<>0,W27=\"\"), 1,IF(AND(F27<>0,X27=\"\"), 1,0))","v":0}]
["P2070402",null,"- 2 D.S. (<= -2.0)",{"$f":"IFERROR(VLOOKUP($A28,FILTRO!$A22:$AY647,2,FALSE),0)","v":706},{"$f":"IFERROR(VLOOKUP($A28,FILTRO!$A22:$AY647,3,FALSE),0)","v":430},{"$f":"IFERROR(VLOOKUP($A28,FILTRO!$A22:$AY647,4,FALSE),0)","v":276},{"$f":"IFERROR(VLOOKUP($A28,FILTRO!$A22:$AY647,5,FALSE),0)","v":2},{"$f":"IFERROR(VLOOKUP($A28,FILTRO!$A22:$AY647,6,FALSE),0)","v":0},{"$f":"IFERROR(VLOOKUP($A28,FILTRO!$A22:$AY647,7,FALSE),0)","v":16},{"$f":"IFERROR(VLOOKUP($A28,FILTRO!$A22:$AY647,8,FALSE),0)","v":10},{"$f":"IFERROR(VLOOKUP($A28,FILTRO!$A22:$AY647,9,FALSE),0)","v":25},{"$f":"IFERROR(VLOOKUP($A28,FILTRO!$A22:$AY647,10,FALSE),0)","v":11},{"$f":"IFERROR(VLOOKUP($A28,FILTRO!$A22:$AY647,11,FALSE),0)","v":12},{"$f":"IFERROR(VLOOKUP($A28,FILTRO!$A22:$AY647,12,FALSE),0)","v":8},{"$f":"IFERROR(VLOOKUP($A28,FILTRO!$A22:$AY647,13,FALSE),0)","v":14},{"$f":"IFERROR(VLOOKUP($A28,FILTRO!$A22:$AY647,14,FALSE),0)","v":5},{"$f":"IFERROR(VLOOKUP($A28,FILTRO!$A22:$AY647,15,FALSE),0)","v":10},{"$f":"IFERROR(VLOOKUP($A28,FILTRO!$A22:$AY647,16,FALSE),0)","v":5},{"$f":"IFERROR(VLOOKUP($A28,FILTRO!$A22:$AY647,17,FALSE),0)","v":15},{"$f":"IFERROR(VLOOKUP($A28,FILTRO!$A22:$AY647,18,FALSE),0)","v":4},{"$f":"IFERROR(VLOOKUP($A28,FILTRO!$A22:$AY647,19,FALSE),0)","v":47},{"$f":"IFERROR(VLOOKUP($A28,FILTRO!$A22:$AY647,20,FALSE),0)","v":24},{"$f":"IFERROR(VLOOKUP($A28,FILTRO!$A22:$AY647,21,FALSE),0)","v":88},{"$f":"IFERROR(VLOOKUP($A28,FILTRO!$A22:$AY647,22,FALSE),0)","v":36},{"$f":"IFERROR(VLOOKUP($A28,FILTRO!$A22:$AY647,23,FALSE),0)","v":61},{"$f":"IFERROR(VLOOKUP($A28,FILTRO!$A22:$AY647,24,FALSE),0)","v":29},{"$f":"IFERROR(VLOOKUP($A28,FILTRO!$A22:$AY647,25,FALSE),0)","v":65},{"$f":"IFERROR(VLOOKUP($A28,FILTRO!$A22:$AY647,26,FALSE),0)","v":45},{"$f":"IFERROR(VLOOKUP($A28,FILTRO!$A22:$AY647,27,FALSE),0)","v":39},{"$f":"IFERROR(VLOOKUP($A28,FILTRO!$A22:$AY647,28,FALSE),0)","v":51},{"$f":"IFERROR(VLOOKUP($A28,FILTRO!$A22:$AY647,29,FALSE),0)","v":36},{"$f":"IFERROR(VLOOKUP($A28,FILTRO!$A22:$AY647,30,FALSE),0)","v":48},{"$f":"IFERROR(VLOOKUP($A28,FILTRO!$A22:$AY647,31,FALSE),0)","v":5},{"$f":"IFERROR(VLOOKUP($A28,FILTRO!$A22:$AY647,32,FALSE),0)","v":3},{"$f":"IFERROR(VLOOKUP($A28,FILTRO!$A22:$AY647,33,FALSE),0)","v":7},{"$f":"IFERROR(VLOOKUP($A28,FILTRO!$A22:$AY647,34,FALSE),0)","v":7},{"$nulls":37},{"$f":"IF(AND(E28<>0,U28=\"\"), \"* No olvide escribir en la celda de Pueblos Originarios (Digite CERO si no tiene). \",IF(AND(F28<>0,V28=\"\"), \"* No olvide escribir en la celda de Pueblos Originarios (Digite CERO si no tiene). \",\"\"))","v":""},{"$f":"IF(AND(E28<>0,W28=\"\"), \"* No olvide escribir en la celda de Población Migrantes (Digite CERO si no tiene). \",IF(AND(F28<>0,X28=\"\"), \"* No olvide escribir en la celda de Población Migrantes (Digite CERO si no tiene). \",\"\"))","v":""},{"$nulls":23},{"$f":"IF(AND(E28<>0,U28=\"\"), 1,IF(AND(F28<>0,V28=\"\"), 1,0))","v":0},{"$f":"IF(AND(E28<>0,W28=\"\"), 1,IF(AND(F28<>0,X28=\"\"), 1,0))","v":0}]
[null,null,"TOTAL",{"$f":"SUM(D27:D28)","v":4675},{"$f":"SUM(E27:E28)","v":2516},2159,7,2,52,54,85,69,71,41,70,52,45,38,82,59,266,224,373,255,319,245,424,372,385,388,337,360,19,21,49,71,{"$nulls":30},{"$f":"IF($D29>=$U29+$V29,\"\",\"* El Total de Pueblos Originarios no debe ser mayor al Total Indicador peso/talla. \")","v":""},{"$f":"IF($D29>=$W29+$X29,\"\",\"* El Total de Población Migrantes no debe ser mayor al Total Indicador peso/talla. \")","v":""},{"$nulls":23},{"$f":"IF($D29>=$U29+$V29,0,1)","v":0},{"$f":"IF($D29>=$W29+$X29,0,1)","v":0}]
["P2400140",null,"PROMEDIO (-0,9 A + 0,9)",{"$f":"IFERROR(VLOOKUP($A30,FILTRO!$A24:$AY649,2,FALSE),0)","v":17267},{"$f":"IFERROR(VLOOKUP($A30,FILTRO!$A24:$AY649,3,FALSE),0)","v":8575},{"$f":"IFERROR(VLOOKUP($A30,FILTRO!$A24:$AY649,4,FALSE),0)","v":9178},{"$f":"IFERROR(VLOOKUP($A30,FILTRO!$A24:$AY649,5,FALSE),0)","v":45},{"$f":"IFERROR(VLOOKUP($A30,FILTRO!$A24:$AY649,6,FALSE),0)","v":50},{"$f":"IFERROR(VLOOKUP($A30,FILTRO!$A24:$AY649,7,FALSE),0)","v":206},{"$f":"IFERROR(VLOOKUP($A30,FILTRO!$A24:$AY649,8,FALSE),0)","v":222},{"$f":"IFERROR(VLOOKUP($A30,FILTRO!$A24:$AY649,9,FALSE),0)","v":224},{"$f":"IFERROR(VLOOKUP($A30,FILTRO!$A24:$AY649,10,FALSE),0)","v":270},{"$f":"IFERROR(VLOOKUP($A30,FILTRO!$A24:$AY649,11,FALSE),0)","v":200},{"$f":"IFERROR(VLOOKUP($A30,FILTRO!$A24:$AY649,12,FALSE),0)","v":257},{"$f":"IFERROR(VLOOKUP($A30,FILTRO!$A24:$AY649,13,FALSE),0)","v":242},{"$f":"IFERROR(VLOOKUP($A30,FILTRO!$A24:$AY649,14,FALSE),0)","v":293},{"$f":"IFERROR(VLOOKUP($A30,FILTRO!$A24:$AY649,15,FALSE),0)","v":158},{"$f":"IFERROR(VLOOKUP($A30,FILTRO!$A24:$AY649,16,FALSE),0)","v":183},{"$f":"IFERROR(VLOOKUP($A30,FILTRO!$A24:$AY649,17,FALSE),0)","v":279},{"$f":"IFERROR(VLOOKUP($A30,FILTRO!$A24:$AY649,18,FALSE),0)","v":295},{"$f":"IFERROR(VLOOKUP($A30,FILTRO!$A24:$AY649,19,FALSE),0)","v":738},{"$f":"IFERROR(VLOOKUP($A30,FILTRO!$A24:$AY649,20,FALSE),0)","v":799},{"$f":"IFERROR(VLOOKUP($A30,FILTRO!$A24:$AY649,21,FALSE),0)","v":938},{"$f":"IFERROR(VLOOKUP($A30,FILTRO!$A24:$AY649,22,FALSE),0)","v":924},{"$f":"IFERROR(VLOOKUP($A30,FILTRO!$A24:$AY649,23,FALSE),0)","v":859},{"$f":"IFERROR(VLOOKUP($A30,FILTRO!$A24:$AY649,24,FALSE),0)","v":922},{"$f":"IFERROR(VLOOKUP($A30,FILTRO!$A24:$AY649,25,FALSE),0)","v":1662},{"$f":"IFERROR(VLOOKUP($A30,FILTRO!$A24:$AY649,26,FALSE),0)","v":1559},{"$f":"IFERROR(VLOOKUP($A30,FILTRO!$A24:$AY649,27,FALSE),0)","v":1799},{"$f":"IFERROR(VLOOKUP($A30,FILTRO!$A24:$AY649,28,FALSE),0)","v":1756},{"$f":"IFERROR(VLOOKUP($A30,FILTRO!$A24:$AY649,29,FALSE),0)","v":1721},{"$f":"IFERROR(VLOOKUP($A30,FILTRO!$A24:$AY649,30,FALSE),0)","v":1648},{"$f":"IFERROR(VLOOKUP($A30,FILTRO!$A24:$AY649,31,FALSE),0)","v":85},{"$f":"IFERROR(VLOOKUP($A30,FILTRO!$A24:$AY649,32,FALSE),0)","v":106},{"$f":"IFERROR(VLOOKUP($A30,FILTRO!$A24:$AY649,33,FALSE),0)","v":174},{"$f":"IFERROR(VLOOKUP($A30,FILTRO!$A24:$AY649,34,FALSE),0)","v":150},{"$nulls":37},{"$f":"IF(AND(E30<>0,U30=\"\"), \"* No olvide escribir en la celda de Pueblos Originarios (Digite CERO si no tiene). \",IF(AND(F30<>0,V30=\"\"), \"* No olvide escribir en la celda de Pueblos Originarios (Digite CERO si no tiene). \",\"\"))","v":""},{"$f":"IF(AND(E30<>0,W30=\"\"), \"* No olvide escribir en la celda de Población Migrantes (Digite CERO si no tiene). \",IF(AND(F30<>0,X30=\"\"), \"* No olvide escribir en la celda de Población Migrantes (Digite CERO si no tiene). \",\"\"))","v":""},{"$nulls":23},{"$f":"IF(AND(E30<>0,U30=\"\"), 1,IF(AND(F30<>0,V30=\"\"), 1,0))","v":0},{"$f":"IF(AND(E30<>0,W30=\"\"), 1,IF(AND(F30<>0,X30=\"\"), 1,0))","v":0}]
["P2070501","DIAGNOSTICO NUTRICIONAL INTEGRADO","RIESGO DE DESNUTRIR/ DEFICIT PONDERAL*",{"$f":"IFERROR(VLOOKUP($A31,FILTRO!$A25:$AY650,2,FALSE),0)","v":979},{"$f":"IFERROR(VLOOKUP($A31,FILTRO!$A25:$AY650,3,FALSE),0)","v":556},{"$f":"IFERROR(VLOOKUP($A31,FILTRO!$A25:$AY650,4,FALSE),0)","v":423},{"$f":"IFERROR(VLOOKUP($A31,FILTRO!$A25:$AY650,5,FALSE),0)","v":0},{"$f":"IFERROR(VLOOKUP($A31,FILTRO!$A25:$AY650,6,FALSE),0)","v":0},{"$f":"IFERROR(VLOOKUP($A31,FILTRO!$A25:$AY650,7,FALSE),0)","v":21},{"$f":"IFERROR(VLOOKUP($A31,FILTRO!$A25:$AY650,8,FALSE),0)","v":21},{"$f":"IFERROR(VLOOKUP($A31,FILTRO!$A25:$AY650,9,FALSE),0)","v":27},{"$f":"IFERROR(VLOOKUP($A31,FILTRO!$A25:$AY650,10,FALSE),0)","v":29},{"$f":"IFERROR(VLOOKUP($A31,FILTRO!$A25:$AY650,11,FALSE),0)","v":22},{"$f":"IFERROR(VLOOKUP($A31,FILTRO!$A25:$AY650,12,FALSE),0)","v":17},{"$f":"IFERROR(VLOOKUP($A31,FILTRO!$A25:$AY650,13,FALSE),0)","v":18},{"$f":"IFERROR(VLOOKUP($A31,FILTRO!$A25:$AY650,14,FALSE),0)","v":19},{"$f":"IFERROR(VLOOKUP($A31,FILTRO!$A25:$AY650,15,FALSE),0)","v":12},{"$f":"IFERROR(VLOOKUP($A31,FILTRO!$A25:$AY650,16,FALSE),0)","v":10},{"$f":"IFERROR(VLOOKUP($A31,FILTRO!$A25:$AY650,17,FALSE),0)","v":22},{"$f":"IFERROR(VLOOKUP($A31,FILTRO!$A25:$AY650,18,FALSE),0)","v":15},{"$f":"IFERROR(VLOOKUP($A31,FILTRO!$A25:$AY650,19,FALSE),0)","v":51},{"$f":"IFERROR(VLOOKUP($A31,FILTRO!$A25:$AY650,20,FALSE),0)","v":44},{"$f":"IFERROR(VLOOKUP($A31,FILTRO!$A25:$AY650,21,FALSE),0)","v":46},{"$f":"IFERROR(VLOOKUP($A31,FILTRO!$A25:$AY650,22,FALSE),0)","v":32},{"$f":"IFERROR(VLOOKUP($A31,FILTRO!$A25:$AY650,23,FALSE),0)","v":52},{"$f":"IFERROR(VLOOKUP($A31,FILTRO!$A25:$AY650,24,FALSE),0)","v":35},{"$f":"IFERROR(VLOOKUP($A31,FILTRO!$A25:$AY650,25,FALSE),0)","v":106},{"$f":"IFERROR(VLOOKUP($A31,FILTRO!$A25:$AY650,26,FALSE),0)","v":58},{"$f":"IFERROR(VLOOKUP($A31,FILTRO!$A25:$AY650,27,FALSE),0)","v":104},{"$f":"IFERROR(VLOOKUP($A31,FILTRO!$A25:$AY650,28,FALSE),0)","v":80},{"$f":"IFERROR(VLOOKUP($A31,FILTRO!$A25:$AY650,29,FALSE),0)","v":75},{"$f":"IFERROR(VLOOKUP($A31,FILTRO!$A25:$AY650,30,FALSE),0)","v":63},{"$f":"IFERROR(VLOOKUP($A31,FILTRO!$A25:$AY650,31,FALSE),0)","v":7},{"$f":"IFERROR(VLOOKUP($A31,FILTRO!$A25:$AY650,32,FALSE),0)","v":7},{"$f":"IFERROR(VLOOKUP($A31,FILTRO!$A25:$AY650,33,FALSE),0)","v":18},{"$f":"IFERROR(VLOOKUP($A31,FILTRO!$A25:$AY650,34,FALSE),0)","v":17},{"$nulls":37},"","",{"$nulls":23},0,0]
["P2070502",null,"DESNUTRIDO",{"$f":"IFERROR(VLOOKUP($A32,FILTRO!$A26:$AY651,2,FALSE),0)","v":115},{"$f":"IFERROR(VLOOKUP($A32,FILTRO!$A26:$AY651,3,FALSE),0)","v":80},{"$f":"IFERROR(VLOOKUP($A32,FILTRO!$A26:$AY651,4,FALSE),0)","v":35},{"$f":"IFERROR(VLOOKUP($A32,FILTRO!$A26:$AY651,5,FALSE),0)","v":0},{"$f":"IFERROR(VLOOKUP($A32,FILTRO!$A26:$AY651,6,FALSE),0)","v":0},{"$f":"IFERROR(VLOOKUP($A32,FILTRO!$A26:$AY651,7,FALSE),0)","v":3},{"$f":"IFERROR(VLOOKUP($A32,FILTRO!$A26:$AY651,8,FALSE),0)","v":4},{"$f":"IFERROR(VLOOKUP($A32,FILTRO!$A26:$AY651,9,FALSE),0)","v":10},{"$f":"IFERROR(VLOOKUP($A32,FILTRO!$A26:$AY651,10,FALSE),0)","v":2},{"$f":"IFERROR(VLOOKUP($A32,FILTRO!$A26:$AY651,11,FALSE),0)","v":4},{"$f":"IFERROR(VLOOKUP($A32,FILTRO!$A26:$AY651,12,FALSE),0)","v":1},{"$f":"IFERROR(VLOOKUP($A32,FILTRO!$A26:$AY651,13,FALSE),0)","v":3},{"$f":"IFERROR(VLOOKUP($A32,FILTRO!$A26:$AY651,14,FALSE),0)","v":1},{"$f":"IFERROR(VLOOKUP($A32,FILTRO!$A26:$AY651,15,FALSE),0)","v":5},{"$f":"IFERROR(VLOOKUP($A32,FILTRO!$A26:$AY651,16,FALSE),0)","v":3},{"$f":"IFERROR(VLOOKUP($A32,FILTRO!$A26:$AY651,17,FALSE),0)","v":3},{"$f":"IFERROR(VLOOKUP($A32,FILTRO!$A26:$AY651,18,FALSE),0)","v":0},{"$f":"IFERROR(VLOOKUP($A32,FILTRO!$A26:$AY651,19,FALSE),0)","v":3},{"$f":"IFERROR(VLOOKUP($A32,FILTRO!$A26:$AY651,20,FALSE),0)","v":2},{"$f":"IFERROR(VLOOKUP($A32,FILTRO!$A26:$AY651,21,FALSE),0)","v":11},{"$f":"IFERROR(VLOOKUP($A32,FILTRO!$A26:$AY651,22,FALSE),0)","v":3},{"$f":"IFERROR(VLOOKUP($A32,FILTRO!$A26:$AY651,23,FALSE),0)","v":6},{"$f":"IFERROR(VLOOKUP($A32,FILTRO!$A26:$AY651,24,FALSE),0)","v":0},{"$f":"IFERROR(VLOOKUP($A32,FILTRO!$A26:$AY651,25,FALSE),0)","v":7},{"$f":"IFERROR(VLOOKUP($A32,FILTRO!$A26:$AY651,26,FALSE),0)","v":10},{"$f":"IFERROR(VLOOKUP($A32,FILTRO!$A26:$AY651,27,FALSE),0)","v":18},{"$f":"IFERROR(VLOOKUP($A32,FILTRO!$A26:$AY651,28,FALSE),0)","v":4},{"$f":"IFERROR(VLOOKUP($A32,FILTRO!$A26:$AY651,29,FALSE),0)","v":7},{"$f":"IFERROR(VLOOKUP($A32,FILTRO!$A26:$AY651,30,FALSE),0)","v":5},{"$f":"IFERROR(VLOOKUP($A32,FILTRO!$A26:$AY651,31,FALSE),0)","v":0},{"$f":"IFERROR(VLOOKUP($A32,FILTRO!$A26:$AY651,32,FALSE),0)","v":0},{"$f":"IFERROR(VLOOKUP($A32,FILTRO!$A26:$AY651,33,FALSE),0)","v":1},{"$f":"IFERROR(VLOOKUP($A32,FILTRO!$A26:$AY651,34,FALSE),0)","v":4},{"$nulls":37},"","",{"$nulls":23},0,0]
["P2070503",null,"SOBREPESO / RIESGO OBESIDAD",{"$f":"IFERROR(VLOOKUP($A33,FILTRO!$A27:$AY652,2,FALSE),0)","v":7156},{"$f":"IFERROR(VLOOKUP($A33,FILTRO!$A27:$AY652,3,FALSE),0)","v":3593},{"$f":"IFERROR(VLOOKUP($A33,FILTRO!$A27:$AY652,4,FALSE),0)","v":3563},{"$f":"IFERROR(VLOOKUP($A33,FILTRO!$A27:$AY652,5,FALSE),0)","v":0},{"$f":"IFERROR(VLOOKUP($A33,FILTRO!$A27:$AY652,6,FALSE),0)","v":0},{"$f":"IFERROR(VLOOKUP($A33,FILTRO!$A27:$AY652,7,FALSE),0)","v":59},{"$f":"IFERROR(VLOOKUP($A33,FILTRO!$A27:$AY652,8,FALSE),0)","v":48},{"$f":"IFERROR(VLOOKUP($A33,FILTRO!$A27:$AY652,9,FALSE),0)","v":89},{"$f":"IFERROR(VLOOKUP($A33,FILTRO!$A27:$AY652,10,FALSE),0)","v":101},{"$f":"IFERROR(VLOOKUP($A33,FILTRO!$A27:$AY652,11,FALSE),0)","v":86},{"$f":"IFERROR(VLOOKUP($A33,FILTRO!$A27:$AY652,12,FALSE),0)","v":76},{"$f":"IFERROR(VLOOKUP($A33,FILTRO!$A27:$AY652,13,FALSE),0)","v":88},{"$f":"IFERROR(VLOOKUP($A33,FILTRO!$A27:$AY652,14,FALSE),0)","v":111},{"$f":"IFERROR(VLOOKUP($A33,FILTRO!$A27:$AY652,15,FALSE),0)","v":75},{"$f":"IFERROR(VLOOKUP($A33,FILTRO!$A27:$AY652,16,FALSE),0)","v":82},{"$f":"IFERROR(VLOOKUP($A33,FILTRO!$A27:$AY652,17,FALSE),0)","v":130},{"$f":"IFERROR(VLOOKUP($A33,FILTRO!$A27:$AY652,18,FALSE),0)","v":137},{"$f":"IFERROR(VLOOKUP($A33,FILTRO!$A27:$AY652,19,FALSE),0)","v":405},{"$f":"IFERROR(VLOOKUP($A33,FILTRO!$A27:$AY652,20,FALSE),0)","v":382},{"$f":"IFERROR(VLOOKUP($A33,FILTRO!$A27:$AY652,21,FALSE),0)","v":439},{"$f":"IFERROR(VLOOKUP($A33,FILTRO!$A27:$AY652,22,FALSE),0)","v":442},{"$f":"IFERROR(VLOOKUP($A33,FILTRO!$A27:$AY652,23,FALSE),0)","v":368},{"$f":"IFERROR(VLOOKUP($A33,FILTRO!$A27:$AY652,24,FALSE),0)","v":401},{"$f":"IFERROR(VLOOKUP($A33,FILTRO!$A27:$AY652,25,FALSE),0)","v":621},{"$f":"IFERROR(VLOOKUP($A33,FILTRO!$A27:$AY652,26,FALSE),0)","v":588},{"$f":"IFERROR(VLOOKUP($A33,FILTRO!$A27:$AY652,27,FALSE),0)","v":609},{"$f":"IFERROR(VLOOKUP($A33,FILTRO!$A27:$AY652,28,FALSE),0)","v":690},{"$f":"IFERROR(VLOOKUP($A33,FILTRO!$A27:$AY652,29,FALSE),0)","v":647},{"$f":"IFERROR(VLOOKUP($A33,FILTRO!$A27:$AY652,30,FALSE),0)","v":568},{"$f":"IFERROR(VLOOKUP($A33,FILTRO!$A27:$AY652,31,FALSE),0)","v":36},{"$f":"IFERROR(VLOOKUP($A33,FILTRO!$A27:$AY652,32,FALSE),0)","v":45},{"$f":"IFERROR(VLOOKUP($A33,FILTRO!$A27:$AY652,33,FALSE),0)","v":68},{"$f":"IFERROR(VLOOKUP($A33,FILTRO!$A27:$AY652,34,FALSE),0)","v":65},{"$nulls":37},"","",{"$nulls":23},0,0]
["P2070504",null,"OBESO",{"$f":"IFERROR(VLOOKUP($A34,FILTRO!$A28:$AY653,2,FALSE),0)","v":3809},{"$f":"IFERROR(VLOOKUP($A34,FILTRO!$A28:$AY653,3,FALSE),0)","v":1997},{"$f":"IFERROR(VLOOKUP($A34,FILTRO!$A28:$AY653,4,FALSE),0)","v":1812},{"$f":"IFERROR(VLOOKUP($A34,FILTRO!$A28:$AY653,5,FALSE),0)","v":0},{"$f":"IFERROR(VLOOKUP($A34,FILTRO!$A28:$AY653,6,FALSE),0)","v":0},{"$f":"IFERROR(VLOOKUP($A34,FILTRO!$A28:$AY653,7,FALSE),0)","v":24},{"$f":"IFERROR(VLOOKUP($A34,FILTRO!$A28:$AY653,8,FALSE),0)","v":11},{"$f":"IFERROR(VLOOKUP($A34,FILTRO!$A28:$AY653,9,FALSE),0)","v":22},{"$f":"IFERROR(VLOOKUP($A34,FILTRO!$A28:$AY653,10,FALSE),0)","v":17},{"$f":"IFERROR(VLOOKUP($A34,FILTRO!$A28:$AY653,11,FALSE),0)","v":32},{"$f":"IFERROR(VLOOKUP($A34,FILTRO!$A28:$AY653,12,FALSE),0)","v":29},{"$f":"IFERROR(VLOOKUP($A34,FILTRO!$A28:$AY653,13,FALSE),0)","v":47},{"$f":"IFERROR(VLOOKUP($A34,FILTRO!$A28:$AY653,14,FALSE),0)","v":30},{"$f":"IFERROR(VLOOKUP($A34,FILTRO!$A28:$AY653,15,FALSE),0)","v":26},{"$f":"IFERROR(VLOOKUP($A34,FILTRO!$A28:$AY653,16,FALSE),0)","v":24},{"$f":"IFERROR(VLOOKUP($A34,FILTRO!$A28:$AY653,17,FALSE),0)","v":62},{"$f":"IFERROR(VLOOKUP($A34,FILTRO!$A28:$AY653,18,FALSE),0)","v":47},{"$f":"IFERROR(VLOOKUP($A34,FILTRO!$A28:$AY653,19,FALSE),0)","v":184},{"$f":"IFERROR(VLOOKUP($A34,FILTRO!$A28:$AY653,20,FALSE),0)","v":172},{"$f":"IFERROR(VLOOKUP($A34,FILTRO!$A28:$AY653,21,FALSE),0)","v":213},{"$f":"IFERROR(VLOOKUP($A34,FILTRO!$A28:$AY653,22,FALSE),0)","v":187},{"$f":"IFERROR(VLOOKUP($A34,FILTRO!$A28:$AY653,23,FALSE),0)","v":173},{"$f":"IFERROR(VLOOKUP($A34,FILTRO!$A28:$AY653,24,FALSE),0)","v":169},{"$f":"IFERROR(VLOOKUP($A34,FILTRO!$A28:$AY653,25,FALSE),0)","v":291},{"$f":"IFERROR(VLOOKUP($A34,FILTRO!$A28:$AY653,26,FALSE),0)","v":290},{"$f":"IFERROR(VLOOKUP($A34,FILTRO!$A28:$AY653,27,FALSE),0)","v":435},{"$f":"IFERROR(VLOOKUP($A34,FILTRO!$A28:$AY653,28,FALSE),0)","v":427},{"$f":"IFERROR(VLOOKUP($A34,FILTRO!$A28:$AY653,29,FALSE),0)","v":488},{"$f":"IFERROR(VLOOKUP($A34,FILTRO!$A28:$AY653,30,FALSE),0)","v":451},{"$f":"IFERROR(VLOOKUP($A34,FILTRO!$A28:$AY653,31,FALSE),0)","v":21},{"$f":"IFERROR(VLOOKUP($A34,FILTRO!$A28:$AY653,32,FALSE),0)","v":23},{"$f":"IFERROR(VLOOKUP($A34,FILTRO!$A28:$AY653,33,FALSE),0)","v":25},{"$f":"IFERROR(VLOOKUP($A34,FILTRO!$A28:$AY653,34,FALSE),0)","v":18},{"$nulls":37},"","",{"$nulls":23},0,0]
["P2070505",null,"NORMAL",{"$f":"IFERROR(VLOOKUP($A35,FILTRO!$A29:$AY654,2,FALSE),0)","v":18326},{"$f":"IFERROR(VLOOKUP($A35,FILTRO!$A29:$AY654,3,FALSE),0)","v":9206},{"$f":"IFERROR(VLOOKUP($A35,FILTRO!$A29:$AY654,4,FALSE),0)","v":9120},{"$f":"IFERROR(VLOOKUP($A35,FILTRO!$A29:$AY654,5,FALSE),0)","v":0},{"$f":"IFERROR(VLOOKUP($A35,FILTRO!$A29:$AY654,6,FALSE),0)","v":0},{"$f":"IFERROR(VLOOKUP($A35,FILTRO!$A29:$AY654,7,FALSE),0)","v":229},{"$f":"IFERROR(VLOOKUP($A35,FILTRO!$A29:$AY654,8,FALSE),0)","v":256},{"$f":"IFERROR(VLOOKUP($A35,FILTRO!$A29:$AY654,9,FALSE),0)","v":246},{"$f":"IFERROR(VLOOKUP($A35,FILTRO!$A29:$AY654,10,FALSE),0)","v":273},{"$f":"IFERROR(VLOOKUP($A35,FILTRO!$A29:$AY654,11,FALSE),0)","v":222},{"$f":"IFERROR(VLOOKUP($A35,FILTRO!$A29:$AY654,12,FALSE),0)","v":260},{"$f":"IFERROR(VLOOKUP($A35,FILTRO!$A29:$AY654,13,FALSE),0)","v":241},{"$f":"IFERROR(VLOOKUP($A35,FILTRO!$A29:$AY654,14,FALSE),0)","v":288},{"$f":"IFERROR(VLOOKUP($A35,FILTRO!$A29:$AY654,15,FALSE),0)","v":149},{"$f":"IFERROR(VLOOKUP($A35,FILTRO!$A29:$AY654,16,FALSE),0)","v":176},{"$f":"IFERROR(VLOOKUP($A35,FILTRO!$A29:$AY654,17,FALSE),0)","v":274},{"$f":"IFERROR(VLOOKUP($A35,FILTRO!$A29:$AY654,18,FALSE),0)","v":261},{"$f":"IFERROR(VLOOKUP($A35,FILTRO!$A29:$AY654,19,FALSE),0)","v":684},{"$f":"IFERROR(VLOOKUP($A35,FILTRO!$A29:$AY654,20,FALSE),0)","v":742},{"$f":"IFERROR(VLOOKUP($A35,FILTRO!$A29:$AY654,21,FALSE),0)","v":944},{"$f":"IFERROR(VLOOKUP($A35,FILTRO!$A29:$AY654,22,FALSE),0)","v":875},{"$f":"IFERROR(VLOOKUP($A35,FILTRO!$A29:$AY654,23,FALSE),0)","v":941},{"$f":"IFERROR(VLOOKUP($A35,FILTRO!$A29:$AY654,24,FALSE),0)","v":916},{"$f":"IFERROR(VLOOKUP($A35,FILTRO!$A29:$AY654,25,FALSE),0)","v":1746},{"$f":"IFERROR(VLOOKUP($A35,FILTRO!$A29:$AY654,26,FALSE),0)","v":1701},{"$f":"IFERROR(VLOOKUP($A35,FILTRO!$A29:$AY654,27,FALSE),0)","v":1892},{"$f":"IFERROR(VLOOKUP($A35,FILTRO!$A29:$AY654,28,FALSE),0)","v":1800},{"$f":"IFERROR(VLOOKUP($A35,FILTRO!$A29:$AY654,29,FALSE),0)","v":1829},{"$f":"IFERROR(VLOOKUP($A35,FILTRO!$A29:$AY654,30,FALSE),0)","v":1757},{"$f":"IFERROR(VLOOKUP($A35,FILTRO!$A29:$AY654,31,FALSE),0)","v":86},{"$f":"IFERROR(VLOOKUP($A35,FILTRO!$A29:$AY654,32,FALSE),0)","v":96},{"$f":"IFERROR(VLOOKUP($A35,FILTRO!$A29:$AY654,33,FALSE),0)","v":217},{"$f":"IFERROR(VLOOKUP($A35,FILTRO!$A29:$AY654,34,FALSE),0)","v":234},{"$nulls":37},"","",{"$nulls":23},0,0]
[null,null,"SUBTOTAL",{"$f":"SUM(E36:F36)","v":30889},{"$f":"+I36+K36+M36+O36+Q36+S36+U36+W36+Y36+AA36+AC36+AE36","v":15646},15243,null,null,{"$f":"SUM(I31:I35)","v":336},340,394,422,366,383,397,449,267,295,491,460,1327,1342,1653,1539,1540,1521,2771,2647,3058,3001,3046,2844,150,171,329,338,{"$nulls":30},{"$f":"IF($D36>=$U36+$V36,\"\",\"* El Total de Pueblos Originarios no debe ser mayor al Total Indicador peso/talla. \")","v":""},{"$f":"IF($D36>=$W36+$X36,\"\",\"* El Total de Población Migrantes no debe ser mayor al Total Indicador peso/talla. \")","v":""},{"$nulls":23},{"$f":"IF($D36>=$U36+$V36,0,1)","v":0},{"$f":"IF($D36>=$W36+$X36,0,1)","v":0}]
["P2070506",null,"DESNUTRICIÓN \nSECUNDARIA",{"$f":"IFERROR(VLOOKUP($A37,FILTRO!$A31:$AY656,2,FALSE),0)","v":13},{"$f":"IFERROR(VLOOKUP($A37,FILTRO!$A31:$AY656,3,FALSE),0)","v":5},{"$f":"IFERROR(VLOOKUP($A37,FILTRO!$A31:$AY656,4,FALSE),0)","v":8},{"$f":"IFERROR(VLOOKUP($A37,FILTRO!$A31:$AY656,5,FALSE),0)","v":0},{"$f":"IFERROR(VLOOKUP($A37,FILTRO!$A31:$AY656,6,FALSE),0)","v":0},{"$f":"IFERROR(VLOOKUP($A37,FILTRO!$A31:$AY656,7,FALSE),0)","v":0},{"$f":"IFERROR(VLOOKUP($A37,FILTRO!$A31:$AY656,8,FALSE),0)","v":1},{"$f":"IFERROR(VLOOKUP($A37,FILTRO!$A31:$AY656,9,FALSE),0)","v":0},{"$f":"IFERROR(VLOOKUP($A37,FILTRO!$A31:$AY656,10,FALSE),0)","v":0},{"$f":"IFERROR(VLOOKUP($A37,FILTRO!$A31:$AY656,11,FALSE),0)","v":0},{"$f":"IFERROR(VLOOKUP($A37,FILTRO!$A31:$AY656,12,FALSE),0)","v":0},{"$f":"IFERROR(VLOOKUP($A37,FILTRO!$A31:$AY656,13,FALSE),0)","v":1},{"$f":"IFERROR(VLOOKUP($A37,FILTRO!$A31:$AY656,14,FALSE),0)","v":0},{"$f":"IFERROR(VLOOKUP($A37,FILTRO!$A31:$AY656,15,FALSE),0)","v":0},{"$f":"IFERROR(VLOOKUP($A37,FILTRO!$A31:$AY656,16,FALSE),0)","v":0},{"$f":"IFERROR(VLOOKUP($A37,FILTRO!$A31:$AY656,17,FALSE),0)","v":0},{"$f":"IFERROR(VLOOKUP($A37,FILTRO!$A31:$AY656,18,FALSE),0)","v":0},{"$f":"IFERROR(VLOOKUP($A37,FILTRO!$A31:$AY656,19,FALSE),0)","v":0},{"$f":"IFERROR(VLOOKUP($A37,FILTRO!$A31:$AY656,20,FALSE),0)","v":1},{"$f":"IFERROR(VLOOKUP($A37,FILTRO!$A31:$AY656,21,FALSE),0)","v":1},{"$f":"IFERROR(VLOOKUP($A37,FILTRO!$A31:$AY656,22,FALSE),0)","v":0},{"$f":"IFERROR(VLOOKUP($A37,FILTRO!$A31:$AY656,23,FALSE),0)","v":0},{"$f":"IFERROR(VLOOKUP($A37,FILTRO!$A31:$AY656,24,FALSE),0)","v":1},{"$f":"IFERROR(VLOOKUP($A37,FILTRO!$A31:$AY656,25,FALSE),0)","v":1},{"$f":"IFERROR(VLOOKUP($A37,FILTRO!$A31:$AY656,26,FALSE),0)","v":1},{"$f":"IFERROR(VLOOKUP($A37,FILTRO!$A31:$AY656,27,FALSE),0)","v":1},{"$f":"IFERROR(VLOOKUP($A37,FILTRO!$A31:$AY656,28,FALSE),0)","v":3},{"$f":"IFERROR(VLOOKUP($A37,FILTRO!$A31:$AY656,29,FALSE),0)","v":1},{"$f":"IFERROR(VLOOKUP($A37,FILTRO!$A31:$AY656,30,FALSE),0)","v":1},{"$f":"IFERROR(VLOOKUP($A37,FILTRO!$A31:$AY656,31,FALSE),0)","v":0},{"$f":"IFERROR(VLOOKUP($A37,FILTRO!$A31:$AY656,32,FALSE),0)","v":0},{"$f":"IFERROR(VLOOKUP($A37,FILTRO!$A31:$AY656,33,FALSE),0)","v":1},{"$f":"IFERROR(VLOOKUP($A37,FILTRO!$A31:$AY656,34,FALSE),0)","v":1},{"$nulls":37},{"$f":"IF(AND(E37<>0,U37=\"\"), \"* No olvide escribir en la celda de Pueblos Originarios (Digite CERO si no tiene). \",IF(AND(F37<>0,V37=\"\"), \"* No olvide escribir en la celda de Pueblos Originarios (Digite CERO si no tiene). \",\"\"))","v":""},{"$f":"IF(AND(E37<>0,W37=\"\"), \"* No olvide escribir en la celda de Población Migrantes (Digite CERO si no tiene). \",IF(AND(F37<>0,X37=\"\"), \"* No olvide escribir en la celda de Población Migrantes (Digite CERO si no tiene). \",\"\"))","v":""},{"$nulls":23},{"$f":"IF(AND(E37<>0,U37=\"\"), 1,IF(AND(F37<>0,V37=\"\"), 1,0))","v":0},{"$f":"IF(AND(E37<>0,W37=\"\"), 1,IF(AND(F37<>0,X37=\"\"), 1,0))","v":0}]
[null,null,"TOTAL",{"$f":"SUM(E38:F38)","v":30902},{"$f":"+I38+K38+M38+O38+Q38+S38+U38+W38+Y38+AA38+AC38+AE38","v":15651},15251,null,null,{"$f":"SUM(I31:I35)+I37","v":336},341,394,422,366,383,398,449,267,295,491,460,1327,1343,1654,1539,1540,1522,2772,2648,3059,3004,3047,2845,150,171,330,339]
["P2501800","NIÑOS SIN EVALUACIÓN NUTRICIONAL POR CURSO DE VIDA (RECIÉN NACIDOS) O POR CONDICIÓN ESPECIAL DE SALUD",null,{"$f":"IFERROR(VLOOKUP($A39,FILTRO!$A33:$AY658,2,FALSE),0)","v":160},{"$f":"IFERROR(VLOOKUP($A39,FILTRO!$A33:$AY658,3,FALSE),0)","v":80},{"$f":"IFERROR(VLOOKUP($A39,FILTRO!$A33:$AY658,4,FALSE),0)","v":80},{"$f":"IFERROR(VLOOKUP($A39,FILTRO!$A33:$AY658,5,FALSE),0)","v":72},{"$f":"IFERROR(VLOOKUP($A39,FILTRO!$A33:$AY658,6,FALSE),0)","v":74},{"$f":"IFERROR(VLOOKUP($A39,FILTRO!$A33:$AY658,7,FALSE),0)","v":0},{"$f":"IFERROR(VLOOKUP($A39,FILTRO!$A33:$AY658,8,FALSE),0)","v":0},{"$f":"IFERROR(VLOOKUP($A39,FILTRO!$A33:$AY658,9,FALSE),0)","v":0},{"$f":"IFERROR(VLOOKUP($A39,FILTRO!$A33:$AY658,10,FALSE),0)","v":0},{"$f":"IFERROR(VLOOKUP($A39,FILTRO!$A33:$AY658,11,FALSE),0)","v":0},{"$f":"IFERROR(VLOOKUP($A39,FILTRO!$A33:$AY658,12,FALSE),0)","v":0},{"$f":"IFERROR(VLOOKUP($A39,FILTRO!$A33:$AY658,13,FALSE),0)","v":0},{"$f":"IFERROR(VLOOKUP($A39,FILTRO!$A33:$AY658,14,FALSE),0)","v":0},{"$f":"IFERROR(VLOOKUP($A39,FILTRO!$A33:$AY658,15,FALSE),0)","v":0},{"$f":"IFERROR(VLOOKUP($A39,FILTRO!$A33:$AY658,16,FALSE),0)","v":0},{"$f":"IFERROR(VLOOKUP($A39,FILTRO!$A33:$AY658,17,FALSE),0)","v":0},{"$f":"IFERROR(VLOOKUP($A39,FILTRO!$A33:$AY658,18,FALSE),0)","v":0},{"$f":"IFERROR(VLOOKUP($A39,FILTRO!$A33:$AY658,19,FALSE),0)","v":0},{"$f":"IFERROR(VLOOKUP($A39,FILTRO!$A33:$AY658,20,FALSE),0)","v":0},{"$f":"IFERROR(VLOOKUP($A39,FILTRO!$A33:$AY658,21,FALSE),0)","v":0},{"$f":"IFERROR(VLOOKUP($A39,FILTRO!$A33:$AY658,22,FALSE),0)","v":2},{"$f":"IFERROR(VLOOKUP($A39,FILTRO!$A33:$AY658,23,FALSE),0)","v":0},{"$f":"IFERROR(VLOOKUP($A39,FILTRO!$A33:$AY658,24,FALSE),0)","v":2},{"$f":"IFERROR(VLOOKUP($A39,FILTRO!$A33:$AY658,25,FALSE),0)","v":1},{"$f":"IFERROR(VLOOKUP($A39,FILTRO!$A33:$AY658,26,FALSE),0)","v":0},{"$f":"IFERROR(VLOOKUP($A39,FILTRO!$A33:$AY658,27,FALSE),0)","v":3},{"$f":"IFERROR(VLOOKUP($A39,FILTRO!$A33:$AY658,28,FALSE),0)","v":0},{"$f":"IFERROR(VLOOKUP($A39,FILTRO!$A33:$AY658,29,FALSE),0)","v":4},{"$f":"IFERROR(VLOOKUP($A39,FILTRO!$A33:$AY658,30,FALSE),0)","v":2},{"$f":"IFERROR(VLOOKUP($A39,FILTRO!$A33:$AY658,31,FALSE),0)","v":0},{"$f":"IFERROR(VLOOKUP($A39,FILTRO!$A33:$AY658,32,FALSE),0)","v":0},{"$f":"IFERROR(VLOOKUP($A39,FILTRO!$A33:$AY658,33,FALSE),0)","v":0},{"$f":"IFERROR(VLOOKUP($A39,FILTRO!$A33:$AY658,34,FALSE),0)","v":0},{"$nulls":30},{"$f":"IF($D39>=$U39+$V39,\"\",\"* El Total de Pueblos Originarios no debe ser mayor al Total Indicador peso/talla. \")","v":""},{"$f":"IF($D39>=$W39+$X39,\"\",\"* El Total de Población Migrantes no debe ser mayor al Total Indicador peso/talla. \")","v":""},{"$nulls":23},{"$f":"IF($D39>=$U39+$V39,0,1)","v":0},{"$f":"IF($D39>=$W39+$X39,0,1)","v":0}]
[null,"SECCION A.1: POBLACIÓN EN CONTROL, SEGÚN ESTADO NUTRICIONAL PARA NIÑOS AS DE 60 MESES - 9 AÑOS 11 MESES"]
[null,"INDICADOR NUTRICIONAL\nY\nPARÁMETROS DE MEDICIÓN",null,"TOTAL",null,null,"GRUPOS DE EDAD (en meses - años) Y SEXO"]
[{"$nulls":6},"60 a 71 meses",null,"6 a 6 años 11 meses",null,"7 a 7 años 11 meses",null,"8 a 8 años 11 meses",null,"9 a 9 años 11 meses",null,"Pueblos Originarios",null," Migrantes"]
[{"$nulls":3},"Ambos sexos","Hombres","Mujeres","Hombres","Mujeres","Hombres","Mujeres","Hombres","Mujeres","Hombres","Mujeres","Hombres","Mujeres","Hombres","Mujeres","Hombres","Mujeres"]
["P2400150","TOTAL DE NIÑOS EN CONTROL",null,{"$f":"IFERROR(VLOOKUP($A44,FILTRO!$A38:$AY663,2,FALSE),0)","v":17414},{"$f":"IFERROR(VLOOKUP($A44,FILTRO!$A38:$AY663,3,FALSE),0)","v":8788},{"$f":"IFERROR(VLOOKUP($A44,FILTRO!$A38:$AY663,4,FALSE),0)","v":8626},{"$f":"IFERROR(VLOOKUP($A44,FILTRO!$A38:$AY663,5,FALSE),0)","v":2540},{"$f":"IFERROR(VLOOKUP($A44,FILTRO!$A38:$AY663,6,FALSE),0)","v":2503},{"$f":"IFERROR(VLOOKUP($A44,FILTRO!$A38:$AY663,7,FALSE),0)","v":2152},{"$f":"IFERROR(VLOOKUP($A44,FILTRO!$A38:$AY663,8,FALSE),0)","v":2011},{"$f":"IFERROR(VLOOKUP($A44,FILTRO!$A38:$AY663,9,FALSE),0)","v":1668},{"$f":"IFERROR(VLOOKUP($A44,FILTRO!$A38:$AY663,10,FALSE),0)","v":1667},{"$f":"IFERROR(VLOOKUP($A44,FILTRO!$A38:$AY663,11,FALSE),0)","v":1374},{"$f":"IFERROR(VLOOKUP($A44,FILTRO!$A38:$AY663,12,FALSE),0)","v":1391},{"$f":"IFERROR(VLOOKUP($A44,FILTRO!$A38:$AY663,13,FALSE),0)","v":1054},{"$f":"IFERROR(VLOOKUP($A44,FILTRO!$A38:$AY663,14,FALSE),0)","v":1054},{"$f":"IFERROR(VLOOKUP($A44,FILTRO!$A38:$AY663,15,FALSE),0)","v":124},{"$f":"IFERROR(VLOOKUP($A44,FILTRO!$A38:$AY663,16,FALSE),0)","v":116},{"$f":"IFERROR(VLOOKUP($A44,FILTRO!$A38:$AY663,17,FALSE),0)","v":308},{"$f":"IFERROR(VLOOKUP($A44,FILTRO!$A38:$AY663,18,FALSE),0)","v":296},{"$f":"CI44 & CJ44 & CK44 & CL44 & CM44 & CN44 & CP44 & CQ44","v":"* El Total de niños en control de 60 a 71 meses no debe ser distinto al total del Diagnóstico Nutricional Integrado. * El Total de niñas en control de 8 a 8 años 11 meses no debe ser distinto al total del Diagnóstico Nutricional Integrado. "},{"$nulls":65},{"$f":"IF(G44+H44<>G72+H72,\"* El Total de niños en control de 60 a 71 meses no debe ser distinto al total del Diagnóstico Nutricional Integrado. \",\"\")","v":"* El Total de niños en control de 60 a 71 meses no debe ser distinto al total del Diagnóstico Nutricional Integrado. "},{"$f":"IF(I44+J44<>I72+J72,\"* El Total de niñas en control de 6 a 6 años 11 meses no debe ser distinto al total del Diagnóstico Nutricional Integrado. \",\"\")","v":""},{"$f":"IF(K44+L44<>K72+L72,\"* El Total de niños en control de 7 a 7 años 11 meses no debe ser distinto al total del Diagnóstico Nutricional Integrado. \",\"\")","v":""},{"$f":"IF(M44+N44<>M72+N72,\"* El Total de niñas en control de 8 a 8 años 11 meses no debe ser distinto al total del Diagnóstico Nutricional Integrado. \",\"\")","v":"* El Total de niñas en control de 8 a 8 años 11 meses no debe ser distinto al total del Diagnóstico Nutricional Integrado. "},{"$f":"IF($D44>=$Q44+$R44,\"\",\"* El Total de Pueblos Originarios no debe ser mayor al total de niños en control. \")","v":""},{"$f":"IF($D44>=$S44+$T44,\"\",\"* El Total de Pueblación Migrantes no debe ser mayor al total de niños en control. \")","v":""},null,{"$f":"IF(AND(E44<>0,Q44=\"\"), \"* No olvide escribir en la celda de Pueblos Originarios (Digite CERO si no tiene). \",IF(AND(F44<>0,R44=\"\"), \"* No olvide escribir en la celda de Pueblos Originarios (Digite CERO si no tiene). \",\"\"))","v":""},{"$f":"IF(AND(E44<>0,S44=\"\"), \"* No olvide escribir en la celda de Población Migrantes (Digite CERO si no tiene). \",IF(AND(F44<>0,T44=\"\"), \"* No olvide escribir en la celda de Población Migrantes (Digite CERO si no tiene). \",\"\"))","v":""},{"$nulls":16},{"$f":"IF(G44<>G72,1,0)","v":1},{"$f":"IF(H44<>H72,1,0)","v":1},{"$f":"IF(O44<>O72,1,0)","v":1},{"$f":"IF(P44<>P72,1,0)","v":1},{"$f":"IF($D44>=$Q44+$R44,0,1)","v":0},{"$f":"IF($D44>=$S44+$T44,0,1)","v":0},null,{"$f":"IF(AND(E44<>0,Q44=\"\"), 1,IF(AND(F44<>0,R44=\"\"), 1,0))","v":0},{"$f":"IF(AND(E44<>0,S44=\"\"), 1,IF(AND(F44<>0,T44=\"\"), 1,0))","v":0}]
["P2400160","INDICADOR IMC / EDAD","+ 3 D.S. (>= 3 )",{"$f":"IFERROR(VLOOKUP($A45,FILTRO!$A39:$AY664,2,FALSE),0)","v":1546},{"$f":"IFERROR(VLOOKUP($A45,FILTRO!$A39:$AY664,3,FALSE),0)","v":1006},{"$f":"IFERROR(VLOOKUP($A45,FILTRO!$A39:$AY664,4,FALSE),0)","v":540},{"$f":"IFERROR(VLOOKUP($A45,FILTRO!$A39:$AY664,5,FALSE),0)","v":187},{"$f":"IFERROR(VLOOKUP($A45,FILTRO!$A39:$AY664,6,FALSE),0)","v":93},{"$f":"IFERROR(VLOOKUP($A45,FILTRO!$A39:$AY664,7,FALSE),0)","v":242},{"$f":"IFERROR(VLOOKUP($A45,FILTRO!$A39:$AY664,8,FALSE),0)","v":129},{"$f":"IFERROR(VLOOKUP($A45,FILTRO!$A39:$AY664,9,FALSE),0)","v":218},{"$f":"IFERROR(VLOOKUP($A45,FILTRO!$A39:$AY664,10,FALSE),0)","v":127},{"$f":"IFERROR(VLOOKUP($A45,FILTRO!$A39:$AY664,11,FALSE),0)","v":217},{"$f":"IFERROR(VLOOKUP($A45,FILTRO!$A39:$AY664,12,FALSE),0)","v":119},{"$f":"IFERROR(VLOOKUP($A45,FILTRO!$A39:$AY664,13,FALSE),0)","v":142},{"$f":"IFERROR(VLOOKUP($A45,FILTRO!$A39:$AY664,14,FALSE),0)","v":72},{"$f":"IFERROR(VLOOKUP($A45,FILTRO!$A39:$AY664,15,FALSE),0)","v":3},{"$f":"IFERROR(VLOOKUP($A45,FILTRO!$A39:$AY664,16,FALSE),0)","v":0},{"$f":"IFERROR(VLOOKUP($A45,FILTRO!$A39:$AY664,17,FALSE),0)","v":4},{"$f":"IFERROR(VLOOKUP($A45,FILTRO!$A39:$AY664,18,FALSE),0)","v":4},{"$f":"CP45 & CQ45","v":""},{"$nulls":72},{"$f":"IF(AND(E45<>0,Q45=\"\"), \"* No olvide escribir en la celda de Pueblos Originarios (Digite CERO si no tiene). \",IF(AND(F45<>0,R45=\"\"), \"* No olvide escribir en la celda de Pueblos Originarios (Digite CERO si no tiene). \",\"\"))","v":""},{"$f":"IF(AND(E45<>0,S45=\"\"), \"* No olvide escribir en la celda de Población Migrantes (Digite CERO si no tiene). \",IF(AND(F45<>0,T45=\"\"), \"* No olvide escribir en la celda de Población Migrantes (Digite CERO si no tiene). \",\"\"))","v":""},{"$nulls":23},{"$f":"IF(AND(E45<>0,Q45=\"\"), 1,IF(AND(F45<>0,R45=\"\"), 1,0))","v":0},{"$f":"IF(AND(E45<>0,S45=\"\"), 1,IF(AND(F45<>0,T45=\"\"), 1,0))","v":0}]
["P2400170",null,"+ 2 D.S. (>= +2.0 a +2.9)",{"$f":"IFERROR(VLOOKUP($A46,FILTRO!$A40:$AY665,2,FALSE),0)","v":2972},{"$f":"IFERROR(VLOOKUP($A46,FILTRO!$A40:$AY665,3,FALSE),0)","v":1472},{"$f":"IFERROR(VLOOKUP($A46,FILTRO!$A40:$AY665,4,FALSE),0)","v":1500},{"$f":"IFERROR(VLOOKUP($A46,FILTRO!$A40:$AY665,5,FALSE),0)","v":366},{"$f":"IFERROR(VLOOKUP($A46,FILTRO!$A40:$AY665,6,FALSE),0)","v":358},{"$f":"IFERROR(VLOOKUP($A46,FILTRO!$A40:$AY665,7,FALSE),0)","v":295},{"$f":"IFERROR(VLOOKUP($A46,FILTRO!$A40:$AY665,8,FALSE),0)","v":325},{"$f":"IFERROR(VLOOKUP($A46,FILTRO!$A40:$AY665,9,FALSE),0)","v":270},{"$f":"IFERROR(VLOOKUP($A46,FILTRO!$A40:$AY665,10,FALSE),0)","v":290},{"$f":"IFERROR(VLOOKUP($A46,FILTRO!$A40:$AY665,11,FALSE),0)","v":271},{"$f":"IFERROR(VLOOKUP($A46,FILTRO!$A40:$AY665,12,FALSE),0)","v":300},{"$f":"IFERROR(VLOOKUP($A46,FILTRO!$A40:$AY665,13,FALSE),0)","v":270},{"$f":"IFERROR(VLOOKUP($A46,FILTRO!$A40:$AY665,14,FALSE),0)","v":227},{"$f":"IFERROR(VLOOKUP($A46,FILTRO!$A40:$AY665,15,FALSE),0)","v":8},{"$f":"IFERROR(VLOOKUP($A46,FILTRO!$A40:$AY665,16,FALSE),0)","v":6},{"$f":"IFERROR(VLOOKUP($A46,FILTRO!$A40:$AY665,17,FALSE),0)","v":16},{"$f":"IFERROR(VLOOKUP($A46,FILTRO!$A40:$AY665,18,FALSE),0)","v":11},{"$f":"CP46 & CQ46","v":""},{"$nulls":72},{"$f":"IF(AND(E46<>0,Q46=\"\"), \"* No olvide escribir en la celda de Pueblos Originarios (Digite CERO si no tiene). \",IF(AND(F46<>0,R46=\"\"), \"* No olvide escribir en la celda de Pueblos Originarios (Digite CERO si no tiene). \",\"\"))","v":""},{"$f":"IF(AND(E46<>0,S46=\"\"), \"* No olvide escribir en la celda de Población Migrantes (Digite CERO si no tiene). \",IF(AND(F46<>0,T46=\"\"), \"* No olvide escribir en la celda de Población Migrantes (Digite CERO si no tiene). \",\"\"))","v":""},{"$nulls":23},{"$f":"IF(AND(E46<>0,Q46=\"\"), 1,IF(AND(F46<>0,R46=\"\"), 1,0))","v":0},{"$f":"IF(AND(E46<>0,S46=\"\"), 1,IF(AND(F46<>0,T46=\"\"), 1,0))","v":0}]
["P2400180",null,"+ 1 D.S. (>= +1.0 a +1.9)",{"$f":"IFERROR(VLOOKUP($A47,FILTRO!$A41:$AY666,2,FALSE),0)","v":3565},{"$f":"IFERROR(VLOOKUP($A47,FILTRO!$A41:$AY666,3,FALSE),0)","v":1735},{"$f":"IFERROR(VLOOKUP($A47,FILTRO!$A41:$AY666,4,FALSE),0)","v":1830},{"$f":"IFERROR(VLOOKUP($A47,FILTRO!$A41:$AY666,5,FALSE),0)","v":484},{"$f":"IFERROR(VLOOKUP($A47,FILTRO!$A41:$AY666,6,FALSE),0)","v":459},{"$f":"IFERROR(VLOOKUP($A47,FILTRO!$A41:$AY666,7,FALSE),0)","v":388},{"$f":"IFERROR(VLOOKUP($A47,FILTRO!$A41:$AY666,8,FALSE),0)","v":409},{"$f":"IFERROR(VLOOKUP($A47,FILTRO!$A41:$AY666,9,FALSE),0)","v":355},{"$f":"IFERROR(VLOOKUP($A47,FILTRO!$A41:$AY666,10,FALSE),0)","v":367},{"$f":"IFERROR(VLOOKUP($A47,FILTRO!$A41:$AY666,11,FALSE),0)","v":288},{"$f":"IFERROR(VLOOKUP($A47,FILTRO!$A41:$AY666,12,FALSE),0)","v":325},{"$f":"IFERROR(VLOOKUP($A47,FILTRO!$A41:$AY666,13,FALSE),0)","v":220},{"$f":"IFERROR(VLOOKUP($A47,FILTRO!$A41:$AY666,14,FALSE),0)","v":270},{"$f":"IFERROR(VLOOKUP($A47,FILTRO!$A41:$AY666,15,FALSE),0)","v":11},{"$f":"IFERROR(VLOOKUP($A47,FILTRO!$A41:$AY666,16,FALSE),0)","v":6},{"$f":"IFERROR(VLOOKUP($A47,FILTRO!$A41:$AY666,17,FALSE),0)","v":25},{"$f":"IFERROR(VLOOKUP($A47,FILTRO!$A41:$AY666,18,FALSE),0)","v":22},{"$f":"CP47 & CQ47","v":""},{"$nulls":72},{"$f":"IF(AND(E47<>0,Q47=\"\"), \"* No olvide escribir en la celda de Pueblos Originarios (Digite CERO si no tiene). \",IF(AND(F47<>0,R47=\"\"), \"* No olvide escribir en la celda de Pueblos Originarios (Digite CERO si no tiene). \",\"\"))","v":""},{"$f":"IF(AND(E47<>0,S47=\"\"), \"* No olvide escribir en la celda de Población Migrantes (Digite CERO si no tiene). \",IF(AND(F47<>0,T47=\"\"), \"* No olvide escribir en la celda de Población Migrantes (Digite CERO si no tiene). \",\"\"))","v":""},{"$nulls":23},{"$f":"IF(AND(E47<>0,Q47=\"\"), 1,IF(AND(F47<>0,R47=\"\"), 1,0))","v":0},{"$f":"IF(AND(E47<>0,S47=\"\"), 1,IF(AND(F47<>0,T47=\"\"), 1,0))","v":0}]
[null,null,"TOTAL",{"$f":"SUM(D44:D47)","v":25497},{"$f":"SUM(E44:E47)","v":13001},12496,3577,3413,3077,2874,2511,2451,2150,2135,1686,1623,146,128,353,333,{"$f":" CM48 & CN48","v":""},{"$nulls":69},{"$f":"IF($D48>=$Q48+$R48,\"\",\"* El Total de Pueblos Originarios no debe ser mayor al total de niños en control. \")","v":""},{"$f":"IF($D48>=$S48+$T48,\"\",\"* El Total de Pueblación Migrantes no debe ser mayor al total de niños en control. \")","v":""},{"$nulls":23},{"$f":"IF($D48>=$Q48+$R48,0,1)","v":0},{"$f":"IF($D48>=$S48+$T48,0,1)","v":0}]
["P2400190",null,"- 1 D.S. (<= -1.0 a -1.9)",{"$f":"IFERROR(VLOOKUP($A49,FILTRO!$A43:$AY668,2,FALSE),0)","v":608},{"$f":"IFERROR(VLOOKUP($A49,FILTRO!$A43:$AY668,3,FALSE),0)","v":320},{"$f":"IFERROR(VLOOKUP($A49,FILTRO!$A43:$AY668,4,FALSE),0)","v":288},{"$f":"IFERROR(VLOOKUP($A49,FILTRO!$A43:$AY668,5,FALSE),0)","v":87},{"$f":"IFERROR(VLOOKUP($A49,FILTRO!$A43:$AY668,6,FALSE),0)","v":79},{"$f":"IFERROR(VLOOKUP($A49,FILTRO!$A43:$AY668,7,FALSE),0)","v":92},{"$f":"IFERROR(VLOOKUP($A49,FILTRO!$A43:$AY668,8,FALSE),0)","v":63},{"$f":"IFERROR(VLOOKUP($A49,FILTRO!$A43:$AY668,9,FALSE),0)","v":70},{"$f":"IFERROR(VLOOKUP($A49,FILTRO!$A43:$AY668,10,FALSE),0)","v":63},{"$f":"IFERROR(VLOOKUP($A49,FILTRO!$A43:$AY668,11,FALSE),0)","v":46},{"$f":"IFERROR(VLOOKUP($A49,FILTRO!$A43:$AY668,12,FALSE),0)","v":52},{"$f":"IFERROR(VLOOKUP($A49,FILTRO!$A43:$AY668,13,FALSE),0)","v":25},{"$f":"IFERROR(VLOOKUP($A49,FILTRO!$A43:$AY668,14,FALSE),0)","v":31},{"$f":"IFERROR(VLOOKUP($A49,FILTRO!$A43:$AY668,15,FALSE),0)","v":2},{"$f":"IFERROR(VLOOKUP($A49,FILTRO!$A43:$AY668,16,FALSE),0)","v":0},{"$f":"IFERROR(VLOOKUP($A49,FILTRO!$A43:$AY668,17,FALSE),0)","v":14},{"$f":"IFERROR(VLOOKUP($A49,FILTRO!$A43:$AY668,18,FALSE),0)","v":17},{"$f":"CP49 & CQ49","v":""},{"$nulls":72},{"$f":"IF(AND(E49<>0,Q49=\"\"), \"* No olvide escribir en la celda de Pueblos Originarios (Digite CERO si no tiene). \",IF(AND(F49<>0,R49=\"\"), \"* No olvide escribir en la celda de Pueblos Originarios (Digite CERO si no tiene). \",\"\"))","v":""},{"$f":"IF(AND(E49<>0,S49=\"\"), \"* No olvide escribir en la celda de Población Migrantes (Digite CERO si no tiene). \",IF(AND(F49<>0,T49=\"\"), \"* No olvide escribir en la celda de Población Migrantes (Digite CERO si no tiene). \",\"\"))","v":""},{"$nulls":23},{"$f":"IF(AND(E49<>0,Q49=\"\"), 1,IF(AND(F49<>0,R49=\"\"), 1,0))","v":0},{"$f":"IF(AND(E49<>0,S49=\"\"), 1,IF(AND(F49<>0,T49=\"\"), 1,0))","v":0}]
["P2400200",null,"- 2 D.S. (<= -2.0)",{"$f":"IFERROR(VLOOKUP($A50,FILTRO!$A44:$AY669,2,FALSE),0)","v":66},{"$f":"IFERROR(VLOOKUP($A50,FILTRO!$A44:$AY669,3,FALSE),0)","v":32},{"$f":"IFERROR(VLOOKUP($A50,FILTRO!$A44:$AY669,4,FALSE),0)","v":34},{"$f":"IFERROR(VLOOKUP($A50,FILTRO!$A44:$AY669,5,FALSE),0)","v":7},{"$f":"IFERROR(VLOOKUP($A50,FILTRO!$A44:$AY669,6,FALSE),0)","v":10},{"$f":"IFERROR(VLOOKUP($A50,FILTRO!$A44:$AY669,7,FALSE),0)","v":9},{"$f":"IFERROR(VLOOKUP($A50,FILTRO!$A44:$AY669,8,FALSE),0)","v":4},{"$f":"IFERROR(VLOOKUP($A50,FILTRO!$A44:$AY669,9,FALSE),0)","v":7},{"$f":"IFERROR(VLOOKUP($A50,FILTRO!$A44:$AY669,10,FALSE),0)","v":7},{"$f":"IFERROR(VLOOKUP($A50,FILTRO!$A44:$AY669,11,FALSE),0)","v":8},{"$f":"IFERROR(VLOOKUP($A50,FILTRO!$A44:$AY669,12,FALSE),0)","v":6},{"$f":"IFERROR(VLOOKUP($A50,FILTRO!$A44:$AY669,13,FALSE),0)","v":1},{"$f":"IFERROR(VLOOKUP($A50,FILTRO!$A44:$AY669,14,FALSE),0)","v":7},{"$f":"IFERROR(VLOOKUP($A50,FILTRO!$A44:$AY669,15,FALSE),0)","v":0},{"$f":"IFERROR(VLOOKUP($A50,FILTRO!$A44:$AY669,16,FALSE),0)","v":0},{"$f":"IFERROR(VLOOKUP($A50,FILTRO!$A44:$AY669,17,FALSE),0)","v":1},{"$f":"IFERROR(VLOOKUP($A50,FILTRO!$A44:$AY669,18,FALSE),0)","v":2},{"$f":"CP50 & CQ50","v":""},{"$nulls":72},{"$f":"IF(AND(E50<>0,Q50=\"\"), \"* No olvide escribir en la celda de Pueblos Originarios (Digite CERO si no tiene). \",IF(AND(F50<>0,R50=\"\"), \"* No olvide escribir en la celda de Pueblos Originarios (Digite CERO si no tiene). \",\"\"))","v":""},{"$f":"IF(AND(E50<>0,S50=\"\"), \"* No olvide escribir en la celda de Población Migrantes (Digite CERO si no tiene). \",IF(AND(F50<>0,T50=\"\"), \"* No olvide escribir en la celda de Población Migrantes (Digite CERO si no tiene). \",\"\"))","v":""},{"$nulls":23},{"$f":"IF(AND(E50<>0,Q50=\"\"), 1,IF(AND(F50<>0,R50=\"\"), 1,0))","v":0},{"$f":"IF(AND(E50<>0,S50=\"\"), 1,IF(AND(F50<>0,T50=\"\"), 1,0))","v":0}]
[null,null,"TOTAL",{"$f":"SUM(D49:D50)","v":674},{"$f":"SUM(E49:E50)","v":352},322,94,89,101,67,77,70,54,58,26,38,2,0,15,19,{"$f":" CM51 & CN51","v":""},{"$nulls":69},{"$f":"IF($D51>=$Q51+$R51,\"\",\"* El Total de Pueblos Originarios no debe ser mayor al total de niños en control. \")","v":""},{"$f":"IF($D51>=$S51+$T51,\"\",\"* El Total de Pueblación Migrantes no debe ser mayor al total de niños en control. \")","v":""},{"$nulls":23},{"$f":"IF($D51>=$Q51+$R51,0,1)","v":0},{"$f":"IF($D51>=$S51+$T51,0,1)","v":0}]
["P2400210",null,"PROMEDIO (-0,9 A + 0,9)",{"$f":"IFERROR(VLOOKUP($A52,FILTRO!$A46:$AY671,2,FALSE),0)","v":6705},{"$f":"IFERROR(VLOOKUP($A52,FILTRO!$A46:$AY671,3,FALSE),0)","v":3288},{"$f":"IFERROR(VLOOKUP($A52,FILTRO!$A46:$AY671,4,FALSE),0)","v":3417},{"$f":"IFERROR(VLOOKUP($A52,FILTRO!$A46:$AY671,5,FALSE),0)","v":1080},{"$f":"IFERROR(VLOOKUP($A52,FILTRO!$A46:$AY671,6,FALSE),0)","v":1134},{"$f":"IFERROR(VLOOKUP($A52,FILTRO!$A46:$AY671,7,FALSE),0)","v":919},{"$f":"IFERROR(VLOOKUP($A52,FILTRO!$A46:$AY671,8,FALSE),0)","v":872},{"$f":"IFERROR(VLOOKUP($A52,FILTRO!$A46:$AY671,9,FALSE),0)","v":572},{"$f":"IFERROR(VLOOKUP($A52,FILTRO!$A46:$AY671,10,FALSE),0)","v":620},{"$f":"IFERROR(VLOOKUP($A52,FILTRO!$A46:$AY671,11,FALSE),0)","v":397},{"$f":"IFERROR(VLOOKUP($A52,FILTRO!$A46:$AY671,12,FALSE),0)","v":432},{"$f":"IFERROR(VLOOKUP($A52,FILTRO!$A46:$AY671,13,FALSE),0)","v":320},{"$f":"IFERROR(VLOOKUP($A52,FILTRO!$A46:$AY671,14,FALSE),0)","v":359},{"$f":"IFERROR(VLOOKUP($A52,FILTRO!$A46:$AY671,15,FALSE),0)","v":42},{"$f":"IFERROR(VLOOKUP($A52,FILTRO!$A46:$AY671,16,FALSE),0)","v":46},{"$f":"IFERROR(VLOOKUP($A52,FILTRO!$A46:$AY671,17,FALSE),0)","v":163},{"$f":"IFERROR(VLOOKUP($A52,FILTRO!$A46:$AY671,18,FALSE),0)","v":177},{"$f":"CP52 & CQ52","v":""},{"$nulls":72},{"$f":"IF(AND(E52<>0,Q52=\"\"), \"* No olvide escribir en la celda de Pueblos Originarios (Digite CERO si no tiene). \",IF(AND(F52<>0,R52=\"\"), \"* No olvide escribir en la celda de Pueblos Originarios (Digite CERO si no tiene). \",\"\"))","v":""},{"$f":"IF(AND(E52<>0,S52=\"\"), \"* No olvide escribir en la celda de Población Migrantes (Digite CERO si no tiene). \",IF(AND(F52<>0,T52=\"\"), \"* No olvide escribir en la celda de Población Migrantes (Digite CERO si no tiene). \",\"\"))","v":""},{"$nulls":23},{"$f":"IF(AND(E52<>0,Q52=\"\"), 1,IF(AND(F52<>0,R52=\"\"), 1,0))","v":0},{"$f":"IF(AND(E52<>0,S52=\"\"), 1,IF(AND(F52<>0,T52=\"\"), 1,0))","v":0}]
["P2400220","INDICADOR TALLA/EDAD","+ 2 D.S. (>= +2.0)",{"$f":"IFERROR(VLOOKUP($A53,FILTRO!$A47:$AY672,2,FALSE),0)","v":873},{"$f":"IFERROR(VLOOKUP($A53,FILTRO!$A47:$AY672,3,FALSE),0)","v":430},{"$f":"IFERROR(VLOOKUP($A53,FILTRO!$A47:$AY672,4,FALSE),0)","v":443},{"$f":"IFERROR(VLOOKUP($A53,FILTRO!$A47:$AY672,5,FALSE),0)","v":123},{"$f":"IFERROR(VLOOKUP($A53,FILTRO!$A47:$AY672,6,FALSE),0)","v":108},{"$f":"IFERROR(VLOOKUP($A53,FILTRO!$A47:$AY672,7,FALSE),0)","v":108},{"$f":"IFERROR(VLOOKUP($A53,FILTRO!$A47:$AY672,8,FALSE),0)","v":95},{"$f":"IFERROR(VLOOKUP($A53,FILTRO!$A47:$AY672,9,FALSE),0)","v":72},{"$f":"IFERROR(VLOOKUP($A53,FILTRO!$A47:$AY672,10,FALSE),0)","v":93},{"$f":"IFERROR(VLOOKUP($A53,FILTRO!$A47:$AY672,11,FALSE),0)","v":63},{"$f":"IFERROR(VLOOKUP($A53,FILTRO!$A47:$AY672,12,FALSE),0)","v":91},{"$f":"IFERROR(VLOOKUP($A53,FILTRO!$A47:$AY672,13,FALSE),0)","v":64},{"$f":"IFERROR(VLOOKUP($A53,FILTRO!$A47:$AY672,14,FALSE),0)","v":56},{"$f":"IFERROR(VLOOKUP($A53,FILTRO!$A47:$AY672,15,FALSE),0)","v":5},{"$f":"IFERROR(VLOOKUP($A53,FILTRO!$A47:$AY672,16,FALSE),0)","v":7},{"$f":"IFERROR(VLOOKUP($A53,FILTRO!$A47:$AY672,17,FALSE),0)","v":12},{"$f":"IFERROR(VLOOKUP($A53,FILTRO!$A47:$AY672,18,FALSE),0)","v":7},{"$f":"CP53 & CQ53","v":""},{"$nulls":72},{"$f":"IF(AND(E53<>0,Q53=\"\"), \"* No olvide escribir en la celda de Pueblos Originarios (Digite CERO si no tiene). \",IF(AND(F53<>0,R53=\"\"), \"* No olvide escribir en la celda de Pueblos Originarios (Digite CERO si no tiene). \",\"\"))","v":""},{"$f":"IF(AND(E53<>0,S53=\"\"), \"* No olvide escribir en la celda de Población Migrantes (Digite CERO si no tiene). \",IF(AND(F53<>0,T53=\"\"), \"* No olvide escribir en la celda de Población Migrantes (Digite CERO si no tiene). \",\"\"))","v":""},{"$nulls":23},{"$f":"IF(AND(E53<>0,Q53=\"\"), 1,IF(AND(F53<>0,R53=\"\"), 1,0))","v":0},{"$f":"IF(AND(E53<>0,S53=\"\"), 1,IF(AND(F53<>0,T53=\"\"), 1,0))","v":0}]
["P2400230",null,"+ 1 D.S. (+1.0 a +1.9)",{"$f":"IFERROR(VLOOKUP($A54,FILTRO!$A48:$AY673,2,FALSE),0)","v":2906},{"$f":"IFERROR(VLOOKUP($A54,FILTRO!$A48:$AY673,3,FALSE),0)","v":1497},{"$f":"IFERROR(VLOOKUP($A54,FILTRO!$A48:$AY673,4,FALSE),0)","v":1409},{"$f":"IFERROR(VLOOKUP($A54,FILTRO!$A48:$AY673,5,FALSE),0)","v":403},{"$f":"IFERROR(VLOOKUP($A54,FILTRO!$A48:$AY673,6,FALSE),0)","v":325},{"$f":"IFERROR(VLOOKUP($A54,FILTRO!$A48:$AY673,7,FALSE),0)","v":344},{"$f":"IFERROR(VLOOKUP($A54,FILTRO!$A48:$AY673,8,FALSE),0)","v":309},{"$f":"IFERROR(VLOOKUP($A54,FILTRO!$A48:$AY673,9,FALSE),0)","v":290},{"$f":"IFERROR(VLOOKUP($A54,FILTRO!$A48:$AY673,10,FALSE),0)","v":285},{"$f":"IFERROR(VLOOKUP($A54,FILTRO!$A48:$AY673,11,FALSE),0)","v":267},{"$f":"IFERROR(VLOOKUP($A54,FILTRO!$A48:$AY673,12,FALSE),0)","v":272},{"$f":"IFERROR(VLOOKUP($A54,FILTRO!$A48:$AY673,13,FALSE),0)","v":193},{"$f":"IFERROR(VLOOKUP($A54,FILTRO!$A48:$AY673,14,FALSE),0)","v":218},{"$f":"IFERROR(VLOOKUP($A54,FILTRO!$A48:$AY673,15,FALSE),0)","v":16},{"$f":"IFERROR(VLOOKUP($A54,FILTRO!$A48:$AY673,16,FALSE),0)","v":15},{"$f":"IFERROR(VLOOKUP($A54,FILTRO!$A48:$AY673,17,FALSE),0)","v":27},{"$f":"IFERROR(VLOOKUP($A54,FILTRO!$A48:$AY673,18,FALSE),0)","v":31},{"$f":"CP54 & CQ54","v":""},{"$nulls":72},{"$f":"IF(AND(E54<>0,Q54=\"\"), \"* No olvide escribir en la celda de Pueblos Originarios (Digite CERO si no tiene). \",IF(AND(F54<>0,R54=\"\"), \"* No olvide escribir en la celda de Pueblos Originarios (Digite CERO si no tiene). \",\"\"))","v":""},{"$f":"IF(AND(E54<>0,S54=\"\"), \"* No olvide escribir en la celda de Población Migrantes (Digite CERO si no tiene). \",IF(AND(F54<>0,T54=\"\"), \"* No olvide escribir en la celda de Población Migrantes (Digite CERO si no tiene). \",\"\"))","v":""},{"$nulls":23},{"$f":"IF(AND(E54<>0,Q54=\"\"), 1,IF(AND(F54<>0,R54=\"\"), 1,0))","v":0},{"$f":"IF(AND(E54<>0,S54=\"\"), 1,IF(AND(F54<>0,T54=\"\"), 1,0))","v":0}]
[null,null,"TOTAL",{"$f":"SUM(D52:D54)","v":10484},{"$f":"SUM(E52:E54)","v":5215},5269,1606,1567,1371,1276,934,998,727,795,577,633,63,68,202,215,{"$f":" CM55 & CN55","v":""},{"$nulls":69},{"$f":"IF($D55>=$Q55+$R55,\"\",\"* El Total de Pueblos Originarios no debe ser mayor al total de niños en control. \")","v":""},{"$f":"IF($D55>=$S55+$T55,\"\",\"* El Total de Pueblación Migrantes no debe ser mayor al total de niños en control. \")","v":""},{"$nulls":23},{"$f":"IF($D55>=$Q55+$R55,0,1)","v":0},{"$f":"IF($D55>=$S55+$T55,0,1)","v":0}]
["P2400240",null,"- 1 D.S. (-1.0 a -1.9)",{"$f":"IFERROR(VLOOKUP($A56,FILTRO!$A50:$AY675,2,FALSE),0)","v":1437},{"$f":"IFERROR(VLOOKUP($A56,FILTRO!$A50:$AY675,3,FALSE),0)","v":736},{"$f":"IFERROR(VLOOKUP($A56,FILTRO!$A50:$AY675,4,FALSE),0)","v":701},{"$f":"IFERROR(VLOOKUP($A56,FILTRO!$A50:$AY675,5,FALSE),0)","v":239},{"$f":"IFERROR(VLOOKUP($A56,FILTRO!$A50:$AY675,6,FALSE),0)","v":245},{"$f":"IFERROR(VLOOKUP($A56,FILTRO!$A50:$AY675,7,FALSE),0)","v":167},{"$f":"IFERROR(VLOOKUP($A56,FILTRO!$A50:$AY675,8,FALSE),0)","v":140},{"$f":"IFERROR(VLOOKUP($A56,FILTRO!$A50:$AY675,9,FALSE),0)","v":130},{"$f":"IFERROR(VLOOKUP($A56,FILTRO!$A50:$AY675,10,FALSE),0)","v":157},{"$f":"IFERROR(VLOOKUP($A56,FILTRO!$A50:$AY675,11,FALSE),0)","v":120},{"$f":"IFERROR(VLOOKUP($A56,FILTRO!$A50:$AY675,12,FALSE),0)","v":88},{"$f":"IFERROR(VLOOKUP($A56,FILTRO!$A50:$AY675,13,FALSE),0)","v":80},{"$f":"IFERROR(VLOOKUP($A56,FILTRO!$A50:$AY675,14,FALSE),0)","v":71},{"$f":"IFERROR(VLOOKUP($A56,FILTRO!$A50:$AY675,15,FALSE),0)","v":7},{"$f":"IFERROR(VLOOKUP($A56,FILTRO!$A50:$AY675,16,FALSE),0)","v":9},{"$f":"IFERROR(VLOOKUP($A56,FILTRO!$A50:$AY675,17,FALSE),0)","v":41},{"$f":"IFERROR(VLOOKUP($A56,FILTRO!$A50:$AY675,18,FALSE),0)","v":39},{"$f":"CP56 & CQ56","v":""},{"$nulls":72},{"$f":"IF(AND(E56<>0,Q56=\"\"), \"* No olvide escribir en la celda de Pueblos Originarios (Digite CERO si no tiene). \",IF(AND(F56<>0,R56=\"\"), \"* No olvide escribir en la celda de Pueblos Originarios (Digite CERO si no tiene). \",\"\"))","v":""},{"$f":"IF(AND(E56<>0,S56=\"\"), \"* No olvide escribir en la celda de Población Migrantes (Digite CERO si no tiene). \",IF(AND(F56<>0,T56=\"\"), \"* No olvide escribir en la celda de Población Migrantes (Digite CERO si no tiene). \",\"\"))","v":""},{"$nulls":23},{"$f":"IF(AND(E56<>0,Q56=\"\"), 1,IF(AND(F56<>0,R56=\"\"), 1,0))","v":0},{"$f":"IF(AND(E56<>0,S56=\"\"), 1,IF(AND(F56<>0,T56=\"\"), 1,0))","v":0}]
["P2400250",null,"- 2 D.S. (<= -2.0)",{"$f":"IFERROR(VLOOKUP($A57,FILTRO!$A51:$AY676,2,FALSE),0)","v":198},{"$f":"IFERROR(VLOOKUP($A57,FILTRO!$A51:$AY676,3,FALSE),0)","v":109},{"$f":"IFERROR(VLOOKUP($A57,FILTRO!$A51:$AY676,4,FALSE),0)","v":89},{"$f":"IFERROR(VLOOKUP($A57,FILTRO!$A51:$AY676,5,FALSE),0)","v":35},{"$f":"IFERROR(VLOOKUP($A57,FILTRO!$A51:$AY676,6,FALSE),0)","v":28},{"$f":"IFERROR(VLOOKUP($A57,FILTRO!$A51:$AY676,7,FALSE),0)","v":25},{"$f":"IFERROR(VLOOKUP($A57,FILTRO!$A51:$AY676,8,FALSE),0)","v":15},{"$f":"IFERROR(VLOOKUP($A57,FILTRO!$A51:$AY676,9,FALSE),0)","v":19},{"$f":"IFERROR(VLOOKUP($A57,FILTRO!$A51:$AY676,10,FALSE),0)","v":25},{"$f":"IFERROR(VLOOKUP($A57,FILTRO!$A51:$AY676,11,FALSE),0)","v":15},{"$f":"IFERROR(VLOOKUP($A57,FILTRO!$A51:$AY676,12,FALSE),0)","v":11},{"$f":"IFERROR(VLOOKUP($A57,FILTRO!$A51:$AY676,13,FALSE),0)","v":15},{"$f":"IFERROR(VLOOKUP($A57,FILTRO!$A51:$AY676,14,FALSE),0)","v":10},{"$f":"IFERROR(VLOOKUP($A57,FILTRO!$A51:$AY676,15,FALSE),0)","v":2},{"$f":"IFERROR(VLOOKUP($A57,FILTRO!$A51:$AY676,16,FALSE),0)","v":2},{"$f":"IFERROR(VLOOKUP($A57,FILTRO!$A51:$AY676,17,FALSE),0)","v":7},{"$f":"IFERROR(VLOOKUP($A57,FILTRO!$A51:$AY676,18,FALSE),0)","v":1},{"$f":"CP57 & CQ57","v":""},{"$nulls":72},{"$f":"IF(AND(E57<>0,Q57=\"\"), \"* No olvide escribir en la celda de Pueblos Originarios (Digite CERO si no tiene). \",IF(AND(F57<>0,R57=\"\"), \"* No olvide escribir en la celda de Pueblos Originarios (Digite CERO si no tiene). \",\"\"))","v":""},{"$f":"IF(AND(E57<>0,S57=\"\"), \"* No olvide escribir en la celda de Población Migrantes (Digite CERO si no tiene). \",IF(AND(F57<>0,T57=\"\"), \"* No olvide escribir en la celda de Población Migrantes (Digite CERO si no tiene). \",\"\"))","v":""},{"$nulls":23},{"$f":"IF(AND(E57<>0,Q57=\"\"), 1,IF(AND(F57<>0,R57=\"\"), 1,0))","v":0},{"$f":"IF(AND(E57<>0,S57=\"\"), 1,IF(AND(F57<>0,T57=\"\"), 1,0))","v":0}]
[null,null,"TOTAL",{"$f":"SUM(D56:D57)","v":1635},{"$f":"SUM(E56:E57)","v":845},790,274,273,192,155,149,182,135,99,95,81,9,11,48,40,{"$f":" CM58 & CN58","v":""},{"$nulls":69},{"$f":"IF($D58>=$Q58+$R58,\"\",\"* El Total de Pueblos Originarios no debe ser mayor al total de niños en control. \")","v":""},{"$f":"IF($D58>=$S58+$T58,\"\",\"* El Total de Pueblación Migrantes no debe ser mayor al total de niños en control. \")","v":""},{"$nulls":23},{"$f":"IF($D58>=$Q58+$R58,0,1)","v":0},{"$f":"IF($D58>=$S58+$T58,0,1)","v":0}]
["P2400260",null,"PROMEDIO (-0,9 A + 0,9)",{"$f":"IFERROR(VLOOKUP($A59,FILTRO!$A53:$AY678,2,FALSE),0)","v":9382},{"$f":"IFERROR(VLOOKUP($A59,FILTRO!$A53:$AY678,3,FALSE),0)","v":4738},{"$f":"IFERROR(VLOOKUP($A59,FILTRO!$A53:$AY678,4,FALSE),0)","v":4644},{"$f":"IFERROR(VLOOKUP($A59,FILTRO!$A53:$AY678,5,FALSE),0)","v":1392},{"$f":"IFERROR(VLOOKUP($A59,FILTRO!$A53:$AY678,6,FALSE),0)","v":1407},{"$f":"IFERROR(VLOOKUP($A59,FILTRO!$A53:$AY678,7,FALSE),0)","v":1181},{"$f":"IFERROR(VLOOKUP($A59,FILTRO!$A53:$AY678,8,FALSE),0)","v":1110},{"$f":"IFERROR(VLOOKUP($A59,FILTRO!$A53:$AY678,9,FALSE),0)","v":899},{"$f":"IFERROR(VLOOKUP($A59,FILTRO!$A53:$AY678,10,FALSE),0)","v":872},{"$f":"IFERROR(VLOOKUP($A59,FILTRO!$A53:$AY678,11,FALSE),0)","v":690},{"$f":"IFERROR(VLOOKUP($A59,FILTRO!$A53:$AY678,12,FALSE),0)","v":696},{"$f":"IFERROR(VLOOKUP($A59,FILTRO!$A53:$AY678,13,FALSE),0)","v":576},{"$f":"IFERROR(VLOOKUP($A59,FILTRO!$A53:$AY678,14,FALSE),0)","v":559},{"$f":"IFERROR(VLOOKUP($A59,FILTRO!$A53:$AY678,15,FALSE),0)","v":63},{"$f":"IFERROR(VLOOKUP($A59,FILTRO!$A53:$AY678,16,FALSE),0)","v":63},{"$f":"IFERROR(VLOOKUP($A59,FILTRO!$A53:$AY678,17,FALSE),0)","v":141},{"$f":"IFERROR(VLOOKUP($A59,FILTRO!$A53:$AY678,18,FALSE),0)","v":147},{"$f":"CP59 & CQ59","v":""},{"$nulls":72},{"$f":"IF(AND(E59<>0,Q59=\"\"), \"* No olvide escribir en la celda de Pueblos Originarios (Digite CERO si no tiene). \",IF(AND(F59<>0,R59=\"\"), \"* No olvide escribir en la celda de Pueblos Originarios (Digite CERO si no tiene). \",\"\"))","v":""},{"$f":"IF(AND(E59<>0,S59=\"\"), \"* No olvide escribir en la celda de Población Migrantes (Digite CERO si no tiene). \",IF(AND(F59<>0,T59=\"\"), \"* No olvide escribir en la celda de Población Migrantes (Digite CERO si no tiene). \",\"\"))","v":""},{"$nulls":23},{"$f":"IF(AND(E59<>0,Q59=\"\"), 1,IF(AND(F59<>0,R59=\"\"), 1,0))","v":0},{"$f":"IF(AND(E59<>0,S59=\"\"), 1,IF(AND(F59<>0,T59=\"\"), 1,0))","v":0}]
["P2400270","INDICADOR PERIMETRO DE CINTURA / EDAD","NORMAL (<p75)",{"$f":"IFERROR(VLOOKUP($A60,FILTRO!$A54:$AY679,2,FALSE),0)","v":8276},{"$f":"IFERROR(VLOOKUP($A60,FILTRO!$A54:$AY679,3,FALSE),0)","v":4112},{"$f":"IFERROR(VLOOKUP($A60,FILTRO!$A54:$AY679,4,FALSE),0)","v":4164},{"$f":"IFERROR(VLOOKUP($A60,FILTRO!$A54:$AY679,5,FALSE),0)","v":1219},{"$f":"IFERROR(VLOOKUP($A60,FILTRO!$A54:$AY679,6,FALSE),0)","v":1232},{"$f":"IFERROR(VLOOKUP($A60,FILTRO!$A54:$AY679,7,FALSE),0)","v":1065},{"$f":"IFERROR(VLOOKUP($A60,FILTRO!$A54:$AY679,8,FALSE),0)","v":1016},{"$f":"IFERROR(VLOOKUP($A60,FILTRO!$A54:$AY679,9,FALSE),0)","v":796},{"$f":"IFERROR(VLOOKUP($A60,FILTRO!$A54:$AY679,10,FALSE),0)","v":809},{"$f":"IFERROR(VLOOKUP($A60,FILTRO!$A54:$AY679,11,FALSE),0)","v":621},{"$f":"IFERROR(VLOOKUP($A60,FILTRO!$A54:$AY679,12,FALSE),0)","v":628},{"$f":"IFERROR(VLOOKUP($A60,FILTRO!$A54:$AY679,13,FALSE),0)","v":411},{"$f":"IFERROR(VLOOKUP($A60,FILTRO!$A54:$AY679,14,FALSE),0)","v":479},{"$f":"IFERROR(VLOOKUP($A60,FILTRO!$A54:$AY679,15,FALSE),0)","v":37},{"$f":"IFERROR(VLOOKUP($A60,FILTRO!$A54:$AY679,16,FALSE),0)","v":37},{"$f":"IFERROR(VLOOKUP($A60,FILTRO!$A54:$AY679,17,FALSE),0)","v":125},{"$f":"IFERROR(VLOOKUP($A60,FILTRO!$A54:$AY679,18,FALSE),0)","v":144},{"$f":"CP60 & CQ60","v":""},{"$nulls":72},{"$f":"IF(AND(E60<>0,Q60=\"\"), \"* No olvide escribir en la celda de Pueblos Originarios (Digite CERO si no tiene). \",IF(AND(F60<>0,R60=\"\"), \"* No olvide escribir en la celda de Pueblos Originarios (Digite CERO si no tiene). \",\"\"))","v":""},{"$f":"IF(AND(E60<>0,S60=\"\"), \"* No olvide escribir en la celda de Población Migrantes (Digite CERO si no tiene). \",IF(AND(F60<>0,T60=\"\"), \"* No olvide escribir en la celda de Población Migrantes (Digite CERO si no tiene). \",\"\"))","v":""},{"$nulls":23},{"$f":"IF(AND(E60<>0,Q60=\"\"), 1,IF(AND(F60<>0,R60=\"\"), 1,0))","v":0},{"$f":"IF(AND(E60<>0,S60=\"\"), 1,IF(AND(F60<>0,T60=\"\"), 1,0))","v":0}]
["P2400280",null,"RIESGO DE OBESIDAD ABDOMINAL (75<p<90)",{"$f":"IFERROR(VLOOKUP($A61,FILTRO!$A55:$AY680,2,FALSE),0)","v":2725},{"$f":"IFERROR(VLOOKUP($A61,FILTRO!$A55:$AY680,3,FALSE),0)","v":1359},{"$f":"IFERROR(VLOOKUP($A61,FILTRO!$A55:$AY680,4,FALSE),0)","v":1366},{"$f":"IFERROR(VLOOKUP($A61,FILTRO!$A55:$AY680,5,FALSE),0)","v":348},{"$f":"IFERROR(VLOOKUP($A61,FILTRO!$A55:$AY680,6,FALSE),0)","v":328},{"$f":"IFERROR(VLOOKUP($A61,FILTRO!$A55:$AY680,7,FALSE),0)","v":319},{"$f":"IFERROR(VLOOKUP($A61,FILTRO!$A55:$AY680,8,FALSE),0)","v":289},{"$f":"IFERROR(VLOOKUP($A61,FILTRO!$A55:$AY680,9,FALSE),0)","v":258},{"$f":"IFERROR(VLOOKUP($A61,FILTRO!$A55:$AY680,10,FALSE),0)","v":268},{"$f":"IFERROR(VLOOKUP($A61,FILTRO!$A55:$AY680,11,FALSE),0)","v":239},{"$f":"IFERROR(VLOOKUP($A61,FILTRO!$A55:$AY680,12,FALSE),0)","v":264},{"$f":"IFERROR(VLOOKUP($A61,FILTRO!$A55:$AY680,13,FALSE),0)","v":195},{"$f":"IFERROR(VLOOKUP($A61,FILTRO!$A55:$AY680,14,FALSE),0)","v":217},{"$f":"IFERROR(VLOOKUP($A61,FILTRO!$A55:$AY680,15,FALSE),0)","v":16},{"$f":"IFERROR(VLOOKUP($A61,FILTRO!$A55:$AY680,16,FALSE),0)","v":11},{"$f":"IFERROR(VLOOKUP($A61,FILTRO!$A55:$AY680,17,FALSE),0)","v":13},{"$f":"IFERROR(VLOOKUP($A61,FILTRO!$A55:$AY680,18,FALSE),0)","v":17},{"$f":"CP61 & CQ61","v":""},{"$nulls":72},{"$f":"IF(AND(E61<>0,Q61=\"\"), \"* No olvide escribir en la celda de Pueblos Originarios (Digite CERO si no tiene). \",IF(AND(F61<>0,R61=\"\"), \"* No olvide escribir en la celda de Pueblos Originarios (Digite CERO si no tiene). \",\"\"))","v":""},{"$f":"IF(AND(E61<>0,S61=\"\"), \"* No olvide escribir en la celda de Población Migrantes (Digite CERO si no tiene). \",IF(AND(F61<>0,T61=\"\"), \"* No olvide escribir en la celda de Población Migrantes (Digite CERO si no tiene). \",\"\"))","v":""},{"$nulls":23},{"$f":"IF(AND(E61<>0,Q61=\"\"), 1,IF(AND(F61<>0,R61=\"\"), 1,0))","v":0},{"$f":"IF(AND(E61<>0,S61=\"\"), 1,IF(AND(F61<>0,T61=\"\"), 1,0))","v":0}]
["P2400290",null,"OBESIDAD ABDOMINAL (>p90)",{"$f":"IFERROR(VLOOKUP($A62,FILTRO!$A56:$AY681,2,FALSE),0)","v":3323},{"$f":"IFERROR(VLOOKUP($A62,FILTRO!$A56:$AY681,3,FALSE),0)","v":1766},{"$f":"IFERROR(VLOOKUP($A62,FILTRO!$A56:$AY681,4,FALSE),0)","v":1557},{"$f":"IFERROR(VLOOKUP($A62,FILTRO!$A56:$AY681,5,FALSE),0)","v":396},{"$f":"IFERROR(VLOOKUP($A62,FILTRO!$A56:$AY681,6,FALSE),0)","v":328},{"$f":"IFERROR(VLOOKUP($A62,FILTRO!$A56:$AY681,7,FALSE),0)","v":345},{"$f":"IFERROR(VLOOKUP($A62,FILTRO!$A56:$AY681,8,FALSE),0)","v":315},{"$f":"IFERROR(VLOOKUP($A62,FILTRO!$A56:$AY681,9,FALSE),0)","v":364},{"$f":"IFERROR(VLOOKUP($A62,FILTRO!$A56:$AY681,10,FALSE),0)","v":336},{"$f":"IFERROR(VLOOKUP($A62,FILTRO!$A56:$AY681,11,FALSE),0)","v":368},{"$f":"IFERROR(VLOOKUP($A62,FILTRO!$A56:$AY681,12,FALSE),0)","v":333},{"$f":"IFERROR(VLOOKUP($A62,FILTRO!$A56:$AY681,13,FALSE),0)","v":293},{"$f":"IFERROR(VLOOKUP($A62,FILTRO!$A56:$AY681,14,FALSE),0)","v":245},{"$f":"IFERROR(VLOOKUP($A62,FILTRO!$A56:$AY681,15,FALSE),0)","v":14},{"$f":"IFERROR(VLOOKUP($A62,FILTRO!$A56:$AY681,16,FALSE),0)","v":13},{"$f":"IFERROR(VLOOKUP($A62,FILTRO!$A56:$AY681,17,FALSE),0)","v":21},{"$f":"IFERROR(VLOOKUP($A62,FILTRO!$A56:$AY681,18,FALSE),0)","v":13},{"$f":"CP62 & CQ62","v":""},{"$nulls":72},{"$f":"IF(AND(E62<>0,Q62=\"\"), \"* No olvide escribir en la celda de Pueblos Originarios (Digite CERO si no tiene). \",IF(AND(F62<>0,R62=\"\"), \"* No olvide escribir en la celda de Pueblos Originarios (Digite CERO si no tiene). \",\"\"))","v":""},{"$f":"IF(AND(E62<>0,S62=\"\"), \"* No olvide escribir en la celda de Población Migrantes (Digite CERO si no tiene). \",IF(AND(F62<>0,T62=\"\"), \"* No olvide escribir en la celda de Población Migrantes (Digite CERO si no tiene). \",\"\"))","v":""},{"$nulls":23},{"$f":"IF(AND(E62<>0,Q62=\"\"), 1,IF(AND(F62<>0,R62=\"\"), 1,0))","v":0},{"$f":"IF(AND(E62<>0,S62=\"\"), 1,IF(AND(F62<>0,T62=\"\"), 1,0))","v":0}]
[null,null,"TOTAL",{"$f":"SUM(D59:D62)","v":23706},{"$f":"SUM(E59:E62)","v":11975},11731,3355,3295,2910,2730,2317,2285,1918,1921,1475,1500,130,124,300,321,{"$f":" CM63 & CN63","v":""},{"$nulls":69},{"$f":"IF($D63>=$Q63+$R63,\"\",\"* El Total de Pueblos Originarios no debe ser mayor al total de niños en control. \")","v":""},{"$f":"IF($D63>=$S63+$T63,\"\",\"* El Total de Pueblación Migrantes no debe ser mayor al total de niños en control. \")","v":""},{"$nulls":23},{"$f":"IF($D63>=$Q63+$R63,0,1)","v":0},{"$f":"IF($D63>=$S63+$T63,0,1)","v":0}]
["P2400300","DIAGNOSTICO NUTRICIONAL INTEGRADO","RIESGO DE DESNUTRIR/ DEFICIT PONDERAL*",{"$f":"IFERROR(VLOOKUP($A64,FILTRO!$A58:$AY683,2,FALSE),0)","v":586},{"$f":"IFERROR(VLOOKUP($A64,FILTRO!$A58:$AY683,3,FALSE),0)","v":299},{"$f":"IFERROR(VLOOKUP($A64,FILTRO!$A58:$AY683,4,FALSE),0)","v":287},{"$f":"IFERROR(VLOOKUP($A64,FILTRO!$A58:$AY683,5,FALSE),0)","v":80},{"$f":"IFERROR(VLOOKUP($A64,FILTRO!$A58:$AY683,6,FALSE),0)","v":81},{"$f":"IFERROR(VLOOKUP($A64,FILTRO!$A58:$AY683,7,FALSE),0)","v":83},{"$f":"IFERROR(VLOOKUP($A64,FILTRO!$A58:$AY683,8,FALSE),0)","v":63},{"$f":"IFERROR(VLOOKUP($A64,FILTRO!$A58:$AY683,9,FALSE),0)","v":68},{"$f":"IFERROR(VLOOKUP($A64,FILTRO!$A58:$AY683,10,FALSE),0)","v":59},{"$f":"IFERROR(VLOOKUP($A64,FILTRO!$A58:$AY683,11,FALSE),0)","v":46},{"$f":"IFERROR(VLOOKUP($A64,FILTRO!$A58:$AY683,12,FALSE),0)","v":56},{"$f":"IFERROR(VLOOKUP($A64,FILTRO!$A58:$AY683,13,FALSE),0)","v":22},{"$f":"IFERROR(VLOOKUP($A64,FILTRO!$A58:$AY683,14,FALSE),0)","v":28},{"$f":"IFERROR(VLOOKUP($A64,FILTRO!$A58:$AY683,15,FALSE),0)","v":6},{"$f":"IFERROR(VLOOKUP($A64,FILTRO!$A58:$AY683,16,FALSE),0)","v":3},{"$f":"IFERROR(VLOOKUP($A64,FILTRO!$A58:$AY683,17,FALSE),0)","v":14},{"$f":"IFERROR(VLOOKUP($A64,FILTRO!$A58:$AY683,18,FALSE),0)","v":18},{"$f":"CP64 & CQ64","v":""},{"$nulls":72},{"$f":"IF(AND(E64<>0,Q64=\"\"), \"* No olvide escribir en la celda de Pueblos Originarios (Digite CERO si no tiene). \",IF(AND(F64<>0,R64=\"\"), \"* No olvide escribir en la celda de Pueblos Originarios (Digite CERO si no tiene). \",\"\"))","v":""},{"$f":"IF(AND(E64<>0,S64=\"\"), \"* No olvide escribir en la celda de Población Migrantes (Digite CERO si no tiene). \",IF(AND(F64<>0,T64=\"\"), \"* No olvide escribir en la celda de Población Migrantes (Digite CERO si no tiene). \",\"\"))","v":""},{"$nulls":23},{"$f":"IF(AND(E64<>0,Q64=\"\"), 1,IF(AND(F64<>0,R64=\"\"), 1,0))","v":0},{"$f":"IF(AND(E64<>0,S64=\"\"), 1,IF(AND(F64<>0,T64=\"\"), 1,0))","v":0}]
["P2400310",null,"DESNUTRIDO",{"$f":"IFERROR(VLOOKUP($A65,FILTRO!$A59:$AY684,2,FALSE),0)","v":62},{"$f":"IFERROR(VLOOKUP($A65,FILTRO!$A59:$AY684,3,FALSE),0)","v":32},{"$f":"IFERROR(VLOOKUP($A65,FILTRO!$A59:$AY684,4,FALSE),0)","v":30},{"$f":"IFERROR(VLOOKUP($A65,FILTRO!$A59:$AY684,5,FALSE),0)","v":8},{"$f":"IFERROR(VLOOKUP($A65,FILTRO!$A59:$AY684,6,FALSE),0)","v":7},{"$f":"IFERROR(VLOOKUP($A65,FILTRO!$A59:$AY684,7,FALSE),0)","v":7},{"$f":"IFERROR(VLOOKUP($A65,FILTRO!$A59:$AY684,8,FALSE),0)","v":3},{"$f":"IFERROR(VLOOKUP($A65,FILTRO!$A59:$AY684,9,FALSE),0)","v":6},{"$f":"IFERROR(VLOOKUP($A65,FILTRO!$A59:$AY684,10,FALSE),0)","v":9},{"$f":"IFERROR(VLOOKUP($A65,FILTRO!$A59:$AY684,11,FALSE),0)","v":9},{"$f":"IFERROR(VLOOKUP($A65,FILTRO!$A59:$AY684,12,FALSE),0)","v":5},{"$f":"IFERROR(VLOOKUP($A65,FILTRO!$A59:$AY684,13,FALSE),0)","v":2},{"$f":"IFERROR(VLOOKUP($A65,FILTRO!$A59:$AY684,14,FALSE),0)","v":6},{"$f":"IFERROR(VLOOKUP($A65,FILTRO!$A59:$AY684,15,FALSE),0)","v":0},{"$f":"IFERROR(VLOOKUP($A65,FILTRO!$A59:$AY684,16,FALSE),0)","v":0},{"$f":"IFERROR(VLOOKUP($A65,FILTRO!$A59:$AY684,17,FALSE),0)","v":1},{"$f":"IFERROR(VLOOKUP($A65,FILTRO!$A59:$AY684,18,FALSE),0)","v":2},"",{"$nulls":72},"","",{"$nulls":23},0,0]
["P2400320",null,"SOBREPESO / RIESGO OBESIDAD",{"$f":"IFERROR(VLOOKUP($A66,FILTRO!$A60:$AY685,2,FALSE),0)","v":3575},{"$f":"IFERROR(VLOOKUP($A66,FILTRO!$A60:$AY685,3,FALSE),0)","v":1740},{"$f":"IFERROR(VLOOKUP($A66,FILTRO!$A60:$AY685,4,FALSE),0)","v":1835},{"$f":"IFERROR(VLOOKUP($A66,FILTRO!$A60:$AY685,5,FALSE),0)","v":518},{"$f":"IFERROR(VLOOKUP($A66,FILTRO!$A60:$AY685,6,FALSE),0)","v":462},{"$f":"IFERROR(VLOOKUP($A66,FILTRO!$A60:$AY685,7,FALSE),0)","v":390},{"$f":"IFERROR(VLOOKUP($A66,FILTRO!$A60:$AY685,8,FALSE),0)","v":413},{"$f":"IFERROR(VLOOKUP($A66,FILTRO!$A60:$AY685,9,FALSE),0)","v":350},{"$f":"IFERROR(VLOOKUP($A66,FILTRO!$A60:$AY685,10,FALSE),0)","v":366},{"$f":"IFERROR(VLOOKUP($A66,FILTRO!$A60:$AY685,11,FALSE),0)","v":286},{"$f":"IFERROR(VLOOKUP($A66,FILTRO!$A60:$AY685,12,FALSE),0)","v":321},{"$f":"IFERROR(VLOOKUP($A66,FILTRO!$A60:$AY685,13,FALSE),0)","v":223},{"$f":"IFERROR(VLOOKUP($A66,FILTRO!$A60:$AY685,14,FALSE),0)","v":273},{"$f":"IFERROR(VLOOKUP($A66,FILTRO!$A60:$AY685,15,FALSE),0)","v":26},{"$f":"IFERROR(VLOOKUP($A66,FILTRO!$A60:$AY685,16,FALSE),0)","v":24},{"$f":"IFERROR(VLOOKUP($A66,FILTRO!$A60:$AY685,17,FALSE),0)","v":49},{"$f":"IFERROR(VLOOKUP($A66,FILTRO!$A60:$AY685,18,FALSE),0)","v":42},"",{"$nulls":72},"","",{"$nulls":23},0,0]
["P2400330",null,"OBESO",{"$f":"IFERROR(VLOOKUP($A67,FILTRO!$A61:$AY686,2,FALSE),0)","v":3028},{"$f":"IFERROR(VLOOKUP($A67,FILTRO!$A61:$AY686,3,FALSE),0)","v":1508},{"$f":"IFERROR(VLOOKUP($A67,FILTRO!$A61:$AY686,4,FALSE),0)","v":1520},{"$f":"IFERROR(VLOOKUP($A67,FILTRO!$A61:$AY686,5,FALSE),0)","v":398},{"$f":"IFERROR(VLOOKUP($A67,FILTRO!$A61:$AY686,6,FALSE),0)","v":366},{"$f":"IFERROR(VLOOKUP($A67,FILTRO!$A61:$AY686,7,FALSE),0)","v":296},{"$f":"IFERROR(VLOOKUP($A67,FILTRO!$A61:$AY686,8,FALSE),0)","v":321},{"$f":"IFERROR(VLOOKUP($A67,FILTRO!$A61:$AY686,9,FALSE),0)","v":281},{"$f":"IFERROR(VLOOKUP($A67,FILTRO!$A61:$AY686,10,FALSE),0)","v":299},{"$f":"IFERROR(VLOOKUP($A67,FILTRO!$A61:$AY686,11,FALSE),0)","v":281},{"$f":"IFERROR(VLOOKUP($A67,FILTRO!$A61:$AY686,12,FALSE),0)","v":301},{"$f":"IFERROR(VLOOKUP($A67,FILTRO!$A61:$AY686,13,FALSE),0)","v":270},{"$f":"IFERROR(VLOOKUP($A67,FILTRO!$A61:$AY686,14,FALSE),0)","v":233},{"$f":"IFERROR(VLOOKUP($A67,FILTRO!$A61:$AY686,15,FALSE),0)","v":16},{"$f":"IFERROR(VLOOKUP($A67,FILTRO!$A61:$AY686,16,FALSE),0)","v":19},{"$f":"IFERROR(VLOOKUP($A67,FILTRO!$A61:$AY686,17,FALSE),0)","v":23},{"$f":"IFERROR(VLOOKUP($A67,FILTRO!$A61:$AY686,18,FALSE),0)","v":24},"",{"$nulls":72},"","",{"$nulls":23},0,0]
["P2400340",null,"OBESO SEVERO",{"$f":"IFERROR(VLOOKUP($A68,FILTRO!$A62:$AY687,2,FALSE),0)","v":1510},{"$f":"IFERROR(VLOOKUP($A68,FILTRO!$A62:$AY687,3,FALSE),0)","v":986},{"$f":"IFERROR(VLOOKUP($A68,FILTRO!$A62:$AY687,4,FALSE),0)","v":524},{"$f":"IFERROR(VLOOKUP($A68,FILTRO!$A62:$AY687,5,FALSE),0)","v":184},{"$f":"IFERROR(VLOOKUP($A68,FILTRO!$A62:$AY687,6,FALSE),0)","v":90},{"$f":"IFERROR(VLOOKUP($A68,FILTRO!$A62:$AY687,7,FALSE),0)","v":236},{"$f":"IFERROR(VLOOKUP($A68,FILTRO!$A62:$AY687,8,FALSE),0)","v":129},{"$f":"IFERROR(VLOOKUP($A68,FILTRO!$A62:$AY687,9,FALSE),0)","v":215},{"$f":"IFERROR(VLOOKUP($A68,FILTRO!$A62:$AY687,10,FALSE),0)","v":119},{"$f":"IFERROR(VLOOKUP($A68,FILTRO!$A62:$AY687,11,FALSE),0)","v":207},{"$f":"IFERROR(VLOOKUP($A68,FILTRO!$A62:$AY687,12,FALSE),0)","v":117},{"$f":"IFERROR(VLOOKUP($A68,FILTRO!$A62:$AY687,13,FALSE),0)","v":144},{"$f":"IFERROR(VLOOKUP($A68,FILTRO!$A62:$AY687,14,FALSE),0)","v":69},{"$f":"IFERROR(VLOOKUP($A68,FILTRO!$A62:$AY687,15,FALSE),0)","v":8},{"$f":"IFERROR(VLOOKUP($A68,FILTRO!$A62:$AY687,16,FALSE),0)","v":3},{"$f":"IFERROR(VLOOKUP($A68,FILTRO!$A62:$AY687,17,FALSE),0)","v":15},{"$f":"IFERROR(VLOOKUP($A68,FILTRO!$A62:$AY687,18,FALSE),0)","v":4},"",{"$nulls":72},"","",{"$nulls":23},0,0]
["P2400350",null,"NORMAL",{"$f":"IFERROR(VLOOKUP($A69,FILTRO!$A63:$AY688,2,FALSE),0)","v":8652},{"$f":"IFERROR(VLOOKUP($A69,FILTRO!$A63:$AY688,3,FALSE),0)","v":4222},{"$f":"IFERROR(VLOOKUP($A69,FILTRO!$A63:$AY688,4,FALSE),0)","v":4430},{"$f":"IFERROR(VLOOKUP($A69,FILTRO!$A63:$AY688,5,FALSE),0)","v":1398},{"$f":"IFERROR(VLOOKUP($A69,FILTRO!$A63:$AY688,6,FALSE),0)","v":1493},{"$f":"IFERROR(VLOOKUP($A69,FILTRO!$A63:$AY688,7,FALSE),0)","v":1137},{"$f":"IFERROR(VLOOKUP($A69,FILTRO!$A63:$AY688,8,FALSE),0)","v":1082},{"$f":"IFERROR(VLOOKUP($A69,FILTRO!$A63:$AY688,9,FALSE),0)","v":747},{"$f":"IFERROR(VLOOKUP($A69,FILTRO!$A63:$AY688,10,FALSE),0)","v":816},{"$f":"IFERROR(VLOOKUP($A69,FILTRO!$A63:$AY688,11,FALSE),0)","v":545},{"$f":"IFERROR(VLOOKUP($A69,FILTRO!$A63:$AY688,12,FALSE),0)","v":592},{"$f":"IFERROR(VLOOKUP($A69,FILTRO!$A63:$AY688,13,FALSE),0)","v":395},{"$f":"IFERROR(VLOOKUP($A69,FILTRO!$A63:$AY688,14,FALSE),0)","v":447},{"$f":"IFERROR(VLOOKUP($A69,FILTRO!$A63:$AY688,15,FALSE),0)","v":64},{"$f":"IFERROR(VLOOKUP($A69,FILTRO!$A63:$AY688,16,FALSE),0)","v":66},{"$f":"IFERROR(VLOOKUP($A69,FILTRO!$A63:$AY688,17,FALSE),0)","v":173},{"$f":"IFERROR(VLOOKUP($A69,FILTRO!$A63:$AY688,18,FALSE),0)","v":176},"",{"$nulls":72},"","",{"$nulls":23},0,0]
[null,null,"SUBTOTAL",{"$f":"SUM(D64:D69)","v":17413},{"$f":"SUM(E64:E69)","v":8787},8626,2586,2499,2149,2011,1667,1668,1374,1392,1056,1056,120,115,275,266,{"$f":" CM70 & CN70","v":""},{"$nulls":69},{"$f":"IF($D70>=$Q70+$R70,\"\",\"* El Total de Pueblos Originarios no debe ser mayor al total de niños en control. \")","v":""},{"$f":"IF($D70>=$S70+$T70,\"\",\"* El Total de Pueblación Migrantes no debe ser mayor al total de niños en control. \")","v":""},{"$nulls":23},{"$f":"IF($D70>=$Q70+$R70,0,1)","v":0},{"$f":"IF($D70>=$S70+$T70,0,1)","v":0}]
["P2400360",null,"DESNUTRICIÓN \nSECUNDARIA",{"$f":"IFERROR(VLOOKUP($A71,FILTRO!$A65:$AY690,2,FALSE),0)","v":7},{"$f":"IFERROR(VLOOKUP($A71,FILTRO!$A65:$AY690,3,FALSE),0)","v":3},{"$f":"IFERROR(VLOOKUP($A71,FILTRO!$A65:$AY690,4,FALSE),0)","v":4},{"$f":"IFERROR(VLOOKUP($A71,FILTRO!$A65:$AY690,5,FALSE),0)","v":0},{"$f":"IFERROR(VLOOKUP($A71,FILTRO!$A65:$AY690,6,FALSE),0)","v":3},{"$f":"IFERROR(VLOOKUP($A71,FILTRO!$A65:$AY690,7,FALSE),0)","v":2},{"$f":"IFERROR(VLOOKUP($A71,FILTRO!$A65:$AY690,8,FALSE),0)","v":1},{"$f":"IFERROR(VLOOKUP($A71,FILTRO!$A65:$AY690,9,FALSE),0)","v":0},{"$f":"IFERROR(VLOOKUP($A71,FILTRO!$A65:$AY690,10,FALSE),0)","v":0},{"$f":"IFERROR(VLOOKUP($A71,FILTRO!$A65:$AY690,11,FALSE),0)","v":0},{"$f":"IFERROR(VLOOKUP($A71,FILTRO!$A65:$AY690,12,FALSE),0)","v":0},{"$f":"IFERROR(VLOOKUP($A71,FILTRO!$A65:$AY690,13,FALSE),0)","v":1},{"$f":"IFERROR(VLOOKUP($A71,FILTRO!$A65:$AY690,14,FALSE),0)","v":0},{"$f":"IFERROR(VLOOKUP($A71,FILTRO!$A65:$AY690,15,FALSE),0)","v":0},{"$f":"IFERROR(VLOOKUP($A71,FILTRO!$A65:$AY690,16,FALSE),0)","v":0},{"$f":"IFERROR(VLOOKUP($A71,FILTRO!$A65:$AY690,17,FALSE),0)","v":0},{"$f":"IFERROR(VLOOKUP($A71,FILTRO!$A65:$AY690,18,FALSE),0)","v":0},{"$f":"CP71 & CQ71","v":""},{"$nulls":72},{"$f":"IF(AND(E71<>0,Q71=\"\"), \"* No olvide escribir en la celda de Pueblos Originarios (Digite CERO si no tiene). \",IF(AND(F71<>0,R71=\"\"), \"* No olvide escribir en la celda de Pueblos Originarios (Digite CERO si no tiene). \",\"\"))","v":""},{"$f":"IF(AND(E71<>0,S71=\"\"), \"* No olvide escribir en la celda de Población Migrantes (Digite CERO si no tiene). \",IF(AND(F71<>0,T71=\"\"), \"* No olvide escribir en la celda de Población Migrantes (Digite CERO si no tiene). \",\"\"))","v":""},{"$nulls":23},{"$f":"IF(AND(E71<>0,Q71=\"\"), 1,IF(AND(F71<>0,R71=\"\"), 1,0))","v":0},{"$f":"IF(AND(E71<>0,S71=\"\"), 1,IF(AND(F71<>0,T71=\"\"), 1,0))","v":0}]
[null,null,"T O T A L",{"$f":"SUM(E72:F72)","v":17420},{"$f":"SUM(E64:E69)+E71","v":8790},8630,2586,2502,2151,2012,1667,1668,1374,1392,1057,1056,120,115,275,266,{"$f":" CM72 & CN72","v":""},{"$nulls":69},{"$f":"IF($D72>=$Q72+$R72,\"\",\"* El Total de Pueblos Originarios no debe ser mayor al total de niños en control. \")","v":""},{"$f":"IF($D72>=$S72+$T72,\"\",\"* El Total de Pueblación Migrantes no debe ser mayor al total de niños en control. \")","v":""},{"$nulls":23},{"$f":"IF($D72>=$Q72+$R72,0,1)","v":0},{"$f":"IF($D72>=$S72+$T72,0,1)","v":0}]
["P2501801","NIÑOS SIN EVALUACIÓN NUTRICIONAL POR CURSO DE VIDA (RECIÉN NACIDOS) O POR CONDICIÓN ESPECIAL DE SALUD",null,{"$f":"IFERROR(VLOOKUP($A73,FILTRO!$A67:$AY692,2,FALSE),0)","v":18},{"$f":"IFERROR(VLOOKUP($A73,FILTRO!$A67:$AY692,3,FALSE),0)","v":8},{"$f":"IFERROR(VLOOKUP($A73,FILTRO!$A67:$AY692,4,FALSE),0)","v":10},{"$f":"IFERROR(VLOOKUP($A73,FILTRO!$A67:$AY692,5,FALSE),0)","v":1},{"$f":"IFERROR(VLOOKUP($A73,FILTRO!$A67:$AY692,6,FALSE),0)","v":1},{"$f":"IFERROR(VLOOKUP($A73,FILTRO!$A67:$AY692,7,FALSE),0)","v":2},{"$f":"IFERROR(VLOOKUP($A73,FILTRO!$A67:$AY692,8,FALSE),0)","v":3},{"$f":"IFERROR(VLOOKUP($A73,FILTRO!$A67:$AY692,9,FALSE),0)","v":1},{"$f":"IFERROR(VLOOKUP($A73,FILTRO!$A67:$AY692,10,FALSE),0)","v":1},{"$f":"IFERROR(VLOOKUP($A73,FILTRO!$A67:$AY692,11,FALSE),0)","v":1},{"$f":"IFERROR(VLOOKUP($A73,FILTRO!$A67:$AY692,12,FALSE),0)","v":2},{"$f":"IFERROR(VLOOKUP($A73,FILTRO!$A67:$AY692,13,FALSE),0)","v":3},{"$f":"IFERROR(VLOOKUP($A73,FILTRO!$A67:$AY692,14,FALSE),0)","v":3},{"$f":"IFERROR(VLOOKUP($A73,FILTRO!$A67:$AY692,15,FALSE),0)","v":0},{"$f":"IFERROR(VLOOKUP($A73,FILTRO!$A67:$AY692,16,FALSE),0)","v":0},{"$f":"IFERROR(VLOOKUP($A73,FILTRO!$A67:$AY692,17,FALSE),0)","v":0},{"$f":"IFERROR(VLOOKUP($A73,FILTRO!$A67:$AY692,18,FALSE),0)","v":0}]
[null,"NOTA(*): El Diagnóstico Nutricional Integrado de Déficit para los niños (as) 5 años y más denomina Déficit Ponderal al Riesgo de Desnutrir."]
[null,"SECCION B: POBLACION EN CONTROL SEGÚN RESULTADO DE EVALUACIÓN DEL DESARROLLO PSICOMOTOR"]
[null,"RESULTADO Y\nGRUPOS DE EDAD",null,"TOTAL","Hombres","Mujeres","Pueblos Originarios","Migrantes"]
["P2501802","NORMAL","Menor de 12 meses",{"$f":"IFERROR(VLOOKUP($A77,FILTRO!$A71:$AY696,2,FALSE),0)","v":2386},{"$f":"IFERROR(VLOOKUP($A77,FILTRO!$A71:$AY696,3,FALSE),0)","v":1210},{"$f":"IFERROR(VLOOKUP($A77,FILTRO!$A71:$AY696,4,FALSE),0)","v":1176},{"$f":"IFERROR(VLOOKUP($A77,FILTRO!$A71:$AY696,5,FALSE),0)","v":27},{"$f":"IFERROR(VLOOKUP($A77,FILTRO!$A71:$AY696,6,FALSE),0)","v":8},{"$nulls":75},{"$f":"IF($G1+$I1+$K1+$M1+$O1+$Q1+$S1+$U1<$E77+$E83,\"* La suma de Población Masculina Menor de 12 meses según resultado de 'Riesgo y Retraso' no puede ser mayor que la Población Masculina bajo control de la sección A. \",\"\")","v":"* La suma de Población Masculina Menor de 12 meses según resultado de 'Riesgo y Retraso' no puede ser mayor que la Población Masculina bajo control de la sección A. "},{"$f":"IF($H1+$J1+$L1+$N1+$P1+$R1+$T1+$V1<$F77+$F83,\"* La suma de Población Femenina de Menor de 12 meses según resultado de 'Riesgo y Retraso' no puede ser mayor que la Población Femenina bajo control de la sección A. \",\"\")","v":"* La suma de Población Femenina de Menor de 12 meses según resultado de 'Riesgo y Retraso' no puede ser mayor que la Población Femenina bajo control de la sección A. "},{"$nulls":23},{"$f":"IF($G1+$I1+$K1+$M1+$O1+$Q1+$S1+$U1<$E77+$E83,1,0)","v":1},{"$f":"IF($H1+$J1+$L1+$N1+$P1+$R1+$T1+$V1<$F77+$F83,1,0)","v":1}]
["P2501803",null,"12 a 17 meses",{"$f":"IFERROR(VLOOKUP($A78,FILTRO!$A72:$AY697,2,FALSE),0)","v":819},{"$f":"IFERROR(VLOOKUP($A78,FILTRO!$A72:$AY697,3,FALSE),0)","v":403},{"$f":"IFERROR(VLOOKUP($A78,FILTRO!$A72:$AY697,4,FALSE),0)","v":416},{"$f":"IFERROR(VLOOKUP($A78,FILTRO!$A72:$AY697,5,FALSE),0)","v":5},{"$f":"IFERROR(VLOOKUP($A78,FILTRO!$A72:$AY697,6,FALSE),0)","v":6},{"$nulls":75},{"$f":"IF($K$11<$E$90+$E$96,\"* La suma de Población Masculina de 12 a 17 meses según resultado de 'Riesgo y Retraso' no puede ser mayor que la Población Masculina bajo control de la sección A. \",\"\")","v":""},{"$f":"IF($L$11<$F$90+$F$96,\"* La suma de Población Femenina de 12 a 17 meses según resultado de 'Riesgo y Retraso' no puede ser mayor que la Población Femenina bajo control de la sección A. \",\"\")","v":""},{"$nulls":23},{"$f":"IF($K$11<$E$90+$E$96,1,0)","v":0},{"$f":"IF($L$11<$F$90+$F$96,1,0)","v":0}]
["P2501804",null,"18 a 23 meses",{"$f":"IFERROR(VLOOKUP($A79,FILTRO!$A73:$AY698,2,FALSE),0)","v":2067},{"$f":"IFERROR(VLOOKUP($A79,FILTRO!$A73:$AY698,3,FALSE),0)","v":981},{"$f":"IFERROR(VLOOKUP($A79,FILTRO!$A73:$AY698,4,FALSE),0)","v":1086},{"$f":"IFERROR(VLOOKUP($A79,FILTRO!$A73:$AY698,5,FALSE),0)","v":18},{"$f":"IFERROR(VLOOKUP($A79,FILTRO!$A73:$AY698,6,FALSE),0)","v":17},{"$nulls":75},{"$f":"IF($M$11<$E$91+$E$97,\"* La suma de Población Masculina de 18 a 23 meses según resultado de 'Riesgo y Retraso' no puede ser mayor que la Población Masculina bajo control de la sección A. \",\"\")","v":""},{"$f":"IF($N$11<$F$91+$F$97,\"* La suma de Población Femenina de 18 a 23 meses según resultado de 'Riesgo y Retraso' no puede ser mayor que la Población Femenina bajo control de la sección A. \",\"\")","v":""},{"$nulls":23},{"$f":"IF($M$11<$E$91+$E$97,1,0)","v":0},{"$f":"IF($N$11<$F$91+$F$97,1,0)","v":0}]
["P2501805",null,"24 a 35 meses",{"$f":"IFERROR(VLOOKUP($A80,FILTRO!$A74:$AY699,2,FALSE),0)","v":979},{"$f":"IFERROR(VLOOKUP($A80,FILTRO!$A74:$AY699,3,FALSE),0)","v":490},{"$f":"IFERROR(VLOOKUP($A80,FILTRO!$A74:$AY699,4,FALSE),0)","v":489},{"$f":"IFERROR(VLOOKUP($A80,FILTRO!$A74:$AY699,5,FALSE),0)","v":4},{"$f":"IFERROR(VLOOKUP($A80,FILTRO!$A74:$AY699,6,FALSE),0)","v":3},{"$nulls":75},{"$f":"IF($AA1+$AE1+$AC1<$E80+$E86,\"* La suma de Población Masculina de 24 a 47 meses según resultado de 'Riesgo y Retraso' no puede ser mayor que la Población Masculina bajo control de la sección A. \",\"\")","v":"* La suma de Población Masculina de 24 a 47 meses según resultado de 'Riesgo y Retraso' no puede ser mayor que la Población Masculina bajo control de la sección A. "},{"$f":"IF($AB1+$AF1+$AD1<$F80+$F86,\"* La suma de Población Femenina de 24 a 47 meses según resultado de 'Riesgo y Retraso' no puede ser mayor que la Población Femenina bajo control de la sección A. \",\"\")","v":"* La suma de Población Femenina de 24 a 47 meses según resultado de 'Riesgo y Retraso' no puede ser mayor que la Población Femenina bajo control de la sección A. "},{"$nulls":23},{"$f":"IF($AA1+$AE1+$AC1<$E80+$E86,1,0)","v":1},{"$f":"IF($AB1+$AF1+$AD1<$F80+$F86,1,0)","v":1}]
["P2501806",null,"36 a 47 meses",{"$f":"IFERROR(VLOOKUP($A81,FILTRO!$A75:$AY700,2,FALSE),0)","v":2144},{"$f":"IFERROR(VLOOKUP($A81,FILTRO!$A75:$AY700,3,FALSE),0)","v":1006},{"$f":"IFERROR(VLOOKUP($A81,FILTRO!$A75:$AY700,4,FALSE),0)","v":1138},{"$f":"IFERROR(VLOOKUP($A81,FILTRO!$A75:$AY700,5,FALSE),0)","v":27},{"$f":"IFERROR(VLOOKUP($A81,FILTRO!$A75:$AY700,6,FALSE),0)","v":30}]
["P2501807",null,"48 a 59 meses",{"$f":"IFERROR(VLOOKUP($A82,FILTRO!$A76:$AY701,2,FALSE),0)","v":688},{"$f":"IFERROR(VLOOKUP($A82,FILTRO!$A76:$AY701,3,FALSE),0)","v":371},{"$f":"IFERROR(VLOOKUP($A82,FILTRO!$A76:$AY701,4,FALSE),0)","v":317},{"$f":"IFERROR(VLOOKUP($A82,FILTRO!$A76:$AY701,5,FALSE),0)","v":7},{"$f":"IFERROR(VLOOKUP($A82,FILTRO!$A76:$AY701,6,FALSE),0)","v":3},{"$nulls":75},{"$f":"IF($S$11<$E$94+$E$100,\"* La suma de Población Masculina de 48 a 59 meses según resultado de 'Riesgo y Retraso' no puede ser mayor que la Población Masculina bajo control de la sección A. \",\"\")","v":""},{"$f":"IF($T$11<$F$94+$F$100,\"* La suma de Población Femenina de 48 a 59 meses según resultado de 'Riesgo y Retraso' no puede ser mayor que la Población Femenina bajo control de la sección A. \",\"\")","v":""},{"$nulls":23},{"$f":"IF($S$11<$E$94+$E$100,1,0)","v":0},{"$f":"IF($T$11<$F$94+$F$100,1,0)","v":0}]
["P2501808","NORMAL CON REZAGO","Menor de 12 meses",{"$f":"IFERROR(VLOOKUP($A83,FILTRO!$A77:$AY702,2,FALSE),0)","v":71},{"$f":"IFERROR(VLOOKUP($A83,FILTRO!$A77:$AY702,3,FALSE),0)","v":42},{"$f":"IFERROR(VLOOKUP($A83,FILTRO!$A77:$AY702,4,FALSE),0)","v":29},{"$f":"IFERROR(VLOOKUP($A83,FILTRO!$A77:$AY702,5,FALSE),0)","v":0},{"$f":"IFERROR(VLOOKUP($A83,FILTRO!$A77:$AY702,6,FALSE),0)","v":0},{"$nulls":75},{"$f":"IF($G6+$I6+$K6+$M6+$O6+$Q6+$S6+$U6<$E83+$E89,\"* La suma de Población Masculina Menor de 12 meses según resultado de 'Riesgo y Retraso' no puede ser mayor que la Población Masculina bajo control de la sección A. \",\"\")","v":"* La suma de Población Masculina Menor de 12 meses según resultado de 'Riesgo y Retraso' no puede ser mayor que la Población Masculina bajo control de la sección A. "},{"$f":"IF($H6+$J6+$L6+$N6+$P6+$R6+$T6+$V6<$F83+$F89,\"* La suma de Población Femenina de Menor de 12 meses según resultado de 'Riesgo y Retraso' no puede ser mayor que la Población Femenina bajo control de la sección A. \",\"\")","v":"* La suma de Población Femenina de Menor de 12 meses según resultado de 'Riesgo y Retraso' no puede ser mayor que la Población Femenina bajo control de la sección A. "},{"$nulls":23},{"$f":"IF($G6+$I6+$K6+$M6+$O6+$Q6+$S6+$U6<$E83+$E89,1,0)","v":1},{"$f":"IF($H6+$J6+$L6+$N6+$P6+$R6+$T6+$V6<$F83+$F89,1,0)","v":1}]
["P2501809",null,"12 a 17 meses",{"$f":"IFERROR(VLOOKUP($A84,FILTRO!$A78:$AY703,2,FALSE),0)","v":38},{"$f":"IFERROR(VLOOKUP($A84,FILTRO!$A78:$AY703,3,FALSE),0)","v":20},{"$f":"IFERROR(VLOOKUP($A84,FILTRO!$A78:$AY703,4,FALSE),0)","v":18},{"$f":"IFERROR(VLOOKUP($A84,FILTRO!$A78:$AY703,5,FALSE),0)","v":1},{"$f":"IFERROR(VLOOKUP($A84,FILTRO!$A78:$AY703,6,FALSE),0)","v":0},{"$nulls":75},{"$f":"IF($K$11<$E$90+$E$96,\"* La suma de Población Masculina de 12 a 17 meses según resultado de 'Riesgo y Retraso' no puede ser mayor que la Población Masculina bajo control de la sección A. \",\"\")","v":""},{"$f":"IF($L$11<$F$90+$F$96,\"* La suma de Población Femenina de 12 a 17 meses según resultado de 'Riesgo y Retraso' no puede ser mayor que la Población Femenina bajo control de la sección A. \",\"\")","v":""},{"$nulls":23},{"$f":"IF($K$11<$E$90+$E$96,1,0)","v":0},{"$f":"IF($L$11<$F$90+$F$96,1,0)","v":0}]
["P2501810",null,"18 a 23 meses",{"$f":"IFERROR(VLOOKUP($A85,FILTRO!$A79:$AY704,2,FALSE),0)","v":138},{"$f":"IFERROR(VLOOKUP($A85,FILTRO!$A79:$AY704,3,FALSE),0)","v":84},{"$f":"IFERROR(VLOOKUP($A85,FILTRO!$A79:$AY704,4,FALSE),0)","v":54},{"$f":"IFERROR(VLOOKUP($A85,FILTRO!$A79:$AY704,5,FALSE),0)","v":4},{"$f":"IFERROR(VLOOKUP($A85,FILTRO!$A79:$AY704,6,FALSE),0)","v":2},{"$nulls":75},{"$f":"IF($M$11<$E$91+$E$97,\"* La suma de Población Masculina de 18 a 23 meses según resultado de 'Riesgo y Retraso' no puede ser mayor que la Población Masculina bajo control de la sección A. \",\"\")","v":""},{"$f":"IF($N$11<$F$91+$F$97,\"* La suma de Población Femenina de 18 a 23 meses según resultado de 'Riesgo y Retraso' no puede ser mayor que la Población Femenina bajo control de la sección A. \",\"\")","v":""},{"$nulls":23},{"$f":"IF($M$11<$E$91+$E$97,1,0)","v":0},{"$f":"IF($N$11<$F$91+$F$97,1,0)","v":0}]
["P2501811",null,"24 a 35 meses",{"$f":"IFERROR(VLOOKUP($A86,FILTRO!$A80:$AY705,2,FALSE),0)","v":107},{"$f":"IFERROR(VLOOKUP($A86,FILTRO!$A80:$AY705,3,FALSE),0)","v":78},{"$f":"IFERROR(VLOOKUP($A86,FILTRO!$A80:$AY705,4,FALSE),0)","v":29},{"$f":"IFERROR(VLOOKUP($A86,FILTRO!$A80:$AY705,5,FALSE),0)","v":2},{"$f":"IFERROR(VLOOKUP($A86,FILTRO!$A80:$AY705,6,FALSE),0)","v":2},{"$nulls":75},{"$f":"IF($AA6+$AE6+$AC6<$E86+$E92,\"* La suma de Población Masculina de 24 a 47 meses según resultado de 'Riesgo y Retraso' no puede ser mayor que la Población Masculina bajo control de la sección A. \",\"\")","v":"* La suma de Población Masculina de 24 a 47 meses según resultado de 'Riesgo y Retraso' no puede ser mayor que la Población Masculina bajo control de la sección A. "},{"$f":"IF($AB6+$AF6+$AD6<$F86+$F92,\"* La suma de Población Femenina de 24 a 47 meses según resultado de 'Riesgo y Retraso' no puede ser mayor que la Población Femenina bajo control de la sección A. \",\"\")","v":"* La suma de Población Femenina de 24 a 47 meses según resultado de 'Riesgo y Retraso' no puede ser mayor que la Población Femenina bajo control de la sección A. "},{"$nulls":23},{"$f":"IF($AA6+$AE6+$AC6<$E86+$E92,1,0)","v":1},{"$f":"IF($AB6+$AF6+$AD6<$F86+$F92,1,0)","v":1}]
["P2501812",null,"36 a 47 meses",{"$f":"IFERROR(VLOOKUP($A87,FILTRO!$A81:$AY706,2,FALSE),0)","v":207},{"$f":"IFERROR(VLOOKUP($A87,FILTRO!$A81:$AY706,3,FALSE),0)","v":106},{"$f":"IFERROR(VLOOKUP($A87,FILTRO!$A81:$AY706,4,FALSE),0)","v":101},{"$f":"IFERROR(VLOOKUP($A87,FILTRO!$A81:$AY706,5,FALSE),0)","v":3},{"$f":"IFERROR(VLOOKUP($A87,FILTRO!$A81:$AY706,6,FALSE),0)","v":4}]
["P2501813",null,"48 a 59 meses",{"$f":"IFERROR(VLOOKUP($A88,FILTRO!$A82:$AY707,2,FALSE),0)","v":19},{"$f":"IFERROR(VLOOKUP($A88,FILTRO!$A82:$AY707,3,FALSE),0)","v":15},{"$f":"IFERROR(VLOOKUP($A88,FILTRO!$A82:$AY707,4,FALSE),0)","v":4},{"$f":"IFERROR(VLOOKUP($A88,FILTRO!$A82:$AY707,5,FALSE),0)","v":0},{"$f":"IFERROR(VLOOKUP($A88,FILTRO!$A82:$AY707,6,FALSE),0)","v":0},{"$nulls":75},{"$f":"IF($S$11<$E$94+$E$100,\"* La suma de Población Masculina de 48 a 59 meses según resultado de 'Riesgo y Retraso' no puede ser mayor que la Población Masculina bajo control de la sección A. \",\"\")","v":""},{"$f":"IF($T$11<$F$94+$F$100,\"* La suma de Población Femenina de 48 a 59 meses según resultado de 'Riesgo y Retraso' no puede ser mayor que la Población Femenina bajo control de la sección A. \",\"\")","v":""},{"$nulls":23},{"$f":"IF($S$11<$E$94+$E$100,1,0)","v":0},{"$f":"IF($T$11<$F$94+$F$100,1,0)","v":0}]
["P2100200","RIESGO","Menor de 12 meses",{"$f":"IFERROR(VLOOKUP($A89,FILTRO!$A83:$AY708,2,FALSE),0)","v":115},{"$f":"IFERROR(VLOOKUP($A89,FILTRO!$A83:$AY708,3,FALSE),0)","v":59},{"$f":"IFERROR(VLOOKUP($A89,FILTRO!$A83:$AY708,4,FALSE),0)","v":56},{"$f":"IFERROR(VLOOKUP($A89,FILTRO!$A83:$AY708,5,FALSE),0)","v":4},{"$f":"IFERROR(VLOOKUP($A89,FILTRO!$A83:$AY708,6,FALSE),0)","v":2},{"$nulls":100},{"$f":"IF(#REF!+#REF!+#REF!+#REF!+#REF!+#REF!+$G11+$I11<$E89+$E95,1,0)","v":{"$error":"#REF!"}},{"$f":"IF(#REF!+#REF!+#REF!+#REF!+#REF!+#REF!+$H11+$J11<$F89+$F95,1,0)","v":{"$error":"#REF!"}}]
["P2300100",null,"12 a 17 meses",{"$f":"IFERROR(VLOOKUP($A90,FILTRO!$A84:$AY709,2,FALSE),0)","v":51},{"$f":"IFERROR(VLOOKUP($A90,FILTRO!$A84:$AY709,3,FALSE),0)","v":34},{"$f":"IFERROR(VLOOKUP($A90,FILTRO!$A84:$AY709,4,FALSE),0)","v":17},{"$f":"IFERROR(VLOOKUP($A90,FILTRO!$A84:$AY709,5,FALSE),0)","v":3},{"$f":"IFERROR(VLOOKUP($A90,FILTRO!$A84:$AY709,6,FALSE),0)","v":2},{"$nulls":100},{"$f":"IF($K$11<$E$90+$E$96,1,0)","v":0},{"$f":"IF($L$11<$F$90+$F$96,1,0)","v":0}]
["P2300200",null,"18 a 23 meses",{"$f":"IFERROR(VLOOKUP($A91,FILTRO!$A85:$AY710,2,FALSE),0)","v":271},{"$f":"IFERROR(VLOOKUP($A91,FILTRO!$A85:$AY710,3,FALSE),0)","v":169},{"$f":"IFERROR(VLOOKUP($A91,FILTRO!$A85:$AY710,4,FALSE),0)","v":102},{"$f":"IFERROR(VLOOKUP($A91,FILTRO!$A85:$AY710,5,FALSE),0)","v":3},{"$f":"IFERROR(VLOOKUP($A91,FILTRO!$A85:$AY710,6,FALSE),0)","v":3},{"$nulls":100},{"$f":"IF($M$11<$E$91+$E$97,1,0)","v":0},{"$f":"IF($N$11<$F$91+$F$97,1,0)","v":0}]
["P2501814",null,"24 a 35 meses",{"$f":"IFERROR(VLOOKUP($A92,FILTRO!$A86:$AY711,2,FALSE),0)","v":109},{"$f":"IFERROR(VLOOKUP($A92,FILTRO!$A86:$AY711,3,FALSE),0)","v":72},{"$f":"IFERROR(VLOOKUP($A92,FILTRO!$A86:$AY711,4,FALSE),0)","v":37},{"$f":"IFERROR(VLOOKUP($A92,FILTRO!$A86:$AY711,5,FALSE),0)","v":3},{"$f":"IFERROR(VLOOKUP($A92,FILTRO!$A86:$AY711,6,FALSE),0)","v":2},{"$nulls":100},{"$f":"IF($O11+$Q11+#REF!<$E92+$E98,1,0)","v":{"$error":"#REF!"}},{"$f":"IF($P11+$R11+#REF!<$F92+$F98,1,0)","v":{"$error":"#REF!"}}]
["P2501815",null,"36 a 47 meses",{"$f":"IFERROR(VLOOKUP($A93,FILTRO!$A87:$AY712,2,FALSE),0)","v":210},{"$f":"IFERROR(VLOOKUP($A93,FILTRO!$A87:$AY712,3,FALSE),0)","v":127},{"$f":"IFERROR(VLOOKUP($A93,FILTRO!$A87:$AY712,4,FALSE),0)","v":83},{"$f":"IFERROR(VLOOKUP($A93,FILTRO!$A87:$AY712,5,FALSE),0)","v":4},{"$f":"IFERROR(VLOOKUP($A93,FILTRO!$A87:$AY712,6,FALSE),0)","v":4}]
["P2100500",null,"48 a 59 meses",{"$f":"IFERROR(VLOOKUP($A94,FILTRO!$A88:$AY713,2,FALSE),0)","v":9},{"$f":"IFERROR(VLOOKUP($A94,FILTRO!$A88:$AY713,3,FALSE),0)","v":7},{"$f":"IFERROR(VLOOKUP($A94,FILTRO!$A88:$AY713,4,FALSE),0)","v":2},{"$f":"IFERROR(VLOOKUP($A94,FILTRO!$A88:$AY713,5,FALSE),0)","v":0},{"$f":"IFERROR(VLOOKUP($A94,FILTRO!$A88:$AY713,6,FALSE),0)","v":0},{"$nulls":75},{"$f":"IF($S$11<$E$94+$E$100,\"* La suma de Población Masculina de 48 a 59 meses según resultado de 'Riesgo y Retraso' no puede ser mayor que la Población Masculina bajo control de la sección A. \",\"\")","v":""},{"$f":"IF($T$11<$F$94+$F$100,\"* La suma de Población Femenina de 48 a 59 meses según resultado de 'Riesgo y Retraso' no puede ser mayor que la Población Femenina bajo control de la sección A. \",\"\")","v":""},{"$nulls":23},{"$f":"IF($S$11<$E$94+$E$100,1,0)","v":0},{"$f":"IF($T$11<$F$94+$F$100,1,0)","v":0}]
["P2100600","RETRASO","Menor de 12 meses",{"$f":"IFERROR(VLOOKUP($A95,FILTRO!$A89:$AY714,2,FALSE),0)","v":53},{"$f":"IFERROR(VLOOKUP($A95,FILTRO!$A89:$AY714,3,FALSE),0)","v":25},{"$f":"IFERROR(VLOOKUP($A95,FILTRO!$A89:$AY714,4,FALSE),0)","v":28},{"$f":"IFERROR(VLOOKUP($A95,FILTRO!$A89:$AY714,5,FALSE),0)","v":2},{"$f":"IFERROR(VLOOKUP($A95,FILTRO!$A89:$AY714,6,FALSE),0)","v":0}]
["P2300300",null,"12 a 17 meses",{"$f":"IFERROR(VLOOKUP($A96,FILTRO!$A90:$AY715,2,FALSE),0)","v":12},{"$f":"IFERROR(VLOOKUP($A96,FILTRO!$A90:$AY715,3,FALSE),0)","v":9},{"$f":"IFERROR(VLOOKUP($A96,FILTRO!$A90:$AY715,4,FALSE),0)","v":3},{"$f":"IFERROR(VLOOKUP($A96,FILTRO!$A90:$AY715,5,FALSE),0)","v":0},{"$f":"IFERROR(VLOOKUP($A96,FILTRO!$A90:$AY715,6,FALSE),0)","v":0}]
["P2300400",null,"18 a 23 meses",{"$f":"IFERROR(VLOOKUP($A97,FILTRO!$A91:$AY716,2,FALSE),0)","v":136},{"$f":"IFERROR(VLOOKUP($A97,FILTRO!$A91:$AY716,3,FALSE),0)","v":94},{"$f":"IFERROR(VLOOKUP($A97,FILTRO!$A91:$AY716,4,FALSE),0)","v":42},{"$f":"IFERROR(VLOOKUP($A97,FILTRO!$A91:$AY716,5,FALSE),0)","v":1},{"$f":"IFERROR(VLOOKUP($A97,FILTRO!$A91:$AY716,6,FALSE),0)","v":2}]
["P2501816",null,"24 a 35 meses",{"$f":"IFERROR(VLOOKUP($A98,FILTRO!$A92:$AY717,2,FALSE),0)","v":24},{"$f":"IFERROR(VLOOKUP($A98,FILTRO!$A92:$AY717,3,FALSE),0)","v":15},{"$f":"IFERROR(VLOOKUP($A98,FILTRO!$A92:$AY717,4,FALSE),0)","v":9},{"$f":"IFERROR(VLOOKUP($A98,FILTRO!$A92:$AY717,5,FALSE),0)","v":0},{"$f":"IFERROR(VLOOKUP($A98,FILTRO!$A92:$AY717,6,FALSE),0)","v":1}]
["P2501817",null,"36 a 47 meses",{"$f":"IFERROR(VLOOKUP($A99,FILTRO!$A93:$AY718,2,FALSE),0)","v":95},{"$f":"IFERROR(VLOOKUP($A99,FILTRO!$A93:$AY718,3,FALSE),0)","v":68},{"$f":"IFERROR(VLOOKUP($A99,FILTRO!$A93:$AY718,4,FALSE),0)","v":27},{"$f":"IFERROR(VLOOKUP($A99,FILTRO!$A93:$AY718,5,FALSE),0)","v":1},{"$f":"IFERROR(VLOOKUP($A99,FILTRO!$A93:$AY718,6,FALSE),0)","v":1}]
["P2300000",null,"48 a 59 meses",{"$f":"IFERROR(VLOOKUP($A100,FILTRO!$A94:$AY719,2,FALSE),0)","v":12},{"$f":"IFERROR(VLOOKUP($A100,FILTRO!$A94:$AY719,3,FALSE),0)","v":12},{"$f":"IFERROR(VLOOKUP($A100,FILTRO!$A94:$AY719,4,FALSE),0)","v":0},{"$f":"IFERROR(VLOOKUP($A100,FILTRO!$A94:$AY719,5,FALSE),0)","v":1},{"$f":"IFERROR(VLOOKUP($A100,FILTRO!$A94:$AY719,6,FALSE),0)","v":0}]
[null,"SECCION C: POBLACIÓN MENOR DE 1 AÑO EN CONTROL, SEGÚN SCORE RIESGO EN IRA Y VISITA DOMICILIARIA INTEGRAL "]
[null,"RESULTADO",null,"TOTAL","Diada, menor de 10 días","1 mes","2 meses","3 meses","4 meses","5 meses","6 meses","7 a 12 meses","Total de Niños y Niñas que han recibido VDI","Pueblos Originarios","Migrantes"]
[]
["P2090300","SCORE \nDE RIESGO","LEVE",{"$f":"IFERROR(VLOOKUP($A104,FILTRO!$A98:$AY723,2,FALSE),0)","v":7422},{"$f":"IFERROR(VLOOKUP($A104,FILTRO!$A98:$AY723,3,FALSE),0)","v":421},{"$f":"IFERROR(VLOOKUP($A104,FILTRO!$A98:$AY723,4,FALSE),0)","v":780},{"$f":"IFERROR(VLOOKUP($A104,FILTRO!$A98:$AY723,5,FALSE),0)","v":878},{"$f":"IFERROR(VLOOKUP($A104,FILTRO!$A98:$AY723,6,FALSE),0)","v":678},{"$f":"IFERROR(VLOOKUP($A104,FILTRO!$A98:$AY723,7,FALSE),0)","v":840},{"$f":"IFERROR(VLOOKUP($A104,FILTRO!$A98:$AY723,8,FALSE),0)","v":607},{"$f":"IFERROR(VLOOKUP($A104,FILTRO!$A98:$AY723,9,FALSE),0)","v":862},{"$f":"IFERROR(VLOOKUP($A104,FILTRO!$A98:$AY723,10,FALSE),0)","v":2356},{"$f":"IFERROR(VLOOKUP($A104,FILTRO!$A98:$AY723,11,FALSE),0)","v":0},{"$f":"IFERROR(VLOOKUP($A104,FILTRO!$A98:$AY723,12,FALSE),0)","v":48},{"$f":"IFERROR(VLOOKUP($A104,FILTRO!$A98:$AY723,13,FALSE),0)","v":22}]
["P2090400",null,"MODERADO",{"$f":"IFERROR(VLOOKUP($A105,FILTRO!$A99:$AY724,2,FALSE),0)","v":1182},{"$f":"IFERROR(VLOOKUP($A105,FILTRO!$A99:$AY724,3,FALSE),0)","v":24},{"$f":"IFERROR(VLOOKUP($A105,FILTRO!$A99:$AY724,4,FALSE),0)","v":100},{"$f":"IFERROR(VLOOKUP($A105,FILTRO!$A99:$AY724,5,FALSE),0)","v":130},{"$f":"IFERROR(VLOOKUP($A105,FILTRO!$A99:$AY724,6,FALSE),0)","v":103},{"$f":"IFERROR(VLOOKUP($A105,FILTRO!$A99:$AY724,7,FALSE),0)","v":136},{"$f":"IFERROR(VLOOKUP($A105,FILTRO!$A99:$AY724,8,FALSE),0)","v":86},{"$f":"IFERROR(VLOOKUP($A105,FILTRO!$A99:$AY724,9,FALSE),0)","v":148},{"$f":"IFERROR(VLOOKUP($A105,FILTRO!$A99:$AY724,10,FALSE),0)","v":455},{"$f":"IFERROR(VLOOKUP($A105,FILTRO!$A99:$AY724,11,FALSE),0)","v":173},{"$f":"IFERROR(VLOOKUP($A105,FILTRO!$A99:$AY724,12,FALSE),0)","v":7},{"$f":"IFERROR(VLOOKUP($A105,FILTRO!$A99:$AY724,13,FALSE),0)","v":3},{"$nulls":70},{"$f":"IF($D105<$M105, \"* Niños visitados no puede ser mayor que el total Score Moderado. \",\"\")","v":""},{"$nulls":23},{"$f":"IF($D105<$M105, 1,0)","v":0}]
["P2100100",null,"GRAVE",{"$f":"IFERROR(VLOOKUP($A106,FILTRO!$A100:$AY725,2,FALSE),0)","v":474},{"$f":"IFERROR(VLOOKUP($A106,FILTRO!$A100:$AY725,3,FALSE),0)","v":4},{"$f":"IFERROR(VLOOKUP($A106,FILTRO!$A100:$AY725,4,FALSE),0)","v":37},{"$f":"IFERROR(VLOOKUP($A106,FILTRO!$A100:$AY725,5,FALSE),0)","v":55},{"$f":"IFERROR(VLOOKUP($A106,FILTRO!$A100:$AY725,6,FALSE),0)","v":35},{"$f":"IFERROR(VLOOKUP($A106,FILTRO!$A100:$AY725,7,FALSE),0)","v":49},{"$f":"IFERROR(VLOOKUP($A106,FILTRO!$A100:$AY725,8,FALSE),0)","v":63},{"$f":"IFERROR(VLOOKUP($A106,FILTRO!$A100:$AY725,9,FALSE),0)","v":57},{"$f":"IFERROR(VLOOKUP($A106,FILTRO!$A100:$AY725,10,FALSE),0)","v":174},{"$f":"IFERROR(VLOOKUP($A106,FILTRO!$A100:$AY725,11,FALSE),0)","v":166},{"$f":"IFERROR(VLOOKUP($A106,FILTRO!$A100:$AY725,12,FALSE),0)","v":2},{"$f":"IFERROR(VLOOKUP($A106,FILTRO!$A100:$AY725,13,FALSE),0)","v":5},{"$nulls":70},{"$f":"IF($D106<$M106, \"* Niños visitados no puede ser mayor que el total Score Grave. \",\"\")","v":""},{"$nulls":23},{"$f":"IF($D106<$M106,1,0)","v":0}]
[null,null,"TOTAL",{"$f":"SUM(E107:L107)","v":9078},{"$f":"SUM(E104:E106)","v":449},917,1063,816,1025,756,{"$f":"SUM(K104:K106)","v":1067},2985,{"$f":"SUM(M105:M106)","v":339},{"$f":"SUM(N104:N106)","v":57},{"$f":"SUM(O104:O106)","v":30}]
[null,"SECCION D: POBLACIÓN EN CONTROL EN EL SEMESTRE CON CONSULTA NUTRICIONAL, SEGÚN ESTRATEGIA"]
[null,"NIÑO/A CON CONSULTA NUTRICIONAL EN",null,"TOTAL"]
[]
["P2200700","Del 5to mes",null,{"$f":"IFERROR(VLOOKUP($A111,FILTRO!$A105:$AY730,2,FALSE),0)","v":2409}]
["P2200800","De los 3 años y 6 meses",null,{"$f":"IFERROR(VLOOKUP($A112,FILTRO!$A106:$AY731,2,FALSE),0)","v":1540}]
[null,"SECCION E: POBLACIÓN INASISTENTE A CONTROL DEL NIÑO SANO (AL CORTE)"]
[null,"EDAD",null,"TOTAL"]
[]
["P2501818","0 - 11 meses",null,{"$f":"IFERROR(VLOOKUP($A116,FILTRO!$A110:$AY735,2,FALSE),0)","v":551}]
["P2501819","12 - 24 meses",null,{"$f":"IFERROR(VLOOKUP($A117,FILTRO!$A111:$AY736,2,FALSE),0)","v":914}]
["P2501820","25 - 35 meses",null,{"$f":"IFERROR(VLOOKUP($A118,FILTRO!$A112:$AY737,2,FALSE),0)","v":1353}]
["P2501821","36 - 59 meses",null,{"$f":"IFERROR(VLOOKUP($A119,FILTRO!$A113:$AY738,2,FALSE),0)","v":3229}]
["P2501822","60 meses - 9 años",null,{"$f":"IFERROR(VLOOKUP($A120,FILTRO!$A114:$AY739,2,FALSE),0)","v":9998}]
[null,"TOTAL",null,{"$f":"SUM(D116:D120)","v":16045}]
[null,"SECCION F: POBLACIÓN INFANTIL SEGÚN DIAGNÓSTICO DE PRESIÓN ARTERIAL (Incluida en sección A y A1)"]
[null,"CLASIFICACIÓN",null,"Total",null,null,"GRUPOS DE EDAD (en meses)",{"$nulls":5},"Derivación Nivel Secundario"]
[{"$nulls":6},"36 a 47 meses",null,"48 a 71 meses",null,"6-9 años"]
[{"$nulls":3},"Total","Hombres","Mujeres","Hombres","Mujeres","Hombres","Mujeres","Hombres","Mujeres"]
["P2300530","NORMAL (PA menor al percentil 90)",null,{"$f":"IFERROR(VLOOKUP($A126,FILTRO!$A120:$AY745,2,FALSE),0)","v":12741},{"$f":"IFERROR(VLOOKUP($A126,FILTRO!$A120:$AY745,3,FALSE),0)","v":6181},{"$f":"IFERROR(VLOOKUP($A126,FILTRO!$A120:$AY745,4,FALSE),0)","v":6560},{"$f":"IFERROR(VLOOKUP($A126,FILTRO!$A120:$AY745,5,FALSE),0)","v":684},{"$f":"IFERROR(VLOOKUP($A126,FILTRO!$A120:$AY745,6,FALSE),0)","v":769},{"$f":"IFERROR(VLOOKUP($A126,FILTRO!$A120:$AY745,7,FALSE),0)","v":2102},{"$f":"IFERROR(VLOOKUP($A126,FILTRO!$A120:$AY745,8,FALSE),0)","v":2199},{"$f":"IFERROR(VLOOKUP($A126,FILTRO!$A120:$AY745,9,FALSE),0)","v":3395},{"$f":"IFERROR(VLOOKUP($A126,FILTRO!$A120:$AY745,10,FALSE),0)","v":3592},{"$f":"IFERROR(VLOOKUP($A126,FILTRO!$A120:$AY745,11,FALSE),0)","v":0},{"$nulls":79},{"$f":"IF($G126<=SUM($Q$11:$R$11),\"\",\"* Niños(as) de 36 a 47 ms clasificados debe ser menor o igual al Total de la población de niños bajo control de en sección A misma edad. \")","v":"* Niños(as) de 36 a 47 ms clasificados debe ser menor o igual al Total de la población de niños bajo control de en sección A misma edad. "},{"$f":"IF($J126<=SUM($S$11:$T$11,$G$44:$H$44),\"\",\"* Niños(as) de 48 a 71 meses clasificados debe ser menor o igual al Total de la población de niños bajo control de en sección A y A1 de la misma edad. \")","v":""},{"$f":"IF($L126<=SUM($O$44:$P$44),\"\",\"* Niños(as) de 6 a 9 años clasificados debe ser menor o igual al Total de la población de niños bajo control de en sección A1 misma edad \")","v":"* Niños(as) de 6 a 9 años clasificados debe ser menor o igual al Total de la población de niños bajo control de en sección A1 misma edad "},{"$nulls":19},{"$f":"IF($G126<=SUM($Q$11:$R$11),0,1)","v":1},{"$f":"IF($J126<=SUM($S$11:$T$11,$G$44:$H$44),0,1)","v":0},{"$f":"IF($L126<=SUM($O$44:$P$44),0,1)","v":1}]
["P2300540","PRESIÓN ARTERIAL ELEVADA",null,{"$f":"IFERROR(VLOOKUP($A127,FILTRO!$A121:$AY746,2,FALSE),0)","v":697},{"$f":"IFERROR(VLOOKUP($A127,FILTRO!$A121:$AY746,3,FALSE),0)","v":350},{"$f":"IFERROR(VLOOKUP($A127,FILTRO!$A121:$AY746,4,FALSE),0)","v":347},{"$f":"IFERROR(VLOOKUP($A127,FILTRO!$A121:$AY746,5,FALSE),0)","v":32},{"$f":"IFERROR(VLOOKUP($A127,FILTRO!$A121:$AY746,6,FALSE),0)","v":29},{"$f":"IFERROR(VLOOKUP($A127,FILTRO!$A121:$AY746,7,FALSE),0)","v":103},{"$f":"IFERROR(VLOOKUP($A127,FILTRO!$A121:$AY746,8,FALSE),0)","v":117},{"$f":"IFERROR(VLOOKUP($A127,FILTRO!$A121:$AY746,9,FALSE),0)","v":215},{"$f":"IFERROR(VLOOKUP($A127,FILTRO!$A121:$AY746,10,FALSE),0)","v":201},{"$f":"IFERROR(VLOOKUP($A127,FILTRO!$A121:$AY746,11,FALSE),0)","v":3},{"$nulls":79},{"$f":"IF($G127<=SUM($Q$11:$R$11),\"\",\"* Niños(as) de 36 a 47 ms clasificados debe ser menor o igual al Total de la población de niños bajo control de en sección A misma edad. \")","v":""},{"$f":"IF($J127<=SUM($S$11:$T$11,$G$44:$H$44),\"\",\"* Niños(as) de 48 a 71 meses clasificados debe ser menor o igual al Total de la población de niños bajo control de en sección A y A1 de la misma edad. \")","v":""},{"$f":"IF($L127<=SUM($O$44:$P$44),\"\",\"* Niños(as) de 6 a 9 años clasificados debe ser menor o igual al Total de la población de niños bajo control de en sección A1 misma edad \")","v":""},{"$nulls":19},{"$f":"IF($G127<=SUM($Q$11:$R$11),0,1)","v":0},{"$f":"IF($J127<=SUM($S$11:$T$11,$G$44:$H$44),0,1)","v":0},{"$f":"IF($L127<=SUM($O$44:$P$44),0,1)","v":0}]
["P2300550","HTA ESTADIO I ",null,{"$f":"IFERROR(VLOOKUP($A128,FILTRO!$A122:$AY747,2,FALSE),0)","v":236},{"$f":"IFERROR(VLOOKUP($A128,FILTRO!$A122:$AY747,3,FALSE),0)","v":122},{"$f":"IFERROR(VLOOKUP($A128,FILTRO!$A122:$AY747,4,FALSE),0)","v":114},{"$f":"IFERROR(VLOOKUP($A128,FILTRO!$A122:$AY747,5,FALSE),0)","v":17},{"$f":"IFERROR(VLOOKUP($A128,FILTRO!$A122:$AY747,6,FALSE),0)","v":17},{"$f":"IFERROR(VLOOKUP($A128,FILTRO!$A122:$AY747,7,FALSE),0)","v":34},{"$f":"IFERROR(VLOOKUP($A128,FILTRO!$A122:$AY747,8,FALSE),0)","v":31},{"$f":"IFERROR(VLOOKUP($A128,FILTRO!$A122:$AY747,9,FALSE),0)","v":71},{"$f":"IFERROR(VLOOKUP($A128,FILTRO!$A122:$AY747,10,FALSE),0)","v":66},{"$f":"IFERROR(VLOOKUP($A128,FILTRO!$A122:$AY747,11,FALSE),0)","v":4},{"$nulls":79},{"$f":"IF($G128<=SUM($Q$11:$R$11),\"\",\"* Niños(as) de 36 a 47 ms clasificados debe ser menor o igual al Total de la población de niños bajo control de en sección A misma edad. \")","v":""},{"$f":"IF($J128<=SUM($S$11:$T$11,$G$44:$H$44),\"\",\"* Niños(as) de 48 a 71 meses clasificados debe ser menor o igual al Total de la población de niños bajo control de en sección A y A1 de la misma edad. \")","v":""},{"$f":"IF($L128<=SUM($O$44:$P$44),\"\",\"* Niños(as) de 6 a 9 años clasificados debe ser menor o igual al Total de la población de niños bajo control de en sección A1 misma edad \")","v":""},{"$nulls":19},{"$f":"IF($G128<=SUM($Q$11:$R$11),0,1)","v":0},{"$f":"IF($J128<=SUM($S$11:$T$11,$G$44:$H$44),0,1)","v":0},{"$f":"IF($L128<=SUM($O$44:$P$44),0,1)","v":0}]
["P2300560","HTA ESTADIO II",null,{"$f":"IFERROR(VLOOKUP($A129,FILTRO!$A123:$AY748,2,FALSE),0)","v":56},{"$f":"IFERROR(VLOOKUP($A129,FILTRO!$A123:$AY748,3,FALSE),0)","v":31},{"$f":"IFERROR(VLOOKUP($A129,FILTRO!$A123:$AY748,4,FALSE),0)","v":25},{"$f":"IFERROR(VLOOKUP($A129,FILTRO!$A123:$AY748,5,FALSE),0)","v":3},{"$f":"IFERROR(VLOOKUP($A129,FILTRO!$A123:$AY748,6,FALSE),0)","v":8},{"$f":"IFERROR(VLOOKUP($A129,FILTRO!$A123:$AY748,7,FALSE),0)","v":15},{"$f":"IFERROR(VLOOKUP($A129,FILTRO!$A123:$AY748,8,FALSE),0)","v":5},{"$f":"IFERROR(VLOOKUP($A129,FILTRO!$A123:$AY748,9,FALSE),0)","v":13},{"$f":"IFERROR(VLOOKUP($A129,FILTRO!$A123:$AY748,10,FALSE),0)","v":12},{"$f":"IFERROR(VLOOKUP($A129,FILTRO!$A123:$AY748,11,FALSE),0)","v":10},{"$nulls":79},{"$f":"IF($G129<=SUM($Q$11:$R$11),\"\",\"* Niños(as) de 36 a 47 ms clasificados debe ser menor o igual al Total de la población de niños bajo control de en sección A misma edad. \")","v":""},{"$f":"IF($J129<=SUM($S$11:$T$11,$G$44:$H$44),\"\",\"* Niños(as) de 48 a 71 meses clasificados debe ser menor o igual al Total de la población de niños bajo control de en sección A y A1 de la misma edad. \")","v":""},{"$f":"IF($L129<=SUM($O$44:$P$44),\"\",\"* Niños(as) de 6 a 9 años clasificados debe ser menor o igual al Total de la población de niños bajo control de en sección A1 misma edad \")","v":""},{"$nulls":19},{"$f":"IF($G129<=SUM($Q$11:$R$11),0,1)","v":0},{"$f":"IF($J129<=SUM($S$11:$T$11,$G$44:$H$44),0,1)","v":0},{"$f":"IF($L129<=SUM($O$44:$P$44),0,1)","v":0}]
[null,"TOTAL",null,{"$f":"SUM(E130:F130)","v":13730},{"$f":"+G130+I130+K130","v":6684},{"$f":"+H130+J130+L130","v":7046},{"$f":"SUM(G126:G129)","v":736},{"$f":"SUM(H126:H129)","v":823},{"$f":"SUM(I126:I129)","v":2254},2352,3694,{"$f":"SUM(L126:L129)","v":3871},{"$f":"SUM(M126:M129)","v":17},{"$nulls":79},{"$f":"IF($G130<=SUM(Q11:R11),\"\",\"* Niños(as) de 36 a 47 ms clasificados debe ser menor o igual al Total de la población de niños bajo control de en sección A misma edad. \")","v":"* Niños(as) de 36 a 47 ms clasificados debe ser menor o igual al Total de la población de niños bajo control de en sección A misma edad. "},{"$f":"IF($J130<=SUM($S$11:$T$11,$G$44:$H$44),\"\",\"* Niños(as) de 48 a 71 meses clasificados debe ser menor o igual al Total de la población de niños bajo control de en sección A y A1 de la misma edad. \")","v":""},{"$f":"IF($L130<=SUM($O$44:$P$44),\"\",\"* Niños(as) de 6 a 9 años clasificados debe ser menor o igual al Total de la población de niños bajo control de en sección A1 misma edad \")","v":"* Niños(as) de 6 a 9 años clasificados debe ser menor o igual al Total de la población de niños bajo control de en sección A1 misma edad "},{"$nulls":19},{"$f":"IF($G130<=SUM($Q$11:$R$11),0,1)","v":1},{"$f":"IF($J130<=SUM($S$11:$T$11,$G$44:$H$44),0,1)","v":0},{"$f":"IF($L130<=SUM($O$44:$P$44),0,1)","v":1}]
[null,"SECCION G: POBLACIÓN INFANTIL EUTRÓFICA, SEGÚN RIESGO DE MALNUTRICIÓN POR EXCESO (Incluida en sección A y A1)"]
[null,"RESULTADO",null,"TOTAL","GRUPOS DE EDAD (en meses)"]
[{"$nulls":4},"4 a 11 meses","12 a 23 meses","24 a 35 meses","36 a 47 meses","48 a 59 meses","60 a 71 meses"]
["P2300570","SIN RIESGO",null,{"$f":"IFERROR(VLOOKUP($A134,FILTRO!$A128:$AY753,2,FALSE),0)","v":9456},{"$f":"IFERROR(VLOOKUP($A134,FILTRO!$A128:$AY753,3,FALSE),0)","v":1378},{"$f":"IFERROR(VLOOKUP($A134,FILTRO!$A128:$AY753,4,FALSE),0)","v":1903},{"$f":"IFERROR(VLOOKUP($A134,FILTRO!$A128:$AY753,5,FALSE),0)","v":1713},{"$f":"IFERROR(VLOOKUP($A134,FILTRO!$A128:$AY753,6,FALSE),0)","v":1640},{"$f":"IFERROR(VLOOKUP($A134,FILTRO!$A128:$AY753,7,FALSE),0)","v":1568},{"$f":"IFERROR(VLOOKUP($A134,FILTRO!$A128:$AY753,8,FALSE),0)","v":1254},{"$f":" CG134 & CH134 & CI134 & CJ134 & CK134 & CL134","v":"* Niños(as) de 4 a 11 ms clasificados debe ser menor o igual al Total niños diagnostidos en NORMAL sección A misma edad. * Niños(as) de 12 a 23 ms clasificados debe ser menor o igual al Total niños diagnosticados en NORMAL en sección A misma edad. * Niños(as) de 24 a 35 ms clasificados debe ser menor o igual al Total niños diagnosticados en NORMAL en sección A misma edad. * Niños(as) de 36 a 47 ms clasificados debe ser menor o igual al Total niños diagnosticos en NORMAL en sección A misma edad. * Niños(as) de 48 a 59 ms clasificados debe ser menor o igual al Total niños diagnosticados en NORMAL en sección A misma edad. "},{"$nulls":73},{"$f":"IF($E134<=SUM($G$35:$J$35),\"\",\"* Niños(as) de 4 a 11 ms clasificados debe ser menor o igual al Total niños diagnostidos en NORMAL sección A misma edad. \")","v":"* Niños(as) de 4 a 11 ms clasificados debe ser menor o igual al Total niños diagnostidos en NORMAL sección A misma edad. "},{"$f":"IF($F134<=SUM($K$35:$N$35),\"\",\"* Niños(as) de 12 a 23 ms clasificados debe ser menor o igual al Total niños diagnosticados en NORMAL en sección A misma edad. \")","v":"* Niños(as) de 12 a 23 ms clasificados debe ser menor o igual al Total niños diagnosticados en NORMAL en sección A misma edad. "},{"$f":"IF($G134<=SUM($O$35:$P$35),\"\",\"* Niños(as) de 24 a 35 ms clasificados debe ser menor o igual al Total niños diagnosticados en NORMAL en sección A misma edad. \")","v":"* Niños(as) de 24 a 35 ms clasificados debe ser menor o igual al Total niños diagnosticados en NORMAL en sección A misma edad. "},{"$f":"IF($H134<=SUM($Q$35:$R$35),\"\",\"* Niños(as) de 36 a 47 ms clasificados debe ser menor o igual al Total niños diagnosticos en NORMAL en sección A misma edad. \")","v":"* Niños(as) de 36 a 47 ms clasificados debe ser menor o igual al Total niños diagnosticos en NORMAL en sección A misma edad. "},{"$f":"IF($I134<=SUM($S$35:$T$35),\"\",\"* Niños(as) de 48 a 59 ms clasificados debe ser menor o igual al Total niños diagnosticados en NORMAL en sección A misma edad. \")","v":"* Niños(as) de 48 a 59 ms clasificados debe ser menor o igual al Total niños diagnosticados en NORMAL en sección A misma edad. "},{"$f":"IF($J134<=SUM($G$69:$H$69),\"\",\"* Niños(as) de 60 a 71 ms clasificados debe ser menor o igual al Total niños diagnosticados en NORMAL en sección A1 misma edad. \")","v":""},{"$nulls":19},{"$f":"IF($E134<=SUM($G$35:$J$35),0,1)","v":1},{"$f":"IF($F134<=SUM($K$35:$N$35),0,1)","v":1},{"$f":"IF($G134<=SUM($O$35:$P$35),0,1)","v":1},{"$f":"IF($H134<=SUM($Q$35:$R$35),0,1)","v":1},{"$f":"IF($I134<=SUM($S$35:$T$35),0,1)","v":1},{"$f":"IF($J134<=SUM($G$69:$H$69),0,1)","v":0}]
["P2300580","CON RIESGO",null,{"$f":"IFERROR(VLOOKUP($A135,FILTRO!$A129:$AY754,2,FALSE),0)","v":4195},{"$f":"IFERROR(VLOOKUP($A135,FILTRO!$A129:$AY754,3,FALSE),0)","v":681},{"$f":"IFERROR(VLOOKUP($A135,FILTRO!$A129:$AY754,4,FALSE),0)","v":888},{"$f":"IFERROR(VLOOKUP($A135,FILTRO!$A129:$AY754,5,FALSE),0)","v":705},{"$f":"IFERROR(VLOOKUP($A135,FILTRO!$A129:$AY754,6,FALSE),0)","v":595},{"$f":"IFERROR(VLOOKUP($A135,FILTRO!$A129:$AY754,7,FALSE),0)","v":704},{"$f":"IFERROR(VLOOKUP($A135,FILTRO!$A129:$AY754,8,FALSE),0)","v":622},{"$f":" CG135 & CH135 & CI135 & CJ135 & CK135 & CL135","v":"* Niños(as) de 4 a 11 ms clasificados debe ser menor o igual al Total niños diagnostidos en NORMAL sección A misma edad. * Niños(as) de 24 a 35 ms clasificados debe ser menor o igual al Total niños diagnosticados en NORMAL en sección A misma edad. * Niños(as) de 36 a 47 ms clasificados debe ser menor o igual al Total niños diagnosticos en NORMAL en sección A misma edad. * Niños(as) de 48 a 59 ms clasificados debe ser menor o igual al Total niños diagnosticados en NORMAL en sección A misma edad. "},{"$nulls":73},{"$f":"IF($E135<=SUM($G$35:$J$35),\"\",\"* Niños(as) de 4 a 11 ms clasificados debe ser menor o igual al Total niños diagnostidos en NORMAL sección A misma edad. \")","v":"* Niños(as) de 4 a 11 ms clasificados debe ser menor o igual al Total niños diagnostidos en NORMAL sección A misma edad. "},{"$f":"IF($F135<=SUM($K$35:$N$35),\"\",\"* Niños(as) de 12 a 23 ms clasificados debe ser menor o igual al Total niños diagnosticados en NORMAL en sección A misma edad. \")","v":""},{"$f":"IF($G135<=SUM($O$35:$P$35),\"\",\"* Niños(as) de 24 a 35 ms clasificados debe ser menor o igual al Total niños diagnosticados en NORMAL en sección A misma edad. \")","v":"* Niños(as) de 24 a 35 ms clasificados debe ser menor o igual al Total niños diagnosticados en NORMAL en sección A misma edad. "},{"$f":"IF($H135<=SUM($Q$35:$R$35),\"\",\"* Niños(as) de 36 a 47 ms clasificados debe ser menor o igual al Total niños diagnosticos en NORMAL en sección A misma edad. \")","v":"* Niños(as) de 36 a 47 ms clasificados debe ser menor o igual al Total niños diagnosticos en NORMAL en sección A misma edad. "},{"$f":"IF($I135<=SUM($S$35:$T$35),\"\",\"* Niños(as) de 48 a 59 ms clasificados debe ser menor o igual al Total niños diagnosticados en NORMAL en sección A misma edad. \")","v":"* Niños(as) de 48 a 59 ms clasificados debe ser menor o igual al Total niños diagnosticados en NORMAL en sección A misma edad. "},{"$f":"IF($J135<=SUM($G$69:$H$69),\"\",\"* Niños(as) de 60 a 71 ms clasificados debe ser menor o igual al Total niños diagnosticados en NORMAL en sección A1 misma edad. \")","v":""},{"$nulls":19},{"$f":"IF($E135<=SUM($G$35:$J$35),0,1)","v":1},{"$f":"IF($F135<=SUM($K$35:$N$35),0,1)","v":0},{"$f":"IF($G135<=SUM($O$35:$P$35),0,1)","v":1},{"$f":"IF($H135<=SUM($Q$35:$R$35),0,1)","v":1},{"$f":"IF($I135<=SUM($S$35:$T$35),0,1)","v":1},{"$f":"IF($J135<=SUM($G$69:$H$69),0,1)","v":0}]
[null,"TOTAL",null,{"$f":"SUM(E136:J136)","v":13651},{"$f":"SUM(E134:E135)","v":2059},2791,2418,2235,2272,1876,{"$f":" CG136 & CH136 & CI136 & CJ136 & CK136 & CL136","v":"* Niños(as) de 4 a 11 ms clasificados debe ser menor o igual al Total niños diagnostidos en NORMAL sección A misma edad. * Niños(as) de 12 a 23 ms clasificados debe ser menor o igual al Total niños diagnosticados en NORMAL en sección A misma edad. * Niños(as) de 24 a 35 ms clasificados debe ser menor o igual al Total niños diagnosticados en NORMAL en sección A misma edad. * Niños(as) de 36 a 47 ms clasificados debe ser menor o igual al Total niños diagnosticos en NORMAL en sección A misma edad. * Niños(as) de 48 a 59 ms clasificados debe ser menor o igual al Total niños diagnosticados en NORMAL en sección A misma edad. "},{"$nulls":73},{"$f":"IF($E136<=SUM($G$35:$J$35),\"\",\"* Niños(as) de 4 a 11 ms clasificados debe ser menor o igual al Total niños diagnostidos en NORMAL sección A misma edad. \")","v":"* Niños(as) de 4 a 11 ms clasificados debe ser menor o igual al Total niños diagnostidos en NORMAL sección A misma edad. "},{"$f":"IF($F136<=SUM($K$35:$N$35),\"\",\"* Niños(as) de 12 a 23 ms clasificados debe ser menor o igual al Total niños diagnosticados en NORMAL en sección A misma edad. \")","v":"* Niños(as) de 12 a 23 ms clasificados debe ser menor o igual al Total niños diagnosticados en NORMAL en sección A misma edad. "},{"$f":"IF($G136<=SUM($O$35:$P$35),\"\",\"* Niños(as) de 24 a 35 ms clasificados debe ser menor o igual al Total niños diagnosticados en NORMAL en sección A misma edad. \")","v":"* Niños(as) de 24 a 35 ms clasificados debe ser menor o igual al Total niños diagnosticados en NORMAL en sección A misma edad. "},{"$f":"IF($H136<=SUM($Q$35:$R$35),\"\",\"* Niños(as) de 36 a 47 ms clasificados debe ser menor o igual al Total niños diagnosticos en NORMAL en sección A misma edad. \")","v":"* Niños(as) de 36 a 47 ms clasificados debe ser menor o igual al Total niños diagnosticos en NORMAL en sección A misma edad. "},{"$f":"IF($I136<=SUM($S$35:$T$35),\"\",\"* Niños(as) de 48 a 59 ms clasificados debe ser menor o igual al Total niños diagnosticados en NORMAL en sección A misma edad. \")","v":"* Niños(as) de 48 a 59 ms clasificados debe ser menor o igual al Total niños diagnosticados en NORMAL en sección A misma edad. "},{"$f":"IF($J136<=SUM($G$69:$H$69),\"\",\"* Niños(as) de 60 a 71 ms clasificados debe ser menor o igual al Total niños diagnosticados en NORMAL en sección A1 misma edad. \")","v":""},{"$nulls":19},{"$f":"IF($E136<=SUM($G$35:$J$35),0,1)","v":1},{"$f":"IF($F136<=SUM($K$35:$N$35),0,1)","v":1},{"$f":"IF($G136<=SUM($O$35:$P$35),0,1)","v":1},{"$f":"IF($H136<=SUM($Q$35:$R$35),0,1)","v":1},{"$f":"IF($I136<=SUM($S$35:$T$35),0,1)","v":1},{"$f":"IF($J136<=SUM($G$69:$H$69),0,1)","v":0}]
[null,"SECCION H: POBLACIÓN SEGÚN DIAGNÓSTICO DE NIÑOS, NIÑAS Y ADOLESCENTES CON NECESIDADES ESPECIALES DE ATENCIÓN EN SALUD (NANEAS) (Incluida en sección A y A1)"]
[null,"DIAGNOSTICOS",null,"TOTAL",null,null,"GRUPOS DE EDAD (en meses - años) Y SEXO",{"$nulls":37},"Pueblos Originarios",null,"Población Migrantes"]
[{"$nulls":6},"Menor de 1 mes",null,"1 mes",null,"2 meses",null,"3 meses",null,"4 meses",null,"5 meses",null,"6 meses",null,"7 a 11 meses",null,"12 a 17 meses",null,"18 a 23 meses",null,"24 a 35 meses",null,"36 a 41 meses",null,"42 a 47 meses",null,"48 a 59 meses",null,"60 a 71 meses",null,"6 a 7 años",null,"8 a 9 años",null,"10 a 14 años",null,"15 a 19 años"]
[{"$nulls":3},"Ambos sexos","Hombres","Mujeres","Hombres","Mujeres","Hombres","Mujeres","Hombres","Mujeres","Hombres","Mujeres","Hombres","Mujeres","Hombres","Mujeres","Hombres","Mujeres","Hombres","Mujeres","Hombres","Mujeres","Hombres","Mujeres","Hombres","Mujeres","Hombres","Mujeres","Hombres","Mujeres","Hombres","Mujeres","Hombres","Mujeres","Hombres","Mujeres","Hombres","Mujeres","Hombres","Mujeres","Hombres","Mujeres","Hombres","Mujeres","Hombres","Mujeres"]
[null,"TOTAL POBLACIÓN NANEAS BAJO CONTROL",null,{"$f":"SUM(E141:F141)","v":4633},{"$f":"+G141+I141+K141+M141+O141+Q141+S141+U141+W141+Y141+AA141+AC141+AE141+AG141+AI141+AO141+AQ141+AK141+AM141","v":2691},1942,{"$f":"SUM(G142:G185)","v":4},{"$f":"SUM(H142:H185)","v":4},18,10,26,15,21,18,24,19,26,19,30,31,134,99,181,134,130,67,208,183,218,126,62,31,303,224,304,178,392,287,285,220,217,178,108,99,8,9,7,10,{"$f":"CG141&CH141&CI141&CJ141","v":""}]
["P2500400","Síndrome de Down ",null,{"$f":"IFERROR(VLOOKUP($A142,FILTRO!$A136:$AY761,2,FALSE),0)","v":119},{"$f":"IFERROR(VLOOKUP($A142,FILTRO!$A136:$AY761,3,FALSE),0)","v":49},{"$f":"IFERROR(VLOOKUP($A142,FILTRO!$A136:$AY761,4,FALSE),0)","v":70},{"$f":"IFERROR(VLOOKUP($A142,FILTRO!$A136:$AY761,5,FALSE),0)","v":0},{"$f":"IFERROR(VLOOKUP($A142,FILTRO!$A136:$AY761,6,FALSE),0)","v":0},{"$f":"IFERROR(VLOOKUP($A142,FILTRO!$A136:$AY761,7,FALSE),0)","v":0},{"$f":"IFERROR(VLOOKUP($A142,FILTRO!$A136:$AY761,8,FALSE),0)","v":0},{"$f":"IFERROR(VLOOKUP($A142,FILTRO!$A136:$AY761,9,FALSE),0)","v":0},{"$f":"IFERROR(VLOOKUP($A142,FILTRO!$A136:$AY761,10,FALSE),0)","v":1},{"$f":"IFERROR(VLOOKUP($A142,FILTRO!$A136:$AY761,11,FALSE),0)","v":1},{"$f":"IFERROR(VLOOKUP($A142,FILTRO!$A136:$AY761,12,FALSE),0)","v":1},{"$f":"IFERROR(VLOOKUP($A142,FILTRO!$A136:$AY761,13,FALSE),0)","v":3},{"$f":"IFERROR(VLOOKUP($A142,FILTRO!$A136:$AY761,14,FALSE),0)","v":2},{"$f":"IFERROR(VLOOKUP($A142,FILTRO!$A136:$AY761,15,FALSE),0)","v":1},{"$f":"IFERROR(VLOOKUP($A142,FILTRO!$A136:$AY761,16,FALSE),0)","v":0},{"$f":"IFERROR(VLOOKUP($A142,FILTRO!$A136:$AY761,17,FALSE),0)","v":0},{"$f":"IFERROR(VLOOKUP($A142,FILTRO!$A136:$AY761,18,FALSE),0)","v":0},{"$f":"IFERROR(VLOOKUP($A142,FILTRO!$A136:$AY761,19,FALSE),0)","v":1},{"$f":"IFERROR(VLOOKUP($A142,FILTRO!$A136:$AY761,20,FALSE),0)","v":5},{"$f":"IFERROR(VLOOKUP($A142,FILTRO!$A136:$AY761,21,FALSE),0)","v":2},{"$f":"IFERROR(VLOOKUP($A142,FILTRO!$A136:$AY761,22,FALSE),0)","v":6},{"$f":"IFERROR(VLOOKUP($A142,FILTRO!$A136:$AY761,23,FALSE),0)","v":2},{"$f":"IFERROR(VLOOKUP($A142,FILTRO!$A136:$AY761,24,FALSE),0)","v":4},{"$f":"IFERROR(VLOOKUP($A142,FILTRO!$A136:$AY761,25,FALSE),0)","v":9},{"$f":"IFERROR(VLOOKUP($A142,FILTRO!$A136:$AY761,26,FALSE),0)","v":8},{"$f":"IFERROR(VLOOKUP($A142,FILTRO!$A136:$AY761,27,FALSE),0)","v":5},{"$f":"IFERROR(VLOOKUP($A142,FILTRO!$A136:$AY761,28,FALSE),0)","v":4},{"$f":"IFERROR(VLOOKUP($A142,FILTRO!$A136:$AY761,29,FALSE),0)","v":1},{"$f":"IFERROR(VLOOKUP($A142,FILTRO!$A136:$AY761,30,FALSE),0)","v":0},{"$f":"IFERROR(VLOOKUP($A142,FILTRO!$A136:$AY761,31,FALSE),0)","v":8},{"$f":"IFERROR(VLOOKUP($A142,FILTRO!$A136:$AY761,32,FALSE),0)","v":8},{"$f":"IFERROR(VLOOKUP($A142,FILTRO!$A136:$AY761,33,FALSE),0)","v":7},{"$f":"IFERROR(VLOOKUP($A142,FILTRO!$A136:$AY761,34,FALSE),0)","v":9},{"$f":"IFERROR(VLOOKUP($A142,FILTRO!$A136:$AY761,35,FALSE),0)","v":4},{"$f":"IFERROR(VLOOKUP($A142,FILTRO!$A136:$AY761,36,FALSE),0)","v":14},{"$f":"IFERROR(VLOOKUP($A142,FILTRO!$A136:$AY761,37,FALSE),0)","v":4},{"$f":"IFERROR(VLOOKUP($A142,FILTRO!$A136:$AY761,38,FALSE),0)","v":3},{"$f":"IFERROR(VLOOKUP($A142,FILTRO!$A136:$AY761,39,FALSE),0)","v":3},{"$f":"IFERROR(VLOOKUP($A142,FILTRO!$A136:$AY761,40,FALSE),0)","v":3},{"$f":"IFERROR(VLOOKUP($A142,FILTRO!$A136:$AY761,41,FALSE),0)","v":0},{"$f":"IFERROR(VLOOKUP($A142,FILTRO!$A136:$AY761,42,FALSE),0)","v":4},{"$f":"IFERROR(VLOOKUP($A142,FILTRO!$A136:$AY761,43,FALSE),0)","v":1},{"$f":"IFERROR(VLOOKUP($A142,FILTRO!$A136:$AY761,44,FALSE),0)","v":0},{"$f":"IFERROR(VLOOKUP($A142,FILTRO!$A136:$AY761,45,FALSE),0)","v":1},{"$f":"IFERROR(VLOOKUP($A142,FILTRO!$A136:$AY761,46,FALSE),0)","v":1},{"$f":"CG142&CH142&CI142&CJ142","v":""},{"$nulls":35},{"$f":"IF(DF142=1,\"* No olvide escribir en las celdas de \"\"Pueblos Originarios\"\" (Digite Cero si no tiene).\",\"\")","v":""},{"$f":"IF(DG142=1,\"* No olvide escribir en las celdas de \"\"Población Migrante\"\" (Digite Cero si no tiene).\",\"\")","v":""},{"$f":"IF(DH142=1,\"* La suma de las celdas de \"\"Pueblos Originarios\"\"no debe superar el Total.\",\"\")","v":""},{"$f":"IF(DI142=1,\"* La suma de las celdas de \"\"Población Migrante\"\" no debe superar el Total.\",\"\")","v":""},{"$nulls":21},{"$f":"IF(AND($D142<>0,OR(AS142=\"\",AT142=\"\")),1,0)","v":0},{"$f":"IF(AND($D142<>0,OR(AU142=\"\",AV142=\"\")),1,0)","v":0},{"$f":"IF((AS142+AT142)>$D142,1,0)","v":0},{"$f":"IF((AV142+AU142)>$D142,1,0)","v":0}]
["P2500500","Trastorno del Espectro Autista ","Trastorno del Espectro Autista ",{"$f":"IFERROR(VLOOKUP($A143,FILTRO!$A137:$AY762,2,FALSE),0)","v":821},{"$f":"IFERROR(VLOOKUP($A143,FILTRO!$A137:$AY762,3,FALSE),0)","v":609},{"$f":"IFERROR(VLOOKUP($A143,FILTRO!$A137:$AY762,4,FALSE),0)","v":212},{"$f":"IFERROR(VLOOKUP($A143,FILTRO!$A137:$AY762,5,FALSE),0)","v":0},{"$f":"IFERROR(VLOOKUP($A143,FILTRO!$A137:$AY762,6,FALSE),0)","v":0},{"$f":"IFERROR(VLOOKUP($A143,FILTRO!$A137:$AY762,7,FALSE),0)","v":0},{"$f":"IFERROR(VLOOKUP($A143,FILTRO!$A137:$AY762,8,FALSE),0)","v":0},{"$f":"IFERROR(VLOOKUP($A143,FILTRO!$A137:$AY762,9,FALSE),0)","v":0},{"$f":"IFERROR(VLOOKUP($A143,FILTRO!$A137:$AY762,10,FALSE),0)","v":0},{"$f":"IFERROR(VLOOKUP($A143,FILTRO!$A137:$AY762,11,FALSE),0)","v":0},{"$f":"IFERROR(VLOOKUP($A143,FILTRO!$A137:$AY762,12,FALSE),0)","v":0},{"$f":"IFERROR(VLOOKUP($A143,FILTRO!$A137:$AY762,13,FALSE),0)","v":0},{"$f":"IFERROR(VLOOKUP($A143,FILTRO!$A137:$AY762,14,FALSE),0)","v":0},{"$f":"IFERROR(VLOOKUP($A143,FILTRO!$A137:$AY762,15,FALSE),0)","v":1},{"$f":"IFERROR(VLOOKUP($A143,FILTRO!$A137:$AY762,16,FALSE),0)","v":0},{"$f":"IFERROR(VLOOKUP($A143,FILTRO!$A137:$AY762,17,FALSE),0)","v":0},{"$f":"IFERROR(VLOOKUP($A143,FILTRO!$A137:$AY762,18,FALSE),0)","v":0},{"$f":"IFERROR(VLOOKUP($A143,FILTRO!$A137:$AY762,19,FALSE),0)","v":0},{"$f":"IFERROR(VLOOKUP($A143,FILTRO!$A137:$AY762,20,FALSE),0)","v":0},{"$f":"IFERROR(VLOOKUP($A143,FILTRO!$A137:$AY762,21,FALSE),0)","v":4},{"$f":"IFERROR(VLOOKUP($A143,FILTRO!$A137:$AY762,22,FALSE),0)","v":0},{"$f":"IFERROR(VLOOKUP($A143,FILTRO!$A137:$AY762,23,FALSE),0)","v":3},{"$f":"IFERROR(VLOOKUP($A143,FILTRO!$A137:$AY762,24,FALSE),0)","v":1},{"$f":"IFERROR(VLOOKUP($A143,FILTRO!$A137:$AY762,25,FALSE),0)","v":37},{"$f":"IFERROR(VLOOKUP($A143,FILTRO!$A137:$AY762,26,FALSE),0)","v":19},{"$f":"IFERROR(VLOOKUP($A143,FILTRO!$A137:$AY762,27,FALSE),0)","v":78},{"$f":"IFERROR(VLOOKUP($A143,FILTRO!$A137:$AY762,28,FALSE),0)","v":31},{"$f":"IFERROR(VLOOKUP($A143,FILTRO!$A137:$AY762,29,FALSE),0)","v":33},{"$f":"IFERROR(VLOOKUP($A143,FILTRO!$A137:$AY762,30,FALSE),0)","v":10},{"$f":"IFERROR(VLOOKUP($A143,FILTRO!$A137:$AY762,31,FALSE),0)","v":132},{"$f":"IFERROR(VLOOKUP($A143,FILTRO!$A137:$AY762,32,FALSE),0)","v":55},{"$f":"IFERROR(VLOOKUP($A143,FILTRO!$A137:$AY762,33,FALSE),0)","v":99},{"$f":"IFERROR(VLOOKUP($A143,FILTRO!$A137:$AY762,34,FALSE),0)","v":34},{"$f":"IFERROR(VLOOKUP($A143,FILTRO!$A137:$AY762,35,FALSE),0)","v":121},{"$f":"IFERROR(VLOOKUP($A143,FILTRO!$A137:$AY762,36,FALSE),0)","v":36},{"$f":"IFERROR(VLOOKUP($A143,FILTRO!$A137:$AY762,37,FALSE),0)","v":73},{"$f":"IFERROR(VLOOKUP($A143,FILTRO!$A137:$AY762,38,FALSE),0)","v":13},{"$f":"IFERROR(VLOOKUP($A143,FILTRO!$A137:$AY762,39,FALSE),0)","v":32},{"$f":"IFERROR(VLOOKUP($A143,FILTRO!$A137:$AY762,40,FALSE),0)","v":12},{"$f":"IFERROR(VLOOKUP($A143,FILTRO!$A137:$AY762,41,FALSE),0)","v":8},{"$f":"IFERROR(VLOOKUP($A143,FILTRO!$A137:$AY762,42,FALSE),0)","v":4},{"$f":"IFERROR(VLOOKUP($A143,FILTRO!$A137:$AY762,43,FALSE),0)","v":1},{"$f":"IFERROR(VLOOKUP($A143,FILTRO!$A137:$AY762,44,FALSE),0)","v":3},{"$f":"IFERROR(VLOOKUP($A143,FILTRO!$A137:$AY762,45,FALSE),0)","v":3},{"$f":"IFERROR(VLOOKUP($A143,FILTRO!$A137:$AY762,46,FALSE),0)","v":0},{"$f":"CG143&CH143&CI143&CJ143","v":""},{"$nulls":35},{"$f":"IF(DF143=1,\"* No olvide escribir en las celdas de \"\"Pueblos Originarios\"\" (Digite Cero si no tiene).\",\"\")","v":""},{"$f":"IF(DG143=1,\"* No olvide escribir en las celdas de \"\"Población Migrante\"\" (Digite Cero si no tiene).\",\"\")","v":""},{"$f":"IF(DH143=1,\"* La suma de las celdas de \"\"Pueblos Originarios\"\"no debe superar el Total.\",\"\")","v":""},{"$f":"IF(DI143=1,\"* La suma de las celdas de \"\"Población Migrante\"\" no debe superar el Total.\",\"\")","v":""},{"$nulls":21},{"$f":"IF(AND($D143<>0,OR(AS143=\"\",AT143=\"\")),1,0)","v":0},{"$f":"IF(AND($D143<>0,OR(AU143=\"\",AV143=\"\")),1,0)","v":0},{"$f":"IF((AS143+AT143)>$D143,1,0)","v":0},{"$f":"IF((AV143+AU143)>$D143,1,0)","v":0}]
["P2501823","Síndrome de Rett ","Síndrome de Rett ",{"$f":"IFERROR(VLOOKUP($A144,FILTRO!$A138:$AY763,2,FALSE),0)","v":1},{"$f":"IFERROR(VLOOKUP($A144,FILTRO!$A138:$AY763,3,FALSE),0)","v":0},{"$f":"IFERROR(VLOOKUP($A144,FILTRO!$A138:$AY763,4,FALSE),0)","v":1},{"$f":"IFERROR(VLOOKUP($A144,FILTRO!$A138:$AY763,5,FALSE),0)","v":0},{"$f":"IFERROR(VLOOKUP($A144,FILTRO!$A138:$AY763,6,FALSE),0)","v":0},{"$f":"IFERROR(VLOOKUP($A144,FILTRO!$A138:$AY763,7,FALSE),0)","v":0},{"$f":"IFERROR(VLOOKUP($A144,FILTRO!$A138:$AY763,8,FALSE),0)","v":0},{"$f":"IFERROR(VLOOKUP($A144,FILTRO!$A138:$AY763,9,FALSE),0)","v":0},{"$f":"IFERROR(VLOOKUP($A144,FILTRO!$A138:$AY763,10,FALSE),0)","v":0},{"$f":"IFERROR(VLOOKUP($A144,FILTRO!$A138:$AY763,11,FALSE),0)","v":0},{"$f":"IFERROR(VLOOKUP($A144,FILTRO!$A138:$AY763,12,FALSE),0)","v":0},{"$f":"IFERROR(VLOOKUP($A144,FILTRO!$A138:$AY763,13,FALSE),0)","v":0},{"$f":"IFERROR(VLOOKUP($A144,FILTRO!$A138:$AY763,14,FALSE),0)","v":0},{"$f":"IFERROR(VLOOKUP($A144,FILTRO!$A138:$AY763,15,FALSE),0)","v":0},{"$f":"IFERROR(VLOOKUP($A144,FILTRO!$A138:$AY763,16,FALSE),0)","v":0},{"$f":"IFERROR(VLOOKUP($A144,FILTRO!$A138:$AY763,17,FALSE),0)","v":0},{"$f":"IFERROR(VLOOKUP($A144,FILTRO!$A138:$AY763,18,FALSE),0)","v":0},{"$f":"IFERROR(VLOOKUP($A144,FILTRO!$A138:$AY763,19,FALSE),0)","v":0},{"$f":"IFERROR(VLOOKUP($A144,FILTRO!$A138:$AY763,20,FALSE),0)","v":0},{"$f":"IFERROR(VLOOKUP($A144,FILTRO!$A138:$AY763,21,FALSE),0)","v":0},{"$f":"IFERROR(VLOOKUP($A144,FILTRO!$A138:$AY763,22,FALSE),0)","v":0},{"$f":"IFERROR(VLOOKUP($A144,FILTRO!$A138:$AY763,23,FALSE),0)","v":0},{"$f":"IFERROR(VLOOKUP($A144,FILTRO!$A138:$AY763,24,FALSE),0)","v":0},{"$f":"IFERROR(VLOOKUP($A144,FILTRO!$A138:$AY763,25,FALSE),0)","v":0},{"$f":"IFERROR(VLOOKUP($A144,FILTRO!$A138:$AY763,26,FALSE),0)","v":0},{"$f":"IFERROR(VLOOKUP($A144,FILTRO!$A138:$AY763,27,FALSE),0)","v":0},{"$f":"IFERROR(VLOOKUP($A144,FILTRO!$A138:$AY763,28,FALSE),0)","v":0},{"$f":"IFERROR(VLOOKUP($A144,FILTRO!$A138:$AY763,29,FALSE),0)","v":0},{"$f":"IFERROR(VLOOKUP($A144,FILTRO!$A138:$AY763,30,FALSE),0)","v":0},{"$f":"IFERROR(VLOOKUP($A144,FILTRO!$A138:$AY763,31,FALSE),0)","v":0},{"$f":"IFERROR(VLOOKUP($A144,FILTRO!$A138:$AY763,32,FALSE),0)","v":0},{"$f":"IFERROR(VLOOKUP($A144,FILTRO!$A138:$AY763,33,FALSE),0)","v":0},{"$f":"IFERROR(VLOOKUP($A144,FILTRO!$A138:$AY763,34,FALSE),0)","v":0},{"$f":"IFERROR(VLOOKUP($A144,FILTRO!$A138:$AY763,35,FALSE),0)","v":0},{"$f":"IFERROR(VLOOKUP($A144,FILTRO!$A138:$AY763,36,FALSE),0)","v":0},{"$f":"IFERROR(VLOOKUP($A144,FILTRO!$A138:$AY763,37,FALSE),0)","v":0},{"$f":"IFERROR(VLOOKUP($A144,FILTRO!$A138:$AY763,38,FALSE),0)","v":0},{"$f":"IFERROR(VLOOKUP($A144,FILTRO!$A138:$AY763,39,FALSE),0)","v":0},{"$f":"IFERROR(VLOOKUP($A144,FILTRO!$A138:$AY763,40,FALSE),0)","v":0},{"$f":"IFERROR(VLOOKUP($A144,FILTRO!$A138:$AY763,41,FALSE),0)","v":0},{"$f":"IFERROR(VLOOKUP($A144,FILTRO!$A138:$AY763,42,FALSE),0)","v":1},{"$f":"IFERROR(VLOOKUP($A144,FILTRO!$A138:$AY763,43,FALSE),0)","v":0},{"$f":"IFERROR(VLOOKUP($A144,FILTRO!$A138:$AY763,44,FALSE),0)","v":0},{"$f":"IFERROR(VLOOKUP($A144,FILTRO!$A138:$AY763,45,FALSE),0)","v":0},{"$f":"IFERROR(VLOOKUP($A144,FILTRO!$A138:$AY763,46,FALSE),0)","v":0},""]
["P2500700","Parálisis Cerebral ","Parálisis Cerebral ",{"$f":"IFERROR(VLOOKUP($A145,FILTRO!$A139:$AY764,2,FALSE),0)","v":52},{"$f":"IFERROR(VLOOKUP($A145,FILTRO!$A139:$AY764,3,FALSE),0)","v":28},{"$f":"IFERROR(VLOOKUP($A145,FILTRO!$A139:$AY764,4,FALSE),0)","v":24},{"$f":"IFERROR(VLOOKUP($A145,FILTRO!$A139:$AY764,5,FALSE),0)","v":0},{"$f":"IFERROR(VLOOKUP($A145,FILTRO!$A139:$AY764,6,FALSE),0)","v":0},{"$f":"IFERROR(VLOOKUP($A145,FILTRO!$A139:$AY764,7,FALSE),0)","v":0},{"$f":"IFERROR(VLOOKUP($A145,FILTRO!$A139:$AY764,8,FALSE),0)","v":0},{"$f":"IFERROR(VLOOKUP($A145,FILTRO!$A139:$AY764,9,FALSE),0)","v":0},{"$f":"IFERROR(VLOOKUP($A145,FILTRO!$A139:$AY764,10,FALSE),0)","v":0},{"$f":"IFERROR(VLOOKUP($A145,FILTRO!$A139:$AY764,11,FALSE),0)","v":0},{"$f":"IFERROR(VLOOKUP($A145,FILTRO!$A139:$AY764,12,FALSE),0)","v":0},{"$f":"IFERROR(VLOOKUP($A145,FILTRO!$A139:$AY764,13,FALSE),0)","v":0},{"$f":"IFERROR(VLOOKUP($A145,FILTRO!$A139:$AY764,14,FALSE),0)","v":0},{"$f":"IFERROR(VLOOKUP($A145,FILTRO!$A139:$AY764,15,FALSE),0)","v":0},{"$f":"IFERROR(VLOOKUP($A145,FILTRO!$A139:$AY764,16,FALSE),0)","v":0},{"$f":"IFERROR(VLOOKUP($A145,FILTRO!$A139:$AY764,17,FALSE),0)","v":0},{"$f":"IFERROR(VLOOKUP($A145,FILTRO!$A139:$AY764,18,FALSE),0)","v":2},{"$f":"IFERROR(VLOOKUP($A145,FILTRO!$A139:$AY764,19,FALSE),0)","v":0},{"$f":"IFERROR(VLOOKUP($A145,FILTRO!$A139:$AY764,20,FALSE),0)","v":0},{"$f":"IFERROR(VLOOKUP($A145,FILTRO!$A139:$AY764,21,FALSE),0)","v":0},{"$f":"IFERROR(VLOOKUP($A145,FILTRO!$A139:$AY764,22,FALSE),0)","v":1},{"$f":"IFERROR(VLOOKUP($A145,FILTRO!$A139:$AY764,23,FALSE),0)","v":1},{"$f":"IFERROR(VLOOKUP($A145,FILTRO!$A139:$AY764,24,FALSE),0)","v":0},{"$f":"IFERROR(VLOOKUP($A145,FILTRO!$A139:$AY764,25,FALSE),0)","v":2},{"$f":"IFERROR(VLOOKUP($A145,FILTRO!$A139:$AY764,26,FALSE),0)","v":0},{"$f":"IFERROR(VLOOKUP($A145,FILTRO!$A139:$AY764,27,FALSE),0)","v":2},{"$f":"IFERROR(VLOOKUP($A145,FILTRO!$A139:$AY764,28,FALSE),0)","v":0},{"$f":"IFERROR(VLOOKUP($A145,FILTRO!$A139:$AY764,29,FALSE),0)","v":0},{"$f":"IFERROR(VLOOKUP($A145,FILTRO!$A139:$AY764,30,FALSE),0)","v":0},{"$f":"IFERROR(VLOOKUP($A145,FILTRO!$A139:$AY764,31,FALSE),0)","v":3},{"$f":"IFERROR(VLOOKUP($A145,FILTRO!$A139:$AY764,32,FALSE),0)","v":1},{"$f":"IFERROR(VLOOKUP($A145,FILTRO!$A139:$AY764,33,FALSE),0)","v":2},{"$f":"IFERROR(VLOOKUP($A145,FILTRO!$A139:$AY764,34,FALSE),0)","v":1},{"$f":"IFERROR(VLOOKUP($A145,FILTRO!$A139:$AY764,35,FALSE),0)","v":6},{"$f":"IFERROR(VLOOKUP($A145,FILTRO!$A139:$AY764,36,FALSE),0)","v":6},{"$f":"IFERROR(VLOOKUP($A145,FILTRO!$A139:$AY764,37,FALSE),0)","v":0},{"$f":"IFERROR(VLOOKUP($A145,FILTRO!$A139:$AY764,38,FALSE),0)","v":2},{"$f":"IFERROR(VLOOKUP($A145,FILTRO!$A139:$AY764,39,FALSE),0)","v":8},{"$f":"IFERROR(VLOOKUP($A145,FILTRO!$A139:$AY764,40,FALSE),0)","v":7},{"$f":"IFERROR(VLOOKUP($A145,FILTRO!$A139:$AY764,41,FALSE),0)","v":6},{"$f":"IFERROR(VLOOKUP($A145,FILTRO!$A139:$AY764,42,FALSE),0)","v":4},{"$f":"IFERROR(VLOOKUP($A145,FILTRO!$A139:$AY764,43,FALSE),0)","v":0},{"$f":"IFERROR(VLOOKUP($A145,FILTRO!$A139:$AY764,44,FALSE),0)","v":0},{"$f":"IFERROR(VLOOKUP($A145,FILTRO!$A139:$AY764,45,FALSE),0)","v":0},{"$f":"IFERROR(VLOOKUP($A145,FILTRO!$A139:$AY764,46,FALSE),0)","v":1},""]
["P2501824","Epilepsia ","Epilepsia ",{"$f":"IFERROR(VLOOKUP($A146,FILTRO!$A140:$AY765,2,FALSE),0)","v":64},{"$f":"IFERROR(VLOOKUP($A146,FILTRO!$A140:$AY765,3,FALSE),0)","v":29},{"$f":"IFERROR(VLOOKUP($A146,FILTRO!$A140:$AY765,4,FALSE),0)","v":35},{"$f":"IFERROR(VLOOKUP($A146,FILTRO!$A140:$AY765,5,FALSE),0)","v":0},{"$f":"IFERROR(VLOOKUP($A146,FILTRO!$A140:$AY765,6,FALSE),0)","v":0},{"$f":"IFERROR(VLOOKUP($A146,FILTRO!$A140:$AY765,7,FALSE),0)","v":0},{"$f":"IFERROR(VLOOKUP($A146,FILTRO!$A140:$AY765,8,FALSE),0)","v":0},{"$f":"IFERROR(VLOOKUP($A146,FILTRO!$A140:$AY765,9,FALSE),0)","v":0},{"$f":"IFERROR(VLOOKUP($A146,FILTRO!$A140:$AY765,10,FALSE),0)","v":0},{"$f":"IFERROR(VLOOKUP($A146,FILTRO!$A140:$AY765,11,FALSE),0)","v":0},{"$f":"IFERROR(VLOOKUP($A146,FILTRO!$A140:$AY765,12,FALSE),0)","v":1},{"$f":"IFERROR(VLOOKUP($A146,FILTRO!$A140:$AY765,13,FALSE),0)","v":0},{"$f":"IFERROR(VLOOKUP($A146,FILTRO!$A140:$AY765,14,FALSE),0)","v":0},{"$f":"IFERROR(VLOOKUP($A146,FILTRO!$A140:$AY765,15,FALSE),0)","v":1},{"$f":"IFERROR(VLOOKUP($A146,FILTRO!$A140:$AY765,16,FALSE),0)","v":0},{"$f":"IFERROR(VLOOKUP($A146,FILTRO!$A140:$AY765,17,FALSE),0)","v":0},{"$f":"IFERROR(VLOOKUP($A146,FILTRO!$A140:$AY765,18,FALSE),0)","v":0},{"$f":"IFERROR(VLOOKUP($A146,FILTRO!$A140:$AY765,19,FALSE),0)","v":1},{"$f":"IFERROR(VLOOKUP($A146,FILTRO!$A140:$AY765,20,FALSE),0)","v":0},{"$f":"IFERROR(VLOOKUP($A146,FILTRO!$A140:$AY765,21,FALSE),0)","v":1},{"$f":"IFERROR(VLOOKUP($A146,FILTRO!$A140:$AY765,22,FALSE),0)","v":3},{"$f":"IFERROR(VLOOKUP($A146,FILTRO!$A140:$AY765,23,FALSE),0)","v":0},{"$f":"IFERROR(VLOOKUP($A146,FILTRO!$A140:$AY765,24,FALSE),0)","v":0},{"$f":"IFERROR(VLOOKUP($A146,FILTRO!$A140:$AY765,25,FALSE),0)","v":2},{"$f":"IFERROR(VLOOKUP($A146,FILTRO!$A140:$AY765,26,FALSE),0)","v":3},{"$f":"IFERROR(VLOOKUP($A146,FILTRO!$A140:$AY765,27,FALSE),0)","v":4},{"$f":"IFERROR(VLOOKUP($A146,FILTRO!$A140:$AY765,28,FALSE),0)","v":2},{"$f":"IFERROR(VLOOKUP($A146,FILTRO!$A140:$AY765,29,FALSE),0)","v":0},{"$f":"IFERROR(VLOOKUP($A146,FILTRO!$A140:$AY765,30,FALSE),0)","v":0},{"$f":"IFERROR(VLOOKUP($A146,FILTRO!$A140:$AY765,31,FALSE),0)","v":2},{"$f":"IFERROR(VLOOKUP($A146,FILTRO!$A140:$AY765,32,FALSE),0)","v":4},{"$f":"IFERROR(VLOOKUP($A146,FILTRO!$A140:$AY765,33,FALSE),0)","v":1},{"$f":"IFERROR(VLOOKUP($A146,FILTRO!$A140:$AY765,34,FALSE),0)","v":1},{"$f":"IFERROR(VLOOKUP($A146,FILTRO!$A140:$AY765,35,FALSE),0)","v":8},{"$f":"IFERROR(VLOOKUP($A146,FILTRO!$A140:$AY765,36,FALSE),0)","v":8},{"$f":"IFERROR(VLOOKUP($A146,FILTRO!$A140:$AY765,37,FALSE),0)","v":2},{"$f":"IFERROR(VLOOKUP($A146,FILTRO!$A140:$AY765,38,FALSE),0)","v":2},{"$f":"IFERROR(VLOOKUP($A146,FILTRO!$A140:$AY765,39,FALSE),0)","v":4},{"$f":"IFERROR(VLOOKUP($A146,FILTRO!$A140:$AY765,40,FALSE),0)","v":8},{"$f":"IFERROR(VLOOKUP($A146,FILTRO!$A140:$AY765,41,FALSE),0)","v":6},{"$f":"IFERROR(VLOOKUP($A146,FILTRO!$A140:$AY765,42,FALSE),0)","v":4},{"$f":"IFERROR(VLOOKUP($A146,FILTRO!$A140:$AY765,43,FALSE),0)","v":0},{"$f":"IFERROR(VLOOKUP($A146,FILTRO!$A140:$AY765,44,FALSE),0)","v":0},{"$f":"IFERROR(VLOOKUP($A146,FILTRO!$A140:$AY765,45,FALSE),0)","v":0},{"$f":"IFERROR(VLOOKUP($A146,FILTRO!$A140:$AY765,46,FALSE),0)","v":0},"",{"$nulls":35},{"$f":"IF(DF146=1,\"* No olvide escribir en las celdas de \"\"Pueblos Originarios\"\" (Digite Cero si no tiene).\",\"\")","v":""},{"$f":"IF(DG146=1,\"* No olvide escribir en las celdas de \"\"Población Migrante\"\" (Digite Cero si no tiene).\",\"\")","v":""},{"$f":"IF(DH146=1,\"* La suma de las celdas de \"\"Pueblos Originarios\"\"no debe superar el Total.\",\"\")","v":""},{"$f":"IF(DI146=1,\"* La suma de las celdas de \"\"Población Migrante\"\" no debe superar el Total.\",\"\")","v":""},{"$nulls":21},{"$f":"IF(AND($D146<>0,OR(AS146=\"\",AT146=\"\")),1,0)","v":0},{"$f":"IF(AND($D146<>0,OR(AU146=\"\",AV146=\"\")),1,0)","v":0},{"$f":"IF((AS146+AT146)>$D146,1,0)","v":0},{"$f":"IF((AV146+AU146)>$D146,1,0)","v":0}]
["P2501825","Otros trastornos del Neurodesarrollo (no incluye TEA) ","Otros trastornos del Neurodesarrollo  ( no incluye TEA)",{"$f":"IFERROR(VLOOKUP($A147,FILTRO!$A141:$AY766,2,FALSE),0)","v":55},{"$f":"IFERROR(VLOOKUP($A147,FILTRO!$A141:$AY766,3,FALSE),0)","v":33},{"$f":"IFERROR(VLOOKUP($A147,FILTRO!$A141:$AY766,4,FALSE),0)","v":22},{"$f":"IFERROR(VLOOKUP($A147,FILTRO!$A141:$AY766,5,FALSE),0)","v":0},{"$f":"IFERROR(VLOOKUP($A147,FILTRO!$A141:$AY766,6,FALSE),0)","v":0},{"$f":"IFERROR(VLOOKUP($A147,FILTRO!$A141:$AY766,7,FALSE),0)","v":0},{"$f":"IFERROR(VLOOKUP($A147,FILTRO!$A141:$AY766,8,FALSE),0)","v":0},{"$f":"IFERROR(VLOOKUP($A147,FILTRO!$A141:$AY766,9,FALSE),0)","v":0},{"$f":"IFERROR(VLOOKUP($A147,FILTRO!$A141:$AY766,10,FALSE),0)","v":0},{"$f":"IFERROR(VLOOKUP($A147,FILTRO!$A141:$AY766,11,FALSE),0)","v":0},{"$f":"IFERROR(VLOOKUP($A147,FILTRO!$A141:$AY766,12,FALSE),0)","v":0},{"$f":"IFERROR(VLOOKUP($A147,FILTRO!$A141:$AY766,13,FALSE),0)","v":0},{"$f":"IFERROR(VLOOKUP($A147,FILTRO!$A141:$AY766,14,FALSE),0)","v":0},{"$f":"IFERROR(VLOOKUP($A147,FILTRO!$A141:$AY766,15,FALSE),0)","v":0},{"$f":"IFERROR(VLOOKUP($A147,FILTRO!$A141:$AY766,16,FALSE),0)","v":0},{"$f":"IFERROR(VLOOKUP($A147,FILTRO!$A141:$AY766,17,FALSE),0)","v":0},{"$f":"IFERROR(VLOOKUP($A147,FILTRO!$A141:$AY766,18,FALSE),0)","v":0},{"$f":"IFERROR(VLOOKUP($A147,FILTRO!$A141:$AY766,19,FALSE),0)","v":1},{"$f":"IFERROR(VLOOKUP($A147,FILTRO!$A141:$AY766,20,FALSE),0)","v":0},{"$f":"IFERROR(VLOOKUP($A147,FILTRO!$A141:$AY766,21,FALSE),0)","v":1},{"$f":"IFERROR(VLOOKUP($A147,FILTRO!$A141:$AY766,22,FALSE),0)","v":1},{"$f":"IFERROR(VLOOKUP($A147,FILTRO!$A141:$AY766,23,FALSE),0)","v":2},{"$f":"IFERROR(VLOOKUP($A147,FILTRO!$A141:$AY766,24,FALSE),0)","v":1},{"$f":"IFERROR(VLOOKUP($A147,FILTRO!$A141:$AY766,25,FALSE),0)","v":5},{"$f":"IFERROR(VLOOKUP($A147,FILTRO!$A141:$AY766,26,FALSE),0)","v":3},{"$f":"IFERROR(VLOOKUP($A147,FILTRO!$A141:$AY766,27,FALSE),0)","v":1},{"$f":"IFERROR(VLOOKUP($A147,FILTRO!$A141:$AY766,28,FALSE),0)","v":2},{"$f":"IFERROR(VLOOKUP($A147,FILTRO!$A141:$AY766,29,FALSE),0)","v":1},{"$f":"IFERROR(VLOOKUP($A147,FILTRO!$A141:$AY766,30,FALSE),0)","v":0},{"$f":"IFERROR(VLOOKUP($A147,FILTRO!$A141:$AY766,31,FALSE),0)","v":1},{"$f":"IFERROR(VLOOKUP($A147,FILTRO!$A141:$AY766,32,FALSE),0)","v":2},{"$f":"IFERROR(VLOOKUP($A147,FILTRO!$A141:$AY766,33,FALSE),0)","v":7},{"$f":"IFERROR(VLOOKUP($A147,FILTRO!$A141:$AY766,34,FALSE),0)","v":3},{"$f":"IFERROR(VLOOKUP($A147,FILTRO!$A141:$AY766,35,FALSE),0)","v":8},{"$f":"IFERROR(VLOOKUP($A147,FILTRO!$A141:$AY766,36,FALSE),0)","v":4},{"$f":"IFERROR(VLOOKUP($A147,FILTRO!$A141:$AY766,37,FALSE),0)","v":5},{"$f":"IFERROR(VLOOKUP($A147,FILTRO!$A141:$AY766,38,FALSE),0)","v":3},{"$f":"IFERROR(VLOOKUP($A147,FILTRO!$A141:$AY766,39,FALSE),0)","v":1},{"$f":"IFERROR(VLOOKUP($A147,FILTRO!$A141:$AY766,40,FALSE),0)","v":2},{"$f":"IFERROR(VLOOKUP($A147,FILTRO!$A141:$AY766,41,FALSE),0)","v":0},{"$f":"IFERROR(VLOOKUP($A147,FILTRO!$A141:$AY766,42,FALSE),0)","v":1},{"$f":"IFERROR(VLOOKUP($A147,FILTRO!$A141:$AY766,43,FALSE),0)","v":0},{"$f":"IFERROR(VLOOKUP($A147,FILTRO!$A141:$AY766,44,FALSE),0)","v":0},{"$f":"IFERROR(VLOOKUP($A147,FILTRO!$A141:$AY766,45,FALSE),0)","v":0},{"$f":"IFERROR(VLOOKUP($A147,FILTRO!$A141:$AY766,46,FALSE),0)","v":0},""]
["P2501826","Hipertensión Arterial ","Hipertensión Arterial (En vez de Presión Arterial Elevada) ",{"$f":"IFERROR(VLOOKUP($A148,FILTRO!$A142:$AY767,2,FALSE),0)","v":43},{"$f":"IFERROR(VLOOKUP($A148,FILTRO!$A142:$AY767,3,FALSE),0)","v":25},{"$f":"IFERROR(VLOOKUP($A148,FILTRO!$A142:$AY767,4,FALSE),0)","v":18},{"$f":"IFERROR(VLOOKUP($A148,FILTRO!$A142:$AY767,5,FALSE),0)","v":0},{"$f":"IFERROR(VLOOKUP($A148,FILTRO!$A142:$AY767,6,FALSE),0)","v":0},{"$f":"IFERROR(VLOOKUP($A148,FILTRO!$A142:$AY767,7,FALSE),0)","v":0},{"$f":"IFERROR(VLOOKUP($A148,FILTRO!$A142:$AY767,8,FALSE),0)","v":0},{"$f":"IFERROR(VLOOKUP($A148,FILTRO!$A142:$AY767,9,FALSE),0)","v":0},{"$f":"IFERROR(VLOOKUP($A148,FILTRO!$A142:$AY767,10,FALSE),0)","v":0},{"$f":"IFERROR(VLOOKUP($A148,FILTRO!$A142:$AY767,11,FALSE),0)","v":0},{"$f":"IFERROR(VLOOKUP($A148,FILTRO!$A142:$AY767,12,FALSE),0)","v":0},{"$f":"IFERROR(VLOOKUP($A148,FILTRO!$A142:$AY767,13,FALSE),0)","v":0},{"$f":"IFERROR(VLOOKUP($A148,FILTRO!$A142:$AY767,14,FALSE),0)","v":0},{"$f":"IFERROR(VLOOKUP($A148,FILTRO!$A142:$AY767,15,FALSE),0)","v":0},{"$f":"IFERROR(VLOOKUP($A148,FILTRO!$A142:$AY767,16,FALSE),0)","v":0},{"$f":"IFERROR(VLOOKUP($A148,FILTRO!$A142:$AY767,17,FALSE),0)","v":0},{"$f":"IFERROR(VLOOKUP($A148,FILTRO!$A142:$AY767,18,FALSE),0)","v":0},{"$f":"IFERROR(VLOOKUP($A148,FILTRO!$A142:$AY767,19,FALSE),0)","v":0},{"$f":"IFERROR(VLOOKUP($A148,FILTRO!$A142:$AY767,20,FALSE),0)","v":0},{"$f":"IFERROR(VLOOKUP($A148,FILTRO!$A142:$AY767,21,FALSE),0)","v":0},{"$f":"IFERROR(VLOOKUP($A148,FILTRO!$A142:$AY767,22,FALSE),0)","v":0},{"$f":"IFERROR(VLOOKUP($A148,FILTRO!$A142:$AY767,23,FALSE),0)","v":0},{"$f":"IFERROR(VLOOKUP($A148,FILTRO!$A142:$AY767,24,FALSE),0)","v":0},{"$f":"IFERROR(VLOOKUP($A148,FILTRO!$A142:$AY767,25,FALSE),0)","v":0},{"$f":"IFERROR(VLOOKUP($A148,FILTRO!$A142:$AY767,26,FALSE),0)","v":0},{"$f":"IFERROR(VLOOKUP($A148,FILTRO!$A142:$AY767,27,FALSE),0)","v":1},{"$f":"IFERROR(VLOOKUP($A148,FILTRO!$A142:$AY767,28,FALSE),0)","v":1},{"$f":"IFERROR(VLOOKUP($A148,FILTRO!$A142:$AY767,29,FALSE),0)","v":3},{"$f":"IFERROR(VLOOKUP($A148,FILTRO!$A142:$AY767,30,FALSE),0)","v":1},{"$f":"IFERROR(VLOOKUP($A148,FILTRO!$A142:$AY767,31,FALSE),0)","v":2},{"$f":"IFERROR(VLOOKUP($A148,FILTRO!$A142:$AY767,32,FALSE),0)","v":2},{"$f":"IFERROR(VLOOKUP($A148,FILTRO!$A142:$AY767,33,FALSE),0)","v":5},{"$f":"IFERROR(VLOOKUP($A148,FILTRO!$A142:$AY767,34,FALSE),0)","v":3},{"$f":"IFERROR(VLOOKUP($A148,FILTRO!$A142:$AY767,35,FALSE),0)","v":6},{"$f":"IFERROR(VLOOKUP($A148,FILTRO!$A142:$AY767,36,FALSE),0)","v":5},{"$f":"IFERROR(VLOOKUP($A148,FILTRO!$A142:$AY767,37,FALSE),0)","v":3},{"$f":"IFERROR(VLOOKUP($A148,FILTRO!$A142:$AY767,38,FALSE),0)","v":5},{"$f":"IFERROR(VLOOKUP($A148,FILTRO!$A142:$AY767,39,FALSE),0)","v":1},{"$f":"IFERROR(VLOOKUP($A148,FILTRO!$A142:$AY767,40,FALSE),0)","v":0},{"$f":"IFERROR(VLOOKUP($A148,FILTRO!$A142:$AY767,41,FALSE),0)","v":4},{"$f":"IFERROR(VLOOKUP($A148,FILTRO!$A142:$AY767,42,FALSE),0)","v":1},{"$f":"IFERROR(VLOOKUP($A148,FILTRO!$A142:$AY767,43,FALSE),0)","v":0},{"$f":"IFERROR(VLOOKUP($A148,FILTRO!$A142:$AY767,44,FALSE),0)","v":0},{"$f":"IFERROR(VLOOKUP($A148,FILTRO!$A142:$AY767,45,FALSE),0)","v":0},{"$f":"IFERROR(VLOOKUP($A148,FILTRO!$A142:$AY767,46,FALSE),0)","v":0},""]
["P2501827","Enfermedad renal crónica ","Enfermedad renal crónica ",{"$f":"IFERROR(VLOOKUP($A149,FILTRO!$A143:$AY768,2,FALSE),0)","v":15},{"$f":"IFERROR(VLOOKUP($A149,FILTRO!$A143:$AY768,3,FALSE),0)","v":12},{"$f":"IFERROR(VLOOKUP($A149,FILTRO!$A143:$AY768,4,FALSE),0)","v":3},{"$f":"IFERROR(VLOOKUP($A149,FILTRO!$A143:$AY768,5,FALSE),0)","v":0},{"$f":"IFERROR(VLOOKUP($A149,FILTRO!$A143:$AY768,6,FALSE),0)","v":0},{"$f":"IFERROR(VLOOKUP($A149,FILTRO!$A143:$AY768,7,FALSE),0)","v":0},{"$f":"IFERROR(VLOOKUP($A149,FILTRO!$A143:$AY768,8,FALSE),0)","v":0},{"$f":"IFERROR(VLOOKUP($A149,FILTRO!$A143:$AY768,9,FALSE),0)","v":0},{"$f":"IFERROR(VLOOKUP($A149,FILTRO!$A143:$AY768,10,FALSE),0)","v":0},{"$f":"IFERROR(VLOOKUP($A149,FILTRO!$A143:$AY768,11,FALSE),0)","v":0},{"$f":"IFERROR(VLOOKUP($A149,FILTRO!$A143:$AY768,12,FALSE),0)","v":0},{"$f":"IFERROR(VLOOKUP($A149,FILTRO!$A143:$AY768,13,FALSE),0)","v":1},{"$f":"IFERROR(VLOOKUP($A149,FILTRO!$A143:$AY768,14,FALSE),0)","v":0},{"$f":"IFERROR(VLOOKUP($A149,FILTRO!$A143:$AY768,15,FALSE),0)","v":0},{"$f":"IFERROR(VLOOKUP($A149,FILTRO!$A143:$AY768,16,FALSE),0)","v":0},{"$f":"IFERROR(VLOOKUP($A149,FILTRO!$A143:$AY768,17,FALSE),0)","v":0},{"$f":"IFERROR(VLOOKUP($A149,FILTRO!$A143:$AY768,18,FALSE),0)","v":0},{"$f":"IFERROR(VLOOKUP($A149,FILTRO!$A143:$AY768,19,FALSE),0)","v":1},{"$f":"IFERROR(VLOOKUP($A149,FILTRO!$A143:$AY768,20,FALSE),0)","v":0},{"$f":"IFERROR(VLOOKUP($A149,FILTRO!$A143:$AY768,21,FALSE),0)","v":1},{"$f":"IFERROR(VLOOKUP($A149,FILTRO!$A143:$AY768,22,FALSE),0)","v":0},{"$f":"IFERROR(VLOOKUP($A149,FILTRO!$A143:$AY768,23,FALSE),0)","v":2},{"$f":"IFERROR(VLOOKUP($A149,FILTRO!$A143:$AY768,24,FALSE),0)","v":0},{"$f":"IFERROR(VLOOKUP($A149,FILTRO!$A143:$AY768,25,FALSE),0)","v":2},{"$f":"IFERROR(VLOOKUP($A149,FILTRO!$A143:$AY768,26,FALSE),0)","v":0},{"$f":"IFERROR(VLOOKUP($A149,FILTRO!$A143:$AY768,27,FALSE),0)","v":1},{"$f":"IFERROR(VLOOKUP($A149,FILTRO!$A143:$AY768,28,FALSE),0)","v":0},{"$f":"IFERROR(VLOOKUP($A149,FILTRO!$A143:$AY768,29,FALSE),0)","v":0},{"$f":"IFERROR(VLOOKUP($A149,FILTRO!$A143:$AY768,30,FALSE),0)","v":0},{"$f":"IFERROR(VLOOKUP($A149,FILTRO!$A143:$AY768,31,FALSE),0)","v":0},{"$f":"IFERROR(VLOOKUP($A149,FILTRO!$A143:$AY768,32,FALSE),0)","v":0},{"$f":"IFERROR(VLOOKUP($A149,FILTRO!$A143:$AY768,33,FALSE),0)","v":1},{"$f":"IFERROR(VLOOKUP($A149,FILTRO!$A143:$AY768,34,FALSE),0)","v":1},{"$f":"IFERROR(VLOOKUP($A149,FILTRO!$A143:$AY768,35,FALSE),0)","v":1},{"$f":"IFERROR(VLOOKUP($A149,FILTRO!$A143:$AY768,36,FALSE),0)","v":1},{"$f":"IFERROR(VLOOKUP($A149,FILTRO!$A143:$AY768,37,FALSE),0)","v":1},{"$f":"IFERROR(VLOOKUP($A149,FILTRO!$A143:$AY768,38,FALSE),0)","v":0},{"$f":"IFERROR(VLOOKUP($A149,FILTRO!$A143:$AY768,39,FALSE),0)","v":0},{"$f":"IFERROR(VLOOKUP($A149,FILTRO!$A143:$AY768,40,FALSE),0)","v":1},{"$f":"IFERROR(VLOOKUP($A149,FILTRO!$A143:$AY768,41,FALSE),0)","v":1},{"$f":"IFERROR(VLOOKUP($A149,FILTRO!$A143:$AY768,42,FALSE),0)","v":0},{"$f":"IFERROR(VLOOKUP($A149,FILTRO!$A143:$AY768,43,FALSE),0)","v":0},{"$f":"IFERROR(VLOOKUP($A149,FILTRO!$A143:$AY768,44,FALSE),0)","v":0},{"$f":"IFERROR(VLOOKUP($A149,FILTRO!$A143:$AY768,45,FALSE),0)","v":0},{"$f":"IFERROR(VLOOKUP($A149,FILTRO!$A143:$AY768,46,FALSE),0)","v":0},""]
["P2501828","Otras Enfermedades cardiovasculares crónicas (no incluye Hipertensión Arterial ni Cardiopatías Congénitas)","Otras Enfermedades cardiovasculares crónicas (no incluye Hipertensión Arterial ni Cardiopatías Congénitas)",{"$f":"IFERROR(VLOOKUP($A150,FILTRO!$A144:$AY769,2,FALSE),0)","v":22},{"$f":"IFERROR(VLOOKUP($A150,FILTRO!$A144:$AY769,3,FALSE),0)","v":11},{"$f":"IFERROR(VLOOKUP($A150,FILTRO!$A144:$AY769,4,FALSE),0)","v":11},{"$f":"IFERROR(VLOOKUP($A150,FILTRO!$A144:$AY769,5,FALSE),0)","v":0},{"$f":"IFERROR(VLOOKUP($A150,FILTRO!$A144:$AY769,6,FALSE),0)","v":0},{"$f":"IFERROR(VLOOKUP($A150,FILTRO!$A144:$AY769,7,FALSE),0)","v":0},{"$f":"IFERROR(VLOOKUP($A150,FILTRO!$A144:$AY769,8,FALSE),0)","v":0},{"$f":"IFERROR(VLOOKUP($A150,FILTRO!$A144:$AY769,9,FALSE),0)","v":0},{"$f":"IFERROR(VLOOKUP($A150,FILTRO!$A144:$AY769,10,FALSE),0)","v":1},{"$f":"IFERROR(VLOOKUP($A150,FILTRO!$A144:$AY769,11,FALSE),0)","v":0},{"$f":"IFERROR(VLOOKUP($A150,FILTRO!$A144:$AY769,12,FALSE),0)","v":0},{"$f":"IFERROR(VLOOKUP($A150,FILTRO!$A144:$AY769,13,FALSE),0)","v":0},{"$f":"IFERROR(VLOOKUP($A150,FILTRO!$A144:$AY769,14,FALSE),0)","v":0},{"$f":"IFERROR(VLOOKUP($A150,FILTRO!$A144:$AY769,15,FALSE),0)","v":0},{"$f":"IFERROR(VLOOKUP($A150,FILTRO!$A144:$AY769,16,FALSE),0)","v":0},{"$f":"IFERROR(VLOOKUP($A150,FILTRO!$A144:$AY769,17,FALSE),0)","v":0},{"$f":"IFERROR(VLOOKUP($A150,FILTRO!$A144:$AY769,18,FALSE),0)","v":1},{"$f":"IFERROR(VLOOKUP($A150,FILTRO!$A144:$AY769,19,FALSE),0)","v":1},{"$f":"IFERROR(VLOOKUP($A150,FILTRO!$A144:$AY769,20,FALSE),0)","v":2},{"$f":"IFERROR(VLOOKUP($A150,FILTRO!$A144:$AY769,21,FALSE),0)","v":1},{"$f":"IFERROR(VLOOKUP($A150,FILTRO!$A144:$AY769,22,FALSE),0)","v":1},{"$f":"IFERROR(VLOOKUP($A150,FILTRO!$A144:$AY769,23,FALSE),0)","v":0},{"$f":"IFERROR(VLOOKUP($A150,FILTRO!$A144:$AY769,24,FALSE),0)","v":0},{"$f":"IFERROR(VLOOKUP($A150,FILTRO!$A144:$AY769,25,FALSE),0)","v":0},{"$f":"IFERROR(VLOOKUP($A150,FILTRO!$A144:$AY769,26,FALSE),0)","v":1},{"$f":"IFERROR(VLOOKUP($A150,FILTRO!$A144:$AY769,27,FALSE),0)","v":0},{"$f":"IFERROR(VLOOKUP($A150,FILTRO!$A144:$AY769,28,FALSE),0)","v":0},{"$f":"IFERROR(VLOOKUP($A150,FILTRO!$A144:$AY769,29,FALSE),0)","v":1},{"$f":"IFERROR(VLOOKUP($A150,FILTRO!$A144:$AY769,30,FALSE),0)","v":0},{"$f":"IFERROR(VLOOKUP($A150,FILTRO!$A144:$AY769,31,FALSE),0)","v":2},{"$f":"IFERROR(VLOOKUP($A150,FILTRO!$A144:$AY769,32,FALSE),0)","v":0},{"$f":"IFERROR(VLOOKUP($A150,FILTRO!$A144:$AY769,33,FALSE),0)","v":0},{"$f":"IFERROR(VLOOKUP($A150,FILTRO!$A144:$AY769,34,FALSE),0)","v":0},{"$f":"IFERROR(VLOOKUP($A150,FILTRO!$A144:$AY769,35,FALSE),0)","v":1},{"$f":"IFERROR(VLOOKUP($A150,FILTRO!$A144:$AY769,36,FALSE),0)","v":0},{"$f":"IFERROR(VLOOKUP($A150,FILTRO!$A144:$AY769,37,FALSE),0)","v":3},{"$f":"IFERROR(VLOOKUP($A150,FILTRO!$A144:$AY769,38,FALSE),0)","v":4},{"$f":"IFERROR(VLOOKUP($A150,FILTRO!$A144:$AY769,39,FALSE),0)","v":2},{"$f":"IFERROR(VLOOKUP($A150,FILTRO!$A144:$AY769,40,FALSE),0)","v":1},{"$f":"IFERROR(VLOOKUP($A150,FILTRO!$A144:$AY769,41,FALSE),0)","v":0},{"$f":"IFERROR(VLOOKUP($A150,FILTRO!$A144:$AY769,42,FALSE),0)","v":0},{"$f":"IFERROR(VLOOKUP($A150,FILTRO!$A144:$AY769,43,FALSE),0)","v":0},{"$f":"IFERROR(VLOOKUP($A150,FILTRO!$A144:$AY769,44,FALSE),0)","v":0},{"$f":"IFERROR(VLOOKUP($A150,FILTRO!$A144:$AY769,45,FALSE),0)","v":0},{"$f":"IFERROR(VLOOKUP($A150,FILTRO!$A144:$AY769,46,FALSE),0)","v":0},""]
["P2501829","Enfermedades gastrointestinales crónicas (no incluye enfermedad celiaca)","Enfermedades crónicas gastrointestinales (no incluye enfermedad celiaca)",{"$f":"IFERROR(VLOOKUP($A151,FILTRO!$A145:$AY770,2,FALSE),0)","v":78},{"$f":"IFERROR(VLOOKUP($A151,FILTRO!$A145:$AY770,3,FALSE),0)","v":45},{"$f":"IFERROR(VLOOKUP($A151,FILTRO!$A145:$AY770,4,FALSE),0)","v":33},{"$f":"IFERROR(VLOOKUP($A151,FILTRO!$A145:$AY770,5,FALSE),0)","v":0},{"$f":"IFERROR(VLOOKUP($A151,FILTRO!$A145:$AY770,6,FALSE),0)","v":0},{"$f":"IFERROR(VLOOKUP($A151,FILTRO!$A145:$AY770,7,FALSE),0)","v":0},{"$f":"IFERROR(VLOOKUP($A151,FILTRO!$A145:$AY770,8,FALSE),0)","v":1},{"$f":"IFERROR(VLOOKUP($A151,FILTRO!$A145:$AY770,9,FALSE),0)","v":1},{"$f":"IFERROR(VLOOKUP($A151,FILTRO!$A145:$AY770,10,FALSE),0)","v":0},{"$f":"IFERROR(VLOOKUP($A151,FILTRO!$A145:$AY770,11,FALSE),0)","v":1},{"$f":"IFERROR(VLOOKUP($A151,FILTRO!$A145:$AY770,12,FALSE),0)","v":0},{"$f":"IFERROR(VLOOKUP($A151,FILTRO!$A145:$AY770,13,FALSE),0)","v":1},{"$f":"IFERROR(VLOOKUP($A151,FILTRO!$A145:$AY770,14,FALSE),0)","v":1},{"$f":"IFERROR(VLOOKUP($A151,FILTRO!$A145:$AY770,15,FALSE),0)","v":2},{"$f":"IFERROR(VLOOKUP($A151,FILTRO!$A145:$AY770,16,FALSE),0)","v":2},{"$f":"IFERROR(VLOOKUP($A151,FILTRO!$A145:$AY770,17,FALSE),0)","v":1},{"$f":"IFERROR(VLOOKUP($A151,FILTRO!$A145:$AY770,18,FALSE),0)","v":1},{"$f":"IFERROR(VLOOKUP($A151,FILTRO!$A145:$AY770,19,FALSE),0)","v":9},{"$f":"IFERROR(VLOOKUP($A151,FILTRO!$A145:$AY770,20,FALSE),0)","v":6},{"$f":"IFERROR(VLOOKUP($A151,FILTRO!$A145:$AY770,21,FALSE),0)","v":13},{"$f":"IFERROR(VLOOKUP($A151,FILTRO!$A145:$AY770,22,FALSE),0)","v":4},{"$f":"IFERROR(VLOOKUP($A151,FILTRO!$A145:$AY770,23,FALSE),0)","v":4},{"$f":"IFERROR(VLOOKUP($A151,FILTRO!$A145:$AY770,24,FALSE),0)","v":2},{"$f":"IFERROR(VLOOKUP($A151,FILTRO!$A145:$AY770,25,FALSE),0)","v":3},{"$f":"IFERROR(VLOOKUP($A151,FILTRO!$A145:$AY770,26,FALSE),0)","v":3},{"$f":"IFERROR(VLOOKUP($A151,FILTRO!$A145:$AY770,27,FALSE),0)","v":0},{"$f":"IFERROR(VLOOKUP($A151,FILTRO!$A145:$AY770,28,FALSE),0)","v":0},{"$f":"IFERROR(VLOOKUP($A151,FILTRO!$A145:$AY770,29,FALSE),0)","v":0},{"$f":"IFERROR(VLOOKUP($A151,FILTRO!$A145:$AY770,30,FALSE),0)","v":0},{"$f":"IFERROR(VLOOKUP($A151,FILTRO!$A145:$AY770,31,FALSE),0)","v":0},{"$f":"IFERROR(VLOOKUP($A151,FILTRO!$A145:$AY770,32,FALSE),0)","v":0},{"$f":"IFERROR(VLOOKUP($A151,FILTRO!$A145:$AY770,33,FALSE),0)","v":1},{"$f":"IFERROR(VLOOKUP($A151,FILTRO!$A145:$AY770,34,FALSE),0)","v":2},{"$f":"IFERROR(VLOOKUP($A151,FILTRO!$A145:$AY770,35,FALSE),0)","v":0},{"$f":"IFERROR(VLOOKUP($A151,FILTRO!$A145:$AY770,36,FALSE),0)","v":3},{"$f":"IFERROR(VLOOKUP($A151,FILTRO!$A145:$AY770,37,FALSE),0)","v":3},{"$f":"IFERROR(VLOOKUP($A151,FILTRO!$A145:$AY770,38,FALSE),0)","v":2},{"$f":"IFERROR(VLOOKUP($A151,FILTRO!$A145:$AY770,39,FALSE),0)","v":4},{"$f":"IFERROR(VLOOKUP($A151,FILTRO!$A145:$AY770,40,FALSE),0)","v":4},{"$f":"IFERROR(VLOOKUP($A151,FILTRO!$A145:$AY770,41,FALSE),0)","v":2},{"$f":"IFERROR(VLOOKUP($A151,FILTRO!$A145:$AY770,42,FALSE),0)","v":2},{"$f":"IFERROR(VLOOKUP($A151,FILTRO!$A145:$AY770,43,FALSE),0)","v":0},{"$f":"IFERROR(VLOOKUP($A151,FILTRO!$A145:$AY770,44,FALSE),0)","v":0},{"$f":"IFERROR(VLOOKUP($A151,FILTRO!$A145:$AY770,45,FALSE),0)","v":0},{"$f":"IFERROR(VLOOKUP($A151,FILTRO!$A145:$AY770,46,FALSE),0)","v":0},""]
["P2501830","Enfermedades crónicas del sistema visual (no incluye estrabismo ni errores de refracción)","Enfermedades crónicas del sistema visual (no incluye Estabismo ni Errores de Refracción)",{"$f":"IFERROR(VLOOKUP($A152,FILTRO!$A146:$AY771,2,FALSE),0)","v":9},{"$f":"IFERROR(VLOOKUP($A152,FILTRO!$A146:$AY771,3,FALSE),0)","v":6},{"$f":"IFERROR(VLOOKUP($A152,FILTRO!$A146:$AY771,4,FALSE),0)","v":3},{"$f":"IFERROR(VLOOKUP($A152,FILTRO!$A146:$AY771,5,FALSE),0)","v":0},{"$f":"IFERROR(VLOOKUP($A152,FILTRO!$A146:$AY771,6,FALSE),0)","v":0},{"$f":"IFERROR(VLOOKUP($A152,FILTRO!$A146:$AY771,7,FALSE),0)","v":0},{"$f":"IFERROR(VLOOKUP($A152,FILTRO!$A146:$AY771,8,FALSE),0)","v":0},{"$f":"IFERROR(VLOOKUP($A152,FILTRO!$A146:$AY771,9,FALSE),0)","v":0},{"$f":"IFERROR(VLOOKUP($A152,FILTRO!$A146:$AY771,10,FALSE),0)","v":0},{"$f":"IFERROR(VLOOKUP($A152,FILTRO!$A146:$AY771,11,FALSE),0)","v":0},{"$f":"IFERROR(VLOOKUP($A152,FILTRO!$A146:$AY771,12,FALSE),0)","v":0},{"$f":"IFERROR(VLOOKUP($A152,FILTRO!$A146:$AY771,13,FALSE),0)","v":0},{"$f":"IFERROR(VLOOKUP($A152,FILTRO!$A146:$AY771,14,FALSE),0)","v":0},{"$f":"IFERROR(VLOOKUP($A152,FILTRO!$A146:$AY771,15,FALSE),0)","v":0},{"$f":"IFERROR(VLOOKUP($A152,FILTRO!$A146:$AY771,16,FALSE),0)","v":0},{"$f":"IFERROR(VLOOKUP($A152,FILTRO!$A146:$AY771,17,FALSE),0)","v":0},{"$f":"IFERROR(VLOOKUP($A152,FILTRO!$A146:$AY771,18,FALSE),0)","v":0},{"$f":"IFERROR(VLOOKUP($A152,FILTRO!$A146:$AY771,19,FALSE),0)","v":0},{"$f":"IFERROR(VLOOKUP($A152,FILTRO!$A146:$AY771,20,FALSE),0)","v":0},{"$f":"IFERROR(VLOOKUP($A152,FILTRO!$A146:$AY771,21,FALSE),0)","v":1},{"$f":"IFERROR(VLOOKUP($A152,FILTRO!$A146:$AY771,22,FALSE),0)","v":0},{"$f":"IFERROR(VLOOKUP($A152,FILTRO!$A146:$AY771,23,FALSE),0)","v":2},{"$f":"IFERROR(VLOOKUP($A152,FILTRO!$A146:$AY771,24,FALSE),0)","v":0},{"$f":"IFERROR(VLOOKUP($A152,FILTRO!$A146:$AY771,25,FALSE),0)","v":0},{"$f":"IFERROR(VLOOKUP($A152,FILTRO!$A146:$AY771,26,FALSE),0)","v":0},{"$f":"IFERROR(VLOOKUP($A152,FILTRO!$A146:$AY771,27,FALSE),0)","v":0},{"$f":"IFERROR(VLOOKUP($A152,FILTRO!$A146:$AY771,28,FALSE),0)","v":0},{"$f":"IFERROR(VLOOKUP($A152,FILTRO!$A146:$AY771,29,FALSE),0)","v":0},{"$f":"IFERROR(VLOOKUP($A152,FILTRO!$A146:$AY771,30,FALSE),0)","v":0},{"$f":"IFERROR(VLOOKUP($A152,FILTRO!$A146:$AY771,31,FALSE),0)","v":0},{"$f":"IFERROR(VLOOKUP($A152,FILTRO!$A146:$AY771,32,FALSE),0)","v":0},{"$f":"IFERROR(VLOOKUP($A152,FILTRO!$A146:$AY771,33,FALSE),0)","v":1},{"$f":"IFERROR(VLOOKUP($A152,FILTRO!$A146:$AY771,34,FALSE),0)","v":1},{"$f":"IFERROR(VLOOKUP($A152,FILTRO!$A146:$AY771,35,FALSE),0)","v":0},{"$f":"IFERROR(VLOOKUP($A152,FILTRO!$A146:$AY771,36,FALSE),0)","v":0},{"$f":"IFERROR(VLOOKUP($A152,FILTRO!$A146:$AY771,37,FALSE),0)","v":1},{"$f":"IFERROR(VLOOKUP($A152,FILTRO!$A146:$AY771,38,FALSE),0)","v":0},{"$f":"IFERROR(VLOOKUP($A152,FILTRO!$A146:$AY771,39,FALSE),0)","v":0},{"$f":"IFERROR(VLOOKUP($A152,FILTRO!$A146:$AY771,40,FALSE),0)","v":1},{"$f":"IFERROR(VLOOKUP($A152,FILTRO!$A146:$AY771,41,FALSE),0)","v":1},{"$f":"IFERROR(VLOOKUP($A152,FILTRO!$A146:$AY771,42,FALSE),0)","v":1},{"$f":"IFERROR(VLOOKUP($A152,FILTRO!$A146:$AY771,43,FALSE),0)","v":0},{"$f":"IFERROR(VLOOKUP($A152,FILTRO!$A146:$AY771,44,FALSE),0)","v":0},{"$f":"IFERROR(VLOOKUP($A152,FILTRO!$A146:$AY771,45,FALSE),0)","v":0},{"$f":"IFERROR(VLOOKUP($A152,FILTRO!$A146:$AY771,46,FALSE),0)","v":0},"",{"$nulls":35},{"$f":"IF(DF152=1,\"* No olvide escribir en las celdas de \"\"Pueblos Originarios\"\" (Digite Cero si no tiene).\",\"\")","v":""},{"$f":"IF(DG152=1,\"* No olvide escribir en las celdas de \"\"Población Migrante\"\" (Digite Cero si no tiene).\",\"\")","v":""},{"$f":"IF(DH152=1,\"* La suma de las celdas de \"\"Pueblos Originarios\"\"no debe superar el Total.\",\"\")","v":""},{"$f":"IF(DI152=1,\"* La suma de las celdas de \"\"Población Migrante\"\" no debe superar el Total.\",\"\")","v":""},{"$nulls":21},{"$f":"IF(AND($D152<>0,OR(AS152=\"\",AT152=\"\")),1,0)","v":0},{"$f":"IF(AND($D152<>0,OR(AU152=\"\",AV152=\"\")),1,0)","v":0},{"$f":"IF((AS152+AT152)>$D152,1,0)","v":0},{"$f":"IF((AV152+AU152)>$D152,1,0)","v":0}]
["P2501831","Enfermedades crónicas del oído ","Enfermedades crónicas del oído ",{"$f":"IFERROR(VLOOKUP($A153,FILTRO!$A147:$AY772,2,FALSE),0)","v":31},{"$f":"IFERROR(VLOOKUP($A153,FILTRO!$A147:$AY772,3,FALSE),0)","v":16},{"$f":"IFERROR(VLOOKUP($A153,FILTRO!$A147:$AY772,4,FALSE),0)","v":15},{"$f":"IFERROR(VLOOKUP($A153,FILTRO!$A147:$AY772,5,FALSE),0)","v":0},{"$f":"IFERROR(VLOOKUP($A153,FILTRO!$A147:$AY772,6,FALSE),0)","v":0},{"$f":"IFERROR(VLOOKUP($A153,FILTRO!$A147:$AY772,7,FALSE),0)","v":0},{"$f":"IFERROR(VLOOKUP($A153,FILTRO!$A147:$AY772,8,FALSE),0)","v":0},{"$f":"IFERROR(VLOOKUP($A153,FILTRO!$A147:$AY772,9,FALSE),0)","v":0},{"$f":"IFERROR(VLOOKUP($A153,FILTRO!$A147:$AY772,10,FALSE),0)","v":0},{"$f":"IFERROR(VLOOKUP($A153,FILTRO!$A147:$AY772,11,FALSE),0)","v":0},{"$f":"IFERROR(VLOOKUP($A153,FILTRO!$A147:$AY772,12,FALSE),0)","v":0},{"$f":"IFERROR(VLOOKUP($A153,FILTRO!$A147:$AY772,13,FALSE),0)","v":0},{"$f":"IFERROR(VLOOKUP($A153,FILTRO!$A147:$AY772,14,FALSE),0)","v":1},{"$f":"IFERROR(VLOOKUP($A153,FILTRO!$A147:$AY772,15,FALSE),0)","v":2},{"$f":"IFERROR(VLOOKUP($A153,FILTRO!$A147:$AY772,16,FALSE),0)","v":0},{"$f":"IFERROR(VLOOKUP($A153,FILTRO!$A147:$AY772,17,FALSE),0)","v":2},{"$f":"IFERROR(VLOOKUP($A153,FILTRO!$A147:$AY772,18,FALSE),0)","v":0},{"$f":"IFERROR(VLOOKUP($A153,FILTRO!$A147:$AY772,19,FALSE),0)","v":1},{"$f":"IFERROR(VLOOKUP($A153,FILTRO!$A147:$AY772,20,FALSE),0)","v":2},{"$f":"IFERROR(VLOOKUP($A153,FILTRO!$A147:$AY772,21,FALSE),0)","v":0},{"$f":"IFERROR(VLOOKUP($A153,FILTRO!$A147:$AY772,22,FALSE),0)","v":0},{"$f":"IFERROR(VLOOKUP($A153,FILTRO!$A147:$AY772,23,FALSE),0)","v":3},{"$f":"IFERROR(VLOOKUP($A153,FILTRO!$A147:$AY772,24,FALSE),0)","v":1},{"$f":"IFERROR(VLOOKUP($A153,FILTRO!$A147:$AY772,25,FALSE),0)","v":3},{"$f":"IFERROR(VLOOKUP($A153,FILTRO!$A147:$AY772,26,FALSE),0)","v":1},{"$f":"IFERROR(VLOOKUP($A153,FILTRO!$A147:$AY772,27,FALSE),0)","v":1},{"$f":"IFERROR(VLOOKUP($A153,FILTRO!$A147:$AY772,28,FALSE),0)","v":1},{"$f":"IFERROR(VLOOKUP($A153,FILTRO!$A147:$AY772,29,FALSE),0)","v":0},{"$f":"IFERROR(VLOOKUP($A153,FILTRO!$A147:$AY772,30,FALSE),0)","v":0},{"$f":"IFERROR(VLOOKUP($A153,FILTRO!$A147:$AY772,31,FALSE),0)","v":1},{"$f":"IFERROR(VLOOKUP($A153,FILTRO!$A147:$AY772,32,FALSE),0)","v":2},{"$f":"IFERROR(VLOOKUP($A153,FILTRO!$A147:$AY772,33,FALSE),0)","v":1},{"$f":"IFERROR(VLOOKUP($A153,FILTRO!$A147:$AY772,34,FALSE),0)","v":1},{"$f":"IFERROR(VLOOKUP($A153,FILTRO!$A147:$AY772,35,FALSE),0)","v":0},{"$f":"IFERROR(VLOOKUP($A153,FILTRO!$A147:$AY772,36,FALSE),0)","v":2},{"$f":"IFERROR(VLOOKUP($A153,FILTRO!$A147:$AY772,37,FALSE),0)","v":1},{"$f":"IFERROR(VLOOKUP($A153,FILTRO!$A147:$AY772,38,FALSE),0)","v":1},{"$f":"IFERROR(VLOOKUP($A153,FILTRO!$A147:$AY772,39,FALSE),0)","v":0},{"$f":"IFERROR(VLOOKUP($A153,FILTRO!$A147:$AY772,40,FALSE),0)","v":1},{"$f":"IFERROR(VLOOKUP($A153,FILTRO!$A147:$AY772,41,FALSE),0)","v":1},{"$f":"IFERROR(VLOOKUP($A153,FILTRO!$A147:$AY772,42,FALSE),0)","v":2},{"$f":"IFERROR(VLOOKUP($A153,FILTRO!$A147:$AY772,43,FALSE),0)","v":0},{"$f":"IFERROR(VLOOKUP($A153,FILTRO!$A147:$AY772,44,FALSE),0)","v":0},{"$f":"IFERROR(VLOOKUP($A153,FILTRO!$A147:$AY772,45,FALSE),0)","v":0},{"$f":"IFERROR(VLOOKUP($A153,FILTRO!$A147:$AY772,46,FALSE),0)","v":0},"",{"$nulls":35},{"$f":"IF(DF153=1,\"* No olvide escribir en las celdas de \"\"Pueblos Originarios\"\" (Digite Cero si no tiene).\",\"\")","v":""},{"$f":"IF(DG153=1,\"* No olvide escribir en las celdas de \"\"Población Migrante\"\" (Digite Cero si no tiene).\",\"\")","v":""},{"$f":"IF(DH153=1,\"* La suma de las celdas de \"\"Pueblos Originarios\"\"no debe superar el Total.\",\"\")","v":""},{"$f":"IF(DI153=1,\"* La suma de las celdas de \"\"Población Migrante\"\" no debe superar el Total.\",\"\")","v":""},{"$nulls":21},{"$f":"IF(AND($D153<>0,OR(AS153=\"\",AT153=\"\")),1,0)","v":0},{"$f":"IF(AND($D153<>0,OR(AU153=\"\",AV153=\"\")),1,0)","v":0},{"$f":"IF((AS153+AT153)>$D153,1,0)","v":0},{"$f":"IF((AV153+AU153)>$D153,1,0)","v":0}]
["P2501832","Enfermedades crónicas de piel y mucosas ","Enfermedades crónicas de piel y mucosas ",{"$f":"IFERROR(VLOOKUP($A154,FILTRO!$A148:$AY773,2,FALSE),0)","v":6},{"$f":"IFERROR(VLOOKUP($A154,FILTRO!$A148:$AY773,3,FALSE),0)","v":4},{"$f":"IFERROR(VLOOKUP($A154,FILTRO!$A148:$AY773,4,FALSE),0)","v":2},{"$f":"IFERROR(VLOOKUP($A154,FILTRO!$A148:$AY773,5,FALSE),0)","v":0},{"$f":"IFERROR(VLOOKUP($A154,FILTRO!$A148:$AY773,6,FALSE),0)","v":0},{"$f":"IFERROR(VLOOKUP($A154,FILTRO!$A148:$AY773,7,FALSE),0)","v":0},{"$f":"IFERROR(VLOOKUP($A154,FILTRO!$A148:$AY773,8,FALSE),0)","v":0},{"$f":"IFERROR(VLOOKUP($A154,FILTRO!$A148:$AY773,9,FALSE),0)","v":0},{"$f":"IFERROR(VLOOKUP($A154,FILTRO!$A148:$AY773,10,FALSE),0)","v":0},{"$f":"IFERROR(VLOOKUP($A154,FILTRO!$A148:$AY773,11,FALSE),0)","v":0},{"$f":"IFERROR(VLOOKUP($A154,FILTRO!$A148:$AY773,12,FALSE),0)","v":0},{"$f":"IFERROR(VLOOKUP($A154,FILTRO!$A148:$AY773,13,FALSE),0)","v":0},{"$f":"IFERROR(VLOOKUP($A154,FILTRO!$A148:$AY773,14,FALSE),0)","v":0},{"$f":"IFERROR(VLOOKUP($A154,FILTRO!$A148:$AY773,15,FALSE),0)","v":0},{"$f":"IFERROR(VLOOKUP($A154,FILTRO!$A148:$AY773,16,FALSE),0)","v":0},{"$f":"IFERROR(VLOOKUP($A154,FILTRO!$A148:$AY773,17,FALSE),0)","v":0},{"$f":"IFERROR(VLOOKUP($A154,FILTRO!$A148:$AY773,18,FALSE),0)","v":0},{"$f":"IFERROR(VLOOKUP($A154,FILTRO!$A148:$AY773,19,FALSE),0)","v":0},{"$f":"IFERROR(VLOOKUP($A154,FILTRO!$A148:$AY773,20,FALSE),0)","v":1},{"$f":"IFERROR(VLOOKUP($A154,FILTRO!$A148:$AY773,21,FALSE),0)","v":1},{"$f":"IFERROR(VLOOKUP($A154,FILTRO!$A148:$AY773,22,FALSE),0)","v":0},{"$f":"IFERROR(VLOOKUP($A154,FILTRO!$A148:$AY773,23,FALSE),0)","v":0},{"$f":"IFERROR(VLOOKUP($A154,FILTRO!$A148:$AY773,24,FALSE),0)","v":0},{"$f":"IFERROR(VLOOKUP($A154,FILTRO!$A148:$AY773,25,FALSE),0)","v":0},{"$f":"IFERROR(VLOOKUP($A154,FILTRO!$A148:$AY773,26,FALSE),0)","v":0},{"$f":"IFERROR(VLOOKUP($A154,FILTRO!$A148:$AY773,27,FALSE),0)","v":0},{"$f":"IFERROR(VLOOKUP($A154,FILTRO!$A148:$AY773,28,FALSE),0)","v":0},{"$f":"IFERROR(VLOOKUP($A154,FILTRO!$A148:$AY773,29,FALSE),0)","v":0},{"$f":"IFERROR(VLOOKUP($A154,FILTRO!$A148:$AY773,30,FALSE),0)","v":0},{"$f":"IFERROR(VLOOKUP($A154,FILTRO!$A148:$AY773,31,FALSE),0)","v":0},{"$f":"IFERROR(VLOOKUP($A154,FILTRO!$A148:$AY773,32,FALSE),0)","v":0},{"$f":"IFERROR(VLOOKUP($A154,FILTRO!$A148:$AY773,33,FALSE),0)","v":0},{"$f":"IFERROR(VLOOKUP($A154,FILTRO!$A148:$AY773,34,FALSE),0)","v":0},{"$f":"IFERROR(VLOOKUP($A154,FILTRO!$A148:$AY773,35,FALSE),0)","v":2},{"$f":"IFERROR(VLOOKUP($A154,FILTRO!$A148:$AY773,36,FALSE),0)","v":0},{"$f":"IFERROR(VLOOKUP($A154,FILTRO!$A148:$AY773,37,FALSE),0)","v":1},{"$f":"IFERROR(VLOOKUP($A154,FILTRO!$A148:$AY773,38,FALSE),0)","v":0},{"$f":"IFERROR(VLOOKUP($A154,FILTRO!$A148:$AY773,39,FALSE),0)","v":0},{"$f":"IFERROR(VLOOKUP($A154,FILTRO!$A148:$AY773,40,FALSE),0)","v":1},{"$f":"IFERROR(VLOOKUP($A154,FILTRO!$A148:$AY773,41,FALSE),0)","v":0},{"$f":"IFERROR(VLOOKUP($A154,FILTRO!$A148:$AY773,42,FALSE),0)","v":0},{"$f":"IFERROR(VLOOKUP($A154,FILTRO!$A148:$AY773,43,FALSE),0)","v":0},{"$f":"IFERROR(VLOOKUP($A154,FILTRO!$A148:$AY773,44,FALSE),0)","v":0},{"$f":"IFERROR(VLOOKUP($A154,FILTRO!$A148:$AY773,45,FALSE),0)","v":0},{"$f":"IFERROR(VLOOKUP($A154,FILTRO!$A148:$AY773,46,FALSE),0)","v":0},""]
["P2501400","Neoplasias  ","Neoplasias  ",{"$f":"IFERROR(VLOOKUP($A155,FILTRO!$A149:$AY774,2,FALSE),0)","v":3},{"$f":"IFERROR(VLOOKUP($A155,FILTRO!$A149:$AY774,3,FALSE),0)","v":0},{"$f":"IFERROR(VLOOKUP($A155,FILTRO!$A149:$AY774,4,FALSE),0)","v":3},{"$f":"IFERROR(VLOOKUP($A155,FILTRO!$A149:$AY774,5,FALSE),0)","v":0},{"$f":"IFERROR(VLOOKUP($A155,FILTRO!$A149:$AY774,6,FALSE),0)","v":0},{"$f":"IFERROR(VLOOKUP($A155,FILTRO!$A149:$AY774,7,FALSE),0)","v":0},{"$f":"IFERROR(VLOOKUP($A155,FILTRO!$A149:$AY774,8,FALSE),0)","v":0},{"$f":"IFERROR(VLOOKUP($A155,FILTRO!$A149:$AY774,9,FALSE),0)","v":0},{"$f":"IFERROR(VLOOKUP($A155,FILTRO!$A149:$AY774,10,FALSE),0)","v":0},{"$f":"IFERROR(VLOOKUP($A155,FILTRO!$A149:$AY774,11,FALSE),0)","v":0},{"$f":"IFERROR(VLOOKUP($A155,FILTRO!$A149:$AY774,12,FALSE),0)","v":0},{"$f":"IFERROR(VLOOKUP($A155,FILTRO!$A149:$AY774,13,FALSE),0)","v":0},{"$f":"IFERROR(VLOOKUP($A155,FILTRO!$A149:$AY774,14,FALSE),0)","v":0},{"$f":"IFERROR(VLOOKUP($A155,FILTRO!$A149:$AY774,15,FALSE),0)","v":0},{"$f":"IFERROR(VLOOKUP($A155,FILTRO!$A149:$AY774,16,FALSE),0)","v":0},{"$f":"IFERROR(VLOOKUP($A155,FILTRO!$A149:$AY774,17,FALSE),0)","v":0},{"$f":"IFERROR(VLOOKUP($A155,FILTRO!$A149:$AY774,18,FALSE),0)","v":0},{"$f":"IFERROR(VLOOKUP($A155,FILTRO!$A149:$AY774,19,FALSE),0)","v":0},{"$f":"IFERROR(VLOOKUP($A155,FILTRO!$A149:$AY774,20,FALSE),0)","v":0},{"$f":"IFERROR(VLOOKUP($A155,FILTRO!$A149:$AY774,21,FALSE),0)","v":0},{"$f":"IFERROR(VLOOKUP($A155,FILTRO!$A149:$AY774,22,FALSE),0)","v":0},{"$f":"IFERROR(VLOOKUP($A155,FILTRO!$A149:$AY774,23,FALSE),0)","v":0},{"$f":"IFERROR(VLOOKUP($A155,FILTRO!$A149:$AY774,24,FALSE),0)","v":0},{"$f":"IFERROR(VLOOKUP($A155,FILTRO!$A149:$AY774,25,FALSE),0)","v":0},{"$f":"IFERROR(VLOOKUP($A155,FILTRO!$A149:$AY774,26,FALSE),0)","v":0},{"$f":"IFERROR(VLOOKUP($A155,FILTRO!$A149:$AY774,27,FALSE),0)","v":0},{"$f":"IFERROR(VLOOKUP($A155,FILTRO!$A149:$AY774,28,FALSE),0)","v":1},{"$f":"IFERROR(VLOOKUP($A155,FILTRO!$A149:$AY774,29,FALSE),0)","v":0},{"$f":"IFERROR(VLOOKUP($A155,FILTRO!$A149:$AY774,30,FALSE),0)","v":0},{"$f":"IFERROR(VLOOKUP($A155,FILTRO!$A149:$AY774,31,FALSE),0)","v":0},{"$f":"IFERROR(VLOOKUP($A155,FILTRO!$A149:$AY774,32,FALSE),0)","v":0},{"$f":"IFERROR(VLOOKUP($A155,FILTRO!$A149:$AY774,33,FALSE),0)","v":0},{"$f":"IFERROR(VLOOKUP($A155,FILTRO!$A149:$AY774,34,FALSE),0)","v":0},{"$f":"IFERROR(VLOOKUP($A155,FILTRO!$A149:$AY774,35,FALSE),0)","v":0},{"$f":"IFERROR(VLOOKUP($A155,FILTRO!$A149:$AY774,36,FALSE),0)","v":0},{"$f":"IFERROR(VLOOKUP($A155,FILTRO!$A149:$AY774,37,FALSE),0)","v":0},{"$f":"IFERROR(VLOOKUP($A155,FILTRO!$A149:$AY774,38,FALSE),0)","v":2},{"$f":"IFERROR(VLOOKUP($A155,FILTRO!$A149:$AY774,39,FALSE),0)","v":0},{"$f":"IFERROR(VLOOKUP($A155,FILTRO!$A149:$AY774,40,FALSE),0)","v":0},{"$f":"IFERROR(VLOOKUP($A155,FILTRO!$A149:$AY774,41,FALSE),0)","v":0},{"$f":"IFERROR(VLOOKUP($A155,FILTRO!$A149:$AY774,42,FALSE),0)","v":0},{"$f":"IFERROR(VLOOKUP($A155,FILTRO!$A149:$AY774,43,FALSE),0)","v":0},{"$f":"IFERROR(VLOOKUP($A155,FILTRO!$A149:$AY774,44,FALSE),0)","v":0},{"$f":"IFERROR(VLOOKUP($A155,FILTRO!$A149:$AY774,45,FALSE),0)","v":0},{"$f":"IFERROR(VLOOKUP($A155,FILTRO!$A149:$AY774,46,FALSE),0)","v":0},"",{"$nulls":35},{"$f":"IF(DF155=1,\"* No olvide escribir en las celdas de \"\"Pueblos Originarios\"\" (Digite Cero si no tiene).\",\"\")","v":""},{"$f":"IF(DG155=1,\"* No olvide escribir en las celdas de \"\"Población Migrante\"\" (Digite Cero si no tiene).\",\"\")","v":""},{"$f":"IF(DH155=1,\"* La suma de las celdas de \"\"Pueblos Originarios\"\"no debe superar el Total.\",\"\")","v":""},{"$f":"IF(DI155=1,\"* La suma de las celdas de \"\"Población Migrante\"\" no debe superar el Total.\",\"\")","v":""},{"$nulls":21},{"$f":"IF(AND($D155<>0,OR(AS155=\"\",AT155=\"\")),1,0)","v":0},{"$f":"IF(AND($D155<>0,OR(AU155=\"\",AV155=\"\")),1,0)","v":0},{"$f":"IF((AS155+AT155)>$D155,1,0)","v":0},{"$f":"IF((AV155+AU155)>$D155,1,0)","v":0}]
["P2501833","Malformaciones congénitas y deformidades","Malformaciones congénitas y deformidades",{"$f":"IFERROR(VLOOKUP($A156,FILTRO!$A150:$AY775,2,FALSE),0)","v":155},{"$f":"IFERROR(VLOOKUP($A156,FILTRO!$A150:$AY775,3,FALSE),0)","v":86},{"$f":"IFERROR(VLOOKUP($A156,FILTRO!$A150:$AY775,4,FALSE),0)","v":69},{"$f":"IFERROR(VLOOKUP($A156,FILTRO!$A150:$AY775,5,FALSE),0)","v":0},{"$f":"IFERROR(VLOOKUP($A156,FILTRO!$A150:$AY775,6,FALSE),0)","v":0},{"$f":"IFERROR(VLOOKUP($A156,FILTRO!$A150:$AY775,7,FALSE),0)","v":1},{"$f":"IFERROR(VLOOKUP($A156,FILTRO!$A150:$AY775,8,FALSE),0)","v":1},{"$f":"IFERROR(VLOOKUP($A156,FILTRO!$A150:$AY775,9,FALSE),0)","v":2},{"$f":"IFERROR(VLOOKUP($A156,FILTRO!$A150:$AY775,10,FALSE),0)","v":1},{"$f":"IFERROR(VLOOKUP($A156,FILTRO!$A150:$AY775,11,FALSE),0)","v":1},{"$f":"IFERROR(VLOOKUP($A156,FILTRO!$A150:$AY775,12,FALSE),0)","v":0},{"$f":"IFERROR(VLOOKUP($A156,FILTRO!$A150:$AY775,13,FALSE),0)","v":1},{"$f":"IFERROR(VLOOKUP($A156,FILTRO!$A150:$AY775,14,FALSE),0)","v":2},{"$f":"IFERROR(VLOOKUP($A156,FILTRO!$A150:$AY775,15,FALSE),0)","v":3},{"$f":"IFERROR(VLOOKUP($A156,FILTRO!$A150:$AY775,16,FALSE),0)","v":0},{"$f":"IFERROR(VLOOKUP($A156,FILTRO!$A150:$AY775,17,FALSE),0)","v":3},{"$f":"IFERROR(VLOOKUP($A156,FILTRO!$A150:$AY775,18,FALSE),0)","v":3},{"$f":"IFERROR(VLOOKUP($A156,FILTRO!$A150:$AY775,19,FALSE),0)","v":10},{"$f":"IFERROR(VLOOKUP($A156,FILTRO!$A150:$AY775,20,FALSE),0)","v":3},{"$f":"IFERROR(VLOOKUP($A156,FILTRO!$A150:$AY775,21,FALSE),0)","v":12},{"$f":"IFERROR(VLOOKUP($A156,FILTRO!$A150:$AY775,22,FALSE),0)","v":7},{"$f":"IFERROR(VLOOKUP($A156,FILTRO!$A150:$AY775,23,FALSE),0)","v":13},{"$f":"IFERROR(VLOOKUP($A156,FILTRO!$A150:$AY775,24,FALSE),0)","v":7},{"$f":"IFERROR(VLOOKUP($A156,FILTRO!$A150:$AY775,25,FALSE),0)","v":4},{"$f":"IFERROR(VLOOKUP($A156,FILTRO!$A150:$AY775,26,FALSE),0)","v":4},{"$f":"IFERROR(VLOOKUP($A156,FILTRO!$A150:$AY775,27,FALSE),0)","v":7},{"$f":"IFERROR(VLOOKUP($A156,FILTRO!$A150:$AY775,28,FALSE),0)","v":3},{"$f":"IFERROR(VLOOKUP($A156,FILTRO!$A150:$AY775,29,FALSE),0)","v":0},{"$f":"IFERROR(VLOOKUP($A156,FILTRO!$A150:$AY775,30,FALSE),0)","v":0},{"$f":"IFERROR(VLOOKUP($A156,FILTRO!$A150:$AY775,31,FALSE),0)","v":4},{"$f":"IFERROR(VLOOKUP($A156,FILTRO!$A150:$AY775,32,FALSE),0)","v":10},{"$f":"IFERROR(VLOOKUP($A156,FILTRO!$A150:$AY775,33,FALSE),0)","v":7},{"$f":"IFERROR(VLOOKUP($A156,FILTRO!$A150:$AY775,34,FALSE),0)","v":4},{"$f":"IFERROR(VLOOKUP($A156,FILTRO!$A150:$AY775,35,FALSE),0)","v":6},{"$f":"IFERROR(VLOOKUP($A156,FILTRO!$A150:$AY775,36,FALSE),0)","v":8},{"$f":"IFERROR(VLOOKUP($A156,FILTRO!$A150:$AY775,37,FALSE),0)","v":7},{"$f":"IFERROR(VLOOKUP($A156,FILTRO!$A150:$AY775,38,FALSE),0)","v":8},{"$f":"IFERROR(VLOOKUP($A156,FILTRO!$A150:$AY775,39,FALSE),0)","v":5},{"$f":"IFERROR(VLOOKUP($A156,FILTRO!$A150:$AY775,40,FALSE),0)","v":5},{"$f":"IFERROR(VLOOKUP($A156,FILTRO!$A150:$AY775,41,FALSE),0)","v":0},{"$f":"IFERROR(VLOOKUP($A156,FILTRO!$A150:$AY775,42,FALSE),0)","v":3},{"$f":"IFERROR(VLOOKUP($A156,FILTRO!$A150:$AY775,43,FALSE),0)","v":1},{"$f":"IFERROR(VLOOKUP($A156,FILTRO!$A150:$AY775,44,FALSE),0)","v":0},{"$f":"IFERROR(VLOOKUP($A156,FILTRO!$A150:$AY775,45,FALSE),0)","v":0},{"$f":"IFERROR(VLOOKUP($A156,FILTRO!$A150:$AY775,46,FALSE),0)","v":0},""]
["P2501834","Trastornos genéticos  ","Trastornos genéticos  ",{"$f":"IFERROR(VLOOKUP($A157,FILTRO!$A151:$AY776,2,FALSE),0)","v":42},{"$f":"IFERROR(VLOOKUP($A157,FILTRO!$A151:$AY776,3,FALSE),0)","v":17},{"$f":"IFERROR(VLOOKUP($A157,FILTRO!$A151:$AY776,4,FALSE),0)","v":25},{"$f":"IFERROR(VLOOKUP($A157,FILTRO!$A151:$AY776,5,FALSE),0)","v":0},{"$f":"IFERROR(VLOOKUP($A157,FILTRO!$A151:$AY776,6,FALSE),0)","v":0},{"$f":"IFERROR(VLOOKUP($A157,FILTRO!$A151:$AY776,7,FALSE),0)","v":0},{"$f":"IFERROR(VLOOKUP($A157,FILTRO!$A151:$AY776,8,FALSE),0)","v":0},{"$f":"IFERROR(VLOOKUP($A157,FILTRO!$A151:$AY776,9,FALSE),0)","v":0},{"$f":"IFERROR(VLOOKUP($A157,FILTRO!$A151:$AY776,10,FALSE),0)","v":0},{"$f":"IFERROR(VLOOKUP($A157,FILTRO!$A151:$AY776,11,FALSE),0)","v":0},{"$f":"IFERROR(VLOOKUP($A157,FILTRO!$A151:$AY776,12,FALSE),0)","v":0},{"$f":"IFERROR(VLOOKUP($A157,FILTRO!$A151:$AY776,13,FALSE),0)","v":1},{"$f":"IFERROR(VLOOKUP($A157,FILTRO!$A151:$AY776,14,FALSE),0)","v":1},{"$f":"IFERROR(VLOOKUP($A157,FILTRO!$A151:$AY776,15,FALSE),0)","v":0},{"$f":"IFERROR(VLOOKUP($A157,FILTRO!$A151:$AY776,16,FALSE),0)","v":0},{"$f":"IFERROR(VLOOKUP($A157,FILTRO!$A151:$AY776,17,FALSE),0)","v":0},{"$f":"IFERROR(VLOOKUP($A157,FILTRO!$A151:$AY776,18,FALSE),0)","v":0},{"$f":"IFERROR(VLOOKUP($A157,FILTRO!$A151:$AY776,19,FALSE),0)","v":1},{"$f":"IFERROR(VLOOKUP($A157,FILTRO!$A151:$AY776,20,FALSE),0)","v":0},{"$f":"IFERROR(VLOOKUP($A157,FILTRO!$A151:$AY776,21,FALSE),0)","v":1},{"$f":"IFERROR(VLOOKUP($A157,FILTRO!$A151:$AY776,22,FALSE),0)","v":0},{"$f":"IFERROR(VLOOKUP($A157,FILTRO!$A151:$AY776,23,FALSE),0)","v":2},{"$f":"IFERROR(VLOOKUP($A157,FILTRO!$A151:$AY776,24,FALSE),0)","v":0},{"$f":"IFERROR(VLOOKUP($A157,FILTRO!$A151:$AY776,25,FALSE),0)","v":1},{"$f":"IFERROR(VLOOKUP($A157,FILTRO!$A151:$AY776,26,FALSE),0)","v":0},{"$f":"IFERROR(VLOOKUP($A157,FILTRO!$A151:$AY776,27,FALSE),0)","v":0},{"$f":"IFERROR(VLOOKUP($A157,FILTRO!$A151:$AY776,28,FALSE),0)","v":0},{"$f":"IFERROR(VLOOKUP($A157,FILTRO!$A151:$AY776,29,FALSE),0)","v":0},{"$f":"IFERROR(VLOOKUP($A157,FILTRO!$A151:$AY776,30,FALSE),0)","v":0},{"$f":"IFERROR(VLOOKUP($A157,FILTRO!$A151:$AY776,31,FALSE),0)","v":3},{"$f":"IFERROR(VLOOKUP($A157,FILTRO!$A151:$AY776,32,FALSE),0)","v":6},{"$f":"IFERROR(VLOOKUP($A157,FILTRO!$A151:$AY776,33,FALSE),0)","v":1},{"$f":"IFERROR(VLOOKUP($A157,FILTRO!$A151:$AY776,34,FALSE),0)","v":2},{"$f":"IFERROR(VLOOKUP($A157,FILTRO!$A151:$AY776,35,FALSE),0)","v":3},{"$f":"IFERROR(VLOOKUP($A157,FILTRO!$A151:$AY776,36,FALSE),0)","v":6},{"$f":"IFERROR(VLOOKUP($A157,FILTRO!$A151:$AY776,37,FALSE),0)","v":0},{"$f":"IFERROR(VLOOKUP($A157,FILTRO!$A151:$AY776,38,FALSE),0)","v":5},{"$f":"IFERROR(VLOOKUP($A157,FILTRO!$A151:$AY776,39,FALSE),0)","v":2},{"$f":"IFERROR(VLOOKUP($A157,FILTRO!$A151:$AY776,40,FALSE),0)","v":4},{"$f":"IFERROR(VLOOKUP($A157,FILTRO!$A151:$AY776,41,FALSE),0)","v":2},{"$f":"IFERROR(VLOOKUP($A157,FILTRO!$A151:$AY776,42,FALSE),0)","v":1},{"$f":"IFERROR(VLOOKUP($A157,FILTRO!$A151:$AY776,43,FALSE),0)","v":0},{"$f":"IFERROR(VLOOKUP($A157,FILTRO!$A151:$AY776,44,FALSE),0)","v":0},{"$f":"IFERROR(VLOOKUP($A157,FILTRO!$A151:$AY776,45,FALSE),0)","v":0},{"$f":"IFERROR(VLOOKUP($A157,FILTRO!$A151:$AY776,46,FALSE),0)","v":0},""]
["P2501600","Prematuros",null,{"$f":"IFERROR(VLOOKUP($A158,FILTRO!$A152:$AY777,2,FALSE),0)","v":1489},{"$f":"IFERROR(VLOOKUP($A158,FILTRO!$A152:$AY777,3,FALSE),0)","v":835},{"$f":"IFERROR(VLOOKUP($A158,FILTRO!$A152:$AY777,4,FALSE),0)","v":654},{"$f":"IFERROR(VLOOKUP($A158,FILTRO!$A152:$AY777,5,FALSE),0)","v":3},{"$f":"IFERROR(VLOOKUP($A158,FILTRO!$A152:$AY777,6,FALSE),0)","v":4},{"$f":"IFERROR(VLOOKUP($A158,FILTRO!$A152:$AY777,7,FALSE),0)","v":17},{"$f":"IFERROR(VLOOKUP($A158,FILTRO!$A152:$AY777,8,FALSE),0)","v":6},{"$f":"IFERROR(VLOOKUP($A158,FILTRO!$A152:$AY777,9,FALSE),0)","v":20},{"$f":"IFERROR(VLOOKUP($A158,FILTRO!$A152:$AY777,10,FALSE),0)","v":10},{"$f":"IFERROR(VLOOKUP($A158,FILTRO!$A152:$AY777,11,FALSE),0)","v":17},{"$f":"IFERROR(VLOOKUP($A158,FILTRO!$A152:$AY777,12,FALSE),0)","v":13},{"$f":"IFERROR(VLOOKUP($A158,FILTRO!$A152:$AY777,13,FALSE),0)","v":14},{"$f":"IFERROR(VLOOKUP($A158,FILTRO!$A152:$AY777,14,FALSE),0)","v":12},{"$f":"IFERROR(VLOOKUP($A158,FILTRO!$A152:$AY777,15,FALSE),0)","v":9},{"$f":"IFERROR(VLOOKUP($A158,FILTRO!$A152:$AY777,16,FALSE),0)","v":8},{"$f":"IFERROR(VLOOKUP($A158,FILTRO!$A152:$AY777,17,FALSE),0)","v":18},{"$f":"IFERROR(VLOOKUP($A158,FILTRO!$A152:$AY777,18,FALSE),0)","v":13},{"$f":"IFERROR(VLOOKUP($A158,FILTRO!$A152:$AY777,19,FALSE),0)","v":73},{"$f":"IFERROR(VLOOKUP($A158,FILTRO!$A152:$AY777,20,FALSE),0)","v":61},{"$f":"IFERROR(VLOOKUP($A158,FILTRO!$A152:$AY777,21,FALSE),0)","v":115},{"$f":"IFERROR(VLOOKUP($A158,FILTRO!$A152:$AY777,22,FALSE),0)","v":88},{"$f":"IFERROR(VLOOKUP($A158,FILTRO!$A152:$AY777,23,FALSE),0)","v":66},{"$f":"IFERROR(VLOOKUP($A158,FILTRO!$A152:$AY777,24,FALSE),0)","v":38},{"$f":"IFERROR(VLOOKUP($A158,FILTRO!$A152:$AY777,25,FALSE),0)","v":107},{"$f":"IFERROR(VLOOKUP($A158,FILTRO!$A152:$AY777,26,FALSE),0)","v":107},{"$f":"IFERROR(VLOOKUP($A158,FILTRO!$A152:$AY777,27,FALSE),0)","v":88},{"$f":"IFERROR(VLOOKUP($A158,FILTRO!$A152:$AY777,28,FALSE),0)","v":56},{"$f":"IFERROR(VLOOKUP($A158,FILTRO!$A152:$AY777,29,FALSE),0)","v":17},{"$f":"IFERROR(VLOOKUP($A158,FILTRO!$A152:$AY777,30,FALSE),0)","v":13},{"$f":"IFERROR(VLOOKUP($A158,FILTRO!$A152:$AY777,31,FALSE),0)","v":102},{"$f":"IFERROR(VLOOKUP($A158,FILTRO!$A152:$AY777,32,FALSE),0)","v":77},{"$f":"IFERROR(VLOOKUP($A158,FILTRO!$A152:$AY777,33,FALSE),0)","v":85},{"$f":"IFERROR(VLOOKUP($A158,FILTRO!$A152:$AY777,34,FALSE),0)","v":52},{"$f":"IFERROR(VLOOKUP($A158,FILTRO!$A152:$AY777,35,FALSE),0)","v":114},{"$f":"IFERROR(VLOOKUP($A158,FILTRO!$A152:$AY777,36,FALSE),0)","v":97},{"$f":"IFERROR(VLOOKUP($A158,FILTRO!$A152:$AY777,37,FALSE),0)","v":58},{"$f":"IFERROR(VLOOKUP($A158,FILTRO!$A152:$AY777,38,FALSE),0)","v":49},{"$f":"IFERROR(VLOOKUP($A158,FILTRO!$A152:$AY777,39,FALSE),0)","v":5},{"$f":"IFERROR(VLOOKUP($A158,FILTRO!$A152:$AY777,40,FALSE),0)","v":3},{"$f":"IFERROR(VLOOKUP($A158,FILTRO!$A152:$AY777,41,FALSE),0)","v":0},{"$f":"IFERROR(VLOOKUP($A158,FILTRO!$A152:$AY777,42,FALSE),0)","v":3},{"$f":"IFERROR(VLOOKUP($A158,FILTRO!$A152:$AY777,43,FALSE),0)","v":4},{"$f":"IFERROR(VLOOKUP($A158,FILTRO!$A152:$AY777,44,FALSE),0)","v":5},{"$f":"IFERROR(VLOOKUP($A158,FILTRO!$A152:$AY777,45,FALSE),0)","v":2},{"$f":"IFERROR(VLOOKUP($A158,FILTRO!$A152:$AY777,46,FALSE),0)","v":5},"",{"$nulls":35},{"$f":"IF(DF158=1,\"* No olvide escribir en las celdas de \"\"Pueblos Originarios\"\" (Digite Cero si no tiene).\",\"\")","v":""},{"$f":"IF(DG158=1,\"* No olvide escribir en las celdas de \"\"Población Migrante\"\" (Digite Cero si no tiene).\",\"\")","v":""},{"$f":"IF(DH158=1,\"* La suma de las celdas de \"\"Pueblos Originarios\"\"no debe superar el Total.\",\"\")","v":""},{"$f":"IF(DI158=1,\"* La suma de las celdas de \"\"Población Migrante\"\" no debe superar el Total.\",\"\")","v":""},{"$nulls":21},{"$f":"IF(AND($D158<>0,OR(AS158=\"\",AT158=\"\")),1,0)","v":0},{"$f":"IF(AND($D158<>0,OR(AU158=\"\",AV158=\"\")),1,0)","v":0},{"$f":"IF((AS158+AT158)>$D158,1,0)","v":0},{"$f":"IF((AV158+AU158)>$D158,1,0)","v":0}]
["P2501835","Enfermedades hematológicas crónicas ","Enfermedades hematológicas crónicas ",{"$f":"IFERROR(VLOOKUP($A159,FILTRO!$A153:$AY778,2,FALSE),0)","v":5},{"$f":"IFERROR(VLOOKUP($A159,FILTRO!$A153:$AY778,3,FALSE),0)","v":1},{"$f":"IFERROR(VLOOKUP($A159,FILTRO!$A153:$AY778,4,FALSE),0)","v":4},{"$f":"IFERROR(VLOOKUP($A159,FILTRO!$A153:$AY778,5,FALSE),0)","v":0},{"$f":"IFERROR(VLOOKUP($A159,FILTRO!$A153:$AY778,6,FALSE),0)","v":0},{"$f":"IFERROR(VLOOKUP($A159,FILTRO!$A153:$AY778,7,FALSE),0)","v":0},{"$f":"IFERROR(VLOOKUP($A159,FILTRO!$A153:$AY778,8,FALSE),0)","v":0},{"$f":"IFERROR(VLOOKUP($A159,FILTRO!$A153:$AY778,9,FALSE),0)","v":0},{"$f":"IFERROR(VLOOKUP($A159,FILTRO!$A153:$AY778,10,FALSE),0)","v":0},{"$f":"IFERROR(VLOOKUP($A159,FILTRO!$A153:$AY778,11,FALSE),0)","v":0},{"$f":"IFERROR(VLOOKUP($A159,FILTRO!$A153:$AY778,12,FALSE),0)","v":0},{"$f":"IFERROR(VLOOKUP($A159,FILTRO!$A153:$AY778,13,FALSE),0)","v":0},{"$f":"IFERROR(VLOOKUP($A159,FILTRO!$A153:$AY778,14,FALSE),0)","v":0},{"$f":"IFERROR(VLOOKUP($A159,FILTRO!$A153:$AY778,15,FALSE),0)","v":0},{"$f":"IFERROR(VLOOKUP($A159,FILTRO!$A153:$AY778,16,FALSE),0)","v":0},{"$f":"IFERROR(VLOOKUP($A159,FILTRO!$A153:$AY778,17,FALSE),0)","v":0},{"$f":"IFERROR(VLOOKUP($A159,FILTRO!$A153:$AY778,18,FALSE),0)","v":0},{"$f":"IFERROR(VLOOKUP($A159,FILTRO!$A153:$AY778,19,FALSE),0)","v":0},{"$f":"IFERROR(VLOOKUP($A159,FILTRO!$A153:$AY778,20,FALSE),0)","v":0},{"$f":"IFERROR(VLOOKUP($A159,FILTRO!$A153:$AY778,21,FALSE),0)","v":1},{"$f":"IFERROR(VLOOKUP($A159,FILTRO!$A153:$AY778,22,FALSE),0)","v":0},{"$f":"IFERROR(VLOOKUP($A159,FILTRO!$A153:$AY778,23,FALSE),0)","v":0},{"$f":"IFERROR(VLOOKUP($A159,FILTRO!$A153:$AY778,24,FALSE),0)","v":0},{"$f":"IFERROR(VLOOKUP($A159,FILTRO!$A153:$AY778,25,FALSE),0)","v":0},{"$f":"IFERROR(VLOOKUP($A159,FILTRO!$A153:$AY778,26,FALSE),0)","v":1},{"$f":"IFERROR(VLOOKUP($A159,FILTRO!$A153:$AY778,27,FALSE),0)","v":0},{"$f":"IFERROR(VLOOKUP($A159,FILTRO!$A153:$AY778,28,FALSE),0)","v":0},{"$f":"IFERROR(VLOOKUP($A159,FILTRO!$A153:$AY778,29,FALSE),0)","v":0},{"$f":"IFERROR(VLOOKUP($A159,FILTRO!$A153:$AY778,30,FALSE),0)","v":0},{"$f":"IFERROR(VLOOKUP($A159,FILTRO!$A153:$AY778,31,FALSE),0)","v":0},{"$f":"IFERROR(VLOOKUP($A159,FILTRO!$A153:$AY778,32,FALSE),0)","v":1},{"$f":"IFERROR(VLOOKUP($A159,FILTRO!$A153:$AY778,33,FALSE),0)","v":0},{"$f":"IFERROR(VLOOKUP($A159,FILTRO!$A153:$AY778,34,FALSE),0)","v":0},{"$f":"IFERROR(VLOOKUP($A159,FILTRO!$A153:$AY778,35,FALSE),0)","v":0},{"$f":"IFERROR(VLOOKUP($A159,FILTRO!$A153:$AY778,36,FALSE),0)","v":1},{"$f":"IFERROR(VLOOKUP($A159,FILTRO!$A153:$AY778,37,FALSE),0)","v":0},{"$f":"IFERROR(VLOOKUP($A159,FILTRO!$A153:$AY778,38,FALSE),0)","v":0},{"$f":"IFERROR(VLOOKUP($A159,FILTRO!$A153:$AY778,39,FALSE),0)","v":0},{"$f":"IFERROR(VLOOKUP($A159,FILTRO!$A153:$AY778,40,FALSE),0)","v":1},{"$f":"IFERROR(VLOOKUP($A159,FILTRO!$A153:$AY778,41,FALSE),0)","v":0},{"$f":"IFERROR(VLOOKUP($A159,FILTRO!$A153:$AY778,42,FALSE),0)","v":0},{"$f":"IFERROR(VLOOKUP($A159,FILTRO!$A153:$AY778,43,FALSE),0)","v":0},{"$f":"IFERROR(VLOOKUP($A159,FILTRO!$A153:$AY778,44,FALSE),0)","v":0},{"$f":"IFERROR(VLOOKUP($A159,FILTRO!$A153:$AY778,45,FALSE),0)","v":0},{"$f":"IFERROR(VLOOKUP($A159,FILTRO!$A153:$AY778,46,FALSE),0)","v":0},"",{"$nulls":35},{"$f":"IF(DF159=1,\"* No olvide escribir en las celdas de \"\"Pueblos Originarios\"\" (Digite Cero si no tiene).\",\"\")","v":""},{"$f":"IF(DG159=1,\"* No olvide escribir en las celdas de \"\"Población Migrante\"\" (Digite Cero si no tiene).\",\"\")","v":""},{"$f":"IF(DH159=1,\"* La suma de las celdas de \"\"Pueblos Originarios\"\"no debe superar el Total.\",\"\")","v":""},{"$f":"IF(DI159=1,\"* La suma de las celdas de \"\"Población Migrante\"\" no debe superar el Total.\",\"\")","v":""},{"$nulls":21},{"$f":"IF(AND($D159<>0,OR(AS159=\"\",AT159=\"\")),1,0)","v":0},{"$f":"IF(AND($D159<>0,OR(AU159=\"\",AV159=\"\")),1,0)","v":0},{"$f":"IF((AS159+AT159)>$D159,1,0)","v":0},{"$f":"IF((AV159+AU159)>$D159,1,0)","v":0}]
["P2501836","Enfermedades musculoesqueléticas crónicas ","Enfermedades musculoesqueléticas crónicas ",{"$f":"IFERROR(VLOOKUP($A160,FILTRO!$A154:$AY779,2,FALSE),0)","v":42},{"$f":"IFERROR(VLOOKUP($A160,FILTRO!$A154:$AY779,3,FALSE),0)","v":27},{"$f":"IFERROR(VLOOKUP($A160,FILTRO!$A154:$AY779,4,FALSE),0)","v":15},{"$f":"IFERROR(VLOOKUP($A160,FILTRO!$A154:$AY779,5,FALSE),0)","v":0},{"$f":"IFERROR(VLOOKUP($A160,FILTRO!$A154:$AY779,6,FALSE),0)","v":0},{"$f":"IFERROR(VLOOKUP($A160,FILTRO!$A154:$AY779,7,FALSE),0)","v":0},{"$f":"IFERROR(VLOOKUP($A160,FILTRO!$A154:$AY779,8,FALSE),0)","v":0},{"$f":"IFERROR(VLOOKUP($A160,FILTRO!$A154:$AY779,9,FALSE),0)","v":1},{"$f":"IFERROR(VLOOKUP($A160,FILTRO!$A154:$AY779,10,FALSE),0)","v":0},{"$f":"IFERROR(VLOOKUP($A160,FILTRO!$A154:$AY779,11,FALSE),0)","v":0},{"$f":"IFERROR(VLOOKUP($A160,FILTRO!$A154:$AY779,12,FALSE),0)","v":0},{"$f":"IFERROR(VLOOKUP($A160,FILTRO!$A154:$AY779,13,FALSE),0)","v":0},{"$f":"IFERROR(VLOOKUP($A160,FILTRO!$A154:$AY779,14,FALSE),0)","v":0},{"$f":"IFERROR(VLOOKUP($A160,FILTRO!$A154:$AY779,15,FALSE),0)","v":0},{"$f":"IFERROR(VLOOKUP($A160,FILTRO!$A154:$AY779,16,FALSE),0)","v":0},{"$f":"IFERROR(VLOOKUP($A160,FILTRO!$A154:$AY779,17,FALSE),0)","v":0},{"$f":"IFERROR(VLOOKUP($A160,FILTRO!$A154:$AY779,18,FALSE),0)","v":0},{"$f":"IFERROR(VLOOKUP($A160,FILTRO!$A154:$AY779,19,FALSE),0)","v":3},{"$f":"IFERROR(VLOOKUP($A160,FILTRO!$A154:$AY779,20,FALSE),0)","v":0},{"$f":"IFERROR(VLOOKUP($A160,FILTRO!$A154:$AY779,21,FALSE),0)","v":3},{"$f":"IFERROR(VLOOKUP($A160,FILTRO!$A154:$AY779,22,FALSE),0)","v":0},{"$f":"IFERROR(VLOOKUP($A160,FILTRO!$A154:$AY779,23,FALSE),0)","v":0},{"$f":"IFERROR(VLOOKUP($A160,FILTRO!$A154:$AY779,24,FALSE),0)","v":0},{"$f":"IFERROR(VLOOKUP($A160,FILTRO!$A154:$AY779,25,FALSE),0)","v":4},{"$f":"IFERROR(VLOOKUP($A160,FILTRO!$A154:$AY779,26,FALSE),0)","v":4},{"$f":"IFERROR(VLOOKUP($A160,FILTRO!$A154:$AY779,27,FALSE),0)","v":1},{"$f":"IFERROR(VLOOKUP($A160,FILTRO!$A154:$AY779,28,FALSE),0)","v":0},{"$f":"IFERROR(VLOOKUP($A160,FILTRO!$A154:$AY779,29,FALSE),0)","v":0},{"$f":"IFERROR(VLOOKUP($A160,FILTRO!$A154:$AY779,30,FALSE),0)","v":0},{"$f":"IFERROR(VLOOKUP($A160,FILTRO!$A154:$AY779,31,FALSE),0)","v":1},{"$f":"IFERROR(VLOOKUP($A160,FILTRO!$A154:$AY779,32,FALSE),0)","v":1},{"$f":"IFERROR(VLOOKUP($A160,FILTRO!$A154:$AY779,33,FALSE),0)","v":3},{"$f":"IFERROR(VLOOKUP($A160,FILTRO!$A154:$AY779,34,FALSE),0)","v":3},{"$f":"IFERROR(VLOOKUP($A160,FILTRO!$A154:$AY779,35,FALSE),0)","v":2},{"$f":"IFERROR(VLOOKUP($A160,FILTRO!$A154:$AY779,36,FALSE),0)","v":1},{"$f":"IFERROR(VLOOKUP($A160,FILTRO!$A154:$AY779,37,FALSE),0)","v":1},{"$f":"IFERROR(VLOOKUP($A160,FILTRO!$A154:$AY779,38,FALSE),0)","v":3},{"$f":"IFERROR(VLOOKUP($A160,FILTRO!$A154:$AY779,39,FALSE),0)","v":6},{"$f":"IFERROR(VLOOKUP($A160,FILTRO!$A154:$AY779,40,FALSE),0)","v":3},{"$f":"IFERROR(VLOOKUP($A160,FILTRO!$A154:$AY779,41,FALSE),0)","v":2},{"$f":"IFERROR(VLOOKUP($A160,FILTRO!$A154:$AY779,42,FALSE),0)","v":0},{"$f":"IFERROR(VLOOKUP($A160,FILTRO!$A154:$AY779,43,FALSE),0)","v":0},{"$f":"IFERROR(VLOOKUP($A160,FILTRO!$A154:$AY779,44,FALSE),0)","v":0},{"$f":"IFERROR(VLOOKUP($A160,FILTRO!$A154:$AY779,45,FALSE),0)","v":0},{"$f":"IFERROR(VLOOKUP($A160,FILTRO!$A154:$AY779,46,FALSE),0)","v":0},""]
["P2501837","Enfermedades del sistema inmunitario (no incluye asma, ni alergias alimentarias) ","Enfermedades del sistema inmunitario (no incluye asma, ni alergias alimentarias) ",{"$f":"IFERROR(VLOOKUP($A161,FILTRO!$A155:$AY780,2,FALSE),0)","v":2},{"$f":"IFERROR(VLOOKUP($A161,FILTRO!$A155:$AY780,3,FALSE),0)","v":0},{"$f":"IFERROR(VLOOKUP($A161,FILTRO!$A155:$AY780,4,FALSE),0)","v":2},{"$f":"IFERROR(VLOOKUP($A161,FILTRO!$A155:$AY780,5,FALSE),0)","v":0},{"$f":"IFERROR(VLOOKUP($A161,FILTRO!$A155:$AY780,6,FALSE),0)","v":0},{"$f":"IFERROR(VLOOKUP($A161,FILTRO!$A155:$AY780,7,FALSE),0)","v":0},{"$f":"IFERROR(VLOOKUP($A161,FILTRO!$A155:$AY780,8,FALSE),0)","v":0},{"$f":"IFERROR(VLOOKUP($A161,FILTRO!$A155:$AY780,9,FALSE),0)","v":0},{"$f":"IFERROR(VLOOKUP($A161,FILTRO!$A155:$AY780,10,FALSE),0)","v":0},{"$f":"IFERROR(VLOOKUP($A161,FILTRO!$A155:$AY780,11,FALSE),0)","v":0},{"$f":"IFERROR(VLOOKUP($A161,FILTRO!$A155:$AY780,12,FALSE),0)","v":0},{"$f":"IFERROR(VLOOKUP($A161,FILTRO!$A155:$AY780,13,FALSE),0)","v":0},{"$f":"IFERROR(VLOOKUP($A161,FILTRO!$A155:$AY780,14,FALSE),0)","v":0},{"$f":"IFERROR(VLOOKUP($A161,FILTRO!$A155:$AY780,15,FALSE),0)","v":0},{"$f":"IFERROR(VLOOKUP($A161,FILTRO!$A155:$AY780,16,FALSE),0)","v":0},{"$f":"IFERROR(VLOOKUP($A161,FILTRO!$A155:$AY780,17,FALSE),0)","v":0},{"$f":"IFERROR(VLOOKUP($A161,FILTRO!$A155:$AY780,18,FALSE),0)","v":0},{"$f":"IFERROR(VLOOKUP($A161,FILTRO!$A155:$AY780,19,FALSE),0)","v":0},{"$f":"IFERROR(VLOOKUP($A161,FILTRO!$A155:$AY780,20,FALSE),0)","v":0},{"$f":"IFERROR(VLOOKUP($A161,FILTRO!$A155:$AY780,21,FALSE),0)","v":0},{"$f":"IFERROR(VLOOKUP($A161,FILTRO!$A155:$AY780,22,FALSE),0)","v":0},{"$f":"IFERROR(VLOOKUP($A161,FILTRO!$A155:$AY780,23,FALSE),0)","v":0},{"$f":"IFERROR(VLOOKUP($A161,FILTRO!$A155:$AY780,24,FALSE),0)","v":0},{"$f":"IFERROR(VLOOKUP($A161,FILTRO!$A155:$AY780,25,FALSE),0)","v":0},{"$f":"IFERROR(VLOOKUP($A161,FILTRO!$A155:$AY780,26,FALSE),0)","v":1},{"$f":"IFERROR(VLOOKUP($A161,FILTRO!$A155:$AY780,27,FALSE),0)","v":0},{"$f":"IFERROR(VLOOKUP($A161,FILTRO!$A155:$AY780,28,FALSE),0)","v":1},{"$f":"IFERROR(VLOOKUP($A161,FILTRO!$A155:$AY780,29,FALSE),0)","v":0},{"$f":"IFERROR(VLOOKUP($A161,FILTRO!$A155:$AY780,30,FALSE),0)","v":0},{"$f":"IFERROR(VLOOKUP($A161,FILTRO!$A155:$AY780,31,FALSE),0)","v":0},{"$f":"IFERROR(VLOOKUP($A161,FILTRO!$A155:$AY780,32,FALSE),0)","v":0},{"$f":"IFERROR(VLOOKUP($A161,FILTRO!$A155:$AY780,33,FALSE),0)","v":0},{"$f":"IFERROR(VLOOKUP($A161,FILTRO!$A155:$AY780,34,FALSE),0)","v":0},{"$f":"IFERROR(VLOOKUP($A161,FILTRO!$A155:$AY780,35,FALSE),0)","v":0},{"$f":"IFERROR(VLOOKUP($A161,FILTRO!$A155:$AY780,36,FALSE),0)","v":0},{"$f":"IFERROR(VLOOKUP($A161,FILTRO!$A155:$AY780,37,FALSE),0)","v":0},{"$f":"IFERROR(VLOOKUP($A161,FILTRO!$A155:$AY780,38,FALSE),0)","v":0},{"$f":"IFERROR(VLOOKUP($A161,FILTRO!$A155:$AY780,39,FALSE),0)","v":0},{"$f":"IFERROR(VLOOKUP($A161,FILTRO!$A155:$AY780,40,FALSE),0)","v":0},{"$f":"IFERROR(VLOOKUP($A161,FILTRO!$A155:$AY780,41,FALSE),0)","v":0},{"$f":"IFERROR(VLOOKUP($A161,FILTRO!$A155:$AY780,42,FALSE),0)","v":0},{"$f":"IFERROR(VLOOKUP($A161,FILTRO!$A155:$AY780,43,FALSE),0)","v":0},{"$f":"IFERROR(VLOOKUP($A161,FILTRO!$A155:$AY780,44,FALSE),0)","v":0},{"$f":"IFERROR(VLOOKUP($A161,FILTRO!$A155:$AY780,45,FALSE),0)","v":0},{"$f":"IFERROR(VLOOKUP($A161,FILTRO!$A155:$AY780,46,FALSE),0)","v":0},""]
["P2501838","Alergias alimentarias","Alergias alimentarias",{"$f":"IFERROR(VLOOKUP($A162,FILTRO!$A156:$AY781,2,FALSE),0)","v":86},{"$f":"IFERROR(VLOOKUP($A162,FILTRO!$A156:$AY781,3,FALSE),0)","v":47},{"$f":"IFERROR(VLOOKUP($A162,FILTRO!$A156:$AY781,4,FALSE),0)","v":39},{"$f":"IFERROR(VLOOKUP($A162,FILTRO!$A156:$AY781,5,FALSE),0)","v":0},{"$f":"IFERROR(VLOOKUP($A162,FILTRO!$A156:$AY781,6,FALSE),0)","v":0},{"$f":"IFERROR(VLOOKUP($A162,FILTRO!$A156:$AY781,7,FALSE),0)","v":0},{"$f":"IFERROR(VLOOKUP($A162,FILTRO!$A156:$AY781,8,FALSE),0)","v":1},{"$f":"IFERROR(VLOOKUP($A162,FILTRO!$A156:$AY781,9,FALSE),0)","v":1},{"$f":"IFERROR(VLOOKUP($A162,FILTRO!$A156:$AY781,10,FALSE),0)","v":1},{"$f":"IFERROR(VLOOKUP($A162,FILTRO!$A156:$AY781,11,FALSE),0)","v":0},{"$f":"IFERROR(VLOOKUP($A162,FILTRO!$A156:$AY781,12,FALSE),0)","v":0},{"$f":"IFERROR(VLOOKUP($A162,FILTRO!$A156:$AY781,13,FALSE),0)","v":0},{"$f":"IFERROR(VLOOKUP($A162,FILTRO!$A156:$AY781,14,FALSE),0)","v":0},{"$f":"IFERROR(VLOOKUP($A162,FILTRO!$A156:$AY781,15,FALSE),0)","v":4},{"$f":"IFERROR(VLOOKUP($A162,FILTRO!$A156:$AY781,16,FALSE),0)","v":2},{"$f":"IFERROR(VLOOKUP($A162,FILTRO!$A156:$AY781,17,FALSE),0)","v":1},{"$f":"IFERROR(VLOOKUP($A162,FILTRO!$A156:$AY781,18,FALSE),0)","v":2},{"$f":"IFERROR(VLOOKUP($A162,FILTRO!$A156:$AY781,19,FALSE),0)","v":9},{"$f":"IFERROR(VLOOKUP($A162,FILTRO!$A156:$AY781,20,FALSE),0)","v":3},{"$f":"IFERROR(VLOOKUP($A162,FILTRO!$A156:$AY781,21,FALSE),0)","v":5},{"$f":"IFERROR(VLOOKUP($A162,FILTRO!$A156:$AY781,22,FALSE),0)","v":8},{"$f":"IFERROR(VLOOKUP($A162,FILTRO!$A156:$AY781,23,FALSE),0)","v":12},{"$f":"IFERROR(VLOOKUP($A162,FILTRO!$A156:$AY781,24,FALSE),0)","v":5},{"$f":"IFERROR(VLOOKUP($A162,FILTRO!$A156:$AY781,25,FALSE),0)","v":6},{"$f":"IFERROR(VLOOKUP($A162,FILTRO!$A156:$AY781,26,FALSE),0)","v":4},{"$f":"IFERROR(VLOOKUP($A162,FILTRO!$A156:$AY781,27,FALSE),0)","v":2},{"$f":"IFERROR(VLOOKUP($A162,FILTRO!$A156:$AY781,28,FALSE),0)","v":4},{"$f":"IFERROR(VLOOKUP($A162,FILTRO!$A156:$AY781,29,FALSE),0)","v":0},{"$f":"IFERROR(VLOOKUP($A162,FILTRO!$A156:$AY781,30,FALSE),0)","v":0},{"$f":"IFERROR(VLOOKUP($A162,FILTRO!$A156:$AY781,31,FALSE),0)","v":2},{"$f":"IFERROR(VLOOKUP($A162,FILTRO!$A156:$AY781,32,FALSE),0)","v":2},{"$f":"IFERROR(VLOOKUP($A162,FILTRO!$A156:$AY781,33,FALSE),0)","v":2},{"$f":"IFERROR(VLOOKUP($A162,FILTRO!$A156:$AY781,34,FALSE),0)","v":1},{"$f":"IFERROR(VLOOKUP($A162,FILTRO!$A156:$AY781,35,FALSE),0)","v":2},{"$f":"IFERROR(VLOOKUP($A162,FILTRO!$A156:$AY781,36,FALSE),0)","v":5},{"$f":"IFERROR(VLOOKUP($A162,FILTRO!$A156:$AY781,37,FALSE),0)","v":1},{"$f":"IFERROR(VLOOKUP($A162,FILTRO!$A156:$AY781,38,FALSE),0)","v":1},{"$f":"IFERROR(VLOOKUP($A162,FILTRO!$A156:$AY781,39,FALSE),0)","v":0},{"$f":"IFERROR(VLOOKUP($A162,FILTRO!$A156:$AY781,40,FALSE),0)","v":0},{"$f":"IFERROR(VLOOKUP($A162,FILTRO!$A156:$AY781,41,FALSE),0)","v":0},{"$f":"IFERROR(VLOOKUP($A162,FILTRO!$A156:$AY781,42,FALSE),0)","v":0},{"$f":"IFERROR(VLOOKUP($A162,FILTRO!$A156:$AY781,43,FALSE),0)","v":1},{"$f":"IFERROR(VLOOKUP($A162,FILTRO!$A156:$AY781,44,FALSE),0)","v":0},{"$f":"IFERROR(VLOOKUP($A162,FILTRO!$A156:$AY781,45,FALSE),0)","v":0},{"$f":"IFERROR(VLOOKUP($A162,FILTRO!$A156:$AY781,46,FALSE),0)","v":0},""]
["P2501839","Otras Enfermedades endocrinológicas (no incluye Hipotiroidismo, ni Diabetes) ","Otras Enfermedades endocrinológicas (no incluye Hipotiroidismo, ni Diabetes) ",{"$f":"IFERROR(VLOOKUP($A163,FILTRO!$A157:$AY782,2,FALSE),0)","v":5},{"$f":"IFERROR(VLOOKUP($A163,FILTRO!$A157:$AY782,3,FALSE),0)","v":3},{"$f":"IFERROR(VLOOKUP($A163,FILTRO!$A157:$AY782,4,FALSE),0)","v":2},{"$f":"IFERROR(VLOOKUP($A163,FILTRO!$A157:$AY782,5,FALSE),0)","v":0},{"$f":"IFERROR(VLOOKUP($A163,FILTRO!$A157:$AY782,6,FALSE),0)","v":0},{"$f":"IFERROR(VLOOKUP($A163,FILTRO!$A157:$AY782,7,FALSE),0)","v":0},{"$f":"IFERROR(VLOOKUP($A163,FILTRO!$A157:$AY782,8,FALSE),0)","v":0},{"$f":"IFERROR(VLOOKUP($A163,FILTRO!$A157:$AY782,9,FALSE),0)","v":0},{"$f":"IFERROR(VLOOKUP($A163,FILTRO!$A157:$AY782,10,FALSE),0)","v":0},{"$f":"IFERROR(VLOOKUP($A163,FILTRO!$A157:$AY782,11,FALSE),0)","v":0},{"$f":"IFERROR(VLOOKUP($A163,FILTRO!$A157:$AY782,12,FALSE),0)","v":0},{"$f":"IFERROR(VLOOKUP($A163,FILTRO!$A157:$AY782,13,FALSE),0)","v":0},{"$f":"IFERROR(VLOOKUP($A163,FILTRO!$A157:$AY782,14,FALSE),0)","v":0},{"$f":"IFERROR(VLOOKUP($A163,FILTRO!$A157:$AY782,15,FALSE),0)","v":0},{"$f":"IFERROR(VLOOKUP($A163,FILTRO!$A157:$AY782,16,FALSE),0)","v":0},{"$f":"IFERROR(VLOOKUP($A163,FILTRO!$A157:$AY782,17,FALSE),0)","v":0},{"$f":"IFERROR(VLOOKUP($A163,FILTRO!$A157:$AY782,18,FALSE),0)","v":0},{"$f":"IFERROR(VLOOKUP($A163,FILTRO!$A157:$AY782,19,FALSE),0)","v":1},{"$f":"IFERROR(VLOOKUP($A163,FILTRO!$A157:$AY782,20,FALSE),0)","v":0},{"$f":"IFERROR(VLOOKUP($A163,FILTRO!$A157:$AY782,21,FALSE),0)","v":0},{"$f":"IFERROR(VLOOKUP($A163,FILTRO!$A157:$AY782,22,FALSE),0)","v":0},{"$f":"IFERROR(VLOOKUP($A163,FILTRO!$A157:$AY782,23,FALSE),0)","v":0},{"$f":"IFERROR(VLOOKUP($A163,FILTRO!$A157:$AY782,24,FALSE),0)","v":0},{"$f":"IFERROR(VLOOKUP($A163,FILTRO!$A157:$AY782,25,FALSE),0)","v":0},{"$f":"IFERROR(VLOOKUP($A163,FILTRO!$A157:$AY782,26,FALSE),0)","v":0},{"$f":"IFERROR(VLOOKUP($A163,FILTRO!$A157:$AY782,27,FALSE),0)","v":0},{"$f":"IFERROR(VLOOKUP($A163,FILTRO!$A157:$AY782,28,FALSE),0)","v":0},{"$f":"IFERROR(VLOOKUP($A163,FILTRO!$A157:$AY782,29,FALSE),0)","v":0},{"$f":"IFERROR(VLOOKUP($A163,FILTRO!$A157:$AY782,30,FALSE),0)","v":0},{"$f":"IFERROR(VLOOKUP($A163,FILTRO!$A157:$AY782,31,FALSE),0)","v":0},{"$f":"IFERROR(VLOOKUP($A163,FILTRO!$A157:$AY782,32,FALSE),0)","v":0},{"$f":"IFERROR(VLOOKUP($A163,FILTRO!$A157:$AY782,33,FALSE),0)","v":0},{"$f":"IFERROR(VLOOKUP($A163,FILTRO!$A157:$AY782,34,FALSE),0)","v":0},{"$f":"IFERROR(VLOOKUP($A163,FILTRO!$A157:$AY782,35,FALSE),0)","v":2},{"$f":"IFERROR(VLOOKUP($A163,FILTRO!$A157:$AY782,36,FALSE),0)","v":2},{"$f":"IFERROR(VLOOKUP($A163,FILTRO!$A157:$AY782,37,FALSE),0)","v":0},{"$f":"IFERROR(VLOOKUP($A163,FILTRO!$A157:$AY782,38,FALSE),0)","v":0},{"$f":"IFERROR(VLOOKUP($A163,FILTRO!$A157:$AY782,39,FALSE),0)","v":0},{"$f":"IFERROR(VLOOKUP($A163,FILTRO!$A157:$AY782,40,FALSE),0)","v":0},{"$f":"IFERROR(VLOOKUP($A163,FILTRO!$A157:$AY782,41,FALSE),0)","v":0},{"$f":"IFERROR(VLOOKUP($A163,FILTRO!$A157:$AY782,42,FALSE),0)","v":0},{"$f":"IFERROR(VLOOKUP($A163,FILTRO!$A157:$AY782,43,FALSE),0)","v":0},{"$f":"IFERROR(VLOOKUP($A163,FILTRO!$A157:$AY782,44,FALSE),0)","v":0},{"$f":"IFERROR(VLOOKUP($A163,FILTRO!$A157:$AY782,45,FALSE),0)","v":0},{"$f":"IFERROR(VLOOKUP($A163,FILTRO!$A157:$AY782,46,FALSE),0)","v":0},""]
["P2501840","Hipotiroidismo ","Hipotiroidismo ",{"$f":"IFERROR(VLOOKUP($A164,FILTRO!$A158:$AY783,2,FALSE),0)","v":28},{"$f":"IFERROR(VLOOKUP($A164,FILTRO!$A158:$AY783,3,FALSE),0)","v":13},{"$f":"IFERROR(VLOOKUP($A164,FILTRO!$A158:$AY783,4,FALSE),0)","v":15},{"$f":"IFERROR(VLOOKUP($A164,FILTRO!$A158:$AY783,5,FALSE),0)","v":0},{"$f":"IFERROR(VLOOKUP($A164,FILTRO!$A158:$AY783,6,FALSE),0)","v":0},{"$f":"IFERROR(VLOOKUP($A164,FILTRO!$A158:$AY783,7,FALSE),0)","v":0},{"$f":"IFERROR(VLOOKUP($A164,FILTRO!$A158:$AY783,8,FALSE),0)","v":0},{"$f":"IFERROR(VLOOKUP($A164,FILTRO!$A158:$AY783,9,FALSE),0)","v":0},{"$f":"IFERROR(VLOOKUP($A164,FILTRO!$A158:$AY783,10,FALSE),0)","v":0},{"$f":"IFERROR(VLOOKUP($A164,FILTRO!$A158:$AY783,11,FALSE),0)","v":0},{"$f":"IFERROR(VLOOKUP($A164,FILTRO!$A158:$AY783,12,FALSE),0)","v":0},{"$f":"IFERROR(VLOOKUP($A164,FILTRO!$A158:$AY783,13,FALSE),0)","v":0},{"$f":"IFERROR(VLOOKUP($A164,FILTRO!$A158:$AY783,14,FALSE),0)","v":0},{"$f":"IFERROR(VLOOKUP($A164,FILTRO!$A158:$AY783,15,FALSE),0)","v":0},{"$f":"IFERROR(VLOOKUP($A164,FILTRO!$A158:$AY783,16,FALSE),0)","v":0},{"$f":"IFERROR(VLOOKUP($A164,FILTRO!$A158:$AY783,17,FALSE),0)","v":0},{"$f":"IFERROR(VLOOKUP($A164,FILTRO!$A158:$AY783,18,FALSE),0)","v":1},{"$f":"IFERROR(VLOOKUP($A164,FILTRO!$A158:$AY783,19,FALSE),0)","v":2},{"$f":"IFERROR(VLOOKUP($A164,FILTRO!$A158:$AY783,20,FALSE),0)","v":2},{"$f":"IFERROR(VLOOKUP($A164,FILTRO!$A158:$AY783,21,FALSE),0)","v":0},{"$f":"IFERROR(VLOOKUP($A164,FILTRO!$A158:$AY783,22,FALSE),0)","v":1},{"$f":"IFERROR(VLOOKUP($A164,FILTRO!$A158:$AY783,23,FALSE),0)","v":1},{"$f":"IFERROR(VLOOKUP($A164,FILTRO!$A158:$AY783,24,FALSE),0)","v":0},{"$f":"IFERROR(VLOOKUP($A164,FILTRO!$A158:$AY783,25,FALSE),0)","v":1},{"$f":"IFERROR(VLOOKUP($A164,FILTRO!$A158:$AY783,26,FALSE),0)","v":0},{"$f":"IFERROR(VLOOKUP($A164,FILTRO!$A158:$AY783,27,FALSE),0)","v":0},{"$f":"IFERROR(VLOOKUP($A164,FILTRO!$A158:$AY783,28,FALSE),0)","v":1},{"$f":"IFERROR(VLOOKUP($A164,FILTRO!$A158:$AY783,29,FALSE),0)","v":0},{"$f":"IFERROR(VLOOKUP($A164,FILTRO!$A158:$AY783,30,FALSE),0)","v":0},{"$f":"IFERROR(VLOOKUP($A164,FILTRO!$A158:$AY783,31,FALSE),0)","v":0},{"$f":"IFERROR(VLOOKUP($A164,FILTRO!$A158:$AY783,32,FALSE),0)","v":4},{"$f":"IFERROR(VLOOKUP($A164,FILTRO!$A158:$AY783,33,FALSE),0)","v":1},{"$f":"IFERROR(VLOOKUP($A164,FILTRO!$A158:$AY783,34,FALSE),0)","v":0},{"$f":"IFERROR(VLOOKUP($A164,FILTRO!$A158:$AY783,35,FALSE),0)","v":3},{"$f":"IFERROR(VLOOKUP($A164,FILTRO!$A158:$AY783,36,FALSE),0)","v":2},{"$f":"IFERROR(VLOOKUP($A164,FILTRO!$A158:$AY783,37,FALSE),0)","v":3},{"$f":"IFERROR(VLOOKUP($A164,FILTRO!$A158:$AY783,38,FALSE),0)","v":1},{"$f":"IFERROR(VLOOKUP($A164,FILTRO!$A158:$AY783,39,FALSE),0)","v":2},{"$f":"IFERROR(VLOOKUP($A164,FILTRO!$A158:$AY783,40,FALSE),0)","v":2},{"$f":"IFERROR(VLOOKUP($A164,FILTRO!$A158:$AY783,41,FALSE),0)","v":0},{"$f":"IFERROR(VLOOKUP($A164,FILTRO!$A158:$AY783,42,FALSE),0)","v":1},{"$f":"IFERROR(VLOOKUP($A164,FILTRO!$A158:$AY783,43,FALSE),0)","v":0},{"$f":"IFERROR(VLOOKUP($A164,FILTRO!$A158:$AY783,44,FALSE),0)","v":1},{"$f":"IFERROR(VLOOKUP($A164,FILTRO!$A158:$AY783,45,FALSE),0)","v":0},{"$f":"IFERROR(VLOOKUP($A164,FILTRO!$A158:$AY783,46,FALSE),0)","v":0},{"$f":"CG164&CH164&CI164&CJ164","v":""}]
["P2500200","Diabetes tipo I ","Diabetes tipo I ",{"$f":"IFERROR(VLOOKUP($A165,FILTRO!$A159:$AY784,2,FALSE),0)","v":14},{"$f":"IFERROR(VLOOKUP($A165,FILTRO!$A159:$AY784,3,FALSE),0)","v":8},{"$f":"IFERROR(VLOOKUP($A165,FILTRO!$A159:$AY784,4,FALSE),0)","v":6},{"$f":"IFERROR(VLOOKUP($A165,FILTRO!$A159:$AY784,5,FALSE),0)","v":0},{"$f":"IFERROR(VLOOKUP($A165,FILTRO!$A159:$AY784,6,FALSE),0)","v":0},{"$f":"IFERROR(VLOOKUP($A165,FILTRO!$A159:$AY784,7,FALSE),0)","v":0},{"$f":"IFERROR(VLOOKUP($A165,FILTRO!$A159:$AY784,8,FALSE),0)","v":0},{"$f":"IFERROR(VLOOKUP($A165,FILTRO!$A159:$AY784,9,FALSE),0)","v":0},{"$f":"IFERROR(VLOOKUP($A165,FILTRO!$A159:$AY784,10,FALSE),0)","v":0},{"$f":"IFERROR(VLOOKUP($A165,FILTRO!$A159:$AY784,11,FALSE),0)","v":0},{"$f":"IFERROR(VLOOKUP($A165,FILTRO!$A159:$AY784,12,FALSE),0)","v":0},{"$f":"IFERROR(VLOOKUP($A165,FILTRO!$A159:$AY784,13,FALSE),0)","v":0},{"$f":"IFERROR(VLOOKUP($A165,FILTRO!$A159:$AY784,14,FALSE),0)","v":0},{"$f":"IFERROR(VLOOKUP($A165,FILTRO!$A159:$AY784,15,FALSE),0)","v":0},{"$f":"IFERROR(VLOOKUP($A165,FILTRO!$A159:$AY784,16,FALSE),0)","v":0},{"$f":"IFERROR(VLOOKUP($A165,FILTRO!$A159:$AY784,17,FALSE),0)","v":0},{"$f":"IFERROR(VLOOKUP($A165,FILTRO!$A159:$AY784,18,FALSE),0)","v":0},{"$f":"IFERROR(VLOOKUP($A165,FILTRO!$A159:$AY784,19,FALSE),0)","v":0},{"$f":"IFERROR(VLOOKUP($A165,FILTRO!$A159:$AY784,20,FALSE),0)","v":0},{"$f":"IFERROR(VLOOKUP($A165,FILTRO!$A159:$AY784,21,FALSE),0)","v":0},{"$f":"IFERROR(VLOOKUP($A165,FILTRO!$A159:$AY784,22,FALSE),0)","v":0},{"$f":"IFERROR(VLOOKUP($A165,FILTRO!$A159:$AY784,23,FALSE),0)","v":0},{"$f":"IFERROR(VLOOKUP($A165,FILTRO!$A159:$AY784,24,FALSE),0)","v":0},{"$f":"IFERROR(VLOOKUP($A165,FILTRO!$A159:$AY784,25,FALSE),0)","v":0},{"$f":"IFERROR(VLOOKUP($A165,FILTRO!$A159:$AY784,26,FALSE),0)","v":0},{"$f":"IFERROR(VLOOKUP($A165,FILTRO!$A159:$AY784,27,FALSE),0)","v":0},{"$f":"IFERROR(VLOOKUP($A165,FILTRO!$A159:$AY784,28,FALSE),0)","v":0},{"$f":"IFERROR(VLOOKUP($A165,FILTRO!$A159:$AY784,29,FALSE),0)","v":0},{"$f":"IFERROR(VLOOKUP($A165,FILTRO!$A159:$AY784,30,FALSE),0)","v":0},{"$f":"IFERROR(VLOOKUP($A165,FILTRO!$A159:$AY784,31,FALSE),0)","v":0},{"$f":"IFERROR(VLOOKUP($A165,FILTRO!$A159:$AY784,32,FALSE),0)","v":1},{"$f":"IFERROR(VLOOKUP($A165,FILTRO!$A159:$AY784,33,FALSE),0)","v":4},{"$f":"IFERROR(VLOOKUP($A165,FILTRO!$A159:$AY784,34,FALSE),0)","v":0},{"$f":"IFERROR(VLOOKUP($A165,FILTRO!$A159:$AY784,35,FALSE),0)","v":2},{"$f":"IFERROR(VLOOKUP($A165,FILTRO!$A159:$AY784,36,FALSE),0)","v":3},{"$f":"IFERROR(VLOOKUP($A165,FILTRO!$A159:$AY784,37,FALSE),0)","v":1},{"$f":"IFERROR(VLOOKUP($A165,FILTRO!$A159:$AY784,38,FALSE),0)","v":1},{"$f":"IFERROR(VLOOKUP($A165,FILTRO!$A159:$AY784,39,FALSE),0)","v":1},{"$f":"IFERROR(VLOOKUP($A165,FILTRO!$A159:$AY784,40,FALSE),0)","v":1},{"$f":"IFERROR(VLOOKUP($A165,FILTRO!$A159:$AY784,41,FALSE),0)","v":0},{"$f":"IFERROR(VLOOKUP($A165,FILTRO!$A159:$AY784,42,FALSE),0)","v":0},{"$f":"IFERROR(VLOOKUP($A165,FILTRO!$A159:$AY784,43,FALSE),0)","v":0},{"$f":"IFERROR(VLOOKUP($A165,FILTRO!$A159:$AY784,44,FALSE),0)","v":0},{"$f":"IFERROR(VLOOKUP($A165,FILTRO!$A159:$AY784,45,FALSE),0)","v":0},{"$f":"IFERROR(VLOOKUP($A165,FILTRO!$A159:$AY784,46,FALSE),0)","v":0},"",{"$nulls":35},{"$f":"IF(DF165=1,\"* No olvide escribir en las celdas de \"\"Pueblos Originarios\"\" (Digite Cero si no tiene).\",\"\")","v":""},{"$f":"IF(DG165=1,\"* No olvide escribir en las celdas de \"\"Población Migrante\"\" (Digite Cero si no tiene).\",\"\")","v":""},{"$f":"IF(DH165=1,\"* La suma de las celdas de \"\"Pueblos Originarios\"\"no debe superar el Total.\",\"\")","v":""},{"$f":"IF(DI165=1,\"* La suma de las celdas de \"\"Población Migrante\"\" no debe superar el Total.\",\"\")","v":""},{"$nulls":21},{"$f":"IF(AND($D165<>0,OR(AS165=\"\",AT165=\"\")),1,0)","v":0},{"$f":"IF(AND($D165<>0,OR(AU165=\"\",AV165=\"\")),1,0)","v":0},{"$f":"IF((AS165+AT165)>$D165,1,0)","v":0},{"$f":"IF((AV165+AU165)>$D165,1,0)","v":0}]
["P2500300","Diabetes tipo II ","Diabetes tipo II ",{"$f":"IFERROR(VLOOKUP($A166,FILTRO!$A160:$AY785,2,FALSE),0)","v":1},{"$f":"IFERROR(VLOOKUP($A166,FILTRO!$A160:$AY785,3,FALSE),0)","v":0},{"$f":"IFERROR(VLOOKUP($A166,FILTRO!$A160:$AY785,4,FALSE),0)","v":1},{"$f":"IFERROR(VLOOKUP($A166,FILTRO!$A160:$AY785,5,FALSE),0)","v":0},{"$f":"IFERROR(VLOOKUP($A166,FILTRO!$A160:$AY785,6,FALSE),0)","v":0},{"$f":"IFERROR(VLOOKUP($A166,FILTRO!$A160:$AY785,7,FALSE),0)","v":0},{"$f":"IFERROR(VLOOKUP($A166,FILTRO!$A160:$AY785,8,FALSE),0)","v":0},{"$f":"IFERROR(VLOOKUP($A166,FILTRO!$A160:$AY785,9,FALSE),0)","v":0},{"$f":"IFERROR(VLOOKUP($A166,FILTRO!$A160:$AY785,10,FALSE),0)","v":0},{"$f":"IFERROR(VLOOKUP($A166,FILTRO!$A160:$AY785,11,FALSE),0)","v":0},{"$f":"IFERROR(VLOOKUP($A166,FILTRO!$A160:$AY785,12,FALSE),0)","v":0},{"$f":"IFERROR(VLOOKUP($A166,FILTRO!$A160:$AY785,13,FALSE),0)","v":0},{"$f":"IFERROR(VLOOKUP($A166,FILTRO!$A160:$AY785,14,FALSE),0)","v":0},{"$f":"IFERROR(VLOOKUP($A166,FILTRO!$A160:$AY785,15,FALSE),0)","v":0},{"$f":"IFERROR(VLOOKUP($A166,FILTRO!$A160:$AY785,16,FALSE),0)","v":0},{"$f":"IFERROR(VLOOKUP($A166,FILTRO!$A160:$AY785,17,FALSE),0)","v":0},{"$f":"IFERROR(VLOOKUP($A166,FILTRO!$A160:$AY785,18,FALSE),0)","v":0},{"$f":"IFERROR(VLOOKUP($A166,FILTRO!$A160:$AY785,19,FALSE),0)","v":0},{"$f":"IFERROR(VLOOKUP($A166,FILTRO!$A160:$AY785,20,FALSE),0)","v":0},{"$f":"IFERROR(VLOOKUP($A166,FILTRO!$A160:$AY785,21,FALSE),0)","v":0},{"$f":"IFERROR(VLOOKUP($A166,FILTRO!$A160:$AY785,22,FALSE),0)","v":0},{"$f":"IFERROR(VLOOKUP($A166,FILTRO!$A160:$AY785,23,FALSE),0)","v":0},{"$f":"IFERROR(VLOOKUP($A166,FILTRO!$A160:$AY785,24,FALSE),0)","v":0},{"$f":"IFERROR(VLOOKUP($A166,FILTRO!$A160:$AY785,25,FALSE),0)","v":0},{"$f":"IFERROR(VLOOKUP($A166,FILTRO!$A160:$AY785,26,FALSE),0)","v":0},{"$f":"IFERROR(VLOOKUP($A166,FILTRO!$A160:$AY785,27,FALSE),0)","v":0},{"$f":"IFERROR(VLOOKUP($A166,FILTRO!$A160:$AY785,28,FALSE),0)","v":0},{"$f":"IFERROR(VLOOKUP($A166,FILTRO!$A160:$AY785,29,FALSE),0)","v":0},{"$f":"IFERROR(VLOOKUP($A166,FILTRO!$A160:$AY785,30,FALSE),0)","v":0},{"$f":"IFERROR(VLOOKUP($A166,FILTRO!$A160:$AY785,31,FALSE),0)","v":0},{"$f":"IFERROR(VLOOKUP($A166,FILTRO!$A160:$AY785,32,FALSE),0)","v":0},{"$f":"IFERROR(VLOOKUP($A166,FILTRO!$A160:$AY785,33,FALSE),0)","v":0},{"$f":"IFERROR(VLOOKUP($A166,FILTRO!$A160:$AY785,34,FALSE),0)","v":0},{"$f":"IFERROR(VLOOKUP($A166,FILTRO!$A160:$AY785,35,FALSE),0)","v":0},{"$f":"IFERROR(VLOOKUP($A166,FILTRO!$A160:$AY785,36,FALSE),0)","v":0},{"$f":"IFERROR(VLOOKUP($A166,FILTRO!$A160:$AY785,37,FALSE),0)","v":0},{"$f":"IFERROR(VLOOKUP($A166,FILTRO!$A160:$AY785,38,FALSE),0)","v":1},{"$f":"IFERROR(VLOOKUP($A166,FILTRO!$A160:$AY785,39,FALSE),0)","v":0},{"$f":"IFERROR(VLOOKUP($A166,FILTRO!$A160:$AY785,40,FALSE),0)","v":0},{"$f":"IFERROR(VLOOKUP($A166,FILTRO!$A160:$AY785,41,FALSE),0)","v":0},{"$f":"IFERROR(VLOOKUP($A166,FILTRO!$A160:$AY785,42,FALSE),0)","v":0},{"$f":"IFERROR(VLOOKUP($A166,FILTRO!$A160:$AY785,43,FALSE),0)","v":0},{"$f":"IFERROR(VLOOKUP($A166,FILTRO!$A160:$AY785,44,FALSE),0)","v":0},{"$f":"IFERROR(VLOOKUP($A166,FILTRO!$A160:$AY785,45,FALSE),0)","v":0},{"$f":"IFERROR(VLOOKUP($A166,FILTRO!$A160:$AY785,46,FALSE),0)","v":0},""]
["P2501841","Otros Trastornos del metabolismo ","Otros Trastornos del metabolismo ",{"$f":"IFERROR(VLOOKUP($A167,FILTRO!$A161:$AY786,2,FALSE),0)","v":4},{"$f":"IFERROR(VLOOKUP($A167,FILTRO!$A161:$AY786,3,FALSE),0)","v":2},{"$f":"IFERROR(VLOOKUP($A167,FILTRO!$A161:$AY786,4,FALSE),0)","v":2},{"$f":"IFERROR(VLOOKUP($A167,FILTRO!$A161:$AY786,5,FALSE),0)","v":0},{"$f":"IFERROR(VLOOKUP($A167,FILTRO!$A161:$AY786,6,FALSE),0)","v":0},{"$f":"IFERROR(VLOOKUP($A167,FILTRO!$A161:$AY786,7,FALSE),0)","v":0},{"$f":"IFERROR(VLOOKUP($A167,FILTRO!$A161:$AY786,8,FALSE),0)","v":0},{"$f":"IFERROR(VLOOKUP($A167,FILTRO!$A161:$AY786,9,FALSE),0)","v":0},{"$f":"IFERROR(VLOOKUP($A167,FILTRO!$A161:$AY786,10,FALSE),0)","v":0},{"$f":"IFERROR(VLOOKUP($A167,FILTRO!$A161:$AY786,11,FALSE),0)","v":0},{"$f":"IFERROR(VLOOKUP($A167,FILTRO!$A161:$AY786,12,FALSE),0)","v":0},{"$f":"IFERROR(VLOOKUP($A167,FILTRO!$A161:$AY786,13,FALSE),0)","v":0},{"$f":"IFERROR(VLOOKUP($A167,FILTRO!$A161:$AY786,14,FALSE),0)","v":0},{"$f":"IFERROR(VLOOKUP($A167,FILTRO!$A161:$AY786,15,FALSE),0)","v":0},{"$f":"IFERROR(VLOOKUP($A167,FILTRO!$A161:$AY786,16,FALSE),0)","v":0},{"$f":"IFERROR(VLOOKUP($A167,FILTRO!$A161:$AY786,17,FALSE),0)","v":0},{"$f":"IFERROR(VLOOKUP($A167,FILTRO!$A161:$AY786,18,FALSE),0)","v":0},{"$f":"IFERROR(VLOOKUP($A167,FILTRO!$A161:$AY786,19,FALSE),0)","v":0},{"$f":"IFERROR(VLOOKUP($A167,FILTRO!$A161:$AY786,20,FALSE),0)","v":0},{"$f":"IFERROR(VLOOKUP($A167,FILTRO!$A161:$AY786,21,FALSE),0)","v":0},{"$f":"IFERROR(VLOOKUP($A167,FILTRO!$A161:$AY786,22,FALSE),0)","v":1},{"$f":"IFERROR(VLOOKUP($A167,FILTRO!$A161:$AY786,23,FALSE),0)","v":1},{"$f":"IFERROR(VLOOKUP($A167,FILTRO!$A161:$AY786,24,FALSE),0)","v":0},{"$f":"IFERROR(VLOOKUP($A167,FILTRO!$A161:$AY786,25,FALSE),0)","v":0},{"$f":"IFERROR(VLOOKUP($A167,FILTRO!$A161:$AY786,26,FALSE),0)","v":0},{"$f":"IFERROR(VLOOKUP($A167,FILTRO!$A161:$AY786,27,FALSE),0)","v":0},{"$f":"IFERROR(VLOOKUP($A167,FILTRO!$A161:$AY786,28,FALSE),0)","v":0},{"$f":"IFERROR(VLOOKUP($A167,FILTRO!$A161:$AY786,29,FALSE),0)","v":0},{"$f":"IFERROR(VLOOKUP($A167,FILTRO!$A161:$AY786,30,FALSE),0)","v":0},{"$f":"IFERROR(VLOOKUP($A167,FILTRO!$A161:$AY786,31,FALSE),0)","v":0},{"$f":"IFERROR(VLOOKUP($A167,FILTRO!$A161:$AY786,32,FALSE),0)","v":0},{"$f":"IFERROR(VLOOKUP($A167,FILTRO!$A161:$AY786,33,FALSE),0)","v":0},{"$f":"IFERROR(VLOOKUP($A167,FILTRO!$A161:$AY786,34,FALSE),0)","v":0},{"$f":"IFERROR(VLOOKUP($A167,FILTRO!$A161:$AY786,35,FALSE),0)","v":0},{"$f":"IFERROR(VLOOKUP($A167,FILTRO!$A161:$AY786,36,FALSE),0)","v":1},{"$f":"IFERROR(VLOOKUP($A167,FILTRO!$A161:$AY786,37,FALSE),0)","v":0},{"$f":"IFERROR(VLOOKUP($A167,FILTRO!$A161:$AY786,38,FALSE),0)","v":0},{"$f":"IFERROR(VLOOKUP($A167,FILTRO!$A161:$AY786,39,FALSE),0)","v":1},{"$f":"IFERROR(VLOOKUP($A167,FILTRO!$A161:$AY786,40,FALSE),0)","v":0},{"$f":"IFERROR(VLOOKUP($A167,FILTRO!$A161:$AY786,41,FALSE),0)","v":0},{"$f":"IFERROR(VLOOKUP($A167,FILTRO!$A161:$AY786,42,FALSE),0)","v":0},{"$f":"IFERROR(VLOOKUP($A167,FILTRO!$A161:$AY786,43,FALSE),0)","v":0},{"$f":"IFERROR(VLOOKUP($A167,FILTRO!$A161:$AY786,44,FALSE),0)","v":0},{"$f":"IFERROR(VLOOKUP($A167,FILTRO!$A161:$AY786,45,FALSE),0)","v":0},{"$f":"IFERROR(VLOOKUP($A167,FILTRO!$A161:$AY786,46,FALSE),0)","v":0},{"$f":"CG167&CH167&CI167&CJ167","v":""},{"$nulls":35},{"$f":"IF(DF167=1,\"* No olvide escribir en las celdas de \"\"Pueblos Originarios\"\" (Digite Cero si no tiene).\",\"\")","v":""},{"$f":"IF(DG167=1,\"* No olvide escribir en las celdas de \"\"Población Migrante\"\" (Digite Cero si no tiene).\",\"\")","v":""},{"$f":"IF(DH167=1,\"* La suma de las celdas de \"\"Pueblos Originarios\"\"no debe superar el Total.\",\"\")","v":""},{"$f":"IF(DI167=1,\"* La suma de las celdas de \"\"Población Migrante\"\" no debe superar el Total.\",\"\")","v":""},{"$nulls":21},{"$f":"IF(AND($D167<>0,OR(AS167=\"\",AT167=\"\")),1,0)","v":0},{"$f":"IF(AND($D167<>0,OR(AU167=\"\",AV167=\"\")),1,0)","v":0},{"$f":"IF((AS167+AT167)>$D167,1,0)","v":0},{"$f":"IF((AV167+AU167)>$D167,1,0)","v":0}]
["P2501842","Otras Enfermedades respiratorias crónicas (no incluye Asma, ni Fibrosis Quística) ","Otras Enfermedades respiratorias crónicas (no incluye Asma, ni Fibrosis Quística) ",{"$f":"IFERROR(VLOOKUP($A168,FILTRO!$A162:$AY787,2,FALSE),0)","v":47},{"$f":"IFERROR(VLOOKUP($A168,FILTRO!$A162:$AY787,3,FALSE),0)","v":27},{"$f":"IFERROR(VLOOKUP($A168,FILTRO!$A162:$AY787,4,FALSE),0)","v":20},{"$f":"IFERROR(VLOOKUP($A168,FILTRO!$A162:$AY787,5,FALSE),0)","v":0},{"$f":"IFERROR(VLOOKUP($A168,FILTRO!$A162:$AY787,6,FALSE),0)","v":0},{"$f":"IFERROR(VLOOKUP($A168,FILTRO!$A162:$AY787,7,FALSE),0)","v":0},{"$f":"IFERROR(VLOOKUP($A168,FILTRO!$A162:$AY787,8,FALSE),0)","v":0},{"$f":"IFERROR(VLOOKUP($A168,FILTRO!$A162:$AY787,9,FALSE),0)","v":0},{"$f":"IFERROR(VLOOKUP($A168,FILTRO!$A162:$AY787,10,FALSE),0)","v":0},{"$f":"IFERROR(VLOOKUP($A168,FILTRO!$A162:$AY787,11,FALSE),0)","v":0},{"$f":"IFERROR(VLOOKUP($A168,FILTRO!$A162:$AY787,12,FALSE),0)","v":0},{"$f":"IFERROR(VLOOKUP($A168,FILTRO!$A162:$AY787,13,FALSE),0)","v":0},{"$f":"IFERROR(VLOOKUP($A168,FILTRO!$A162:$AY787,14,FALSE),0)","v":0},{"$f":"IFERROR(VLOOKUP($A168,FILTRO!$A162:$AY787,15,FALSE),0)","v":0},{"$f":"IFERROR(VLOOKUP($A168,FILTRO!$A162:$AY787,16,FALSE),0)","v":0},{"$f":"IFERROR(VLOOKUP($A168,FILTRO!$A162:$AY787,17,FALSE),0)","v":0},{"$f":"IFERROR(VLOOKUP($A168,FILTRO!$A162:$AY787,18,FALSE),0)","v":0},{"$f":"IFERROR(VLOOKUP($A168,FILTRO!$A162:$AY787,19,FALSE),0)","v":3},{"$f":"IFERROR(VLOOKUP($A168,FILTRO!$A162:$AY787,20,FALSE),0)","v":2},{"$f":"IFERROR(VLOOKUP($A168,FILTRO!$A162:$AY787,21,FALSE),0)","v":4},{"$f":"IFERROR(VLOOKUP($A168,FILTRO!$A162:$AY787,22,FALSE),0)","v":0},{"$f":"IFERROR(VLOOKUP($A168,FILTRO!$A162:$AY787,23,FALSE),0)","v":4},{"$f":"IFERROR(VLOOKUP($A168,FILTRO!$A162:$AY787,24,FALSE),0)","v":0},{"$f":"IFERROR(VLOOKUP($A168,FILTRO!$A162:$AY787,25,FALSE),0)","v":1},{"$f":"IFERROR(VLOOKUP($A168,FILTRO!$A162:$AY787,26,FALSE),0)","v":2},{"$f":"IFERROR(VLOOKUP($A168,FILTRO!$A162:$AY787,27,FALSE),0)","v":3},{"$f":"IFERROR(VLOOKUP($A168,FILTRO!$A162:$AY787,28,FALSE),0)","v":2},{"$f":"IFERROR(VLOOKUP($A168,FILTRO!$A162:$AY787,29,FALSE),0)","v":0},{"$f":"IFERROR(VLOOKUP($A168,FILTRO!$A162:$AY787,30,FALSE),0)","v":0},{"$f":"IFERROR(VLOOKUP($A168,FILTRO!$A162:$AY787,31,FALSE),0)","v":0},{"$f":"IFERROR(VLOOKUP($A168,FILTRO!$A162:$AY787,32,FALSE),0)","v":4},{"$f":"IFERROR(VLOOKUP($A168,FILTRO!$A162:$AY787,33,FALSE),0)","v":2},{"$f":"IFERROR(VLOOKUP($A168,FILTRO!$A162:$AY787,34,FALSE),0)","v":3},{"$f":"IFERROR(VLOOKUP($A168,FILTRO!$A162:$AY787,35,FALSE),0)","v":2},{"$f":"IFERROR(VLOOKUP($A168,FILTRO!$A162:$AY787,36,FALSE),0)","v":4},{"$f":"IFERROR(VLOOKUP($A168,FILTRO!$A162:$AY787,37,FALSE),0)","v":3},{"$f":"IFERROR(VLOOKUP($A168,FILTRO!$A162:$AY787,38,FALSE),0)","v":1},{"$f":"IFERROR(VLOOKUP($A168,FILTRO!$A162:$AY787,39,FALSE),0)","v":3},{"$f":"IFERROR(VLOOKUP($A168,FILTRO!$A162:$AY787,40,FALSE),0)","v":2},{"$f":"IFERROR(VLOOKUP($A168,FILTRO!$A162:$AY787,41,FALSE),0)","v":2},{"$f":"IFERROR(VLOOKUP($A168,FILTRO!$A162:$AY787,42,FALSE),0)","v":0},{"$f":"IFERROR(VLOOKUP($A168,FILTRO!$A162:$AY787,43,FALSE),0)","v":0},{"$f":"IFERROR(VLOOKUP($A168,FILTRO!$A162:$AY787,44,FALSE),0)","v":0},{"$f":"IFERROR(VLOOKUP($A168,FILTRO!$A162:$AY787,45,FALSE),0)","v":0},{"$f":"IFERROR(VLOOKUP($A168,FILTRO!$A162:$AY787,46,FALSE),0)","v":0},""]
["P2500600","Fibrosis Quística ","Fibrosis Quística ",{"$f":"IFERROR(VLOOKUP($A169,FILTRO!$A163:$AY788,2,FALSE),0)","v":9},{"$f":"IFERROR(VLOOKUP($A169,FILTRO!$A163:$AY788,3,FALSE),0)","v":6},{"$f":"IFERROR(VLOOKUP($A169,FILTRO!$A163:$AY788,4,FALSE),0)","v":3},{"$f":"IFERROR(VLOOKUP($A169,FILTRO!$A163:$AY788,5,FALSE),0)","v":0},{"$f":"IFERROR(VLOOKUP($A169,FILTRO!$A163:$AY788,6,FALSE),0)","v":0},{"$f":"IFERROR(VLOOKUP($A169,FILTRO!$A163:$AY788,7,FALSE),0)","v":0},{"$f":"IFERROR(VLOOKUP($A169,FILTRO!$A163:$AY788,8,FALSE),0)","v":0},{"$f":"IFERROR(VLOOKUP($A169,FILTRO!$A163:$AY788,9,FALSE),0)","v":0},{"$f":"IFERROR(VLOOKUP($A169,FILTRO!$A163:$AY788,10,FALSE),0)","v":0},{"$f":"IFERROR(VLOOKUP($A169,FILTRO!$A163:$AY788,11,FALSE),0)","v":0},{"$f":"IFERROR(VLOOKUP($A169,FILTRO!$A163:$AY788,12,FALSE),0)","v":0},{"$f":"IFERROR(VLOOKUP($A169,FILTRO!$A163:$AY788,13,FALSE),0)","v":0},{"$f":"IFERROR(VLOOKUP($A169,FILTRO!$A163:$AY788,14,FALSE),0)","v":0},{"$f":"IFERROR(VLOOKUP($A169,FILTRO!$A163:$AY788,15,FALSE),0)","v":0},{"$f":"IFERROR(VLOOKUP($A169,FILTRO!$A163:$AY788,16,FALSE),0)","v":0},{"$f":"IFERROR(VLOOKUP($A169,FILTRO!$A163:$AY788,17,FALSE),0)","v":0},{"$f":"IFERROR(VLOOKUP($A169,FILTRO!$A163:$AY788,18,FALSE),0)","v":0},{"$f":"IFERROR(VLOOKUP($A169,FILTRO!$A163:$AY788,19,FALSE),0)","v":0},{"$f":"IFERROR(VLOOKUP($A169,FILTRO!$A163:$AY788,20,FALSE),0)","v":0},{"$f":"IFERROR(VLOOKUP($A169,FILTRO!$A163:$AY788,21,FALSE),0)","v":0},{"$f":"IFERROR(VLOOKUP($A169,FILTRO!$A163:$AY788,22,FALSE),0)","v":0},{"$f":"IFERROR(VLOOKUP($A169,FILTRO!$A163:$AY788,23,FALSE),0)","v":0},{"$f":"IFERROR(VLOOKUP($A169,FILTRO!$A163:$AY788,24,FALSE),0)","v":0},{"$f":"IFERROR(VLOOKUP($A169,FILTRO!$A163:$AY788,25,FALSE),0)","v":0},{"$f":"IFERROR(VLOOKUP($A169,FILTRO!$A163:$AY788,26,FALSE),0)","v":0},{"$f":"IFERROR(VLOOKUP($A169,FILTRO!$A163:$AY788,27,FALSE),0)","v":1},{"$f":"IFERROR(VLOOKUP($A169,FILTRO!$A163:$AY788,28,FALSE),0)","v":0},{"$f":"IFERROR(VLOOKUP($A169,FILTRO!$A163:$AY788,29,FALSE),0)","v":0},{"$f":"IFERROR(VLOOKUP($A169,FILTRO!$A163:$AY788,30,FALSE),0)","v":0},{"$f":"IFERROR(VLOOKUP($A169,FILTRO!$A163:$AY788,31,FALSE),0)","v":2},{"$f":"IFERROR(VLOOKUP($A169,FILTRO!$A163:$AY788,32,FALSE),0)","v":0},{"$f":"IFERROR(VLOOKUP($A169,FILTRO!$A163:$AY788,33,FALSE),0)","v":0},{"$f":"IFERROR(VLOOKUP($A169,FILTRO!$A163:$AY788,34,FALSE),0)","v":1},{"$f":"IFERROR(VLOOKUP($A169,FILTRO!$A163:$AY788,35,FALSE),0)","v":1},{"$f":"IFERROR(VLOOKUP($A169,FILTRO!$A163:$AY788,36,FALSE),0)","v":0},{"$f":"IFERROR(VLOOKUP($A169,FILTRO!$A163:$AY788,37,FALSE),0)","v":0},{"$f":"IFERROR(VLOOKUP($A169,FILTRO!$A163:$AY788,38,FALSE),0)","v":0},{"$f":"IFERROR(VLOOKUP($A169,FILTRO!$A163:$AY788,39,FALSE),0)","v":2},{"$f":"IFERROR(VLOOKUP($A169,FILTRO!$A163:$AY788,40,FALSE),0)","v":2},{"$f":"IFERROR(VLOOKUP($A169,FILTRO!$A163:$AY788,41,FALSE),0)","v":1},{"$f":"IFERROR(VLOOKUP($A169,FILTRO!$A163:$AY788,42,FALSE),0)","v":0},{"$f":"IFERROR(VLOOKUP($A169,FILTRO!$A163:$AY788,43,FALSE),0)","v":0},{"$f":"IFERROR(VLOOKUP($A169,FILTRO!$A163:$AY788,44,FALSE),0)","v":0},{"$f":"IFERROR(VLOOKUP($A169,FILTRO!$A163:$AY788,45,FALSE),0)","v":0},{"$f":"IFERROR(VLOOKUP($A169,FILTRO!$A163:$AY788,46,FALSE),0)","v":0},""]
["P2501843","Otras condiciones asociadas a NANEAS ","Otras condiciones asociadas a NANEAS ",{"$f":"IFERROR(VLOOKUP($A170,FILTRO!$A164:$AY789,2,FALSE),0)","v":73},{"$f":"IFERROR(VLOOKUP($A170,FILTRO!$A164:$AY789,3,FALSE),0)","v":42},{"$f":"IFERROR(VLOOKUP($A170,FILTRO!$A164:$AY789,4,FALSE),0)","v":31},{"$f":"IFERROR(VLOOKUP($A170,FILTRO!$A164:$AY789,5,FALSE),0)","v":0},{"$f":"IFERROR(VLOOKUP($A170,FILTRO!$A164:$AY789,6,FALSE),0)","v":0},{"$f":"IFERROR(VLOOKUP($A170,FILTRO!$A164:$AY789,7,FALSE),0)","v":0},{"$f":"IFERROR(VLOOKUP($A170,FILTRO!$A164:$AY789,8,FALSE),0)","v":1},{"$f":"IFERROR(VLOOKUP($A170,FILTRO!$A164:$AY789,9,FALSE),0)","v":0},{"$f":"IFERROR(VLOOKUP($A170,FILTRO!$A164:$AY789,10,FALSE),0)","v":0},{"$f":"IFERROR(VLOOKUP($A170,FILTRO!$A164:$AY789,11,FALSE),0)","v":0},{"$f":"IFERROR(VLOOKUP($A170,FILTRO!$A164:$AY789,12,FALSE),0)","v":0},{"$f":"IFERROR(VLOOKUP($A170,FILTRO!$A164:$AY789,13,FALSE),0)","v":0},{"$f":"IFERROR(VLOOKUP($A170,FILTRO!$A164:$AY789,14,FALSE),0)","v":0},{"$f":"IFERROR(VLOOKUP($A170,FILTRO!$A164:$AY789,15,FALSE),0)","v":0},{"$f":"IFERROR(VLOOKUP($A170,FILTRO!$A164:$AY789,16,FALSE),0)","v":0},{"$f":"IFERROR(VLOOKUP($A170,FILTRO!$A164:$AY789,17,FALSE),0)","v":0},{"$f":"IFERROR(VLOOKUP($A170,FILTRO!$A164:$AY789,18,FALSE),0)","v":3},{"$f":"IFERROR(VLOOKUP($A170,FILTRO!$A164:$AY789,19,FALSE),0)","v":5},{"$f":"IFERROR(VLOOKUP($A170,FILTRO!$A164:$AY789,20,FALSE),0)","v":0},{"$f":"IFERROR(VLOOKUP($A170,FILTRO!$A164:$AY789,21,FALSE),0)","v":1},{"$f":"IFERROR(VLOOKUP($A170,FILTRO!$A164:$AY789,22,FALSE),0)","v":0},{"$f":"IFERROR(VLOOKUP($A170,FILTRO!$A164:$AY789,23,FALSE),0)","v":2},{"$f":"IFERROR(VLOOKUP($A170,FILTRO!$A164:$AY789,24,FALSE),0)","v":0},{"$f":"IFERROR(VLOOKUP($A170,FILTRO!$A164:$AY789,25,FALSE),0)","v":3},{"$f":"IFERROR(VLOOKUP($A170,FILTRO!$A164:$AY789,26,FALSE),0)","v":2},{"$f":"IFERROR(VLOOKUP($A170,FILTRO!$A164:$AY789,27,FALSE),0)","v":2},{"$f":"IFERROR(VLOOKUP($A170,FILTRO!$A164:$AY789,28,FALSE),0)","v":2},{"$f":"IFERROR(VLOOKUP($A170,FILTRO!$A164:$AY789,29,FALSE),0)","v":0},{"$f":"IFERROR(VLOOKUP($A170,FILTRO!$A164:$AY789,30,FALSE),0)","v":0},{"$f":"IFERROR(VLOOKUP($A170,FILTRO!$A164:$AY789,31,FALSE),0)","v":2},{"$f":"IFERROR(VLOOKUP($A170,FILTRO!$A164:$AY789,32,FALSE),0)","v":1},{"$f":"IFERROR(VLOOKUP($A170,FILTRO!$A164:$AY789,33,FALSE),0)","v":2},{"$f":"IFERROR(VLOOKUP($A170,FILTRO!$A164:$AY789,34,FALSE),0)","v":3},{"$f":"IFERROR(VLOOKUP($A170,FILTRO!$A164:$AY789,35,FALSE),0)","v":6},{"$f":"IFERROR(VLOOKUP($A170,FILTRO!$A164:$AY789,36,FALSE),0)","v":4},{"$f":"IFERROR(VLOOKUP($A170,FILTRO!$A164:$AY789,37,FALSE),0)","v":7},{"$f":"IFERROR(VLOOKUP($A170,FILTRO!$A164:$AY789,38,FALSE),0)","v":6},{"$f":"IFERROR(VLOOKUP($A170,FILTRO!$A164:$AY789,39,FALSE),0)","v":8},{"$f":"IFERROR(VLOOKUP($A170,FILTRO!$A164:$AY789,40,FALSE),0)","v":6},{"$f":"IFERROR(VLOOKUP($A170,FILTRO!$A164:$AY789,41,FALSE),0)","v":4},{"$f":"IFERROR(VLOOKUP($A170,FILTRO!$A164:$AY789,42,FALSE),0)","v":3},{"$f":"IFERROR(VLOOKUP($A170,FILTRO!$A164:$AY789,43,FALSE),0)","v":0},{"$f":"IFERROR(VLOOKUP($A170,FILTRO!$A164:$AY789,44,FALSE),0)","v":0},{"$f":"IFERROR(VLOOKUP($A170,FILTRO!$A164:$AY789,45,FALSE),0)","v":1},{"$f":"IFERROR(VLOOKUP($A170,FILTRO!$A164:$AY789,46,FALSE),0)","v":1},"",{"$nulls":35},{"$f":"IF(DF170=1,\"* No olvide escribir en las celdas de \"\"Pueblos Originarios\"\" (Digite Cero si no tiene).\",\"\")","v":""},{"$f":"IF(DG170=1,\"* No olvide escribir en las celdas de \"\"Población Migrante\"\" (Digite Cero si no tiene).\",\"\")","v":""},{"$f":"IF(DH170=1,\"* La suma de las celdas de \"\"Pueblos Originarios\"\"no debe superar el Total.\",\"\")","v":""},{"$f":"IF(DI170=1,\"* La suma de las celdas de \"\"Población Migrante\"\" no debe superar el Total.\",\"\")","v":""},{"$nulls":21},{"$f":"IF(AND($D170<>0,OR(AS170=\"\",AT170=\"\")),1,0)","v":0},{"$f":"IF(AND($D170<>0,OR(AU170=\"\",AV170=\"\")),1,0)","v":0},{"$f":"IF((AS170+AT170)>$D170,1,0)","v":0},{"$f":"IF((AV170+AU170)>$D170,1,0)","v":0}]
["P2501700","Hospitalización Domiciliaria  ",null,{"$f":"IFERROR(VLOOKUP($A171,FILTRO!$A165:$AY790,2,FALSE),0)","v":32},{"$f":"IFERROR(VLOOKUP($A171,FILTRO!$A165:$AY790,3,FALSE),0)","v":18},{"$f":"IFERROR(VLOOKUP($A171,FILTRO!$A165:$AY790,4,FALSE),0)","v":14},{"$f":"IFERROR(VLOOKUP($A171,FILTRO!$A165:$AY790,5,FALSE),0)","v":0},{"$f":"IFERROR(VLOOKUP($A171,FILTRO!$A165:$AY790,6,FALSE),0)","v":0},{"$f":"IFERROR(VLOOKUP($A171,FILTRO!$A165:$AY790,7,FALSE),0)","v":0},{"$f":"IFERROR(VLOOKUP($A171,FILTRO!$A165:$AY790,8,FALSE),0)","v":0},{"$f":"IFERROR(VLOOKUP($A171,FILTRO!$A165:$AY790,9,FALSE),0)","v":0},{"$f":"IFERROR(VLOOKUP($A171,FILTRO!$A165:$AY790,10,FALSE),0)","v":0},{"$f":"IFERROR(VLOOKUP($A171,FILTRO!$A165:$AY790,11,FALSE),0)","v":0},{"$f":"IFERROR(VLOOKUP($A171,FILTRO!$A165:$AY790,12,FALSE),0)","v":0},{"$f":"IFERROR(VLOOKUP($A171,FILTRO!$A165:$AY790,13,FALSE),0)","v":1},{"$f":"IFERROR(VLOOKUP($A171,FILTRO!$A165:$AY790,14,FALSE),0)","v":0},{"$f":"IFERROR(VLOOKUP($A171,FILTRO!$A165:$AY790,15,FALSE),0)","v":0},{"$f":"IFERROR(VLOOKUP($A171,FILTRO!$A165:$AY790,16,FALSE),0)","v":0},{"$f":"IFERROR(VLOOKUP($A171,FILTRO!$A165:$AY790,17,FALSE),0)","v":0},{"$f":"IFERROR(VLOOKUP($A171,FILTRO!$A165:$AY790,18,FALSE),0)","v":0},{"$f":"IFERROR(VLOOKUP($A171,FILTRO!$A165:$AY790,19,FALSE),0)","v":2},{"$f":"IFERROR(VLOOKUP($A171,FILTRO!$A165:$AY790,20,FALSE),0)","v":2},{"$f":"IFERROR(VLOOKUP($A171,FILTRO!$A165:$AY790,21,FALSE),0)","v":2},{"$f":"IFERROR(VLOOKUP($A171,FILTRO!$A165:$AY790,22,FALSE),0)","v":2},{"$f":"IFERROR(VLOOKUP($A171,FILTRO!$A165:$AY790,23,FALSE),0)","v":1},{"$f":"IFERROR(VLOOKUP($A171,FILTRO!$A165:$AY790,24,FALSE),0)","v":0},{"$f":"IFERROR(VLOOKUP($A171,FILTRO!$A165:$AY790,25,FALSE),0)","v":2},{"$f":"IFERROR(VLOOKUP($A171,FILTRO!$A165:$AY790,26,FALSE),0)","v":2},{"$f":"IFERROR(VLOOKUP($A171,FILTRO!$A165:$AY790,27,FALSE),0)","v":2},{"$f":"IFERROR(VLOOKUP($A171,FILTRO!$A165:$AY790,28,FALSE),0)","v":1},{"$f":"IFERROR(VLOOKUP($A171,FILTRO!$A165:$AY790,29,FALSE),0)","v":0},{"$f":"IFERROR(VLOOKUP($A171,FILTRO!$A165:$AY790,30,FALSE),0)","v":0},{"$f":"IFERROR(VLOOKUP($A171,FILTRO!$A165:$AY790,31,FALSE),0)","v":3},{"$f":"IFERROR(VLOOKUP($A171,FILTRO!$A165:$AY790,32,FALSE),0)","v":2},{"$f":"IFERROR(VLOOKUP($A171,FILTRO!$A165:$AY790,33,FALSE),0)","v":3},{"$f":"IFERROR(VLOOKUP($A171,FILTRO!$A165:$AY790,34,FALSE),0)","v":1},{"$f":"IFERROR(VLOOKUP($A171,FILTRO!$A165:$AY790,35,FALSE),0)","v":2},{"$f":"IFERROR(VLOOKUP($A171,FILTRO!$A165:$AY790,36,FALSE),0)","v":4},{"$f":"IFERROR(VLOOKUP($A171,FILTRO!$A165:$AY790,37,FALSE),0)","v":0},{"$f":"IFERROR(VLOOKUP($A171,FILTRO!$A165:$AY790,38,FALSE),0)","v":0},{"$f":"IFERROR(VLOOKUP($A171,FILTRO!$A165:$AY790,39,FALSE),0)","v":0},{"$f":"IFERROR(VLOOKUP($A171,FILTRO!$A165:$AY790,40,FALSE),0)","v":0},{"$f":"IFERROR(VLOOKUP($A171,FILTRO!$A165:$AY790,41,FALSE),0)","v":0},{"$f":"IFERROR(VLOOKUP($A171,FILTRO!$A165:$AY790,42,FALSE),0)","v":0},{"$f":"IFERROR(VLOOKUP($A171,FILTRO!$A165:$AY790,43,FALSE),0)","v":0},{"$f":"IFERROR(VLOOKUP($A171,FILTRO!$A165:$AY790,44,FALSE),0)","v":0},{"$f":"IFERROR(VLOOKUP($A171,FILTRO!$A165:$AY790,45,FALSE),0)","v":0},{"$f":"IFERROR(VLOOKUP($A171,FILTRO!$A165:$AY790,46,FALSE),0)","v":0},""]
["P2501844","Oxigenoterapia Ambulatoria ","Oxigenoterapia Ambulatoria ",{"$f":"IFERROR(VLOOKUP($A172,FILTRO!$A166:$AY791,2,FALSE),0)","v":1},{"$f":"IFERROR(VLOOKUP($A172,FILTRO!$A166:$AY791,3,FALSE),0)","v":1},{"$f":"IFERROR(VLOOKUP($A172,FILTRO!$A166:$AY791,4,FALSE),0)","v":0},{"$f":"IFERROR(VLOOKUP($A172,FILTRO!$A166:$AY791,5,FALSE),0)","v":1},{"$f":"IFERROR(VLOOKUP($A172,FILTRO!$A166:$AY791,6,FALSE),0)","v":0},{"$f":"IFERROR(VLOOKUP($A172,FILTRO!$A166:$AY791,7,FALSE),0)","v":0},{"$f":"IFERROR(VLOOKUP($A172,FILTRO!$A166:$AY791,8,FALSE),0)","v":0},{"$f":"IFERROR(VLOOKUP($A172,FILTRO!$A166:$AY791,9,FALSE),0)","v":0},{"$f":"IFERROR(VLOOKUP($A172,FILTRO!$A166:$AY791,10,FALSE),0)","v":0},{"$f":"IFERROR(VLOOKUP($A172,FILTRO!$A166:$AY791,11,FALSE),0)","v":0},{"$f":"IFERROR(VLOOKUP($A172,FILTRO!$A166:$AY791,12,FALSE),0)","v":0},{"$f":"IFERROR(VLOOKUP($A172,FILTRO!$A166:$AY791,13,FALSE),0)","v":0},{"$f":"IFERROR(VLOOKUP($A172,FILTRO!$A166:$AY791,14,FALSE),0)","v":0},{"$f":"IFERROR(VLOOKUP($A172,FILTRO!$A166:$AY791,15,FALSE),0)","v":0},{"$f":"IFERROR(VLOOKUP($A172,FILTRO!$A166:$AY791,16,FALSE),0)","v":0},{"$f":"IFERROR(VLOOKUP($A172,FILTRO!$A166:$AY791,17,FALSE),0)","v":0},{"$f":"IFERROR(VLOOKUP($A172,FILTRO!$A166:$AY791,18,FALSE),0)","v":0},{"$f":"IFERROR(VLOOKUP($A172,FILTRO!$A166:$AY791,19,FALSE),0)","v":0},{"$f":"IFERROR(VLOOKUP($A172,FILTRO!$A166:$AY791,20,FALSE),0)","v":0},{"$f":"IFERROR(VLOOKUP($A172,FILTRO!$A166:$AY791,21,FALSE),0)","v":0},{"$f":"IFERROR(VLOOKUP($A172,FILTRO!$A166:$AY791,22,FALSE),0)","v":0},{"$f":"IFERROR(VLOOKUP($A172,FILTRO!$A166:$AY791,23,FALSE),0)","v":0},{"$f":"IFERROR(VLOOKUP($A172,FILTRO!$A166:$AY791,24,FALSE),0)","v":0},{"$f":"IFERROR(VLOOKUP($A172,FILTRO!$A166:$AY791,25,FALSE),0)","v":0},{"$f":"IFERROR(VLOOKUP($A172,FILTRO!$A166:$AY791,26,FALSE),0)","v":0},{"$f":"IFERROR(VLOOKUP($A172,FILTRO!$A166:$AY791,27,FALSE),0)","v":0},{"$f":"IFERROR(VLOOKUP($A172,FILTRO!$A166:$AY791,28,FALSE),0)","v":0},{"$f":"IFERROR(VLOOKUP($A172,FILTRO!$A166:$AY791,29,FALSE),0)","v":0},{"$f":"IFERROR(VLOOKUP($A172,FILTRO!$A166:$AY791,30,FALSE),0)","v":0},{"$f":"IFERROR(VLOOKUP($A172,FILTRO!$A166:$AY791,31,FALSE),0)","v":0},{"$f":"IFERROR(VLOOKUP($A172,FILTRO!$A166:$AY791,32,FALSE),0)","v":0},{"$f":"IFERROR(VLOOKUP($A172,FILTRO!$A166:$AY791,33,FALSE),0)","v":0},{"$f":"IFERROR(VLOOKUP($A172,FILTRO!$A166:$AY791,34,FALSE),0)","v":0},{"$f":"IFERROR(VLOOKUP($A172,FILTRO!$A166:$AY791,35,FALSE),0)","v":0},{"$f":"IFERROR(VLOOKUP($A172,FILTRO!$A166:$AY791,36,FALSE),0)","v":0},{"$f":"IFERROR(VLOOKUP($A172,FILTRO!$A166:$AY791,37,FALSE),0)","v":0},{"$f":"IFERROR(VLOOKUP($A172,FILTRO!$A166:$AY791,38,FALSE),0)","v":0},{"$f":"IFERROR(VLOOKUP($A172,FILTRO!$A166:$AY791,39,FALSE),0)","v":0},{"$f":"IFERROR(VLOOKUP($A172,FILTRO!$A166:$AY791,40,FALSE),0)","v":0},{"$f":"IFERROR(VLOOKUP($A172,FILTRO!$A166:$AY791,41,FALSE),0)","v":0},{"$f":"IFERROR(VLOOKUP($A172,FILTRO!$A166:$AY791,42,FALSE),0)","v":0},{"$f":"IFERROR(VLOOKUP($A172,FILTRO!$A166:$AY791,43,FALSE),0)","v":0},{"$f":"IFERROR(VLOOKUP($A172,FILTRO!$A166:$AY791,44,FALSE),0)","v":0},{"$f":"IFERROR(VLOOKUP($A172,FILTRO!$A166:$AY791,45,FALSE),0)","v":0},{"$f":"IFERROR(VLOOKUP($A172,FILTRO!$A166:$AY791,46,FALSE),0)","v":0},""]
["P2501845","Asistencia ventilatoria Invasiva y No invasiva ","Asistencia ventilatoria Invasiva y No invasiva ",{"$f":"IFERROR(VLOOKUP($A173,FILTRO!$A167:$AY792,2,FALSE),0)","v":0},{"$f":"IFERROR(VLOOKUP($A173,FILTRO!$A167:$AY792,3,FALSE),0)","v":0},{"$f":"IFERROR(VLOOKUP($A173,FILTRO!$A167:$AY792,4,FALSE),0)","v":0},{"$f":"IFERROR(VLOOKUP($A173,FILTRO!$A167:$AY792,5,FALSE),0)","v":0},{"$f":"IFERROR(VLOOKUP($A173,FILTRO!$A167:$AY792,6,FALSE),0)","v":0},{"$f":"IFERROR(VLOOKUP($A173,FILTRO!$A167:$AY792,7,FALSE),0)","v":0},{"$f":"IFERROR(VLOOKUP($A173,FILTRO!$A167:$AY792,8,FALSE),0)","v":0},{"$f":"IFERROR(VLOOKUP($A173,FILTRO!$A167:$AY792,9,FALSE),0)","v":0},{"$f":"IFERROR(VLOOKUP($A173,FILTRO!$A167:$AY792,10,FALSE),0)","v":0},{"$f":"IFERROR(VLOOKUP($A173,FILTRO!$A167:$AY792,11,FALSE),0)","v":0},{"$f":"IFERROR(VLOOKUP($A173,FILTRO!$A167:$AY792,12,FALSE),0)","v":0},{"$f":"IFERROR(VLOOKUP($A173,FILTRO!$A167:$AY792,13,FALSE),0)","v":0},{"$f":"IFERROR(VLOOKUP($A173,FILTRO!$A167:$AY792,14,FALSE),0)","v":0},{"$f":"IFERROR(VLOOKUP($A173,FILTRO!$A167:$AY792,15,FALSE),0)","v":0},{"$f":"IFERROR(VLOOKUP($A173,FILTRO!$A167:$AY792,16,FALSE),0)","v":0},{"$f":"IFERROR(VLOOKUP($A173,FILTRO!$A167:$AY792,17,FALSE),0)","v":0},{"$f":"IFERROR(VLOOKUP($A173,FILTRO!$A167:$AY792,18,FALSE),0)","v":0},{"$f":"IFERROR(VLOOKUP($A173,FILTRO!$A167:$AY792,19,FALSE),0)","v":0},{"$f":"IFERROR(VLOOKUP($A173,FILTRO!$A167:$AY792,20,FALSE),0)","v":0},{"$f":"IFERROR(VLOOKUP($A173,FILTRO!$A167:$AY792,21,FALSE),0)","v":0},{"$f":"IFERROR(VLOOKUP($A173,FILTRO!$A167:$AY792,22,FALSE),0)","v":0},{"$f":"IFERROR(VLOOKUP($A173,FILTRO!$A167:$AY792,23,FALSE),0)","v":0},{"$f":"IFERROR(VLOOKUP($A173,FILTRO!$A167:$AY792,24,FALSE),0)","v":0},{"$f":"IFERROR(VLOOKUP($A173,FILTRO!$A167:$AY792,25,FALSE),0)","v":0},{"$f":"IFERROR(VLOOKUP($A173,FILTRO!$A167:$AY792,26,FALSE),0)","v":0},{"$f":"IFERROR(VLOOKUP($A173,FILTRO!$A167:$AY792,27,FALSE),0)","v":0},{"$f":"IFERROR(VLOOKUP($A173,FILTRO!$A167:$AY792,28,FALSE),0)","v":0},{"$f":"IFERROR(VLOOKUP($A173,FILTRO!$A167:$AY792,29,FALSE),0)","v":0},{"$f":"IFERROR(VLOOKUP($A173,FILTRO!$A167:$AY792,30,FALSE),0)","v":0},{"$f":"IFERROR(VLOOKUP($A173,FILTRO!$A167:$AY792,31,FALSE),0)","v":0},{"$f":"IFERROR(VLOOKUP($A173,FILTRO!$A167:$AY792,32,FALSE),0)","v":0},{"$f":"IFERROR(VLOOKUP($A173,FILTRO!$A167:$AY792,33,FALSE),0)","v":0},{"$f":"IFERROR(VLOOKUP($A173,FILTRO!$A167:$AY792,34,FALSE),0)","v":0},{"$f":"IFERROR(VLOOKUP($A173,FILTRO!$A167:$AY792,35,FALSE),0)","v":0},{"$f":"IFERROR(VLOOKUP($A173,FILTRO!$A167:$AY792,36,FALSE),0)","v":0},{"$f":"IFERROR(VLOOKUP($A173,FILTRO!$A167:$AY792,37,FALSE),0)","v":0},{"$f":"IFERROR(VLOOKUP($A173,FILTRO!$A167:$AY792,38,FALSE),0)","v":0},{"$f":"IFERROR(VLOOKUP($A173,FILTRO!$A167:$AY792,39,FALSE),0)","v":0},{"$f":"IFERROR(VLOOKUP($A173,FILTRO!$A167:$AY792,40,FALSE),0)","v":0},{"$f":"IFERROR(VLOOKUP($A173,FILTRO!$A167:$AY792,41,FALSE),0)","v":0},{"$f":"IFERROR(VLOOKUP($A173,FILTRO!$A167:$AY792,42,FALSE),0)","v":0},{"$f":"IFERROR(VLOOKUP($A173,FILTRO!$A167:$AY792,43,FALSE),0)","v":0},{"$f":"IFERROR(VLOOKUP($A173,FILTRO!$A167:$AY792,44,FALSE),0)","v":0},{"$f":"IFERROR(VLOOKUP($A173,FILTRO!$A167:$AY792,45,FALSE),0)","v":0},{"$f":"IFERROR(VLOOKUP($A173,FILTRO!$A167:$AY792,46,FALSE),0)","v":0},""]
["P2501846","Errores Innatos del Metabolismo",null,{"$f":"IFERROR(VLOOKUP($A174,FILTRO!$A168:$AY793,2,FALSE),0)","v":4},{"$f":"IFERROR(VLOOKUP($A174,FILTRO!$A168:$AY793,3,FALSE),0)","v":1},{"$f":"IFERROR(VLOOKUP($A174,FILTRO!$A168:$AY793,4,FALSE),0)","v":3},{"$f":"IFERROR(VLOOKUP($A174,FILTRO!$A168:$AY793,5,FALSE),0)","v":0},{"$f":"IFERROR(VLOOKUP($A174,FILTRO!$A168:$AY793,6,FALSE),0)","v":0},{"$f":"IFERROR(VLOOKUP($A174,FILTRO!$A168:$AY793,7,FALSE),0)","v":0},{"$f":"IFERROR(VLOOKUP($A174,FILTRO!$A168:$AY793,8,FALSE),0)","v":0},{"$f":"IFERROR(VLOOKUP($A174,FILTRO!$A168:$AY793,9,FALSE),0)","v":0},{"$f":"IFERROR(VLOOKUP($A174,FILTRO!$A168:$AY793,10,FALSE),0)","v":0},{"$f":"IFERROR(VLOOKUP($A174,FILTRO!$A168:$AY793,11,FALSE),0)","v":0},{"$f":"IFERROR(VLOOKUP($A174,FILTRO!$A168:$AY793,12,FALSE),0)","v":0},{"$f":"IFERROR(VLOOKUP($A174,FILTRO!$A168:$AY793,13,FALSE),0)","v":0},{"$f":"IFERROR(VLOOKUP($A174,FILTRO!$A168:$AY793,14,FALSE),0)","v":0},{"$f":"IFERROR(VLOOKUP($A174,FILTRO!$A168:$AY793,15,FALSE),0)","v":0},{"$f":"IFERROR(VLOOKUP($A174,FILTRO!$A168:$AY793,16,FALSE),0)","v":1},{"$f":"IFERROR(VLOOKUP($A174,FILTRO!$A168:$AY793,17,FALSE),0)","v":0},{"$f":"IFERROR(VLOOKUP($A174,FILTRO!$A168:$AY793,18,FALSE),0)","v":0},{"$f":"IFERROR(VLOOKUP($A174,FILTRO!$A168:$AY793,19,FALSE),0)","v":0},{"$f":"IFERROR(VLOOKUP($A174,FILTRO!$A168:$AY793,20,FALSE),0)","v":0},{"$f":"IFERROR(VLOOKUP($A174,FILTRO!$A168:$AY793,21,FALSE),0)","v":0},{"$f":"IFERROR(VLOOKUP($A174,FILTRO!$A168:$AY793,22,FALSE),0)","v":0},{"$f":"IFERROR(VLOOKUP($A174,FILTRO!$A168:$AY793,23,FALSE),0)","v":0},{"$f":"IFERROR(VLOOKUP($A174,FILTRO!$A168:$AY793,24,FALSE),0)","v":0},{"$f":"IFERROR(VLOOKUP($A174,FILTRO!$A168:$AY793,25,FALSE),0)","v":0},{"$f":"IFERROR(VLOOKUP($A174,FILTRO!$A168:$AY793,26,FALSE),0)","v":0},{"$f":"IFERROR(VLOOKUP($A174,FILTRO!$A168:$AY793,27,FALSE),0)","v":0},{"$f":"IFERROR(VLOOKUP($A174,FILTRO!$A168:$AY793,28,FALSE),0)","v":1},{"$f":"IFERROR(VLOOKUP($A174,FILTRO!$A168:$AY793,29,FALSE),0)","v":0},{"$f":"IFERROR(VLOOKUP($A174,FILTRO!$A168:$AY793,30,FALSE),0)","v":0},{"$f":"IFERROR(VLOOKUP($A174,FILTRO!$A168:$AY793,31,FALSE),0)","v":1},{"$f":"IFERROR(VLOOKUP($A174,FILTRO!$A168:$AY793,32,FALSE),0)","v":1},{"$f":"IFERROR(VLOOKUP($A174,FILTRO!$A168:$AY793,33,FALSE),0)","v":0},{"$f":"IFERROR(VLOOKUP($A174,FILTRO!$A168:$AY793,34,FALSE),0)","v":0},{"$f":"IFERROR(VLOOKUP($A174,FILTRO!$A168:$AY793,35,FALSE),0)","v":0},{"$f":"IFERROR(VLOOKUP($A174,FILTRO!$A168:$AY793,36,FALSE),0)","v":0},{"$f":"IFERROR(VLOOKUP($A174,FILTRO!$A168:$AY793,37,FALSE),0)","v":0},{"$f":"IFERROR(VLOOKUP($A174,FILTRO!$A168:$AY793,38,FALSE),0)","v":0},{"$f":"IFERROR(VLOOKUP($A174,FILTRO!$A168:$AY793,39,FALSE),0)","v":0},{"$f":"IFERROR(VLOOKUP($A174,FILTRO!$A168:$AY793,40,FALSE),0)","v":0},{"$f":"IFERROR(VLOOKUP($A174,FILTRO!$A168:$AY793,41,FALSE),0)","v":0},{"$f":"IFERROR(VLOOKUP($A174,FILTRO!$A168:$AY793,42,FALSE),0)","v":0},{"$f":"IFERROR(VLOOKUP($A174,FILTRO!$A168:$AY793,43,FALSE),0)","v":0},{"$f":"IFERROR(VLOOKUP($A174,FILTRO!$A168:$AY793,44,FALSE),0)","v":0},{"$f":"IFERROR(VLOOKUP($A174,FILTRO!$A168:$AY793,45,FALSE),0)","v":0},{"$f":"IFERROR(VLOOKUP($A174,FILTRO!$A168:$AY793,46,FALSE),0)","v":0},"",{"$nulls":35},{"$f":"IF(DF174=1,\"* No olvide escribir en las celdas de \"\"Pueblos Originarios\"\" (Digite Cero si no tiene).\",\"\")","v":""},{"$f":"IF(DG174=1,\"* No olvide escribir en las celdas de \"\"Población Migrante\"\" (Digite Cero si no tiene).\",\"\")","v":""},{"$f":"IF(DH174=1,\"* La suma de las celdas de \"\"Pueblos Originarios\"\"no debe superar el Total.\",\"\")","v":""},{"$f":"IF(DI174=1,\"* La suma de las celdas de \"\"Población Migrante\"\" no debe superar el Total.\",\"\")","v":""},{"$nulls":21},{"$f":"IF(AND($D174<>0,OR(AS174=\"\",AT174=\"\")),1,0)","v":0},{"$f":"IF(AND($D174<>0,OR(AU174=\"\",AV174=\"\")),1,0)","v":0},{"$f":"IF((AS174+AT174)>$D174,1,0)","v":0},{"$f":"IF((AV174+AU174)>$D174,1,0)","v":0}]
["P2501847","Asma","Asma",{"$f":"IFERROR(VLOOKUP($A175,FILTRO!$A169:$AY794,2,FALSE),0)","v":633},{"$f":"IFERROR(VLOOKUP($A175,FILTRO!$A169:$AY794,3,FALSE),0)","v":330},{"$f":"IFERROR(VLOOKUP($A175,FILTRO!$A169:$AY794,4,FALSE),0)","v":303},{"$f":"IFERROR(VLOOKUP($A175,FILTRO!$A169:$AY794,5,FALSE),0)","v":0},{"$f":"IFERROR(VLOOKUP($A175,FILTRO!$A169:$AY794,6,FALSE),0)","v":0},{"$f":"IFERROR(VLOOKUP($A175,FILTRO!$A169:$AY794,7,FALSE),0)","v":0},{"$f":"IFERROR(VLOOKUP($A175,FILTRO!$A169:$AY794,8,FALSE),0)","v":0},{"$f":"IFERROR(VLOOKUP($A175,FILTRO!$A169:$AY794,9,FALSE),0)","v":0},{"$f":"IFERROR(VLOOKUP($A175,FILTRO!$A169:$AY794,10,FALSE),0)","v":0},{"$f":"IFERROR(VLOOKUP($A175,FILTRO!$A169:$AY794,11,FALSE),0)","v":0},{"$f":"IFERROR(VLOOKUP($A175,FILTRO!$A169:$AY794,12,FALSE),0)","v":0},{"$f":"IFERROR(VLOOKUP($A175,FILTRO!$A169:$AY794,13,FALSE),0)","v":0},{"$f":"IFERROR(VLOOKUP($A175,FILTRO!$A169:$AY794,14,FALSE),0)","v":0},{"$f":"IFERROR(VLOOKUP($A175,FILTRO!$A169:$AY794,15,FALSE),0)","v":0},{"$f":"IFERROR(VLOOKUP($A175,FILTRO!$A169:$AY794,16,FALSE),0)","v":0},{"$f":"IFERROR(VLOOKUP($A175,FILTRO!$A169:$AY794,17,FALSE),0)","v":0},{"$f":"IFERROR(VLOOKUP($A175,FILTRO!$A169:$AY794,18,FALSE),0)","v":0},{"$f":"IFERROR(VLOOKUP($A175,FILTRO!$A169:$AY794,19,FALSE),0)","v":1},{"$f":"IFERROR(VLOOKUP($A175,FILTRO!$A169:$AY794,20,FALSE),0)","v":1},{"$f":"IFERROR(VLOOKUP($A175,FILTRO!$A169:$AY794,21,FALSE),0)","v":4},{"$f":"IFERROR(VLOOKUP($A175,FILTRO!$A169:$AY794,22,FALSE),0)","v":3},{"$f":"IFERROR(VLOOKUP($A175,FILTRO!$A169:$AY794,23,FALSE),0)","v":7},{"$f":"IFERROR(VLOOKUP($A175,FILTRO!$A169:$AY794,24,FALSE),0)","v":5},{"$f":"IFERROR(VLOOKUP($A175,FILTRO!$A169:$AY794,25,FALSE),0)","v":10},{"$f":"IFERROR(VLOOKUP($A175,FILTRO!$A169:$AY794,26,FALSE),0)","v":10},{"$f":"IFERROR(VLOOKUP($A175,FILTRO!$A169:$AY794,27,FALSE),0)","v":16},{"$f":"IFERROR(VLOOKUP($A175,FILTRO!$A169:$AY794,28,FALSE),0)","v":10},{"$f":"IFERROR(VLOOKUP($A175,FILTRO!$A169:$AY794,29,FALSE),0)","v":6},{"$f":"IFERROR(VLOOKUP($A175,FILTRO!$A169:$AY794,30,FALSE),0)","v":7},{"$f":"IFERROR(VLOOKUP($A175,FILTRO!$A169:$AY794,31,FALSE),0)","v":27},{"$f":"IFERROR(VLOOKUP($A175,FILTRO!$A169:$AY794,32,FALSE),0)","v":32},{"$f":"IFERROR(VLOOKUP($A175,FILTRO!$A169:$AY794,33,FALSE),0)","v":63},{"$f":"IFERROR(VLOOKUP($A175,FILTRO!$A169:$AY794,34,FALSE),0)","v":46},{"$f":"IFERROR(VLOOKUP($A175,FILTRO!$A169:$AY794,35,FALSE),0)","v":78},{"$f":"IFERROR(VLOOKUP($A175,FILTRO!$A169:$AY794,36,FALSE),0)","v":67},{"$f":"IFERROR(VLOOKUP($A175,FILTRO!$A169:$AY794,37,FALSE),0)","v":103},{"$f":"IFERROR(VLOOKUP($A175,FILTRO!$A169:$AY794,38,FALSE),0)","v":98},{"$f":"IFERROR(VLOOKUP($A175,FILTRO!$A169:$AY794,39,FALSE),0)","v":125},{"$f":"IFERROR(VLOOKUP($A175,FILTRO!$A169:$AY794,40,FALSE),0)","v":102},{"$f":"IFERROR(VLOOKUP($A175,FILTRO!$A169:$AY794,41,FALSE),0)","v":61},{"$f":"IFERROR(VLOOKUP($A175,FILTRO!$A169:$AY794,42,FALSE),0)","v":64},{"$f":"IFERROR(VLOOKUP($A175,FILTRO!$A169:$AY794,43,FALSE),0)","v":0},{"$f":"IFERROR(VLOOKUP($A175,FILTRO!$A169:$AY794,44,FALSE),0)","v":0},{"$f":"IFERROR(VLOOKUP($A175,FILTRO!$A169:$AY794,45,FALSE),0)","v":0},{"$f":"IFERROR(VLOOKUP($A175,FILTRO!$A169:$AY794,46,FALSE),0)","v":2},""]
["P2501848","Cardiopatía congénita","Cardiopatía congénita",{"$f":"IFERROR(VLOOKUP($A176,FILTRO!$A170:$AY795,2,FALSE),0)","v":61},{"$f":"IFERROR(VLOOKUP($A176,FILTRO!$A170:$AY795,3,FALSE),0)","v":34},{"$f":"IFERROR(VLOOKUP($A176,FILTRO!$A170:$AY795,4,FALSE),0)","v":27},{"$f":"IFERROR(VLOOKUP($A176,FILTRO!$A170:$AY795,5,FALSE),0)","v":0},{"$f":"IFERROR(VLOOKUP($A176,FILTRO!$A170:$AY795,6,FALSE),0)","v":0},{"$f":"IFERROR(VLOOKUP($A176,FILTRO!$A170:$AY795,7,FALSE),0)","v":0},{"$f":"IFERROR(VLOOKUP($A176,FILTRO!$A170:$AY795,8,FALSE),0)","v":0},{"$f":"IFERROR(VLOOKUP($A176,FILTRO!$A170:$AY795,9,FALSE),0)","v":1},{"$f":"IFERROR(VLOOKUP($A176,FILTRO!$A170:$AY795,10,FALSE),0)","v":1},{"$f":"IFERROR(VLOOKUP($A176,FILTRO!$A170:$AY795,11,FALSE),0)","v":1},{"$f":"IFERROR(VLOOKUP($A176,FILTRO!$A170:$AY795,12,FALSE),0)","v":0},{"$f":"IFERROR(VLOOKUP($A176,FILTRO!$A170:$AY795,13,FALSE),0)","v":0},{"$f":"IFERROR(VLOOKUP($A176,FILTRO!$A170:$AY795,14,FALSE),0)","v":0},{"$f":"IFERROR(VLOOKUP($A176,FILTRO!$A170:$AY795,15,FALSE),0)","v":0},{"$f":"IFERROR(VLOOKUP($A176,FILTRO!$A170:$AY795,16,FALSE),0)","v":1},{"$f":"IFERROR(VLOOKUP($A176,FILTRO!$A170:$AY795,17,FALSE),0)","v":3},{"$f":"IFERROR(VLOOKUP($A176,FILTRO!$A170:$AY795,18,FALSE),0)","v":0},{"$f":"IFERROR(VLOOKUP($A176,FILTRO!$A170:$AY795,19,FALSE),0)","v":4},{"$f":"IFERROR(VLOOKUP($A176,FILTRO!$A170:$AY795,20,FALSE),0)","v":2},{"$f":"IFERROR(VLOOKUP($A176,FILTRO!$A170:$AY795,21,FALSE),0)","v":6},{"$f":"IFERROR(VLOOKUP($A176,FILTRO!$A170:$AY795,22,FALSE),0)","v":4},{"$f":"IFERROR(VLOOKUP($A176,FILTRO!$A170:$AY795,23,FALSE),0)","v":2},{"$f":"IFERROR(VLOOKUP($A176,FILTRO!$A170:$AY795,24,FALSE),0)","v":2},{"$f":"IFERROR(VLOOKUP($A176,FILTRO!$A170:$AY795,25,FALSE),0)","v":5},{"$f":"IFERROR(VLOOKUP($A176,FILTRO!$A170:$AY795,26,FALSE),0)","v":4},{"$f":"IFERROR(VLOOKUP($A176,FILTRO!$A170:$AY795,27,FALSE),0)","v":2},{"$f":"IFERROR(VLOOKUP($A176,FILTRO!$A170:$AY795,28,FALSE),0)","v":3},{"$f":"IFERROR(VLOOKUP($A176,FILTRO!$A170:$AY795,29,FALSE),0)","v":0},{"$f":"IFERROR(VLOOKUP($A176,FILTRO!$A170:$AY795,30,FALSE),0)","v":0},{"$f":"IFERROR(VLOOKUP($A176,FILTRO!$A170:$AY795,31,FALSE),0)","v":2},{"$f":"IFERROR(VLOOKUP($A176,FILTRO!$A170:$AY795,32,FALSE),0)","v":4},{"$f":"IFERROR(VLOOKUP($A176,FILTRO!$A170:$AY795,33,FALSE),0)","v":3},{"$f":"IFERROR(VLOOKUP($A176,FILTRO!$A170:$AY795,34,FALSE),0)","v":3},{"$f":"IFERROR(VLOOKUP($A176,FILTRO!$A170:$AY795,35,FALSE),0)","v":4},{"$f":"IFERROR(VLOOKUP($A176,FILTRO!$A170:$AY795,36,FALSE),0)","v":0},{"$f":"IFERROR(VLOOKUP($A176,FILTRO!$A170:$AY795,37,FALSE),0)","v":1},{"$f":"IFERROR(VLOOKUP($A176,FILTRO!$A170:$AY795,38,FALSE),0)","v":2},{"$f":"IFERROR(VLOOKUP($A176,FILTRO!$A170:$AY795,39,FALSE),0)","v":0},{"$f":"IFERROR(VLOOKUP($A176,FILTRO!$A170:$AY795,40,FALSE),0)","v":1},{"$f":"IFERROR(VLOOKUP($A176,FILTRO!$A170:$AY795,41,FALSE),0)","v":0},{"$f":"IFERROR(VLOOKUP($A176,FILTRO!$A170:$AY795,42,FALSE),0)","v":0},{"$f":"IFERROR(VLOOKUP($A176,FILTRO!$A170:$AY795,43,FALSE),0)","v":0},{"$f":"IFERROR(VLOOKUP($A176,FILTRO!$A170:$AY795,44,FALSE),0)","v":0},{"$f":"IFERROR(VLOOKUP($A176,FILTRO!$A170:$AY795,45,FALSE),0)","v":0},{"$f":"IFERROR(VLOOKUP($A176,FILTRO!$A170:$AY795,46,FALSE),0)","v":0},""]
["P2501849","Enfermedad celiaca ","Enfermedad celiaca ",{"$f":"IFERROR(VLOOKUP($A177,FILTRO!$A171:$AY796,2,FALSE),0)","v":0},{"$f":"IFERROR(VLOOKUP($A177,FILTRO!$A171:$AY796,3,FALSE),0)","v":0},{"$f":"IFERROR(VLOOKUP($A177,FILTRO!$A171:$AY796,4,FALSE),0)","v":0},{"$f":"IFERROR(VLOOKUP($A177,FILTRO!$A171:$AY796,5,FALSE),0)","v":0},{"$f":"IFERROR(VLOOKUP($A177,FILTRO!$A171:$AY796,6,FALSE),0)","v":0},{"$f":"IFERROR(VLOOKUP($A177,FILTRO!$A171:$AY796,7,FALSE),0)","v":0},{"$f":"IFERROR(VLOOKUP($A177,FILTRO!$A171:$AY796,8,FALSE),0)","v":0},{"$f":"IFERROR(VLOOKUP($A177,FILTRO!$A171:$AY796,9,FALSE),0)","v":0},{"$f":"IFERROR(VLOOKUP($A177,FILTRO!$A171:$AY796,10,FALSE),0)","v":0},{"$f":"IFERROR(VLOOKUP($A177,FILTRO!$A171:$AY796,11,FALSE),0)","v":0},{"$f":"IFERROR(VLOOKUP($A177,FILTRO!$A171:$AY796,12,FALSE),0)","v":0},{"$f":"IFERROR(VLOOKUP($A177,FILTRO!$A171:$AY796,13,FALSE),0)","v":0},{"$f":"IFERROR(VLOOKUP($A177,FILTRO!$A171:$AY796,14,FALSE),0)","v":0},{"$f":"IFERROR(VLOOKUP($A177,FILTRO!$A171:$AY796,15,FALSE),0)","v":0},{"$f":"IFERROR(VLOOKUP($A177,FILTRO!$A171:$AY796,16,FALSE),0)","v":0},{"$f":"IFERROR(VLOOKUP($A177,FILTRO!$A171:$AY796,17,FALSE),0)","v":0},{"$f":"IFERROR(VLOOKUP($A177,FILTRO!$A171:$AY796,18,FALSE),0)","v":0},{"$f":"IFERROR(VLOOKUP($A177,FILTRO!$A171:$AY796,19,FALSE),0)","v":0},{"$f":"IFERROR(VLOOKUP($A177,FILTRO!$A171:$AY796,20,FALSE),0)","v":0},{"$f":"IFERROR(VLOOKUP($A177,FILTRO!$A171:$AY796,21,FALSE),0)","v":0},{"$f":"IFERROR(VLOOKUP($A177,FILTRO!$A171:$AY796,22,FALSE),0)","v":0},{"$f":"IFERROR(VLOOKUP($A177,FILTRO!$A171:$AY796,23,FALSE),0)","v":0},{"$f":"IFERROR(VLOOKUP($A177,FILTRO!$A171:$AY796,24,FALSE),0)","v":0},{"$f":"IFERROR(VLOOKUP($A177,FILTRO!$A171:$AY796,25,FALSE),0)","v":0},{"$f":"IFERROR(VLOOKUP($A177,FILTRO!$A171:$AY796,26,FALSE),0)","v":0},{"$f":"IFERROR(VLOOKUP($A177,FILTRO!$A171:$AY796,27,FALSE),0)","v":0},{"$f":"IFERROR(VLOOKUP($A177,FILTRO!$A171:$AY796,28,FALSE),0)","v":0},{"$f":"IFERROR(VLOOKUP($A177,FILTRO!$A171:$AY796,29,FALSE),0)","v":0},{"$f":"IFERROR(VLOOKUP($A177,FILTRO!$A171:$AY796,30,FALSE),0)","v":0},{"$f":"IFERROR(VLOOKUP($A177,FILTRO!$A171:$AY796,31,FALSE),0)","v":0},{"$f":"IFERROR(VLOOKUP($A177,FILTRO!$A171:$AY796,32,FALSE),0)","v":0},{"$f":"IFERROR(VLOOKUP($A177,FILTRO!$A171:$AY796,33,FALSE),0)","v":0},{"$f":"IFERROR(VLOOKUP($A177,FILTRO!$A171:$AY796,34,FALSE),0)","v":0},{"$f":"IFERROR(VLOOKUP($A177,FILTRO!$A171:$AY796,35,FALSE),0)","v":0},{"$f":"IFERROR(VLOOKUP($A177,FILTRO!$A171:$AY796,36,FALSE),0)","v":0},{"$f":"IFERROR(VLOOKUP($A177,FILTRO!$A171:$AY796,37,FALSE),0)","v":0},{"$f":"IFERROR(VLOOKUP($A177,FILTRO!$A171:$AY796,38,FALSE),0)","v":0},{"$f":"IFERROR(VLOOKUP($A177,FILTRO!$A171:$AY796,39,FALSE),0)","v":0},{"$f":"IFERROR(VLOOKUP($A177,FILTRO!$A171:$AY796,40,FALSE),0)","v":0},{"$f":"IFERROR(VLOOKUP($A177,FILTRO!$A171:$AY796,41,FALSE),0)","v":0},{"$f":"IFERROR(VLOOKUP($A177,FILTRO!$A171:$AY796,42,FALSE),0)","v":0},{"$f":"IFERROR(VLOOKUP($A177,FILTRO!$A171:$AY796,43,FALSE),0)","v":0},{"$f":"IFERROR(VLOOKUP($A177,FILTRO!$A171:$AY796,44,FALSE),0)","v":0},{"$f":"IFERROR(VLOOKUP($A177,FILTRO!$A171:$AY796,45,FALSE),0)","v":0},{"$f":"IFERROR(VLOOKUP($A177,FILTRO!$A171:$AY796,46,FALSE),0)","v":0},""]
["P2501850","Estrabismo ","Estrabismo ",{"$f":"IFERROR(VLOOKUP($A178,FILTRO!$A172:$AY797,2,FALSE),0)","v":21},{"$f":"IFERROR(VLOOKUP($A178,FILTRO!$A172:$AY797,3,FALSE),0)","v":12},{"$f":"IFERROR(VLOOKUP($A178,FILTRO!$A172:$AY797,4,FALSE),0)","v":9},{"$f":"IFERROR(VLOOKUP($A178,FILTRO!$A172:$AY797,5,FALSE),0)","v":0},{"$f":"IFERROR(VLOOKUP($A178,FILTRO!$A172:$AY797,6,FALSE),0)","v":0},{"$f":"IFERROR(VLOOKUP($A178,FILTRO!$A172:$AY797,7,FALSE),0)","v":0},{"$f":"IFERROR(VLOOKUP($A178,FILTRO!$A172:$AY797,8,FALSE),0)","v":0},{"$f":"IFERROR(VLOOKUP($A178,FILTRO!$A172:$AY797,9,FALSE),0)","v":0},{"$f":"IFERROR(VLOOKUP($A178,FILTRO!$A172:$AY797,10,FALSE),0)","v":0},{"$f":"IFERROR(VLOOKUP($A178,FILTRO!$A172:$AY797,11,FALSE),0)","v":0},{"$f":"IFERROR(VLOOKUP($A178,FILTRO!$A172:$AY797,12,FALSE),0)","v":0},{"$f":"IFERROR(VLOOKUP($A178,FILTRO!$A172:$AY797,13,FALSE),0)","v":0},{"$f":"IFERROR(VLOOKUP($A178,FILTRO!$A172:$AY797,14,FALSE),0)","v":0},{"$f":"IFERROR(VLOOKUP($A178,FILTRO!$A172:$AY797,15,FALSE),0)","v":1},{"$f":"IFERROR(VLOOKUP($A178,FILTRO!$A172:$AY797,16,FALSE),0)","v":0},{"$f":"IFERROR(VLOOKUP($A178,FILTRO!$A172:$AY797,17,FALSE),0)","v":1},{"$f":"IFERROR(VLOOKUP($A178,FILTRO!$A172:$AY797,18,FALSE),0)","v":0},{"$f":"IFERROR(VLOOKUP($A178,FILTRO!$A172:$AY797,19,FALSE),0)","v":0},{"$f":"IFERROR(VLOOKUP($A178,FILTRO!$A172:$AY797,20,FALSE),0)","v":0},{"$f":"IFERROR(VLOOKUP($A178,FILTRO!$A172:$AY797,21,FALSE),0)","v":1},{"$f":"IFERROR(VLOOKUP($A178,FILTRO!$A172:$AY797,22,FALSE),0)","v":0},{"$f":"IFERROR(VLOOKUP($A178,FILTRO!$A172:$AY797,23,FALSE),0)","v":0},{"$f":"IFERROR(VLOOKUP($A178,FILTRO!$A172:$AY797,24,FALSE),0)","v":1},{"$f":"IFERROR(VLOOKUP($A178,FILTRO!$A172:$AY797,25,FALSE),0)","v":0},{"$f":"IFERROR(VLOOKUP($A178,FILTRO!$A172:$AY797,26,FALSE),0)","v":0},{"$f":"IFERROR(VLOOKUP($A178,FILTRO!$A172:$AY797,27,FALSE),0)","v":0},{"$f":"IFERROR(VLOOKUP($A178,FILTRO!$A172:$AY797,28,FALSE),0)","v":0},{"$f":"IFERROR(VLOOKUP($A178,FILTRO!$A172:$AY797,29,FALSE),0)","v":0},{"$f":"IFERROR(VLOOKUP($A178,FILTRO!$A172:$AY797,30,FALSE),0)","v":0},{"$f":"IFERROR(VLOOKUP($A178,FILTRO!$A172:$AY797,31,FALSE),0)","v":1},{"$f":"IFERROR(VLOOKUP($A178,FILTRO!$A172:$AY797,32,FALSE),0)","v":2},{"$f":"IFERROR(VLOOKUP($A178,FILTRO!$A172:$AY797,33,FALSE),0)","v":1},{"$f":"IFERROR(VLOOKUP($A178,FILTRO!$A172:$AY797,34,FALSE),0)","v":2},{"$f":"IFERROR(VLOOKUP($A178,FILTRO!$A172:$AY797,35,FALSE),0)","v":4},{"$f":"IFERROR(VLOOKUP($A178,FILTRO!$A172:$AY797,36,FALSE),0)","v":1},{"$f":"IFERROR(VLOOKUP($A178,FILTRO!$A172:$AY797,37,FALSE),0)","v":1},{"$f":"IFERROR(VLOOKUP($A178,FILTRO!$A172:$AY797,38,FALSE),0)","v":3},{"$f":"IFERROR(VLOOKUP($A178,FILTRO!$A172:$AY797,39,FALSE),0)","v":1},{"$f":"IFERROR(VLOOKUP($A178,FILTRO!$A172:$AY797,40,FALSE),0)","v":0},{"$f":"IFERROR(VLOOKUP($A178,FILTRO!$A172:$AY797,41,FALSE),0)","v":1},{"$f":"IFERROR(VLOOKUP($A178,FILTRO!$A172:$AY797,42,FALSE),0)","v":0},{"$f":"IFERROR(VLOOKUP($A178,FILTRO!$A172:$AY797,43,FALSE),0)","v":0},{"$f":"IFERROR(VLOOKUP($A178,FILTRO!$A172:$AY797,44,FALSE),0)","v":0},{"$f":"IFERROR(VLOOKUP($A178,FILTRO!$A172:$AY797,45,FALSE),0)","v":0},{"$f":"IFERROR(VLOOKUP($A178,FILTRO!$A172:$AY797,46,FALSE),0)","v":0},""]
["P2501851","Errores de refracción","Errores de refracción",{"$f":"IFERROR(VLOOKUP($A179,FILTRO!$A173:$AY798,2,FALSE),0)","v":6},{"$f":"IFERROR(VLOOKUP($A179,FILTRO!$A173:$AY798,3,FALSE),0)","v":2},{"$f":"IFERROR(VLOOKUP($A179,FILTRO!$A173:$AY798,4,FALSE),0)","v":4},{"$f":"IFERROR(VLOOKUP($A179,FILTRO!$A173:$AY798,5,FALSE),0)","v":0},{"$f":"IFERROR(VLOOKUP($A179,FILTRO!$A173:$AY798,6,FALSE),0)","v":0},{"$f":"IFERROR(VLOOKUP($A179,FILTRO!$A173:$AY798,7,FALSE),0)","v":0},{"$f":"IFERROR(VLOOKUP($A179,FILTRO!$A173:$AY798,8,FALSE),0)","v":0},{"$f":"IFERROR(VLOOKUP($A179,FILTRO!$A173:$AY798,9,FALSE),0)","v":0},{"$f":"IFERROR(VLOOKUP($A179,FILTRO!$A173:$AY798,10,FALSE),0)","v":0},{"$f":"IFERROR(VLOOKUP($A179,FILTRO!$A173:$AY798,11,FALSE),0)","v":0},{"$f":"IFERROR(VLOOKUP($A179,FILTRO!$A173:$AY798,12,FALSE),0)","v":0},{"$f":"IFERROR(VLOOKUP($A179,FILTRO!$A173:$AY798,13,FALSE),0)","v":0},{"$f":"IFERROR(VLOOKUP($A179,FILTRO!$A173:$AY798,14,FALSE),0)","v":0},{"$f":"IFERROR(VLOOKUP($A179,FILTRO!$A173:$AY798,15,FALSE),0)","v":0},{"$f":"IFERROR(VLOOKUP($A179,FILTRO!$A173:$AY798,16,FALSE),0)","v":0},{"$f":"IFERROR(VLOOKUP($A179,FILTRO!$A173:$AY798,17,FALSE),0)","v":0},{"$f":"IFERROR(VLOOKUP($A179,FILTRO!$A173:$AY798,18,FALSE),0)","v":0},{"$f":"IFERROR(VLOOKUP($A179,FILTRO!$A173:$AY798,19,FALSE),0)","v":0},{"$f":"IFERROR(VLOOKUP($A179,FILTRO!$A173:$AY798,20,FALSE),0)","v":0},{"$f":"IFERROR(VLOOKUP($A179,FILTRO!$A173:$AY798,21,FALSE),0)","v":0},{"$f":"IFERROR(VLOOKUP($A179,FILTRO!$A173:$AY798,22,FALSE),0)","v":0},{"$f":"IFERROR(VLOOKUP($A179,FILTRO!$A173:$AY798,23,FALSE),0)","v":0},{"$f":"IFERROR(VLOOKUP($A179,FILTRO!$A173:$AY798,24,FALSE),0)","v":0},{"$f":"IFERROR(VLOOKUP($A179,FILTRO!$A173:$AY798,25,FALSE),0)","v":0},{"$f":"IFERROR(VLOOKUP($A179,FILTRO!$A173:$AY798,26,FALSE),0)","v":0},{"$f":"IFERROR(VLOOKUP($A179,FILTRO!$A173:$AY798,27,FALSE),0)","v":0},{"$f":"IFERROR(VLOOKUP($A179,FILTRO!$A173:$AY798,28,FALSE),0)","v":0},{"$f":"IFERROR(VLOOKUP($A179,FILTRO!$A173:$AY798,29,FALSE),0)","v":0},{"$f":"IFERROR(VLOOKUP($A179,FILTRO!$A173:$AY798,30,FALSE),0)","v":0},{"$f":"IFERROR(VLOOKUP($A179,FILTRO!$A173:$AY798,31,FALSE),0)","v":0},{"$f":"IFERROR(VLOOKUP($A179,FILTRO!$A173:$AY798,32,FALSE),0)","v":1},{"$f":"IFERROR(VLOOKUP($A179,FILTRO!$A173:$AY798,33,FALSE),0)","v":0},{"$f":"IFERROR(VLOOKUP($A179,FILTRO!$A173:$AY798,34,FALSE),0)","v":0},{"$f":"IFERROR(VLOOKUP($A179,FILTRO!$A173:$AY798,35,FALSE),0)","v":0},{"$f":"IFERROR(VLOOKUP($A179,FILTRO!$A173:$AY798,36,FALSE),0)","v":1},{"$f":"IFERROR(VLOOKUP($A179,FILTRO!$A173:$AY798,37,FALSE),0)","v":1},{"$f":"IFERROR(VLOOKUP($A179,FILTRO!$A173:$AY798,38,FALSE),0)","v":1},{"$f":"IFERROR(VLOOKUP($A179,FILTRO!$A173:$AY798,39,FALSE),0)","v":0},{"$f":"IFERROR(VLOOKUP($A179,FILTRO!$A173:$AY798,40,FALSE),0)","v":1},{"$f":"IFERROR(VLOOKUP($A179,FILTRO!$A173:$AY798,41,FALSE),0)","v":1},{"$f":"IFERROR(VLOOKUP($A179,FILTRO!$A173:$AY798,42,FALSE),0)","v":0},{"$f":"IFERROR(VLOOKUP($A179,FILTRO!$A173:$AY798,43,FALSE),0)","v":0},{"$f":"IFERROR(VLOOKUP($A179,FILTRO!$A173:$AY798,44,FALSE),0)","v":0},{"$f":"IFERROR(VLOOKUP($A179,FILTRO!$A173:$AY798,45,FALSE),0)","v":0},{"$f":"IFERROR(VLOOKUP($A179,FILTRO!$A173:$AY798,46,FALSE),0)","v":0},""]
["P2501852","Otras Enfermedades crónicas neurológicas (No incluye síndrome de Rett, Paráisis Cerebral, Epilepsia, TEA)","Otras Enfermedades crónicas neurológicas (No incluye síndrome de Rett, Parálisis Cerebral, Epiepsia, TEA)",{"$f":"IFERROR(VLOOKUP($A180,FILTRO!$A174:$AY799,2,FALSE),0)","v":24},{"$f":"IFERROR(VLOOKUP($A180,FILTRO!$A174:$AY799,3,FALSE),0)","v":15},{"$f":"IFERROR(VLOOKUP($A180,FILTRO!$A174:$AY799,4,FALSE),0)","v":9},{"$f":"IFERROR(VLOOKUP($A180,FILTRO!$A174:$AY799,5,FALSE),0)","v":0},{"$f":"IFERROR(VLOOKUP($A180,FILTRO!$A174:$AY799,6,FALSE),0)","v":0},{"$f":"IFERROR(VLOOKUP($A180,FILTRO!$A174:$AY799,7,FALSE),0)","v":0},{"$f":"IFERROR(VLOOKUP($A180,FILTRO!$A174:$AY799,8,FALSE),0)","v":0},{"$f":"IFERROR(VLOOKUP($A180,FILTRO!$A174:$AY799,9,FALSE),0)","v":0},{"$f":"IFERROR(VLOOKUP($A180,FILTRO!$A174:$AY799,10,FALSE),0)","v":0},{"$f":"IFERROR(VLOOKUP($A180,FILTRO!$A174:$AY799,11,FALSE),0)","v":0},{"$f":"IFERROR(VLOOKUP($A180,FILTRO!$A174:$AY799,12,FALSE),0)","v":0},{"$f":"IFERROR(VLOOKUP($A180,FILTRO!$A174:$AY799,13,FALSE),0)","v":0},{"$f":"IFERROR(VLOOKUP($A180,FILTRO!$A174:$AY799,14,FALSE),0)","v":0},{"$f":"IFERROR(VLOOKUP($A180,FILTRO!$A174:$AY799,15,FALSE),0)","v":0},{"$f":"IFERROR(VLOOKUP($A180,FILTRO!$A174:$AY799,16,FALSE),0)","v":0},{"$f":"IFERROR(VLOOKUP($A180,FILTRO!$A174:$AY799,17,FALSE),0)","v":0},{"$f":"IFERROR(VLOOKUP($A180,FILTRO!$A174:$AY799,18,FALSE),0)","v":2},{"$f":"IFERROR(VLOOKUP($A180,FILTRO!$A174:$AY799,19,FALSE),0)","v":1},{"$f":"IFERROR(VLOOKUP($A180,FILTRO!$A174:$AY799,20,FALSE),0)","v":0},{"$f":"IFERROR(VLOOKUP($A180,FILTRO!$A174:$AY799,21,FALSE),0)","v":1},{"$f":"IFERROR(VLOOKUP($A180,FILTRO!$A174:$AY799,22,FALSE),0)","v":0},{"$f":"IFERROR(VLOOKUP($A180,FILTRO!$A174:$AY799,23,FALSE),0)","v":0},{"$f":"IFERROR(VLOOKUP($A180,FILTRO!$A174:$AY799,24,FALSE),0)","v":0},{"$f":"IFERROR(VLOOKUP($A180,FILTRO!$A174:$AY799,25,FALSE),0)","v":1},{"$f":"IFERROR(VLOOKUP($A180,FILTRO!$A174:$AY799,26,FALSE),0)","v":4},{"$f":"IFERROR(VLOOKUP($A180,FILTRO!$A174:$AY799,27,FALSE),0)","v":0},{"$f":"IFERROR(VLOOKUP($A180,FILTRO!$A174:$AY799,28,FALSE),0)","v":0},{"$f":"IFERROR(VLOOKUP($A180,FILTRO!$A174:$AY799,29,FALSE),0)","v":0},{"$f":"IFERROR(VLOOKUP($A180,FILTRO!$A174:$AY799,30,FALSE),0)","v":0},{"$f":"IFERROR(VLOOKUP($A180,FILTRO!$A174:$AY799,31,FALSE),0)","v":2},{"$f":"IFERROR(VLOOKUP($A180,FILTRO!$A174:$AY799,32,FALSE),0)","v":0},{"$f":"IFERROR(VLOOKUP($A180,FILTRO!$A174:$AY799,33,FALSE),0)","v":2},{"$f":"IFERROR(VLOOKUP($A180,FILTRO!$A174:$AY799,34,FALSE),0)","v":1},{"$f":"IFERROR(VLOOKUP($A180,FILTRO!$A174:$AY799,35,FALSE),0)","v":4},{"$f":"IFERROR(VLOOKUP($A180,FILTRO!$A174:$AY799,36,FALSE),0)","v":0},{"$f":"IFERROR(VLOOKUP($A180,FILTRO!$A174:$AY799,37,FALSE),0)","v":0},{"$f":"IFERROR(VLOOKUP($A180,FILTRO!$A174:$AY799,38,FALSE),0)","v":2},{"$f":"IFERROR(VLOOKUP($A180,FILTRO!$A174:$AY799,39,FALSE),0)","v":1},{"$f":"IFERROR(VLOOKUP($A180,FILTRO!$A174:$AY799,40,FALSE),0)","v":0},{"$f":"IFERROR(VLOOKUP($A180,FILTRO!$A174:$AY799,41,FALSE),0)","v":3},{"$f":"IFERROR(VLOOKUP($A180,FILTRO!$A174:$AY799,42,FALSE),0)","v":0},{"$f":"IFERROR(VLOOKUP($A180,FILTRO!$A174:$AY799,43,FALSE),0)","v":0},{"$f":"IFERROR(VLOOKUP($A180,FILTRO!$A174:$AY799,44,FALSE),0)","v":0},{"$f":"IFERROR(VLOOKUP($A180,FILTRO!$A174:$AY799,45,FALSE),0)","v":0},{"$f":"IFERROR(VLOOKUP($A180,FILTRO!$A174:$AY799,46,FALSE),0)","v":0},{"$f":"CG180&CH180&CI180&CJ180","v":""},{"$nulls":35},{"$f":"IF(DF180=1,\"* No olvide escribir en las celdas de \"\"Pueblos Originarios\"\" (Digite Cero si no tiene).\",\"\")","v":""},{"$f":"IF(DG180=1,\"* No olvide escribir en las celdas de \"\"Población Migrante\"\" (Digite Cero si no tiene).\",\"\")","v":""},{"$f":"IF(DH180=1,\"* La suma de las celdas de \"\"Pueblos Originarios\"\"no debe superar el Total.\",\"\")","v":""},{"$f":"IF(DI180=1,\"* La suma de las celdas de \"\"Población Migrante\"\" no debe superar el Total.\",\"\")","v":""},{"$nulls":21},{"$f":"IF(AND($D180<>0,OR(AS180=\"\",AT180=\"\")),1,0)","v":0},{"$f":"IF(AND($D180<>0,OR(AU180=\"\",AV180=\"\")),1,0)","v":0},{"$f":"IF((AS180+AT180)>$D180,1,0)","v":0},{"$f":"IF((AV180+AU180)>$D180,1,0)","v":0}]
["P2501853","Disrrafias espinales","Disrafias espinales",{"$f":"IFERROR(VLOOKUP($A181,FILTRO!$A175:$AY800,2,FALSE),0)","v":1},{"$f":"IFERROR(VLOOKUP($A181,FILTRO!$A175:$AY800,3,FALSE),0)","v":0},{"$f":"IFERROR(VLOOKUP($A181,FILTRO!$A175:$AY800,4,FALSE),0)","v":1},{"$f":"IFERROR(VLOOKUP($A181,FILTRO!$A175:$AY800,5,FALSE),0)","v":0},{"$f":"IFERROR(VLOOKUP($A181,FILTRO!$A175:$AY800,6,FALSE),0)","v":0},{"$f":"IFERROR(VLOOKUP($A181,FILTRO!$A175:$AY800,7,FALSE),0)","v":0},{"$f":"IFERROR(VLOOKUP($A181,FILTRO!$A175:$AY800,8,FALSE),0)","v":0},{"$f":"IFERROR(VLOOKUP($A181,FILTRO!$A175:$AY800,9,FALSE),0)","v":0},{"$f":"IFERROR(VLOOKUP($A181,FILTRO!$A175:$AY800,10,FALSE),0)","v":0},{"$f":"IFERROR(VLOOKUP($A181,FILTRO!$A175:$AY800,11,FALSE),0)","v":0},{"$f":"IFERROR(VLOOKUP($A181,FILTRO!$A175:$AY800,12,FALSE),0)","v":0},{"$f":"IFERROR(VLOOKUP($A181,FILTRO!$A175:$AY800,13,FALSE),0)","v":0},{"$f":"IFERROR(VLOOKUP($A181,FILTRO!$A175:$AY800,14,FALSE),0)","v":0},{"$f":"IFERROR(VLOOKUP($A181,FILTRO!$A175:$AY800,15,FALSE),0)","v":0},{"$f":"IFERROR(VLOOKUP($A181,FILTRO!$A175:$AY800,16,FALSE),0)","v":0},{"$f":"IFERROR(VLOOKUP($A181,FILTRO!$A175:$AY800,17,FALSE),0)","v":0},{"$f":"IFERROR(VLOOKUP($A181,FILTRO!$A175:$AY800,18,FALSE),0)","v":0},{"$f":"IFERROR(VLOOKUP($A181,FILTRO!$A175:$AY800,19,FALSE),0)","v":0},{"$f":"IFERROR(VLOOKUP($A181,FILTRO!$A175:$AY800,20,FALSE),0)","v":0},{"$f":"IFERROR(VLOOKUP($A181,FILTRO!$A175:$AY800,21,FALSE),0)","v":0},{"$f":"IFERROR(VLOOKUP($A181,FILTRO!$A175:$AY800,22,FALSE),0)","v":1},{"$f":"IFERROR(VLOOKUP($A181,FILTRO!$A175:$AY800,23,FALSE),0)","v":0},{"$f":"IFERROR(VLOOKUP($A181,FILTRO!$A175:$AY800,24,FALSE),0)","v":0},{"$f":"IFERROR(VLOOKUP($A181,FILTRO!$A175:$AY800,25,FALSE),0)","v":0},{"$f":"IFERROR(VLOOKUP($A181,FILTRO!$A175:$AY800,26,FALSE),0)","v":0},{"$f":"IFERROR(VLOOKUP($A181,FILTRO!$A175:$AY800,27,FALSE),0)","v":0},{"$f":"IFERROR(VLOOKUP($A181,FILTRO!$A175:$AY800,28,FALSE),0)","v":0},{"$f":"IFERROR(VLOOKUP($A181,FILTRO!$A175:$AY800,29,FALSE),0)","v":0},{"$f":"IFERROR(VLOOKUP($A181,FILTRO!$A175:$AY800,30,FALSE),0)","v":0},{"$f":"IFERROR(VLOOKUP($A181,FILTRO!$A175:$AY800,31,FALSE),0)","v":0},{"$f":"IFERROR(VLOOKUP($A181,FILTRO!$A175:$AY800,32,FALSE),0)","v":0},{"$f":"IFERROR(VLOOKUP($A181,FILTRO!$A175:$AY800,33,FALSE),0)","v":0},{"$f":"IFERROR(VLOOKUP($A181,FILTRO!$A175:$AY800,34,FALSE),0)","v":0},{"$f":"IFERROR(VLOOKUP($A181,FILTRO!$A175:$AY800,35,FALSE),0)","v":0},{"$f":"IFERROR(VLOOKUP($A181,FILTRO!$A175:$AY800,36,FALSE),0)","v":0},{"$f":"IFERROR(VLOOKUP($A181,FILTRO!$A175:$AY800,37,FALSE),0)","v":0},{"$f":"IFERROR(VLOOKUP($A181,FILTRO!$A175:$AY800,38,FALSE),0)","v":0},{"$f":"IFERROR(VLOOKUP($A181,FILTRO!$A175:$AY800,39,FALSE),0)","v":0},{"$f":"IFERROR(VLOOKUP($A181,FILTRO!$A175:$AY800,40,FALSE),0)","v":0},{"$f":"IFERROR(VLOOKUP($A181,FILTRO!$A175:$AY800,41,FALSE),0)","v":0},{"$f":"IFERROR(VLOOKUP($A181,FILTRO!$A175:$AY800,42,FALSE),0)","v":0},{"$f":"IFERROR(VLOOKUP($A181,FILTRO!$A175:$AY800,43,FALSE),0)","v":0},{"$f":"IFERROR(VLOOKUP($A181,FILTRO!$A175:$AY800,44,FALSE),0)","v":0},{"$f":"IFERROR(VLOOKUP($A181,FILTRO!$A175:$AY800,45,FALSE),0)","v":0},{"$f":"IFERROR(VLOOKUP($A181,FILTRO!$A175:$AY800,46,FALSE),0)","v":0},"",{"$nulls":35},{"$f":"IF(DF181=1,\"* No olvide escribir en las celdas de \"\"Pueblos Originarios\"\" (Digite Cero si no tiene).\",\"\")","v":""},{"$f":"IF(DG181=1,\"* No olvide escribir en las celdas de \"\"Población Migrante\"\" (Digite Cero si no tiene).\",\"\")","v":""},{"$f":"IF(DH181=1,\"* La suma de las celdas de \"\"Pueblos Originarios\"\"no debe superar el Total.\",\"\")","v":""},{"$f":"IF(DI181=1,\"* La suma de las celdas de \"\"Población Migrante\"\" no debe superar el Total.\",\"\")","v":""},{"$nulls":21},{"$f":"IF(AND($D181<>0,OR(AS181=\"\",AT181=\"\")),1,0)","v":0},{"$f":"IF(AND($D181<>0,OR(AU181=\"\",AV181=\"\")),1,0)","v":0},{"$f":"IF((AS181+AT181)>$D181,1,0)","v":0},{"$f":"IF((AV181+AU181)>$D181,1,0)","v":0}]
["P2501854","Escoliosis","Escoliosis",{"$f":"IFERROR(VLOOKUP($A182,FILTRO!$A176:$AY801,2,FALSE),0)","v":7},{"$f":"IFERROR(VLOOKUP($A182,FILTRO!$A176:$AY801,3,FALSE),0)","v":3},{"$f":"IFERROR(VLOOKUP($A182,FILTRO!$A176:$AY801,4,FALSE),0)","v":4},{"$f":"IFERROR(VLOOKUP($A182,FILTRO!$A176:$AY801,5,FALSE),0)","v":0},{"$f":"IFERROR(VLOOKUP($A182,FILTRO!$A176:$AY801,6,FALSE),0)","v":0},{"$f":"IFERROR(VLOOKUP($A182,FILTRO!$A176:$AY801,7,FALSE),0)","v":0},{"$f":"IFERROR(VLOOKUP($A182,FILTRO!$A176:$AY801,8,FALSE),0)","v":0},{"$f":"IFERROR(VLOOKUP($A182,FILTRO!$A176:$AY801,9,FALSE),0)","v":0},{"$f":"IFERROR(VLOOKUP($A182,FILTRO!$A176:$AY801,10,FALSE),0)","v":0},{"$f":"IFERROR(VLOOKUP($A182,FILTRO!$A176:$AY801,11,FALSE),0)","v":0},{"$f":"IFERROR(VLOOKUP($A182,FILTRO!$A176:$AY801,12,FALSE),0)","v":0},{"$f":"IFERROR(VLOOKUP($A182,FILTRO!$A176:$AY801,13,FALSE),0)","v":0},{"$f":"IFERROR(VLOOKUP($A182,FILTRO!$A176:$AY801,14,FALSE),0)","v":0},{"$f":"IFERROR(VLOOKUP($A182,FILTRO!$A176:$AY801,15,FALSE),0)","v":0},{"$f":"IFERROR(VLOOKUP($A182,FILTRO!$A176:$AY801,16,FALSE),0)","v":0},{"$f":"IFERROR(VLOOKUP($A182,FILTRO!$A176:$AY801,17,FALSE),0)","v":0},{"$f":"IFERROR(VLOOKUP($A182,FILTRO!$A176:$AY801,18,FALSE),0)","v":0},{"$f":"IFERROR(VLOOKUP($A182,FILTRO!$A176:$AY801,19,FALSE),0)","v":0},{"$f":"IFERROR(VLOOKUP($A182,FILTRO!$A176:$AY801,20,FALSE),0)","v":0},{"$f":"IFERROR(VLOOKUP($A182,FILTRO!$A176:$AY801,21,FALSE),0)","v":0},{"$f":"IFERROR(VLOOKUP($A182,FILTRO!$A176:$AY801,22,FALSE),0)","v":0},{"$f":"IFERROR(VLOOKUP($A182,FILTRO!$A176:$AY801,23,FALSE),0)","v":0},{"$f":"IFERROR(VLOOKUP($A182,FILTRO!$A176:$AY801,24,FALSE),0)","v":0},{"$f":"IFERROR(VLOOKUP($A182,FILTRO!$A176:$AY801,25,FALSE),0)","v":0},{"$f":"IFERROR(VLOOKUP($A182,FILTRO!$A176:$AY801,26,FALSE),0)","v":0},{"$f":"IFERROR(VLOOKUP($A182,FILTRO!$A176:$AY801,27,FALSE),0)","v":1},{"$f":"IFERROR(VLOOKUP($A182,FILTRO!$A176:$AY801,28,FALSE),0)","v":0},{"$f":"IFERROR(VLOOKUP($A182,FILTRO!$A176:$AY801,29,FALSE),0)","v":0},{"$f":"IFERROR(VLOOKUP($A182,FILTRO!$A176:$AY801,30,FALSE),0)","v":0},{"$f":"IFERROR(VLOOKUP($A182,FILTRO!$A176:$AY801,31,FALSE),0)","v":0},{"$f":"IFERROR(VLOOKUP($A182,FILTRO!$A176:$AY801,32,FALSE),0)","v":0},{"$f":"IFERROR(VLOOKUP($A182,FILTRO!$A176:$AY801,33,FALSE),0)","v":0},{"$f":"IFERROR(VLOOKUP($A182,FILTRO!$A176:$AY801,34,FALSE),0)","v":0},{"$f":"IFERROR(VLOOKUP($A182,FILTRO!$A176:$AY801,35,FALSE),0)","v":0},{"$f":"IFERROR(VLOOKUP($A182,FILTRO!$A176:$AY801,36,FALSE),0)","v":0},{"$f":"IFERROR(VLOOKUP($A182,FILTRO!$A176:$AY801,37,FALSE),0)","v":0},{"$f":"IFERROR(VLOOKUP($A182,FILTRO!$A176:$AY801,38,FALSE),0)","v":1},{"$f":"IFERROR(VLOOKUP($A182,FILTRO!$A176:$AY801,39,FALSE),0)","v":0},{"$f":"IFERROR(VLOOKUP($A182,FILTRO!$A176:$AY801,40,FALSE),0)","v":3},{"$f":"IFERROR(VLOOKUP($A182,FILTRO!$A176:$AY801,41,FALSE),0)","v":2},{"$f":"IFERROR(VLOOKUP($A182,FILTRO!$A176:$AY801,42,FALSE),0)","v":0},{"$f":"IFERROR(VLOOKUP($A182,FILTRO!$A176:$AY801,43,FALSE),0)","v":0},{"$f":"IFERROR(VLOOKUP($A182,FILTRO!$A176:$AY801,44,FALSE),0)","v":0},{"$f":"IFERROR(VLOOKUP($A182,FILTRO!$A176:$AY801,45,FALSE),0)","v":0},{"$f":"IFERROR(VLOOKUP($A182,FILTRO!$A176:$AY801,46,FALSE),0)","v":0},""]
["P2501855","Displasia luxante de caderas","Displasia luxante de caderas",{"$f":"IFERROR(VLOOKUP($A183,FILTRO!$A177:$AY802,2,FALSE),0)","v":34},{"$f":"IFERROR(VLOOKUP($A183,FILTRO!$A177:$AY802,3,FALSE),0)","v":10},{"$f":"IFERROR(VLOOKUP($A183,FILTRO!$A177:$AY802,4,FALSE),0)","v":24},{"$f":"IFERROR(VLOOKUP($A183,FILTRO!$A177:$AY802,5,FALSE),0)","v":0},{"$f":"IFERROR(VLOOKUP($A183,FILTRO!$A177:$AY802,6,FALSE),0)","v":0},{"$f":"IFERROR(VLOOKUP($A183,FILTRO!$A177:$AY802,7,FALSE),0)","v":0},{"$f":"IFERROR(VLOOKUP($A183,FILTRO!$A177:$AY802,8,FALSE),0)","v":0},{"$f":"IFERROR(VLOOKUP($A183,FILTRO!$A177:$AY802,9,FALSE),0)","v":0},{"$f":"IFERROR(VLOOKUP($A183,FILTRO!$A177:$AY802,10,FALSE),0)","v":0},{"$f":"IFERROR(VLOOKUP($A183,FILTRO!$A177:$AY802,11,FALSE),0)","v":0},{"$f":"IFERROR(VLOOKUP($A183,FILTRO!$A177:$AY802,12,FALSE),0)","v":3},{"$f":"IFERROR(VLOOKUP($A183,FILTRO!$A177:$AY802,13,FALSE),0)","v":2},{"$f":"IFERROR(VLOOKUP($A183,FILTRO!$A177:$AY802,14,FALSE),0)","v":0},{"$f":"IFERROR(VLOOKUP($A183,FILTRO!$A177:$AY802,15,FALSE),0)","v":2},{"$f":"IFERROR(VLOOKUP($A183,FILTRO!$A177:$AY802,16,FALSE),0)","v":5},{"$f":"IFERROR(VLOOKUP($A183,FILTRO!$A177:$AY802,17,FALSE),0)","v":1},{"$f":"IFERROR(VLOOKUP($A183,FILTRO!$A177:$AY802,18,FALSE),0)","v":3},{"$f":"IFERROR(VLOOKUP($A183,FILTRO!$A177:$AY802,19,FALSE),0)","v":4},{"$f":"IFERROR(VLOOKUP($A183,FILTRO!$A177:$AY802,20,FALSE),0)","v":7},{"$f":"IFERROR(VLOOKUP($A183,FILTRO!$A177:$AY802,21,FALSE),0)","v":0},{"$f":"IFERROR(VLOOKUP($A183,FILTRO!$A177:$AY802,22,FALSE),0)","v":3},{"$f":"IFERROR(VLOOKUP($A183,FILTRO!$A177:$AY802,23,FALSE),0)","v":0},{"$f":"IFERROR(VLOOKUP($A183,FILTRO!$A177:$AY802,24,FALSE),0)","v":0},{"$f":"IFERROR(VLOOKUP($A183,FILTRO!$A177:$AY802,25,FALSE),0)","v":0},{"$f":"IFERROR(VLOOKUP($A183,FILTRO!$A177:$AY802,26,FALSE),0)","v":0},{"$f":"IFERROR(VLOOKUP($A183,FILTRO!$A177:$AY802,27,FALSE),0)","v":0},{"$f":"IFERROR(VLOOKUP($A183,FILTRO!$A177:$AY802,28,FALSE),0)","v":0},{"$f":"IFERROR(VLOOKUP($A183,FILTRO!$A177:$AY802,29,FALSE),0)","v":0},{"$f":"IFERROR(VLOOKUP($A183,FILTRO!$A177:$AY802,30,FALSE),0)","v":0},{"$f":"IFERROR(VLOOKUP($A183,FILTRO!$A177:$AY802,31,FALSE),0)","v":0},{"$f":"IFERROR(VLOOKUP($A183,FILTRO!$A177:$AY802,32,FALSE),0)","v":1},{"$f":"IFERROR(VLOOKUP($A183,FILTRO!$A177:$AY802,33,FALSE),0)","v":0},{"$f":"IFERROR(VLOOKUP($A183,FILTRO!$A177:$AY802,34,FALSE),0)","v":0},{"$f":"IFERROR(VLOOKUP($A183,FILTRO!$A177:$AY802,35,FALSE),0)","v":0},{"$f":"IFERROR(VLOOKUP($A183,FILTRO!$A177:$AY802,36,FALSE),0)","v":1},{"$f":"IFERROR(VLOOKUP($A183,FILTRO!$A177:$AY802,37,FALSE),0)","v":1},{"$f":"IFERROR(VLOOKUP($A183,FILTRO!$A177:$AY802,38,FALSE),0)","v":0},{"$f":"IFERROR(VLOOKUP($A183,FILTRO!$A177:$AY802,39,FALSE),0)","v":0},{"$f":"IFERROR(VLOOKUP($A183,FILTRO!$A177:$AY802,40,FALSE),0)","v":1},{"$f":"IFERROR(VLOOKUP($A183,FILTRO!$A177:$AY802,41,FALSE),0)","v":0},{"$f":"IFERROR(VLOOKUP($A183,FILTRO!$A177:$AY802,42,FALSE),0)","v":0},{"$f":"IFERROR(VLOOKUP($A183,FILTRO!$A177:$AY802,43,FALSE),0)","v":0},{"$f":"IFERROR(VLOOKUP($A183,FILTRO!$A177:$AY802,44,FALSE),0)","v":0},{"$f":"IFERROR(VLOOKUP($A183,FILTRO!$A177:$AY802,45,FALSE),0)","v":0},{"$f":"IFERROR(VLOOKUP($A183,FILTRO!$A177:$AY802,46,FALSE),0)","v":0},"",{"$nulls":35},{"$f":"IF(DF183=1,\"* No olvide escribir en las celdas de \"\"Pueblos Originarios\"\" (Digite Cero si no tiene).\",\"\")","v":""},{"$f":"IF(DG183=1,\"* No olvide escribir en las celdas de \"\"Población Migrante\"\" (Digite Cero si no tiene).\",\"\")","v":""},{"$f":"IF(DH183=1,\"* La suma de las celdas de \"\"Pueblos Originarios\"\"no debe superar el Total.\",\"\")","v":""},{"$f":"IF(DI183=1,\"* La suma de las celdas de \"\"Población Migrante\"\" no debe superar el Total.\",\"\")","v":""},{"$nulls":21},{"$f":"IF(AND($D183<>0,OR(AS183=\"\",AT183=\"\")),1,0)","v":0},{"$f":"IF(AND($D183<>0,OR(AU183=\"\",AV183=\"\")),1,0)","v":0},{"$f":"IF((AS183+AT183)>$D183,1,0)","v":0},{"$f":"IF((AV183+AU183)>$D183,1,0)","v":0}]
["P2501856","Cuidados paliativos","Cuidados paliativos",{"$f":"IFERROR(VLOOKUP($A184,FILTRO!$A178:$AY803,2,FALSE),0)","v":0},{"$f":"IFERROR(VLOOKUP($A184,FILTRO!$A178:$AY803,3,FALSE),0)","v":0},{"$f":"IFERROR(VLOOKUP($A184,FILTRO!$A178:$AY803,4,FALSE),0)","v":0},{"$f":"IFERROR(VLOOKUP($A184,FILTRO!$A178:$AY803,5,FALSE),0)","v":0},{"$f":"IFERROR(VLOOKUP($A184,FILTRO!$A178:$AY803,6,FALSE),0)","v":0},{"$f":"IFERROR(VLOOKUP($A184,FILTRO!$A178:$AY803,7,FALSE),0)","v":0},{"$f":"IFERROR(VLOOKUP($A184,FILTRO!$A178:$AY803,8,FALSE),0)","v":0},{"$f":"IFERROR(VLOOKUP($A184,FILTRO!$A178:$AY803,9,FALSE),0)","v":0},{"$f":"IFERROR(VLOOKUP($A184,FILTRO!$A178:$AY803,10,FALSE),0)","v":0},{"$f":"IFERROR(VLOOKUP($A184,FILTRO!$A178:$AY803,11,FALSE),0)","v":0},{"$f":"IFERROR(VLOOKUP($A184,FILTRO!$A178:$AY803,12,FALSE),0)","v":0},{"$f":"IFERROR(VLOOKUP($A184,FILTRO!$A178:$AY803,13,FALSE),0)","v":0},{"$f":"IFERROR(VLOOKUP($A184,FILTRO!$A178:$AY803,14,FALSE),0)","v":0},{"$f":"IFERROR(VLOOKUP($A184,FILTRO!$A178:$AY803,15,FALSE),0)","v":0},{"$f":"IFERROR(VLOOKUP($A184,FILTRO!$A178:$AY803,16,FALSE),0)","v":0},{"$f":"IFERROR(VLOOKUP($A184,FILTRO!$A178:$AY803,17,FALSE),0)","v":0},{"$f":"IFERROR(VLOOKUP($A184,FILTRO!$A178:$AY803,18,FALSE),0)","v":0},{"$f":"IFERROR(VLOOKUP($A184,FILTRO!$A178:$AY803,19,FALSE),0)","v":0},{"$f":"IFERROR(VLOOKUP($A184,FILTRO!$A178:$AY803,20,FALSE),0)","v":0},{"$f":"IFERROR(VLOOKUP($A184,FILTRO!$A178:$AY803,21,FALSE),0)","v":0},{"$f":"IFERROR(VLOOKUP($A184,FILTRO!$A178:$AY803,22,FALSE),0)","v":0},{"$f":"IFERROR(VLOOKUP($A184,FILTRO!$A178:$AY803,23,FALSE),0)","v":0},{"$f":"IFERROR(VLOOKUP($A184,FILTRO!$A178:$AY803,24,FALSE),0)","v":0},{"$f":"IFERROR(VLOOKUP($A184,FILTRO!$A178:$AY803,25,FALSE),0)","v":0},{"$f":"IFERROR(VLOOKUP($A184,FILTRO!$A178:$AY803,26,FALSE),0)","v":0},{"$f":"IFERROR(VLOOKUP($A184,FILTRO!$A178:$AY803,27,FALSE),0)","v":0},{"$f":"IFERROR(VLOOKUP($A184,FILTRO!$A178:$AY803,28,FALSE),0)","v":0},{"$f":"IFERROR(VLOOKUP($A184,FILTRO!$A178:$AY803,29,FALSE),0)","v":0},{"$f":"IFERROR(VLOOKUP($A184,FILTRO!$A178:$AY803,30,FALSE),0)","v":0},{"$f":"IFERROR(VLOOKUP($A184,FILTRO!$A178:$AY803,31,FALSE),0)","v":0},{"$f":"IFERROR(VLOOKUP($A184,FILTRO!$A178:$AY803,32,FALSE),0)","v":0},{"$f":"IFERROR(VLOOKUP($A184,FILTRO!$A178:$AY803,33,FALSE),0)","v":0},{"$f":"IFERROR(VLOOKUP($A184,FILTRO!$A178:$AY803,34,FALSE),0)","v":0},{"$f":"IFERROR(VLOOKUP($A184,FILTRO!$A178:$AY803,35,FALSE),0)","v":0},{"$f":"IFERROR(VLOOKUP($A184,FILTRO!$A178:$AY803,36,FALSE),0)","v":0},{"$f":"IFERROR(VLOOKUP($A184,FILTRO!$A178:$AY803,37,FALSE),0)","v":0},{"$f":"IFERROR(VLOOKUP($A184,FILTRO!$A178:$AY803,38,FALSE),0)","v":0},{"$f":"IFERROR(VLOOKUP($A184,FILTRO!$A178:$AY803,39,FALSE),0)","v":0},{"$f":"IFERROR(VLOOKUP($A184,FILTRO!$A178:$AY803,40,FALSE),0)","v":0},{"$f":"IFERROR(VLOOKUP($A184,FILTRO!$A178:$AY803,41,FALSE),0)","v":0},{"$f":"IFERROR(VLOOKUP($A184,FILTRO!$A178:$AY803,42,FALSE),0)","v":0},{"$f":"IFERROR(VLOOKUP($A184,FILTRO!$A178:$AY803,43,FALSE),0)","v":0},{"$f":"IFERROR(VLOOKUP($A184,FILTRO!$A178:$AY803,44,FALSE),0)","v":0},{"$f":"IFERROR(VLOOKUP($A184,FILTRO!$A178:$AY803,45,FALSE),0)","v":0},{"$f":"IFERROR(VLOOKUP($A184,FILTRO!$A178:$AY803,46,FALSE),0)","v":0},"",{"$nulls":35},{"$f":"IF(DF184=1,\"* No olvide escribir en las celdas de \"\"Pueblos Originarios\"\" (Digite Cero si no tiene).\",\"\")","v":""},{"$f":"IF(DG184=1,\"* No olvide escribir en las celdas de \"\"Población Migrante\"\" (Digite Cero si no tiene).\",\"\")","v":""},{"$f":"IF(DH184=1,\"* La suma de las celdas de \"\"Pueblos Originarios\"\"no debe superar el Total.\",\"\")","v":""},{"$f":"IF(DI184=1,\"* La suma de las celdas de \"\"Población Migrante\"\" no debe superar el Total.\",\"\")","v":""},{"$nulls":21},{"$f":"IF(AND($D184<>0,OR(AS184=\"\",AT184=\"\")),1,0)","v":0},{"$f":"IF(AND($D184<>0,OR(AU184=\"\",AV184=\"\")),1,0)","v":0},{"$f":"IF((AS184+AT184)>$D184,1,0)","v":0},{"$f":"IF((AV184+AU184)>$D184,1,0)","v":0}]
["P2501857","Gran Quemado","Gran Quemado",{"$f":"IFERROR(VLOOKUP($A185,FILTRO!$A179:$AY804,2,FALSE),0)","v":0},{"$f":"IFERROR(VLOOKUP($A185,FILTRO!$A179:$AY804,3,FALSE),0)","v":0},{"$f":"IFERROR(VLOOKUP($A185,FILTRO!$A179:$AY804,4,FALSE),0)","v":0},{"$f":"IFERROR(VLOOKUP($A185,FILTRO!$A179:$AY804,5,FALSE),0)","v":0},{"$f":"IFERROR(VLOOKUP($A185,FILTRO!$A179:$AY804,6,FALSE),0)","v":0},{"$f":"IFERROR(VLOOKUP($A185,FILTRO!$A179:$AY804,7,FALSE),0)","v":0},{"$f":"IFERROR(VLOOKUP($A185,FILTRO!$A179:$AY804,8,FALSE),0)","v":0},{"$f":"IFERROR(VLOOKUP($A185,FILTRO!$A179:$AY804,9,FALSE),0)","v":0},{"$f":"IFERROR(VLOOKUP($A185,FILTRO!$A179:$AY804,10,FALSE),0)","v":0},{"$f":"IFERROR(VLOOKUP($A185,FILTRO!$A179:$AY804,11,FALSE),0)","v":0},{"$f":"IFERROR(VLOOKUP($A185,FILTRO!$A179:$AY804,12,FALSE),0)","v":0},{"$f":"IFERROR(VLOOKUP($A185,FILTRO!$A179:$AY804,13,FALSE),0)","v":0},{"$f":"IFERROR(VLOOKUP($A185,FILTRO!$A179:$AY804,14,FALSE),0)","v":0},{"$f":"IFERROR(VLOOKUP($A185,FILTRO!$A179:$AY804,15,FALSE),0)","v":0},{"$f":"IFERROR(VLOOKUP($A185,FILTRO!$A179:$AY804,16,FALSE),0)","v":0},{"$f":"IFERROR(VLOOKUP($A185,FILTRO!$A179:$AY804,17,FALSE),0)","v":0},{"$f":"IFERROR(VLOOKUP($A185,FILTRO!$A179:$AY804,18,FALSE),0)","v":0},{"$f":"IFERROR(VLOOKUP($A185,FILTRO!$A179:$AY804,19,FALSE),0)","v":0},{"$f":"IFERROR(VLOOKUP($A185,FILTRO!$A179:$AY804,20,FALSE),0)","v":0},{"$f":"IFERROR(VLOOKUP($A185,FILTRO!$A179:$AY804,21,FALSE),0)","v":0},{"$f":"IFERROR(VLOOKUP($A185,FILTRO!$A179:$AY804,22,FALSE),0)","v":0},{"$f":"IFERROR(VLOOKUP($A185,FILTRO!$A179:$AY804,23,FALSE),0)","v":0},{"$f":"IFERROR(VLOOKUP($A185,FILTRO!$A179:$AY804,24,FALSE),0)","v":0},{"$f":"IFERROR(VLOOKUP($A185,FILTRO!$A179:$AY804,25,FALSE),0)","v":0},{"$f":"IFERROR(VLOOKUP($A185,FILTRO!$A179:$AY804,26,FALSE),0)","v":0},{"$f":"IFERROR(VLOOKUP($A185,FILTRO!$A179:$AY804,27,FALSE),0)","v":0},{"$f":"IFERROR(VLOOKUP($A185,FILTRO!$A179:$AY804,28,FALSE),0)","v":0},{"$f":"IFERROR(VLOOKUP($A185,FILTRO!$A179:$AY804,29,FALSE),0)","v":0},{"$f":"IFERROR(VLOOKUP($A185,FILTRO!$A179:$AY804,30,FALSE),0)","v":0},{"$f":"IFERROR(VLOOKUP($A185,FILTRO!$A179:$AY804,31,FALSE),0)","v":0},{"$f":"IFERROR(VLOOKUP($A185,FILTRO!$A179:$AY804,32,FALSE),0)","v":0},{"$f":"IFERROR(VLOOKUP($A185,FILTRO!$A179:$AY804,33,FALSE),0)","v":0},{"$f":"IFERROR(VLOOKUP($A185,FILTRO!$A179:$AY804,34,FALSE),0)","v":0},{"$f":"IFERROR(VLOOKUP($A185,FILTRO!$A179:$AY804,35,FALSE),0)","v":0},{"$f":"IFERROR(VLOOKUP($A185,FILTRO!$A179:$AY804,36,FALSE),0)","v":0},{"$f":"IFERROR(VLOOKUP($A185,FILTRO!$A179:$AY804,37,FALSE),0)","v":0},{"$f":"IFERROR(VLOOKUP($A185,FILTRO!$A179:$AY804,38,FALSE),0)","v":0},{"$f":"IFERROR(VLOOKUP($A185,FILTRO!$A179:$AY804,39,FALSE),0)","v":0},{"$f":"IFERROR(VLOOKUP($A185,FILTRO!$A179:$AY804,40,FALSE),0)","v":0},{"$f":"IFERROR(VLOOKUP($A185,FILTRO!$A179:$AY804,41,FALSE),0)","v":0},{"$f":"IFERROR(VLOOKUP($A185,FILTRO!$A179:$AY804,42,FALSE),0)","v":0},{"$f":"IFERROR(VLOOKUP($A185,FILTRO!$A179:$AY804,43,FALSE),0)","v":0},{"$f":"IFERROR(VLOOKUP($A185,FILTRO!$A179:$AY804,44,FALSE),0)","v":0},{"$f":"IFERROR(VLOOKUP($A185,FILTRO!$A179:$AY804,45,FALSE),0)","v":0},{"$f":"IFERROR(VLOOKUP($A185,FILTRO!$A179:$AY804,46,FALSE),0)","v":0},""]
[null,"SECCION I: POBLACIÓN SEGÚN NIVEL DE COMPLEJIDAD DE NIÑOS, NIÑAS Y ADOLESCENTES CON NECESIDADES ESPECIALES DE ATENCIÓN EN SALUD (NANEAS) (Incluida en sección A y A1)"]
[null,"NIVELES DE COMPLEJIDAD",null,"TOTAL",null,null,"GRUPOS DE EDAD (en meses - años) Y SEXO",{"$nulls":37},"Pueblos Originarios",null," Migrantes"]
[{"$nulls":6},"Menor de 1 mes",null,"1 mes",null,"2 meses",null,"3 meses",null,"4 meses",null,"5 meses",null,"6 meses",null,"7 a 11 meses",null,"12 a 17 meses",null,"18 a 23 meses",null,"24 a 35 meses",null,"36 a 41 meses",null,"42 a 47 meses",null,"48 a 59 meses",null,"60 a 71 meses",null,"6 a 7 años",null,"8 a 9 años",null,"10 a 14 años",null,"15 a 19 años"]
[{"$nulls":3},"Ambos sexos","Hombres","Mujeres","Hombres","Mujeres","Hombres","Mujeres","Hombres","Mujeres","Hombres","Mujeres","Hombres","Mujeres","Hombres","Mujeres","Hombres","Mujeres","Hombres","Mujeres","Hombres","Mujeres","Hombres","Mujeres","Hombres","Mujeres","Hombres","Mujeres","Hombres","Mujeres","Hombres","Mujeres","Hombres","Mujeres","Hombres","Mujeres","Hombres","Mujeres","Hombres","Mujeres","Hombres","Mujeres","Hombres","Mujeres","Hombres","Mujeres"]
[null,"TOTAL POBLACIÓN NANES BAJO CONTROL",null,{"$f":"SUM(E190:F190)","v":2751},{"$f":"+G190+I190+K190+M190+O190+Q190+S190+U190+W190+Y190+AA190+AC190+AE190+AG190+AI190+AO190+AQ190+AK190+AM190","v":1633},{"$f":"+H190+J190+L190+N190+P190+R190+T190+V190+X190+Z190+AB190+AD190+AF190+AH190+AJ190+AP190+AR190+AL190+AN190","v":1118},{"$f":"SUM(G191:G193)","v":1},{"$f":"SUM(H191:H193)","v":0},{"$f":"SUM(I191:I193)","v":5},6,12,11,9,7,17,7,12,9,18,13,77,39,101,76,69,39,118,98,139,97,28,18,195,117,173,97,232,170,202,131,152,117,73,66,{"$f":"SUM(AS191:AS193)","v":4},{"$f":"SUM(AT191:AT193)","v":4},{"$f":"SUM(AU191:AU193)","v":3},{"$f":"SUM(AV191:AV193)","v":2}]
["P2501858","BAJA COMPLEJIDAD",null,{"$f":"IFERROR(VLOOKUP($A191,FILTRO!$A185:$AY810,2,FALSE),0)","v":2682},{"$f":"IFERROR(VLOOKUP($A191,FILTRO!$A185:$AY810,3,FALSE),0)","v":1590},{"$f":"IFERROR(VLOOKUP($A191,FILTRO!$A185:$AY810,4,FALSE),0)","v":1092},{"$f":"IFERROR(VLOOKUP($A191,FILTRO!$A185:$AY810,5,FALSE),0)","v":1},{"$f":"IFERROR(VLOOKUP($A191,FILTRO!$A185:$AY810,6,FALSE),0)","v":0},{"$f":"IFERROR(VLOOKUP($A191,FILTRO!$A185:$AY810,7,FALSE),0)","v":5},{"$f":"IFERROR(VLOOKUP($A191,FILTRO!$A185:$AY810,8,FALSE),0)","v":6},{"$f":"IFERROR(VLOOKUP($A191,FILTRO!$A185:$AY810,9,FALSE),0)","v":9},{"$f":"IFERROR(VLOOKUP($A191,FILTRO!$A185:$AY810,10,FALSE),0)","v":7},{"$f":"IFERROR(VLOOKUP($A191,FILTRO!$A185:$AY810,11,FALSE),0)","v":9},{"$f":"IFERROR(VLOOKUP($A191,FILTRO!$A185:$AY810,12,FALSE),0)","v":7},{"$f":"IFERROR(VLOOKUP($A191,FILTRO!$A185:$AY810,13,FALSE),0)","v":17},{"$f":"IFERROR(VLOOKUP($A191,FILTRO!$A185:$AY810,14,FALSE),0)","v":6},{"$f":"IFERROR(VLOOKUP($A191,FILTRO!$A185:$AY810,15,FALSE),0)","v":11},{"$f":"IFERROR(VLOOKUP($A191,FILTRO!$A185:$AY810,16,FALSE),0)","v":9},{"$f":"IFERROR(VLOOKUP($A191,FILTRO!$A185:$AY810,17,FALSE),0)","v":15},{"$f":"IFERROR(VLOOKUP($A191,FILTRO!$A185:$AY810,18,FALSE),0)","v":12},{"$f":"IFERROR(VLOOKUP($A191,FILTRO!$A185:$AY810,19,FALSE),0)","v":77},{"$f":"IFERROR(VLOOKUP($A191,FILTRO!$A185:$AY810,20,FALSE),0)","v":38},{"$f":"IFERROR(VLOOKUP($A191,FILTRO!$A185:$AY810,21,FALSE),0)","v":100},{"$f":"IFERROR(VLOOKUP($A191,FILTRO!$A185:$AY810,22,FALSE),0)","v":76},{"$f":"IFERROR(VLOOKUP($A191,FILTRO!$A185:$AY810,23,FALSE),0)","v":65},{"$f":"IFERROR(VLOOKUP($A191,FILTRO!$A185:$AY810,24,FALSE),0)","v":36},{"$f":"IFERROR(VLOOKUP($A191,FILTRO!$A185:$AY810,25,FALSE),0)","v":117},{"$f":"IFERROR(VLOOKUP($A191,FILTRO!$A185:$AY810,26,FALSE),0)","v":94},{"$f":"IFERROR(VLOOKUP($A191,FILTRO!$A185:$AY810,27,FALSE),0)","v":136},{"$f":"IFERROR(VLOOKUP($A191,FILTRO!$A185:$AY810,28,FALSE),0)","v":96},{"$f":"IFERROR(VLOOKUP($A191,FILTRO!$A185:$AY810,29,FALSE),0)","v":28},{"$f":"IFERROR(VLOOKUP($A191,FILTRO!$A185:$AY810,30,FALSE),0)","v":18},{"$f":"IFERROR(VLOOKUP($A191,FILTRO!$A185:$AY810,31,FALSE),0)","v":189},{"$f":"IFERROR(VLOOKUP($A191,FILTRO!$A185:$AY810,32,FALSE),0)","v":115},{"$f":"IFERROR(VLOOKUP($A191,FILTRO!$A185:$AY810,33,FALSE),0)","v":170},{"$f":"IFERROR(VLOOKUP($A191,FILTRO!$A185:$AY810,34,FALSE),0)","v":92},{"$f":"IFERROR(VLOOKUP($A191,FILTRO!$A185:$AY810,35,FALSE),0)","v":222},{"$f":"IFERROR(VLOOKUP($A191,FILTRO!$A185:$AY810,36,FALSE),0)","v":170},{"$f":"IFERROR(VLOOKUP($A191,FILTRO!$A185:$AY810,37,FALSE),0)","v":198},{"$f":"IFERROR(VLOOKUP($A191,FILTRO!$A185:$AY810,38,FALSE),0)","v":129},{"$f":"IFERROR(VLOOKUP($A191,FILTRO!$A185:$AY810,39,FALSE),0)","v":151},{"$f":"IFERROR(VLOOKUP($A191,FILTRO!$A185:$AY810,40,FALSE),0)","v":116},{"$f":"IFERROR(VLOOKUP($A191,FILTRO!$A185:$AY810,41,FALSE),0)","v":70},{"$f":"IFERROR(VLOOKUP($A191,FILTRO!$A185:$AY810,42,FALSE),0)","v":65},{"$f":"IFERROR(VLOOKUP($A191,FILTRO!$A185:$AY810,43,FALSE),0)","v":4},{"$f":"IFERROR(VLOOKUP($A191,FILTRO!$A185:$AY810,44,FALSE),0)","v":4},{"$f":"IFERROR(VLOOKUP($A191,FILTRO!$A185:$AY810,45,FALSE),0)","v":3},{"$f":"IFERROR(VLOOKUP($A191,FILTRO!$A185:$AY810,46,FALSE),0)","v":2},{"$f":"CG191&CH191&CI191&CJ191","v":""},{"$nulls":35},{"$f":"IF(DF191=1,\"* No olvide escribir en las celdas de \"\"Pueblos Originarios\"\" (Digite Cero si no tiene).\",\"\")","v":""},{"$f":"IF(DG191=1,\"* No olvide escribir en las celdas de \"\"Población Migrante\"\" (Digite Cero si no tiene).\",\"\")","v":""},{"$f":"IF(DH191=1,\"* La suma de las celdas de \"\"Pueblos Originarios\"\"no debe superar el Total.\",\"\")","v":""},{"$f":"IF(DI191=1,\"* La suma de las celdas de \"\"Población Migrante\"\" no debe superar el Total.\",\"\")","v":""},{"$nulls":21},{"$f":"IF(AND($D191<>0,OR(AS191=\"\",AT191=\"\")),1,0)","v":0},{"$f":"IF(AND($D191<>0,OR(AU191=\"\",AV191=\"\")),1,0)","v":0},{"$f":"IF((AS191+AT191)>$D191,1,0)","v":0},{"$f":"IF((AV191+AU191)>$D191,1,0)","v":0}]
["P2501859","MEDIANA COMPLEJIDAD",null,{"$f":"IFERROR(VLOOKUP($A192,FILTRO!$A186:$AY811,2,FALSE),0)","v":48},{"$f":"IFERROR(VLOOKUP($A192,FILTRO!$A186:$AY811,3,FALSE),0)","v":33},{"$f":"IFERROR(VLOOKUP($A192,FILTRO!$A186:$AY811,4,FALSE),0)","v":15},{"$f":"IFERROR(VLOOKUP($A192,FILTRO!$A186:$AY811,5,FALSE),0)","v":0},{"$f":"IFERROR(VLOOKUP($A192,FILTRO!$A186:$AY811,6,FALSE),0)","v":0},{"$f":"IFERROR(VLOOKUP($A192,FILTRO!$A186:$AY811,7,FALSE),0)","v":0},{"$f":"IFERROR(VLOOKUP($A192,FILTRO!$A186:$AY811,8,FALSE),0)","v":0},{"$f":"IFERROR(VLOOKUP($A192,FILTRO!$A186:$AY811,9,FALSE),0)","v":3},{"$f":"IFERROR(VLOOKUP($A192,FILTRO!$A186:$AY811,10,FALSE),0)","v":3},{"$f":"IFERROR(VLOOKUP($A192,FILTRO!$A186:$AY811,11,FALSE),0)","v":0},{"$f":"IFERROR(VLOOKUP($A192,FILTRO!$A186:$AY811,12,FALSE),0)","v":0},{"$f":"IFERROR(VLOOKUP($A192,FILTRO!$A186:$AY811,13,FALSE),0)","v":0},{"$f":"IFERROR(VLOOKUP($A192,FILTRO!$A186:$AY811,14,FALSE),0)","v":1},{"$f":"IFERROR(VLOOKUP($A192,FILTRO!$A186:$AY811,15,FALSE),0)","v":1},{"$f":"IFERROR(VLOOKUP($A192,FILTRO!$A186:$AY811,16,FALSE),0)","v":0},{"$f":"IFERROR(VLOOKUP($A192,FILTRO!$A186:$AY811,17,FALSE),0)","v":1},{"$f":"IFERROR(VLOOKUP($A192,FILTRO!$A186:$AY811,18,FALSE),0)","v":0},{"$f":"IFERROR(VLOOKUP($A192,FILTRO!$A186:$AY811,19,FALSE),0)","v":0},{"$f":"IFERROR(VLOOKUP($A192,FILTRO!$A186:$AY811,20,FALSE),0)","v":1},{"$f":"IFERROR(VLOOKUP($A192,FILTRO!$A186:$AY811,21,FALSE),0)","v":1},{"$f":"IFERROR(VLOOKUP($A192,FILTRO!$A186:$AY811,22,FALSE),0)","v":0},{"$f":"IFERROR(VLOOKUP($A192,FILTRO!$A186:$AY811,23,FALSE),0)","v":4},{"$f":"IFERROR(VLOOKUP($A192,FILTRO!$A186:$AY811,24,FALSE),0)","v":1},{"$f":"IFERROR(VLOOKUP($A192,FILTRO!$A186:$AY811,25,FALSE),0)","v":1},{"$f":"IFERROR(VLOOKUP($A192,FILTRO!$A186:$AY811,26,FALSE),0)","v":3},{"$f":"IFERROR(VLOOKUP($A192,FILTRO!$A186:$AY811,27,FALSE),0)","v":3},{"$f":"IFERROR(VLOOKUP($A192,FILTRO!$A186:$AY811,28,FALSE),0)","v":1},{"$f":"IFERROR(VLOOKUP($A192,FILTRO!$A186:$AY811,29,FALSE),0)","v":0},{"$f":"IFERROR(VLOOKUP($A192,FILTRO!$A186:$AY811,30,FALSE),0)","v":0},{"$f":"IFERROR(VLOOKUP($A192,FILTRO!$A186:$AY811,31,FALSE),0)","v":5},{"$f":"IFERROR(VLOOKUP($A192,FILTRO!$A186:$AY811,32,FALSE),0)","v":1},{"$f":"IFERROR(VLOOKUP($A192,FILTRO!$A186:$AY811,33,FALSE),0)","v":3},{"$f":"IFERROR(VLOOKUP($A192,FILTRO!$A186:$AY811,34,FALSE),0)","v":1},{"$f":"IFERROR(VLOOKUP($A192,FILTRO!$A186:$AY811,35,FALSE),0)","v":7},{"$f":"IFERROR(VLOOKUP($A192,FILTRO!$A186:$AY811,36,FALSE),0)","v":0},{"$f":"IFERROR(VLOOKUP($A192,FILTRO!$A186:$AY811,37,FALSE),0)","v":2},{"$f":"IFERROR(VLOOKUP($A192,FILTRO!$A186:$AY811,38,FALSE),0)","v":2},{"$f":"IFERROR(VLOOKUP($A192,FILTRO!$A186:$AY811,39,FALSE),0)","v":1},{"$f":"IFERROR(VLOOKUP($A192,FILTRO!$A186:$AY811,40,FALSE),0)","v":0},{"$f":"IFERROR(VLOOKUP($A192,FILTRO!$A186:$AY811,41,FALSE),0)","v":1},{"$f":"IFERROR(VLOOKUP($A192,FILTRO!$A186:$AY811,42,FALSE),0)","v":1},{"$f":"IFERROR(VLOOKUP($A192,FILTRO!$A186:$AY811,43,FALSE),0)","v":0},{"$f":"IFERROR(VLOOKUP($A192,FILTRO!$A186:$AY811,44,FALSE),0)","v":0},{"$f":"IFERROR(VLOOKUP($A192,FILTRO!$A186:$AY811,45,FALSE),0)","v":0},{"$f":"IFERROR(VLOOKUP($A192,FILTRO!$A186:$AY811,46,FALSE),0)","v":0},{"$f":"CG192&CH192&CI192&CJ192","v":""},{"$nulls":35},{"$f":"IF(DF192=1,\"* No olvide escribir en las celdas de \"\"Pueblos Originarios\"\" (Digite Cero si no tiene).\",\"\")","v":""},{"$f":"IF(DG192=1,\"* No olvide escribir en las celdas de \"\"Población Migrante\"\" (Digite Cero si no tiene).\",\"\")","v":""},{"$f":"IF(DH192=1,\"* La suma de las celdas de \"\"Pueblos Originarios\"\"no debe superar el Total.\",\"\")","v":""},{"$f":"IF(DI192=1,\"* La suma de las celdas de \"\"Población Migrante\"\" no debe superar el Total.\",\"\")","v":""},{"$nulls":21},{"$f":"IF(AND($D192<>0,OR(AS192=\"\",AT192=\"\")),1,0)","v":0},{"$f":"IF(AND($D192<>0,OR(AU192=\"\",AV192=\"\")),1,0)","v":0},{"$f":"IF((AS192+AT192)>$D192,1,0)","v":0},{"$f":"IF((AV192+AU192)>$D192,1,0)","v":0}]
["P2501860","ALTA COMPLEJIDAD",null,{"$f":"IFERROR(VLOOKUP($A193,FILTRO!$A187:$AY812,2,FALSE),0)","v":21},{"$f":"IFERROR(VLOOKUP($A193,FILTRO!$A187:$AY812,3,FALSE),0)","v":10},{"$f":"IFERROR(VLOOKUP($A193,FILTRO!$A187:$AY812,4,FALSE),0)","v":11},{"$f":"IFERROR(VLOOKUP($A193,FILTRO!$A187:$AY812,5,FALSE),0)","v":0},{"$f":"IFERROR(VLOOKUP($A193,FILTRO!$A187:$AY812,6,FALSE),0)","v":0},{"$f":"IFERROR(VLOOKUP($A193,FILTRO!$A187:$AY812,7,FALSE),0)","v":0},{"$f":"IFERROR(VLOOKUP($A193,FILTRO!$A187:$AY812,8,FALSE),0)","v":0},{"$f":"IFERROR(VLOOKUP($A193,FILTRO!$A187:$AY812,9,FALSE),0)","v":0},{"$f":"IFERROR(VLOOKUP($A193,FILTRO!$A187:$AY812,10,FALSE),0)","v":1},{"$f":"IFERROR(VLOOKUP($A193,FILTRO!$A187:$AY812,11,FALSE),0)","v":0},{"$f":"IFERROR(VLOOKUP($A193,FILTRO!$A187:$AY812,12,FALSE),0)","v":0},{"$f":"IFERROR(VLOOKUP($A193,FILTRO!$A187:$AY812,13,FALSE),0)","v":0},{"$f":"IFERROR(VLOOKUP($A193,FILTRO!$A187:$AY812,14,FALSE),0)","v":0},{"$f":"IFERROR(VLOOKUP($A193,FILTRO!$A187:$AY812,15,FALSE),0)","v":0},{"$f":"IFERROR(VLOOKUP($A193,FILTRO!$A187:$AY812,16,FALSE),0)","v":0},{"$f":"IFERROR(VLOOKUP($A193,FILTRO!$A187:$AY812,17,FALSE),0)","v":2},{"$f":"IFERROR(VLOOKUP($A193,FILTRO!$A187:$AY812,18,FALSE),0)","v":1},{"$f":"IFERROR(VLOOKUP($A193,FILTRO!$A187:$AY812,19,FALSE),0)","v":0},{"$f":"IFERROR(VLOOKUP($A193,FILTRO!$A187:$AY812,20,FALSE),0)","v":0},{"$f":"IFERROR(VLOOKUP($A193,FILTRO!$A187:$AY812,21,FALSE),0)","v":0},{"$f":"IFERROR(VLOOKUP($A193,FILTRO!$A187:$AY812,22,FALSE),0)","v":0},{"$f":"IFERROR(VLOOKUP($A193,FILTRO!$A187:$AY812,23,FALSE),0)","v":0},{"$f":"IFERROR(VLOOKUP($A193,FILTRO!$A187:$AY812,24,FALSE),0)","v":2},{"$f":"IFERROR(VLOOKUP($A193,FILTRO!$A187:$AY812,25,FALSE),0)","v":0},{"$f":"IFERROR(VLOOKUP($A193,FILTRO!$A187:$AY812,26,FALSE),0)","v":1},{"$f":"IFERROR(VLOOKUP($A193,FILTRO!$A187:$AY812,27,FALSE),0)","v":0},{"$f":"IFERROR(VLOOKUP($A193,FILTRO!$A187:$AY812,28,FALSE),0)","v":0},{"$f":"IFERROR(VLOOKUP($A193,FILTRO!$A187:$AY812,29,FALSE),0)","v":0},{"$f":"IFERROR(VLOOKUP($A193,FILTRO!$A187:$AY812,30,FALSE),0)","v":0},{"$f":"IFERROR(VLOOKUP($A193,FILTRO!$A187:$AY812,31,FALSE),0)","v":1},{"$f":"IFERROR(VLOOKUP($A193,FILTRO!$A187:$AY812,32,FALSE),0)","v":1},{"$f":"IFERROR(VLOOKUP($A193,FILTRO!$A187:$AY812,33,FALSE),0)","v":0},{"$f":"IFERROR(VLOOKUP($A193,FILTRO!$A187:$AY812,34,FALSE),0)","v":4},{"$f":"IFERROR(VLOOKUP($A193,FILTRO!$A187:$AY812,35,FALSE),0)","v":3},{"$f":"IFERROR(VLOOKUP($A193,FILTRO!$A187:$AY812,36,FALSE),0)","v":0},{"$f":"IFERROR(VLOOKUP($A193,FILTRO!$A187:$AY812,37,FALSE),0)","v":2},{"$f":"IFERROR(VLOOKUP($A193,FILTRO!$A187:$AY812,38,FALSE),0)","v":0},{"$f":"IFERROR(VLOOKUP($A193,FILTRO!$A187:$AY812,39,FALSE),0)","v":0},{"$f":"IFERROR(VLOOKUP($A193,FILTRO!$A187:$AY812,40,FALSE),0)","v":1},{"$f":"IFERROR(VLOOKUP($A193,FILTRO!$A187:$AY812,41,FALSE),0)","v":2},{"$f":"IFERROR(VLOOKUP($A193,FILTRO!$A187:$AY812,42,FALSE),0)","v":0},{"$f":"IFERROR(VLOOKUP($A193,FILTRO!$A187:$AY812,43,FALSE),0)","v":0},{"$f":"IFERROR(VLOOKUP($A193,FILTRO!$A187:$AY812,44,FALSE),0)","v":0},{"$f":"IFERROR(VLOOKUP($A193,FILTRO!$A187:$AY812,45,FALSE),0)","v":0},{"$f":"IFERROR(VLOOKUP($A193,FILTRO!$A187:$AY812,46,FALSE),0)","v":0},"",{"$nulls":35},"","","","",{"$nulls":21},0,0,0,0]
[null,"SECCION J: POBLACIÓN EN CONTROL, SEGÚN RIESGO ODONTOLÓGICO Y DAÑO POR CARIES"]
[null,"INDICADOR ODONTOLÓGICO\nY\nPARÁMETROS DE MEDICIÓN",null,"TOTAL",null,null,"GRUPOS DE EDAD  Y SEXO",{"$nulls":19},"Pueblos Originarios",null," Migrantes",null,"Usuarios con Discapacidad",null,"Niños y Niñas Red Mejor Niñez",null,"Niños y Niñas Red SENAME"]
[{"$nulls":6},"< 1 AÑO",null,"1 AÑO",null,"2 AÑOS",null,"3 AÑOS",null,"4 AÑOS",null,"5 AÑOS",null,"6 AÑOS",null,"7 AÑOS",null,"8 AÑOS",null,"9 AÑOS "]
[{"$nulls":3},"Ambos sexos","Hombres","Mujeres","Hombres","Mujeres","Hombres","Mujeres","Hombres","Mujeres","Hombres","Mujeres","Hombres","Mujeres","Hombres","Mujeres","Hombres","Mujeres","Hombres","Mujeres","Hombres","Mujeres","Hombres","Mujeres","Hombres","Mujeres","Hombres","Mujeres","Hombres","Mujeres","Hombres","Mujeres","Hombres","Mujeres"]
[null,"TOTAL DE NIÑOS(AS) EN CONTROL CON ENFOQUE DE RIESGO ODONTOLÓGICO",null,{"$f":"SUM(E198:F198)","v":34117},{"$f":"+G198+I198+K198+M198+O198+Q198+S198+U198+W198+Y198","v":17257},{"$f":"+H198+J198+L198+N198+P198+R198+T198+V198+X198+Z198","v":16860},{"$f":"+G201+G208","v":2462},{"$f":"+H201+H208","v":2120},1968,2061,1704,1620,1515,1403,1497,1462,1484,1626,2171,2148,1551,1524,1514,1503,1391,1393,66,67,169,245,29,24,42,46,48,{"$f":"+AJ201+AJ208","v":34}]
["P2501861","EVALUACIÓN DE RIESGO SEGÚN PAUTA CERO","ALTO RIESGO ",{"$f":"IFERROR(VLOOKUP($A199,FILTRO!$A193:$AY818,2,FALSE),0)","v":8224},{"$f":"IFERROR(VLOOKUP($A199,FILTRO!$A193:$AY818,3,FALSE),0)","v":4184},{"$f":"IFERROR(VLOOKUP($A199,FILTRO!$A193:$AY818,4,FALSE),0)","v":4040},{"$f":"IFERROR(VLOOKUP($A199,FILTRO!$A193:$AY818,5,FALSE),0)","v":433},{"$f":"IFERROR(VLOOKUP($A199,FILTRO!$A193:$AY818,6,FALSE),0)","v":423},{"$f":"IFERROR(VLOOKUP($A199,FILTRO!$A193:$AY818,7,FALSE),0)","v":353},{"$f":"IFERROR(VLOOKUP($A199,FILTRO!$A193:$AY818,8,FALSE),0)","v":370},{"$f":"IFERROR(VLOOKUP($A199,FILTRO!$A193:$AY818,9,FALSE),0)","v":401},{"$f":"IFERROR(VLOOKUP($A199,FILTRO!$A193:$AY818,10,FALSE),0)","v":365},{"$f":"IFERROR(VLOOKUP($A199,FILTRO!$A193:$AY818,11,FALSE),0)","v":361},{"$f":"IFERROR(VLOOKUP($A199,FILTRO!$A193:$AY818,12,FALSE),0)","v":343},{"$f":"IFERROR(VLOOKUP($A199,FILTRO!$A193:$AY818,13,FALSE),0)","v":388},{"$f":"IFERROR(VLOOKUP($A199,FILTRO!$A193:$AY818,14,FALSE),0)","v":358},{"$f":"IFERROR(VLOOKUP($A199,FILTRO!$A193:$AY818,15,FALSE),0)","v":422},{"$f":"IFERROR(VLOOKUP($A199,FILTRO!$A193:$AY818,16,FALSE),0)","v":422},{"$f":"IFERROR(VLOOKUP($A199,FILTRO!$A193:$AY818,17,FALSE),0)","v":514},{"$f":"IFERROR(VLOOKUP($A199,FILTRO!$A193:$AY818,18,FALSE),0)","v":514},{"$f":"IFERROR(VLOOKUP($A199,FILTRO!$A193:$AY818,19,FALSE),0)","v":422},{"$f":"IFERROR(VLOOKUP($A199,FILTRO!$A193:$AY818,20,FALSE),0)","v":411},{"$f":"IFERROR(VLOOKUP($A199,FILTRO!$A193:$AY818,21,FALSE),0)","v":460},{"$f":"IFERROR(VLOOKUP($A199,FILTRO!$A193:$AY818,22,FALSE),0)","v":475},{"$f":"IFERROR(VLOOKUP($A199,FILTRO!$A193:$AY818,23,FALSE),0)","v":430},{"$f":"IFERROR(VLOOKUP($A199,FILTRO!$A193:$AY818,24,FALSE),0)","v":359},{"$f":"IFERROR(VLOOKUP($A199,FILTRO!$A193:$AY818,25,FALSE),0)","v":14},{"$f":"IFERROR(VLOOKUP($A199,FILTRO!$A193:$AY818,26,FALSE),0)","v":13},{"$f":"IFERROR(VLOOKUP($A199,FILTRO!$A193:$AY818,27,FALSE),0)","v":32},{"$f":"IFERROR(VLOOKUP($A199,FILTRO!$A193:$AY818,28,FALSE),0)","v":45},{"$f":"IFERROR(VLOOKUP($A199,FILTRO!$A193:$AY818,29,FALSE),0)","v":9},{"$f":"IFERROR(VLOOKUP($A199,FILTRO!$A193:$AY818,30,FALSE),0)","v":12},{"$f":"IFERROR(VLOOKUP($A199,FILTRO!$A193:$AY818,31,FALSE),0)","v":4},{"$f":"IFERROR(VLOOKUP($A199,FILTRO!$A193:$AY818,32,FALSE),0)","v":2},{"$f":"IFERROR(VLOOKUP($A199,FILTRO!$A193:$AY818,33,FALSE),0)","v":12},{"$f":"IFERROR(VLOOKUP($A199,FILTRO!$A193:$AY818,34,FALSE),0)","v":7}]
["P2501862",null,"BAJO RIESGO ",{"$f":"IFERROR(VLOOKUP($A200,FILTRO!$A194:$AY819,2,FALSE),0)","v":7605},{"$f":"IFERROR(VLOOKUP($A200,FILTRO!$A194:$AY819,3,FALSE),0)","v":3771},{"$f":"IFERROR(VLOOKUP($A200,FILTRO!$A194:$AY819,4,FALSE),0)","v":3834},{"$f":"IFERROR(VLOOKUP($A200,FILTRO!$A194:$AY819,5,FALSE),0)","v":657},{"$f":"IFERROR(VLOOKUP($A200,FILTRO!$A194:$AY819,6,FALSE),0)","v":631},{"$f":"IFERROR(VLOOKUP($A200,FILTRO!$A194:$AY819,7,FALSE),0)","v":616},{"$f":"IFERROR(VLOOKUP($A200,FILTRO!$A194:$AY819,8,FALSE),0)","v":672},{"$f":"IFERROR(VLOOKUP($A200,FILTRO!$A194:$AY819,9,FALSE),0)","v":433},{"$f":"IFERROR(VLOOKUP($A200,FILTRO!$A194:$AY819,10,FALSE),0)","v":428},{"$f":"IFERROR(VLOOKUP($A200,FILTRO!$A194:$AY819,11,FALSE),0)","v":389},{"$f":"IFERROR(VLOOKUP($A200,FILTRO!$A194:$AY819,12,FALSE),0)","v":359},{"$f":"IFERROR(VLOOKUP($A200,FILTRO!$A194:$AY819,13,FALSE),0)","v":326},{"$f":"IFERROR(VLOOKUP($A200,FILTRO!$A194:$AY819,14,FALSE),0)","v":319},{"$f":"IFERROR(VLOOKUP($A200,FILTRO!$A194:$AY819,15,FALSE),0)","v":268},{"$f":"IFERROR(VLOOKUP($A200,FILTRO!$A194:$AY819,16,FALSE),0)","v":321},{"$f":"IFERROR(VLOOKUP($A200,FILTRO!$A194:$AY819,17,FALSE),0)","v":433},{"$f":"IFERROR(VLOOKUP($A200,FILTRO!$A194:$AY819,18,FALSE),0)","v":430},{"$f":"IFERROR(VLOOKUP($A200,FILTRO!$A194:$AY819,19,FALSE),0)","v":262},{"$f":"IFERROR(VLOOKUP($A200,FILTRO!$A194:$AY819,20,FALSE),0)","v":270},{"$f":"IFERROR(VLOOKUP($A200,FILTRO!$A194:$AY819,21,FALSE),0)","v":218},{"$f":"IFERROR(VLOOKUP($A200,FILTRO!$A194:$AY819,22,FALSE),0)","v":200},{"$f":"IFERROR(VLOOKUP($A200,FILTRO!$A194:$AY819,23,FALSE),0)","v":169},{"$f":"IFERROR(VLOOKUP($A200,FILTRO!$A194:$AY819,24,FALSE),0)","v":204},{"$f":"IFERROR(VLOOKUP($A200,FILTRO!$A194:$AY819,25,FALSE),0)","v":24},{"$f":"IFERROR(VLOOKUP($A200,FILTRO!$A194:$AY819,26,FALSE),0)","v":25},{"$f":"IFERROR(VLOOKUP($A200,FILTRO!$A194:$AY819,27,FALSE),0)","v":20},{"$f":"IFERROR(VLOOKUP($A200,FILTRO!$A194:$AY819,28,FALSE),0)","v":43},{"$f":"IFERROR(VLOOKUP($A200,FILTRO!$A194:$AY819,29,FALSE),0)","v":3},{"$f":"IFERROR(VLOOKUP($A200,FILTRO!$A194:$AY819,30,FALSE),0)","v":1},{"$f":"IFERROR(VLOOKUP($A200,FILTRO!$A194:$AY819,31,FALSE),0)","v":9},{"$f":"IFERROR(VLOOKUP($A200,FILTRO!$A194:$AY819,32,FALSE),0)","v":12},{"$f":"IFERROR(VLOOKUP($A200,FILTRO!$A194:$AY819,33,FALSE),0)","v":5},{"$f":"IFERROR(VLOOKUP($A200,FILTRO!$A194:$AY819,34,FALSE),0)","v":6}]
[null,null,"TOTAL ",{"$f":"SUM(E201:F201)","v":15829},{"$f":"+G201+I201+K201+M201+O201+Q201+S201+U201+W201+Y201","v":7955},{"$f":"+H201+J201+L201+N201+P201+R201+T201+V201+X201+Z201","v":7874},{"$f":"SUM(G199:G200)","v":1090},{"$f":"SUM(H199:H200)","v":1054},969,1042,834,793,750,702,714,677,690,743,947,944,684,681,678,675,599,563,38,38,52,88,12,13,13,14,17,13]
["P2501863","EVALUACIÓN DE DAÑO POR CARIES SEGÚN ÍNDICE ceod O COPD",0,{"$f":"IFERROR(VLOOKUP($A202,FILTRO!$A196:$AY821,2,FALSE),0)","v":11021},{"$f":"IFERROR(VLOOKUP($A202,FILTRO!$A196:$AY821,3,FALSE),0)","v":5616},{"$f":"IFERROR(VLOOKUP($A202,FILTRO!$A196:$AY821,4,FALSE),0)","v":5405},{"$f":"IFERROR(VLOOKUP($A202,FILTRO!$A196:$AY821,5,FALSE),0)","v":1219},{"$f":"IFERROR(VLOOKUP($A202,FILTRO!$A196:$AY821,6,FALSE),0)","v":1060},{"$f":"IFERROR(VLOOKUP($A202,FILTRO!$A196:$AY821,7,FALSE),0)","v":952},{"$f":"IFERROR(VLOOKUP($A202,FILTRO!$A196:$AY821,8,FALSE),0)","v":982},{"$f":"IFERROR(VLOOKUP($A202,FILTRO!$A196:$AY821,9,FALSE),0)","v":754},{"$f":"IFERROR(VLOOKUP($A202,FILTRO!$A196:$AY821,10,FALSE),0)","v":687},{"$f":"IFERROR(VLOOKUP($A202,FILTRO!$A196:$AY821,11,FALSE),0)","v":506},{"$f":"IFERROR(VLOOKUP($A202,FILTRO!$A196:$AY821,12,FALSE),0)","v":432},{"$f":"IFERROR(VLOOKUP($A202,FILTRO!$A196:$AY821,13,FALSE),0)","v":428},{"$f":"IFERROR(VLOOKUP($A202,FILTRO!$A196:$AY821,14,FALSE),0)","v":401},{"$f":"IFERROR(VLOOKUP($A202,FILTRO!$A196:$AY821,15,FALSE),0)","v":310},{"$f":"IFERROR(VLOOKUP($A202,FILTRO!$A196:$AY821,16,FALSE),0)","v":330},{"$f":"IFERROR(VLOOKUP($A202,FILTRO!$A196:$AY821,17,FALSE),0)","v":558},{"$f":"IFERROR(VLOOKUP($A202,FILTRO!$A196:$AY821,18,FALSE),0)","v":571},{"$f":"IFERROR(VLOOKUP($A202,FILTRO!$A196:$AY821,19,FALSE),0)","v":327},{"$f":"IFERROR(VLOOKUP($A202,FILTRO!$A196:$AY821,20,FALSE),0)","v":333},{"$f":"IFERROR(VLOOKUP($A202,FILTRO!$A196:$AY821,21,FALSE),0)","v":273},{"$f":"IFERROR(VLOOKUP($A202,FILTRO!$A196:$AY821,22,FALSE),0)","v":294},{"$f":"IFERROR(VLOOKUP($A202,FILTRO!$A196:$AY821,23,FALSE),0)","v":289},{"$f":"IFERROR(VLOOKUP($A202,FILTRO!$A196:$AY821,24,FALSE),0)","v":315},{"$f":"IFERROR(VLOOKUP($A202,FILTRO!$A196:$AY821,25,FALSE),0)","v":21},{"$f":"IFERROR(VLOOKUP($A202,FILTRO!$A196:$AY821,26,FALSE),0)","v":20},{"$f":"IFERROR(VLOOKUP($A202,FILTRO!$A196:$AY821,27,FALSE),0)","v":36},{"$f":"IFERROR(VLOOKUP($A202,FILTRO!$A196:$AY821,28,FALSE),0)","v":55},{"$f":"IFERROR(VLOOKUP($A202,FILTRO!$A196:$AY821,29,FALSE),0)","v":3},{"$f":"IFERROR(VLOOKUP($A202,FILTRO!$A196:$AY821,30,FALSE),0)","v":6},{"$f":"IFERROR(VLOOKUP($A202,FILTRO!$A196:$AY821,31,FALSE),0)","v":4},{"$f":"IFERROR(VLOOKUP($A202,FILTRO!$A196:$AY821,32,FALSE),0)","v":5},{"$f":"IFERROR(VLOOKUP($A202,FILTRO!$A196:$AY821,33,FALSE),0)","v":10},{"$f":"IFERROR(VLOOKUP($A202,FILTRO!$A196:$AY821,34,FALSE),0)","v":3}]
["P2501864",null,"1 a 2",{"$f":"IFERROR(VLOOKUP($A203,FILTRO!$A197:$AY822,2,FALSE),0)","v":2821},{"$f":"IFERROR(VLOOKUP($A203,FILTRO!$A197:$AY822,3,FALSE),0)","v":1404},{"$f":"IFERROR(VLOOKUP($A203,FILTRO!$A197:$AY822,4,FALSE),0)","v":1417},{"$f":"IFERROR(VLOOKUP($A203,FILTRO!$A197:$AY822,5,FALSE),0)","v":81},{"$f":"IFERROR(VLOOKUP($A203,FILTRO!$A197:$AY822,6,FALSE),0)","v":5},{"$f":"IFERROR(VLOOKUP($A203,FILTRO!$A197:$AY822,7,FALSE),0)","v":38},{"$f":"IFERROR(VLOOKUP($A203,FILTRO!$A197:$AY822,8,FALSE),0)","v":26},{"$f":"IFERROR(VLOOKUP($A203,FILTRO!$A197:$AY822,9,FALSE),0)","v":63},{"$f":"IFERROR(VLOOKUP($A203,FILTRO!$A197:$AY822,10,FALSE),0)","v":68},{"$f":"IFERROR(VLOOKUP($A203,FILTRO!$A197:$AY822,11,FALSE),0)","v":118},{"$f":"IFERROR(VLOOKUP($A203,FILTRO!$A197:$AY822,12,FALSE),0)","v":105},{"$f":"IFERROR(VLOOKUP($A203,FILTRO!$A197:$AY822,13,FALSE),0)","v":144},{"$f":"IFERROR(VLOOKUP($A203,FILTRO!$A197:$AY822,14,FALSE),0)","v":146},{"$f":"IFERROR(VLOOKUP($A203,FILTRO!$A197:$AY822,15,FALSE),0)","v":166},{"$f":"IFERROR(VLOOKUP($A203,FILTRO!$A197:$AY822,16,FALSE),0)","v":200},{"$f":"IFERROR(VLOOKUP($A203,FILTRO!$A197:$AY822,17,FALSE),0)","v":228},{"$f":"IFERROR(VLOOKUP($A203,FILTRO!$A197:$AY822,18,FALSE),0)","v":227},{"$f":"IFERROR(VLOOKUP($A203,FILTRO!$A197:$AY822,19,FALSE),0)","v":198},{"$f":"IFERROR(VLOOKUP($A203,FILTRO!$A197:$AY822,20,FALSE),0)","v":211},{"$f":"IFERROR(VLOOKUP($A203,FILTRO!$A197:$AY822,21,FALSE),0)","v":182},{"$f":"IFERROR(VLOOKUP($A203,FILTRO!$A197:$AY822,22,FALSE),0)","v":221},{"$f":"IFERROR(VLOOKUP($A203,FILTRO!$A197:$AY822,23,FALSE),0)","v":186},{"$f":"IFERROR(VLOOKUP($A203,FILTRO!$A197:$AY822,24,FALSE),0)","v":208},{"$f":"IFERROR(VLOOKUP($A203,FILTRO!$A197:$AY822,25,FALSE),0)","v":0},{"$f":"IFERROR(VLOOKUP($A203,FILTRO!$A197:$AY822,26,FALSE),0)","v":1},{"$f":"IFERROR(VLOOKUP($A203,FILTRO!$A197:$AY822,27,FALSE),0)","v":37},{"$f":"IFERROR(VLOOKUP($A203,FILTRO!$A197:$AY822,28,FALSE),0)","v":56},{"$f":"IFERROR(VLOOKUP($A203,FILTRO!$A197:$AY822,29,FALSE),0)","v":3},{"$f":"IFERROR(VLOOKUP($A203,FILTRO!$A197:$AY822,30,FALSE),0)","v":3},{"$f":"IFERROR(VLOOKUP($A203,FILTRO!$A197:$AY822,31,FALSE),0)","v":10},{"$f":"IFERROR(VLOOKUP($A203,FILTRO!$A197:$AY822,32,FALSE),0)","v":11},{"$f":"IFERROR(VLOOKUP($A203,FILTRO!$A197:$AY822,33,FALSE),0)","v":7},{"$f":"IFERROR(VLOOKUP($A203,FILTRO!$A197:$AY822,34,FALSE),0)","v":7}]
["P2501865",null,"3 a 4",{"$f":"IFERROR(VLOOKUP($A204,FILTRO!$A198:$AY823,2,FALSE),0)","v":1906},{"$f":"IFERROR(VLOOKUP($A204,FILTRO!$A198:$AY823,3,FALSE),0)","v":952},{"$f":"IFERROR(VLOOKUP($A204,FILTRO!$A198:$AY823,4,FALSE),0)","v":954},{"$f":"IFERROR(VLOOKUP($A204,FILTRO!$A198:$AY823,5,FALSE),0)","v":43},{"$f":"IFERROR(VLOOKUP($A204,FILTRO!$A198:$AY823,6,FALSE),0)","v":0},{"$f":"IFERROR(VLOOKUP($A204,FILTRO!$A198:$AY823,7,FALSE),0)","v":6},{"$f":"IFERROR(VLOOKUP($A204,FILTRO!$A198:$AY823,8,FALSE),0)","v":8},{"$f":"IFERROR(VLOOKUP($A204,FILTRO!$A198:$AY823,9,FALSE),0)","v":24},{"$f":"IFERROR(VLOOKUP($A204,FILTRO!$A198:$AY823,10,FALSE),0)","v":45},{"$f":"IFERROR(VLOOKUP($A204,FILTRO!$A198:$AY823,11,FALSE),0)","v":75},{"$f":"IFERROR(VLOOKUP($A204,FILTRO!$A198:$AY823,12,FALSE),0)","v":85},{"$f":"IFERROR(VLOOKUP($A204,FILTRO!$A198:$AY823,13,FALSE),0)","v":105},{"$f":"IFERROR(VLOOKUP($A204,FILTRO!$A198:$AY823,14,FALSE),0)","v":117},{"$f":"IFERROR(VLOOKUP($A204,FILTRO!$A198:$AY823,15,FALSE),0)","v":127},{"$f":"IFERROR(VLOOKUP($A204,FILTRO!$A198:$AY823,16,FALSE),0)","v":148},{"$f":"IFERROR(VLOOKUP($A204,FILTRO!$A198:$AY823,17,FALSE),0)","v":144},{"$f":"IFERROR(VLOOKUP($A204,FILTRO!$A198:$AY823,18,FALSE),0)","v":159},{"$f":"IFERROR(VLOOKUP($A204,FILTRO!$A198:$AY823,19,FALSE),0)","v":127},{"$f":"IFERROR(VLOOKUP($A204,FILTRO!$A198:$AY823,20,FALSE),0)","v":114},{"$f":"IFERROR(VLOOKUP($A204,FILTRO!$A198:$AY823,21,FALSE),0)","v":159},{"$f":"IFERROR(VLOOKUP($A204,FILTRO!$A198:$AY823,22,FALSE),0)","v":133},{"$f":"IFERROR(VLOOKUP($A204,FILTRO!$A198:$AY823,23,FALSE),0)","v":142},{"$f":"IFERROR(VLOOKUP($A204,FILTRO!$A198:$AY823,24,FALSE),0)","v":145},{"$f":"IFERROR(VLOOKUP($A204,FILTRO!$A198:$AY823,25,FALSE),0)","v":2},{"$f":"IFERROR(VLOOKUP($A204,FILTRO!$A198:$AY823,26,FALSE),0)","v":6},{"$f":"IFERROR(VLOOKUP($A204,FILTRO!$A198:$AY823,27,FALSE),0)","v":14},{"$f":"IFERROR(VLOOKUP($A204,FILTRO!$A198:$AY823,28,FALSE),0)","v":16},{"$f":"IFERROR(VLOOKUP($A204,FILTRO!$A198:$AY823,29,FALSE),0)","v":2},{"$f":"IFERROR(VLOOKUP($A204,FILTRO!$A198:$AY823,30,FALSE),0)","v":0},{"$f":"IFERROR(VLOOKUP($A204,FILTRO!$A198:$AY823,31,FALSE),0)","v":9},{"$f":"IFERROR(VLOOKUP($A204,FILTRO!$A198:$AY823,32,FALSE),0)","v":9},{"$f":"IFERROR(VLOOKUP($A204,FILTRO!$A198:$AY823,33,FALSE),0)","v":8},{"$f":"IFERROR(VLOOKUP($A204,FILTRO!$A198:$AY823,34,FALSE),0)","v":7}]
["P2501866",null,"5 a 6",{"$f":"IFERROR(VLOOKUP($A205,FILTRO!$A199:$AY824,2,FALSE),0)","v":1187},{"$f":"IFERROR(VLOOKUP($A205,FILTRO!$A199:$AY824,3,FALSE),0)","v":585},{"$f":"IFERROR(VLOOKUP($A205,FILTRO!$A199:$AY824,4,FALSE),0)","v":602},{"$f":"IFERROR(VLOOKUP($A205,FILTRO!$A199:$AY824,5,FALSE),0)","v":13},{"$f":"IFERROR(VLOOKUP($A205,FILTRO!$A199:$AY824,6,FALSE),0)","v":1},{"$f":"IFERROR(VLOOKUP($A205,FILTRO!$A199:$AY824,7,FALSE),0)","v":3},{"$f":"IFERROR(VLOOKUP($A205,FILTRO!$A199:$AY824,8,FALSE),0)","v":2},{"$f":"IFERROR(VLOOKUP($A205,FILTRO!$A199:$AY824,9,FALSE),0)","v":13},{"$f":"IFERROR(VLOOKUP($A205,FILTRO!$A199:$AY824,10,FALSE),0)","v":15},{"$f":"IFERROR(VLOOKUP($A205,FILTRO!$A199:$AY824,11,FALSE),0)","v":33},{"$f":"IFERROR(VLOOKUP($A205,FILTRO!$A199:$AY824,12,FALSE),0)","v":47},{"$f":"IFERROR(VLOOKUP($A205,FILTRO!$A199:$AY824,13,FALSE),0)","v":48},{"$f":"IFERROR(VLOOKUP($A205,FILTRO!$A199:$AY824,14,FALSE),0)","v":57},{"$f":"IFERROR(VLOOKUP($A205,FILTRO!$A199:$AY824,15,FALSE),0)","v":81},{"$f":"IFERROR(VLOOKUP($A205,FILTRO!$A199:$AY824,16,FALSE),0)","v":103},{"$f":"IFERROR(VLOOKUP($A205,FILTRO!$A199:$AY824,17,FALSE),0)","v":127},{"$f":"IFERROR(VLOOKUP($A205,FILTRO!$A199:$AY824,18,FALSE),0)","v":119},{"$f":"IFERROR(VLOOKUP($A205,FILTRO!$A199:$AY824,19,FALSE),0)","v":85},{"$f":"IFERROR(VLOOKUP($A205,FILTRO!$A199:$AY824,20,FALSE),0)","v":88},{"$f":"IFERROR(VLOOKUP($A205,FILTRO!$A199:$AY824,21,FALSE),0)","v":98},{"$f":"IFERROR(VLOOKUP($A205,FILTRO!$A199:$AY824,22,FALSE),0)","v":85},{"$f":"IFERROR(VLOOKUP($A205,FILTRO!$A199:$AY824,23,FALSE),0)","v":84},{"$f":"IFERROR(VLOOKUP($A205,FILTRO!$A199:$AY824,24,FALSE),0)","v":85},{"$f":"IFERROR(VLOOKUP($A205,FILTRO!$A199:$AY824,25,FALSE),0)","v":3},{"$f":"IFERROR(VLOOKUP($A205,FILTRO!$A199:$AY824,26,FALSE),0)","v":1},{"$f":"IFERROR(VLOOKUP($A205,FILTRO!$A199:$AY824,27,FALSE),0)","v":9},{"$f":"IFERROR(VLOOKUP($A205,FILTRO!$A199:$AY824,28,FALSE),0)","v":8},{"$f":"IFERROR(VLOOKUP($A205,FILTRO!$A199:$AY824,29,FALSE),0)","v":2},{"$f":"IFERROR(VLOOKUP($A205,FILTRO!$A199:$AY824,30,FALSE),0)","v":1},{"$f":"IFERROR(VLOOKUP($A205,FILTRO!$A199:$AY824,31,FALSE),0)","v":2},{"$f":"IFERROR(VLOOKUP($A205,FILTRO!$A199:$AY824,32,FALSE),0)","v":3},{"$f":"IFERROR(VLOOKUP($A205,FILTRO!$A199:$AY824,33,FALSE),0)","v":3},{"$f":"IFERROR(VLOOKUP($A205,FILTRO!$A199:$AY824,34,FALSE),0)","v":1}]
["P2501867",null,"7 a 8",{"$f":"IFERROR(VLOOKUP($A206,FILTRO!$A200:$AY825,2,FALSE),0)","v":749},{"$f":"IFERROR(VLOOKUP($A206,FILTRO!$A200:$AY825,3,FALSE),0)","v":407},{"$f":"IFERROR(VLOOKUP($A206,FILTRO!$A200:$AY825,4,FALSE),0)","v":342},{"$f":"IFERROR(VLOOKUP($A206,FILTRO!$A200:$AY825,5,FALSE),0)","v":12},{"$f":"IFERROR(VLOOKUP($A206,FILTRO!$A200:$AY825,6,FALSE),0)","v":0},{"$f":"IFERROR(VLOOKUP($A206,FILTRO!$A200:$AY825,7,FALSE),0)","v":0},{"$f":"IFERROR(VLOOKUP($A206,FILTRO!$A200:$AY825,8,FALSE),0)","v":1},{"$f":"IFERROR(VLOOKUP($A206,FILTRO!$A200:$AY825,9,FALSE),0)","v":12},{"$f":"IFERROR(VLOOKUP($A206,FILTRO!$A200:$AY825,10,FALSE),0)","v":6},{"$f":"IFERROR(VLOOKUP($A206,FILTRO!$A200:$AY825,11,FALSE),0)","v":20},{"$f":"IFERROR(VLOOKUP($A206,FILTRO!$A200:$AY825,12,FALSE),0)","v":16},{"$f":"IFERROR(VLOOKUP($A206,FILTRO!$A200:$AY825,13,FALSE),0)","v":31},{"$f":"IFERROR(VLOOKUP($A206,FILTRO!$A200:$AY825,14,FALSE),0)","v":30},{"$f":"IFERROR(VLOOKUP($A206,FILTRO!$A200:$AY825,15,FALSE),0)","v":57},{"$f":"IFERROR(VLOOKUP($A206,FILTRO!$A200:$AY825,16,FALSE),0)","v":54},{"$f":"IFERROR(VLOOKUP($A206,FILTRO!$A200:$AY825,17,FALSE),0)","v":75},{"$f":"IFERROR(VLOOKUP($A206,FILTRO!$A200:$AY825,18,FALSE),0)","v":65},{"$f":"IFERROR(VLOOKUP($A206,FILTRO!$A200:$AY825,19,FALSE),0)","v":70},{"$f":"IFERROR(VLOOKUP($A206,FILTRO!$A200:$AY825,20,FALSE),0)","v":63},{"$f":"IFERROR(VLOOKUP($A206,FILTRO!$A200:$AY825,21,FALSE),0)","v":76},{"$f":"IFERROR(VLOOKUP($A206,FILTRO!$A200:$AY825,22,FALSE),0)","v":54},{"$f":"IFERROR(VLOOKUP($A206,FILTRO!$A200:$AY825,23,FALSE),0)","v":54},{"$f":"IFERROR(VLOOKUP($A206,FILTRO!$A200:$AY825,24,FALSE),0)","v":53},{"$f":"IFERROR(VLOOKUP($A206,FILTRO!$A200:$AY825,25,FALSE),0)","v":1},{"$f":"IFERROR(VLOOKUP($A206,FILTRO!$A200:$AY825,26,FALSE),0)","v":0},{"$f":"IFERROR(VLOOKUP($A206,FILTRO!$A200:$AY825,27,FALSE),0)","v":8},{"$f":"IFERROR(VLOOKUP($A206,FILTRO!$A200:$AY825,28,FALSE),0)","v":5},{"$f":"IFERROR(VLOOKUP($A206,FILTRO!$A200:$AY825,29,FALSE),0)","v":4},{"$f":"IFERROR(VLOOKUP($A206,FILTRO!$A200:$AY825,30,FALSE),0)","v":1},{"$f":"IFERROR(VLOOKUP($A206,FILTRO!$A200:$AY825,31,FALSE),0)","v":3},{"$f":"IFERROR(VLOOKUP($A206,FILTRO!$A200:$AY825,32,FALSE),0)","v":2},{"$f":"IFERROR(VLOOKUP($A206,FILTRO!$A200:$AY825,33,FALSE),0)","v":2},{"$f":"IFERROR(VLOOKUP($A206,FILTRO!$A200:$AY825,34,FALSE),0)","v":2}]
["P2501868",null,"9 o más",{"$f":"IFERROR(VLOOKUP($A207,FILTRO!$A201:$AY826,2,FALSE),0)","v":604},{"$f":"IFERROR(VLOOKUP($A207,FILTRO!$A201:$AY826,3,FALSE),0)","v":338},{"$f":"IFERROR(VLOOKUP($A207,FILTRO!$A201:$AY826,4,FALSE),0)","v":266},{"$f":"IFERROR(VLOOKUP($A207,FILTRO!$A201:$AY826,5,FALSE),0)","v":4},{"$f":"IFERROR(VLOOKUP($A207,FILTRO!$A201:$AY826,6,FALSE),0)","v":0},{"$f":"IFERROR(VLOOKUP($A207,FILTRO!$A201:$AY826,7,FALSE),0)","v":0},{"$f":"IFERROR(VLOOKUP($A207,FILTRO!$A201:$AY826,8,FALSE),0)","v":0},{"$f":"IFERROR(VLOOKUP($A207,FILTRO!$A201:$AY826,9,FALSE),0)","v":4},{"$f":"IFERROR(VLOOKUP($A207,FILTRO!$A201:$AY826,10,FALSE),0)","v":6},{"$f":"IFERROR(VLOOKUP($A207,FILTRO!$A201:$AY826,11,FALSE),0)","v":13},{"$f":"IFERROR(VLOOKUP($A207,FILTRO!$A201:$AY826,12,FALSE),0)","v":16},{"$f":"IFERROR(VLOOKUP($A207,FILTRO!$A201:$AY826,13,FALSE),0)","v":27},{"$f":"IFERROR(VLOOKUP($A207,FILTRO!$A201:$AY826,14,FALSE),0)","v":34},{"$f":"IFERROR(VLOOKUP($A207,FILTRO!$A201:$AY826,15,FALSE),0)","v":53},{"$f":"IFERROR(VLOOKUP($A207,FILTRO!$A201:$AY826,16,FALSE),0)","v":48},{"$f":"IFERROR(VLOOKUP($A207,FILTRO!$A201:$AY826,17,FALSE),0)","v":92},{"$f":"IFERROR(VLOOKUP($A207,FILTRO!$A201:$AY826,18,FALSE),0)","v":63},{"$f":"IFERROR(VLOOKUP($A207,FILTRO!$A201:$AY826,19,FALSE),0)","v":60},{"$f":"IFERROR(VLOOKUP($A207,FILTRO!$A201:$AY826,20,FALSE),0)","v":34},{"$f":"IFERROR(VLOOKUP($A207,FILTRO!$A201:$AY826,21,FALSE),0)","v":48},{"$f":"IFERROR(VLOOKUP($A207,FILTRO!$A201:$AY826,22,FALSE),0)","v":41},{"$f":"IFERROR(VLOOKUP($A207,FILTRO!$A201:$AY826,23,FALSE),0)","v":37},{"$f":"IFERROR(VLOOKUP($A207,FILTRO!$A201:$AY826,24,FALSE),0)","v":24},{"$f":"IFERROR(VLOOKUP($A207,FILTRO!$A201:$AY826,25,FALSE),0)","v":1},{"$f":"IFERROR(VLOOKUP($A207,FILTRO!$A201:$AY826,26,FALSE),0)","v":1},{"$f":"IFERROR(VLOOKUP($A207,FILTRO!$A201:$AY826,27,FALSE),0)","v":13},{"$f":"IFERROR(VLOOKUP($A207,FILTRO!$A201:$AY826,28,FALSE),0)","v":17},{"$f":"IFERROR(VLOOKUP($A207,FILTRO!$A201:$AY826,29,FALSE),0)","v":3},{"$f":"IFERROR(VLOOKUP($A207,FILTRO!$A201:$AY826,30,FALSE),0)","v":0},{"$f":"IFERROR(VLOOKUP($A207,FILTRO!$A201:$AY826,31,FALSE),0)","v":1},{"$f":"IFERROR(VLOOKUP($A207,FILTRO!$A201:$AY826,32,FALSE),0)","v":2},{"$f":"IFERROR(VLOOKUP($A207,FILTRO!$A201:$AY826,33,FALSE),0)","v":1},{"$f":"IFERROR(VLOOKUP($A207,FILTRO!$A201:$AY826,34,FALSE),0)","v":1}]
[null,null,"TOTAL ",{"$f":"SUM(E208:F208)","v":18288},{"$f":"+G208+I208+K208+M208+O208+Q208+S208+U208+W208+Y208","v":9302},8986,{"$f":"SUM(G202:G207)","v":1372},{"$f":"SUM(H202:H207)","v":1066},999,1019,870,827,765,701,783,785,794,883,1224,1204,867,843,836,828,792,830,28,29,117,157,17,11,29,32,31,21]
["P2501869","INASISTENTES A CONTROL ODONTOLÓGICO",null,{"$f":"IFERROR(VLOOKUP($A209,FILTRO!$A203:$AY828,2,FALSE),0)","v":9188},{"$f":"IFERROR(VLOOKUP($A209,FILTRO!$A203:$AY828,3,FALSE),0)","v":4717},{"$f":"IFERROR(VLOOKUP($A209,FILTRO!$A203:$AY828,4,FALSE),0)","v":4471},{"$f":"IFERROR(VLOOKUP($A209,FILTRO!$A203:$AY828,5,FALSE),0)","v":197},{"$f":"IFERROR(VLOOKUP($A209,FILTRO!$A203:$AY828,6,FALSE),0)","v":219},{"$f":"IFERROR(VLOOKUP($A209,FILTRO!$A203:$AY828,7,FALSE),0)","v":388},{"$f":"IFERROR(VLOOKUP($A209,FILTRO!$A203:$AY828,8,FALSE),0)","v":364},{"$f":"IFERROR(VLOOKUP($A209,FILTRO!$A203:$AY828,9,FALSE),0)","v":346},{"$f":"IFERROR(VLOOKUP($A209,FILTRO!$A203:$AY828,10,FALSE),0)","v":378},{"$f":"IFERROR(VLOOKUP($A209,FILTRO!$A203:$AY828,11,FALSE),0)","v":434},{"$f":"IFERROR(VLOOKUP($A209,FILTRO!$A203:$AY828,12,FALSE),0)","v":389},{"$f":"IFERROR(VLOOKUP($A209,FILTRO!$A203:$AY828,13,FALSE),0)","v":610},{"$f":"IFERROR(VLOOKUP($A209,FILTRO!$A203:$AY828,14,FALSE),0)","v":469},{"$f":"IFERROR(VLOOKUP($A209,FILTRO!$A203:$AY828,15,FALSE),0)","v":500},{"$f":"IFERROR(VLOOKUP($A209,FILTRO!$A203:$AY828,16,FALSE),0)","v":501},{"$f":"IFERROR(VLOOKUP($A209,FILTRO!$A203:$AY828,17,FALSE),0)","v":606},{"$f":"IFERROR(VLOOKUP($A209,FILTRO!$A203:$AY828,18,FALSE),0)","v":665},{"$f":"IFERROR(VLOOKUP($A209,FILTRO!$A203:$AY828,19,FALSE),0)","v":586},{"$f":"IFERROR(VLOOKUP($A209,FILTRO!$A203:$AY828,20,FALSE),0)","v":567},{"$f":"IFERROR(VLOOKUP($A209,FILTRO!$A203:$AY828,21,FALSE),0)","v":457},{"$f":"IFERROR(VLOOKUP($A209,FILTRO!$A203:$AY828,22,FALSE),0)","v":491},{"$f":"IFERROR(VLOOKUP($A209,FILTRO!$A203:$AY828,23,FALSE),0)","v":593},{"$f":"IFERROR(VLOOKUP($A209,FILTRO!$A203:$AY828,24,FALSE),0)","v":428},{"$f":"IFERROR(VLOOKUP($A209,FILTRO!$A203:$AY828,25,FALSE),0)","v":54},{"$f":"IFERROR(VLOOKUP($A209,FILTRO!$A203:$AY828,26,FALSE),0)","v":0},{"$f":"IFERROR(VLOOKUP($A209,FILTRO!$A203:$AY828,27,FALSE),0)","v":14},{"$f":"IFERROR(VLOOKUP($A209,FILTRO!$A203:$AY828,28,FALSE),0)","v":41},{"$f":"IFERROR(VLOOKUP($A209,FILTRO!$A203:$AY828,29,FALSE),0)","v":3},{"$f":"IFERROR(VLOOKUP($A209,FILTRO!$A203:$AY828,30,FALSE),0)","v":2},{"$f":"IFERROR(VLOOKUP($A209,FILTRO!$A203:$AY828,31,FALSE),0)","v":0},{"$f":"IFERROR(VLOOKUP($A209,FILTRO!$A203:$AY828,32,FALSE),0)","v":0},{"$f":"IFERROR(VLOOKUP($A209,FILTRO!$A203:$AY828,33,FALSE),0)","v":15},{"$f":"IFERROR(VLOOKUP($A209,FILTRO!$A203:$AY828,34,FALSE),0)","v":13}]
[]
[]
["CODIGOS ELIMINADOS"]
["P2100400"]
["P2200900"]
["P2300410"]
["P2300420"]
["P2300460"]
["P2300470"]
["P2300480"]
["P2300490"]
["P2300500"]
["P2300510"]
["P2300520"]
["P2500100"]
["P2500800"]
["P2500900"]
["P2501000"]
["P2501100"]
["P2501200"]
["P2501300"]
["P2501500"]
["CODIGOS NUEVOS"]
["P2501800"]
["P2501801"]
["P2501802"]
["P2501803"]
["P2501804"]
["P2501805"]
["P2501806"]
["P2501807"]
["P2501808"]
["P2501809"]
["P2501810"]
["P2501811"]
["P2501812"]
["P2501813"]
["P2501814"]
["P2501815"]
["P2501816"]
["P2501817"]
["P2501818"]
["P2501819"]
["P2501820"]
["P2501821"]
["P2501822"]
["P2501823"]
["P2501824"]
["P2501825"]
["P2501826"]
["P2501827"]
["P2501828"]
["P2501829"]
["P2501830"]
["P2501831"]
["P2501832"]
["P2501833"]
["P2501834"]
["P2501835"]
["P2501836"]
["P2501837"]
["P2501838"]
["P2501839"]
["P2501840"]
["P2501841"]
["P2501842"]
["P2501843"]
["P2501844"]
["P2501845"]
["P2501846"]
["P2501847"]
["P2501848"]
["P2501849"]
["P2501850"]
["P2501851"]
["P2501852"]
["P2501853"]
["P2501854"]
["P2501855"]
["P2501856"]
["P2501857"]
["P2501858"]
["P2501859"]
["P2501860"]
["P2501861"]
["P2501862"]
["P2501863"]
["P2501864"]
["P2501865"]
["P2501866"]

{"sheet":"P3","index":4,"n_rows":96,"n_cols":94,"rows_kept":96,"merged":[[6,1,6,25],[8,1,10,2],[8,3,9,5],[8,6,8,39],[8,40,10,40],[8,41,9,42],[8,43,9,44],[9,6,9,7],[9,8,9,9],[9,10,9,11],[9,12,9,13],[9,14,9,15],[9,16,9,17],[9,18,9,19],[9,20,9,21],[9,22,9,23],[9,24,9,25],[9,26,9,27],[9,28,9,29],[9,30,9,31],[9,32,9,33],[9,34,9,35],[9,36,9,37],[9,38,9,39],[11,1,13,1],[14,1,16,1],[17,1,18,1],[19,1,19,2],[20,1,20,2],[21,1,21,2],[22,1,22,2],[23,1,23,2],[25,1,25,2],[26,1,26,2],[27,1,27,2],[28,1,28,2],[29,1,29,2],[30,1,30,2],[31,1,33,1],[34,1,40,1],[42,1,42,42],[43,1,44,1],[43,2,44,2],[43,3,44,3],[43,4,44,4],[43,5,43,11],[46,1,46,39],[47,1,49,2],[47,3,48,5],[47,6,47,39],[48,6,48,7],[48,8,48,9],[48,10,48,11],[48,12,48,13],[48,14,48,15],[48,16,48,17],[48,18,48,19],[48,20,48,21],[48,22,48,23],[48,24,48,25],[48,26,48,27],[48,28,48,29],[48,30,48,31],[48,32,48,33],[48,34,48,35],[48,36,48,37],[48,38,48,39],[50,1,53,1],[54,1,54,39],[55,1,57,2],[55,3,56,5],[55,6,55,39],[56,6,56,7],[56,8,56,9],[56,10,56,11],[56,12,56,13],[56,14,56,15],[56,16,56,17],[56,18,56,19],[56,20,56,21],[56,22,56,23],[56,24,56,25],[56,26,56,27],[56,28,56,29],[56,30,56,31],[56,32,56,33],[56,34,56,35],[56,36,56,37],[56,38,56,39],[58,1,61,1],[62,1,64,1],[66,1,68,1],[66,2,68,2],[66,3,67,5],[66,6,66,39],[67,6,67,7],[67,8,67,9],[67,10,67,11],[67,12,67,13],[67,14,67,15],[67,16,67,17],[67,18,67,19],[67,20,67,21],[67,22,67,23],[67,24,67,25],[67,26,67,27],[67,28,67,29],[67,30,67,31],[67,32,67,33],[67,34,67,35],[67,36,67,37],[67,38,67,39],[69,1,71,1],[72,1,74,1],[75,1,77,1]]}
[null,"DATOS DEL ESTABLECIMIENTO"]
[null,{"$f":"CONCATENATE(\"COMUNA: \",NOMBRE!$B$2,\" - \",\"( \",NOMBRE!$C$2,NOMBRE!$D$2,NOMBRE!$E$2,NOMBRE!$F$2,NOMBRE!$G$2,\" )\")","v":"COMUNA:  - (  )"}]
[null,{"$f":"CONCATENATE(\"ESTABLECIMIENTO/ESTRATEGIA: \",NOMBRE!$B$3,\" - \",\"( \",NOMBRE!$C$3,NOMBRE!$D$3,NOMBRE!$E$3,NOMBRE!$F$3,NOMBRE!$G$3,NOMBRE!$H$3,\" )\")","v":"ESTABLECIMIENTO/ESTRATEGIA:  - (  )"}]
[null,{"$f":"CONCATENATE(\"MES: \",NOMBRE!$B$6,\" - \",\"( \",NOMBRE!$C$6,NOMBRE!$D$6,\" )\")","v":"MES:  - (  )"}]
[null,{"$f":"CONCATENATE(\"AÑO: \",NOMBRE!$B$7)","v":"AÑO: 2023"}]
[]
[null,"REM-P3. POBLACIÓN EN CONTROL OTROS PROGRAMAS"]
[null,"SECCIÓN A: EXISTENCIA DE POBLACIÓN EN CONTROL"]
[null,"PROGRAMAS",null,"TOTAL",null,null,"GRUPOS DE EDAD (en años) Y SEXO",{"$nulls":33},"Con espirometría vigente","Pueblos Originarios",null,"Migrantes"]
[{"$nulls":6},"0 a 4 años",null,"5 a 9 años",null,"10 a 14 años",null,"15 a 19 años",null,"20 a 24 años",null,"25 a 29 años",null,"30 a 34 años",null,"35 a 39 años",null,"40 a 44 años",null,"45 a 49 años",null,"50 a 54 años",null,"55 a 59 años",null,"60 a 64 años",null,"65 a 69 años",null,"70 a 74 años",null,"75 a 79 años",null,"80 y más años"]
[{"$nulls":3},"Ambos\nsexos","Hombres","Mujeres","Hombres","Mujeres","Hombres","Mujeres","Hombres","Mujeres","Hombres","Mujeres","Hombres","Mujeres","Hombres","Mujeres","Hombres","Mujeres","Hombres","Mujeres","Hombres","Mujeres","Hombres","Mujeres","Hombres","Mujeres","Hombres","Mujeres","Hombres","Mujeres","Hombres ","Mujeres","Hombres ","Mujeres","Hombres ","Mujeres","Hombres ","Mujeres",null,"Hombres ","Mujeres","Hombres ","Mujeres"]
["P3160950","SÍNDROME BRONQUIAL OBSTRUCTIVA RECURRENTE (SBOR)","LEVE",{"$f":"IFERROR(VLOOKUP($A12,FILTRO!$A6:$AY631,2,FALSE),0)","v":438},{"$f":"IFERROR(VLOOKUP($A12,FILTRO!$A6:$AY631,3,FALSE),0)","v":245},{"$f":"IFERROR(VLOOKUP($A12,FILTRO!$A6:$AY631,4,FALSE),0)","v":193},{"$f":"IFERROR(VLOOKUP($A12,FILTRO!$A6:$AY631,5,FALSE),0)","v":245},{"$f":"IFERROR(VLOOKUP($A12,FILTRO!$A6:$AY631,6,FALSE),0)","v":193},{"$f":"IFERROR(VLOOKUP($A12,FILTRO!$A6:$AY631,7,FALSE),0)","v":0},{"$f":"IFERROR(VLOOKUP($A12,FILTRO!$A6:$AY631,8,FALSE),0)","v":0},{"$f":"IFERROR(VLOOKUP($A12,FILTRO!$A6:$AY631,9,FALSE),0)","v":0},{"$f":"IFERROR(VLOOKUP($A12,FILTRO!$A6:$AY631,10,FALSE),0)","v":0},{"$f":"IFERROR(VLOOKUP($A12,FILTRO!$A6:$AY631,11,FALSE),0)","v":0},{"$f":"IFERROR(VLOOKUP($A12,FILTRO!$A6:$AY631,12,FALSE),0)","v":0},{"$f":"IFERROR(VLOOKUP($A12,FILTRO!$A6:$AY631,13,FALSE),0)","v":0},{"$f":"IFERROR(VLOOKUP($A12,FILTRO!$A6:$AY631,14,FALSE),0)","v":0},{"$f":"IFERROR(VLOOKUP($A12,FILTRO!$A6:$AY631,15,FALSE),0)","v":0},{"$f":"IFERROR(VLOOKUP($A12,FILTRO!$A6:$AY631,16,FALSE),0)","v":0},{"$f":"IFERROR(VLOOKUP($A12,FILTRO!$A6:$AY631,17,FALSE),0)","v":0},{"$f":"IFERROR(VLOOKUP($A12,FILTRO!$A6:$AY631,18,FALSE),0)","v":0},{"$f":"IFERROR(VLOOKUP($A12,FILTRO!$A6:$AY631,19,FALSE),0)","v":0},{"$f":"IFERROR(VLOOKUP($A12,FILTRO!$A6:$AY631,20,FALSE),0)","v":0},{"$f":"IFERROR(VLOOKUP($A12,FILTRO!$A6:$AY631,21,FALSE),0)","v":0},{"$f":"IFERROR(VLOOKUP($A12,FILTRO!$A6:$AY631,22,FALSE),0)","v":0},{"$f":"IFERROR(VLOOKUP($A12,FILTRO!$A6:$AY631,23,FALSE),0)","v":0},{"$f":"IFERROR(VLOOKUP($A12,FILTRO!$A6:$AY631,24,FALSE),0)","v":0},{"$f":"IFERROR(VLOOKUP($A12,FILTRO!$A6:$AY631,25,FALSE),0)","v":0},{"$f":"IFERROR(VLOOKUP($A12,FILTRO!$A6:$AY631,26,FALSE),0)","v":0},{"$f":"IFERROR(VLOOKUP($A12,FILTRO!$A6:$AY631,27,FALSE),0)","v":0},{"$f":"IFERROR(VLOOKUP($A12,FILTRO!$A6:$AY631,28,FALSE),0)","v":0},{"$f":"IFERROR(VLOOKUP($A12,FILTRO!$A6:$AY631,29,FALSE),0)","v":0},{"$f":"IFERROR(VLOOKUP($A12,FILTRO!$A6:$AY631,30,FALSE),0)","v":0},{"$f":"IFERROR(VLOOKUP($A12,FILTRO!$A6:$AY631,31,FALSE),0)","v":0},{"$f":"IFERROR(VLOOKUP($A12,FILTRO!$A6:$AY631,32,FALSE),0)","v":0},{"$f":"IFERROR(VLOOKUP($A12,FILTRO!$A6:$AY631,33,FALSE),0)","v":0},{"$f":"IFERROR(VLOOKUP($A12,FILTRO!$A6:$AY631,34,FALSE),0)","v":0},{"$f":"IFERROR(VLOOKUP($A12,FILTRO!$A6:$AY631,35,FALSE),0)","v":0},{"$f":"IFERROR(VLOOKUP($A12,FILTRO!$A6:$AY631,36,FALSE),0)","v":0},{"$f":"IFERROR(VLOOKUP($A12,FILTRO!$A6:$AY631,37,FALSE),0)","v":0},{"$f":"IFERROR(VLOOKUP($A12,FILTRO!$A6:$AY631,38,FALSE),0)","v":0},{"$f":"IFERROR(VLOOKUP($A12,FILTRO!$A6:$AY631,39,FALSE),0)","v":1},{"$f":"IFERROR(VLOOKUP($A12,FILTRO!$A6:$AY631,40,FALSE),0)","v":0},{"$f":"IFERROR(VLOOKUP($A12,FILTRO!$A6:$AY631,41,FALSE),0)","v":0},{"$f":"IFERROR(VLOOKUP($A12,FILTRO!$A6:$AY631,42,FALSE),0)","v":1},{"$f":"IFERROR(VLOOKUP($A12,FILTRO!$A6:$AY631,43,FALSE),0)","v":4},{"$nulls":35},{"$f":"IF($AO12<=$G12+$H12,\"\",\"* La Población bajo control con Espirometría Vigente no debe ser mayor al Total de Población en Control. \")","v":""},{"$f":"IF($D12>=$AP12+$AQ12,\"\",\"* La Población Migrantes no debe ser mayor al Total de Población en Control. \")","v":""},null,{"$f":"IF(AND(E12<>0,AP12=\"\"),\"* No olvide escribir en la celda de Población Migrantes (Digite CERO si no tiene). \",IF(AND(F12<>0,AQ12=\"\"),\"* No olvide escribir en la celda de Población Migrantes (Digite CERO si no tiene). \",\"\"))","v":""},{"$nulls":4},{"$f":"IF($AO12<=$G12+$H12,0,1)","v":0},{"$f":"IF($D12>=$AP12+$AQ12,0,1)","v":0},null,{"$f":"IF(AND(E12<>0,AP12=\"\"),1,IF(AND(F12<>0,AQ12=\"\"),1,0))","v":0}]
["P3160960",null,"MODERADO",{"$f":"IFERROR(VLOOKUP($A13,FILTRO!$A7:$AY632,2,FALSE),0)","v":334},{"$f":"IFERROR(VLOOKUP($A13,FILTRO!$A7:$AY632,3,FALSE),0)","v":193},{"$f":"IFERROR(VLOOKUP($A13,FILTRO!$A7:$AY632,4,FALSE),0)","v":141},{"$f":"IFERROR(VLOOKUP($A13,FILTRO!$A7:$AY632,5,FALSE),0)","v":193},{"$f":"IFERROR(VLOOKUP($A13,FILTRO!$A7:$AY632,6,FALSE),0)","v":141},{"$f":"IFERROR(VLOOKUP($A13,FILTRO!$A7:$AY632,7,FALSE),0)","v":0},{"$f":"IFERROR(VLOOKUP($A13,FILTRO!$A7:$AY632,8,FALSE),0)","v":0},{"$f":"IFERROR(VLOOKUP($A13,FILTRO!$A7:$AY632,9,FALSE),0)","v":0},{"$f":"IFERROR(VLOOKUP($A13,FILTRO!$A7:$AY632,10,FALSE),0)","v":0},{"$f":"IFERROR(VLOOKUP($A13,FILTRO!$A7:$AY632,11,FALSE),0)","v":0},{"$f":"IFERROR(VLOOKUP($A13,FILTRO!$A7:$AY632,12,FALSE),0)","v":0},{"$f":"IFERROR(VLOOKUP($A13,FILTRO!$A7:$AY632,13,FALSE),0)","v":0},{"$f":"IFERROR(VLOOKUP($A13,FILTRO!$A7:$AY632,14,FALSE),0)","v":0},{"$f":"IFERROR(VLOOKUP($A13,FILTRO!$A7:$AY632,15,FALSE),0)","v":0},{"$f":"IFERROR(VLOOKUP($A13,FILTRO!$A7:$AY632,16,FALSE),0)","v":0},{"$f":"IFERROR(VLOOKUP($A13,FILTRO!$A7:$AY632,17,FALSE),0)","v":0},{"$f":"IFERROR(VLOOKUP($A13,FILTRO!$A7:$AY632,18,FALSE),0)","v":0},{"$f":"IFERROR(VLOOKUP($A13,FILTRO!$A7:$AY632,19,FALSE),0)","v":0},{"$f":"IFERROR(VLOOKUP($A13,FILTRO!$A7:$AY632,20,FALSE),0)","v":0},{"$f":"IFERROR(VLOOKUP($A13,FILTRO!$A7:$AY632,21,FALSE),0)","v":0},{"$f":"IFERROR(VLOOKUP($A13,FILTRO!$A7:$AY632,22,FALSE),0)","v":0},{"$f":"IFERROR(VLOOKUP($A13,FILTRO!$A7:$AY632,23,FALSE),0)","v":0},{"$f":"IFERROR(VLOOKUP($A13,FILTRO!$A7:$AY632,24,FALSE),0)","v":0},{"$f":"IFERROR(VLOOKUP($A13,FILTRO!$A7:$AY632,25,FALSE),0)","v":0},{"$f":"IFERROR(VLOOKUP($A13,FILTRO!$A7:$AY632,26,FALSE),0)","v":0},{"$f":"IFERROR(VLOOKUP($A13,FILTRO!$A7:$AY632,27,FALSE),0)","v":0},{"$f":"IFERROR(VLOOKUP($A13,FILTRO!$A7:$AY632,28,FALSE),0)","v":0},{"$f":"IFERROR(VLOOKUP($A13,FILTRO!$A7:$AY632,29,FALSE),0)","v":0},{"$f":"IFERROR(VLOOKUP($A13,FILTRO!$A7:$AY632,30,FALSE),0)","v":0},{"$f":"IFERROR(VLOOKUP($A13,FILTRO!$A7:$AY632,31,FALSE),0)","v":0},{"$f":"IFERROR(VLOOKUP($A13,FILTRO!$A7:$AY632,32,FALSE),0)","v":0},{"$f":"IFERROR(VLOOKUP($A13,FILTRO!$A7:$AY632,33,FALSE),0)","v":0},{"$f":"IFERROR(VLOOKUP($A13,FILTRO!$A7:$AY632,34,FALSE),0)","v":0},{"$f":"IFERROR(VLOOKUP($A13,FILTRO!$A7:$AY632,35,FALSE),0)","v":0},{"$f":"IFERROR(VLOOKUP($A13,FILTRO!$A7:$AY632,36,FALSE),0)","v":0},{"$f":"IFERROR(VLOOKUP($A13,FILTRO!$A7:$AY632,37,FALSE),0)","v":0},{"$f":"IFERROR(VLOOKUP($A13,FILTRO!$A7:$AY632,38,FALSE),0)","v":0},{"$f":"IFERROR(VLOOKUP($A13,FILTRO!$A7:$AY632,39,FALSE),0)","v":0},{"$f":"IFERROR(VLOOKUP($A13,FILTRO!$A7:$AY632,40,FALSE),0)","v":1},{"$f":"IFERROR(VLOOKUP($A13,FILTRO!$A7:$AY632,41,FALSE),0)","v":0},{"$f":"IFERROR(VLOOKUP($A13,FILTRO!$A7:$AY632,42,FALSE),0)","v":3},{"$f":"IFERROR(VLOOKUP($A13,FILTRO!$A7:$AY632,43,FALSE),0)","v":2},{"$nulls":35},{"$f":"IF($AO13<=$G13+$H13,\"\",\"* La Población bajo control con Espirometría Vigente no debe ser mayor al Total de Población en Control. \")","v":""},"",null,"",{"$nulls":4},{"$f":"IF($AO13<=$G13+$H13,0,1)","v":0},{"$f":"IF($D13>=$AP13+$AQ13,0,1)","v":0},null,0]
["P3160970",null,"SEVERO",{"$f":"IFERROR(VLOOKUP($A14,FILTRO!$A8:$AY633,2,FALSE),0)","v":21},{"$f":"IFERROR(VLOOKUP($A14,FILTRO!$A8:$AY633,3,FALSE),0)","v":9},{"$f":"IFERROR(VLOOKUP($A14,FILTRO!$A8:$AY633,4,FALSE),0)","v":12},{"$f":"IFERROR(VLOOKUP($A14,FILTRO!$A8:$AY633,5,FALSE),0)","v":9},{"$f":"IFERROR(VLOOKUP($A14,FILTRO!$A8:$AY633,6,FALSE),0)","v":12},{"$f":"IFERROR(VLOOKUP($A14,FILTRO!$A8:$AY633,7,FALSE),0)","v":0},{"$f":"IFERROR(VLOOKUP($A14,FILTRO!$A8:$AY633,8,FALSE),0)","v":0},{"$f":"IFERROR(VLOOKUP($A14,FILTRO!$A8:$AY633,9,FALSE),0)","v":0},{"$f":"IFERROR(VLOOKUP($A14,FILTRO!$A8:$AY633,10,FALSE),0)","v":0},{"$f":"IFERROR(VLOOKUP($A14,FILTRO!$A8:$AY633,11,FALSE),0)","v":0},{"$f":"IFERROR(VLOOKUP($A14,FILTRO!$A8:$AY633,12,FALSE),0)","v":0},{"$f":"IFERROR(VLOOKUP($A14,FILTRO!$A8:$AY633,13,FALSE),0)","v":0},{"$f":"IFERROR(VLOOKUP($A14,FILTRO!$A8:$AY633,14,FALSE),0)","v":0},{"$f":"IFERROR(VLOOKUP($A14,FILTRO!$A8:$AY633,15,FALSE),0)","v":0},{"$f":"IFERROR(VLOOKUP($A14,FILTRO!$A8:$AY633,16,FALSE),0)","v":0},{"$f":"IFERROR(VLOOKUP($A14,FILTRO!$A8:$AY633,17,FALSE),0)","v":0},{"$f":"IFERROR(VLOOKUP($A14,FILTRO!$A8:$AY633,18,FALSE),0)","v":0},{"$f":"IFERROR(VLOOKUP($A14,FILTRO!$A8:$AY633,19,FALSE),0)","v":0},{"$f":"IFERROR(VLOOKUP($A14,FILTRO!$A8:$AY633,20,FALSE),0)","v":0},{"$f":"IFERROR(VLOOKUP($A14,FILTRO!$A8:$AY633,21,FALSE),0)","v":0},{"$f":"IFERROR(VLOOKUP($A14,FILTRO!$A8:$AY633,22,FALSE),0)","v":0},{"$f":"IFERROR(VLOOKUP($A14,FILTRO!$A8:$AY633,23,FALSE),0)","v":0},{"$f":"IFERROR(VLOOKUP($A14,FILTRO!$A8:$AY633,24,FALSE),0)","v":0},{"$f":"IFERROR(VLOOKUP($A14,FILTRO!$A8:$AY633,25,FALSE),0)","v":0},{"$f":"IFERROR(VLOOKUP($A14,FILTRO!$A8:$AY633,26,FALSE),0)","v":0},{"$f":"IFERROR(VLOOKUP($A14,FILTRO!$A8:$AY633,27,FALSE),0)","v":0},{"$f":"IFERROR(VLOOKUP($A14,FILTRO!$A8:$AY633,28,FALSE),0)","v":0},{"$f":"IFERROR(VLOOKUP($A14,FILTRO!$A8:$AY633,29,FALSE),0)","v":0},{"$f":"IFERROR(VLOOKUP($A14,FILTRO!$A8:$AY633,30,FALSE),0)","v":0},{"$f":"IFERROR(VLOOKUP($A14,FILTRO!$A8:$AY633,31,FALSE),0)","v":0},{"$f":"IFERROR(VLOOKUP($A14,FILTRO!$A8:$AY633,32,FALSE),0)","v":0},{"$f":"IFERROR(VLOOKUP($A14,FILTRO!$A8:$AY633,33,FALSE),0)","v":0},{"$f":"IFERROR(VLOOKUP($A14,FILTRO!$A8:$AY633,34,FALSE),0)","v":0},{"$f":"IFERROR(VLOOKUP($A14,FILTRO!$A8:$AY633,35,FALSE),0)","v":0},{"$f":"IFERROR(VLOOKUP($A14,FILTRO!$A8:$AY633,36,FALSE),0)","v":0},{"$f":"IFERROR(VLOOKUP($A14,FILTRO!$A8:$AY633,37,FALSE),0)","v":0},{"$f":"IFERROR(VLOOKUP($A14,FILTRO!$A8:$AY633,38,FALSE),0)","v":0},{"$f":"IFERROR(VLOOKUP($A14,FILTRO!$A8:$AY633,39,FALSE),0)","v":0},{"$f":"IFERROR(VLOOKUP($A14,FILTRO!$A8:$AY633,40,FALSE),0)","v":0},{"$f":"IFERROR(VLOOKUP($A14,FILTRO!$A8:$AY633,41,FALSE),0)","v":0},{"$f":"IFERROR(VLOOKUP($A14,FILTRO!$A8:$AY633,42,FALSE),0)","v":0},{"$f":"IFERROR(VLOOKUP($A14,FILTRO!$A8:$AY633,43,FALSE),0)","v":0},{"$nulls":35},{"$f":"IF($AO14<=$G14+$H14,\"\",\"* La Población bajo control con Espirometría Vigente no debe ser mayor al Total de Población en Control. \")","v":""},"",null,"",{"$nulls":4},{"$f":"IF($AO14<=$G14+$H14,0,1)","v":0},0,null,0]
["P3160980","ASMA BRONQUIAL","LEVE",{"$f":"IFERROR(VLOOKUP($A15,FILTRO!$A9:$AY634,2,FALSE),0)","v":7954},{"$f":"IFERROR(VLOOKUP($A15,FILTRO!$A9:$AY634,3,FALSE),0)","v":2918},{"$f":"IFERROR(VLOOKUP($A15,FILTRO!$A9:$AY634,4,FALSE),0)","v":5036},{"$f":"IFERROR(VLOOKUP($A15,FILTRO!$A9:$AY634,5,FALSE),0)","v":85},{"$f":"IFERROR(VLOOKUP($A15,FILTRO!$A9:$AY634,6,FALSE),0)","v":101},{"$f":"IFERROR(VLOOKUP($A15,FILTRO!$A9:$AY634,7,FALSE),0)","v":784},{"$f":"IFERROR(VLOOKUP($A15,FILTRO!$A9:$AY634,8,FALSE),0)","v":584},{"$f":"IFERROR(VLOOKUP($A15,FILTRO!$A9:$AY634,9,FALSE),0)","v":648},{"$f":"IFERROR(VLOOKUP($A15,FILTRO!$A9:$AY634,10,FALSE),0)","v":516},{"$f":"IFERROR(VLOOKUP($A15,FILTRO!$A9:$AY634,11,FALSE),0)","v":339},{"$f":"IFERROR(VLOOKUP($A15,FILTRO!$A9:$AY634,12,FALSE),0)","v":299},{"$f":"IFERROR(VLOOKUP($A15,FILTRO!$A9:$AY634,13,FALSE),0)","v":128},{"$f":"IFERROR(VLOOKUP($A15,FILTRO!$A9:$AY634,14,FALSE),0)","v":251},{"$f":"IFERROR(VLOOKUP($A15,FILTRO!$A9:$AY634,15,FALSE),0)","v":108},{"$f":"IFERROR(VLOOKUP($A15,FILTRO!$A9:$AY634,16,FALSE),0)","v":218},{"$f":"IFERROR(VLOOKUP($A15,FILTRO!$A9:$AY634,17,FALSE),0)","v":61},{"$f":"IFERROR(VLOOKUP($A15,FILTRO!$A9:$AY634,18,FALSE),0)","v":204},{"$f":"IFERROR(VLOOKUP($A15,FILTRO!$A9:$AY634,19,FALSE),0)","v":46},{"$f":"IFERROR(VLOOKUP($A15,FILTRO!$A9:$AY634,20,FALSE),0)","v":220},{"$f":"IFERROR(VLOOKUP($A15,FILTRO!$A9:$AY634,21,FALSE),0)","v":61},{"$f":"IFERROR(VLOOKUP($A15,FILTRO!$A9:$AY634,22,FALSE),0)","v":207},{"$f":"IFERROR(VLOOKUP($A15,FILTRO!$A9:$AY634,23,FALSE),0)","v":42},{"$f":"IFERROR(VLOOKUP($A15,FILTRO!$A9:$AY634,24,FALSE),0)","v":263},{"$f":"IFERROR(VLOOKUP($A15,FILTRO!$A9:$AY634,25,FALSE),0)","v":54},{"$f":"IFERROR(VLOOKUP($A15,FILTRO!$A9:$AY634,26,FALSE),0)","v":287},{"$f":"IFERROR(VLOOKUP($A15,FILTRO!$A9:$AY634,27,FALSE),0)","v":70},{"$f":"IFERROR(VLOOKUP($A15,FILTRO!$A9:$AY634,28,FALSE),0)","v":337},{"$f":"IFERROR(VLOOKUP($A15,FILTRO!$A9:$AY634,29,FALSE),0)","v":97},{"$f":"IFERROR(VLOOKUP($A15,FILTRO!$A9:$AY634,30,FALSE),0)","v":337},{"$f":"IFERROR(VLOOKUP($A15,FILTRO!$A9:$AY634,31,FALSE),0)","v":111},{"$f":"IFERROR(VLOOKUP($A15,FILTRO!$A9:$AY634,32,FALSE),0)","v":351},{"$f":"IFERROR(VLOOKUP($A15,FILTRO!$A9:$AY634,33,FALSE),0)","v":90},{"$f":"IFERROR(VLOOKUP($A15,FILTRO!$A9:$AY634,34,FALSE),0)","v":336},{"$f":"IFERROR(VLOOKUP($A15,FILTRO!$A9:$AY634,35,FALSE),0)","v":103},{"$f":"IFERROR(VLOOKUP($A15,FILTRO!$A9:$AY634,36,FALSE),0)","v":227},{"$f":"IFERROR(VLOOKUP($A15,FILTRO!$A9:$AY634,37,FALSE),0)","v":91},{"$f":"IFERROR(VLOOKUP($A15,FILTRO!$A9:$AY634,38,FALSE),0)","v":298},{"$f":"IFERROR(VLOOKUP($A15,FILTRO!$A9:$AY634,39,FALSE),0)","v":1517},{"$f":"IFERROR(VLOOKUP($A15,FILTRO!$A9:$AY634,40,FALSE),0)","v":2},{"$f":"IFERROR(VLOOKUP($A15,FILTRO!$A9:$AY634,41,FALSE),0)","v":7},{"$f":"IFERROR(VLOOKUP($A15,FILTRO!$A9:$AY634,42,FALSE),0)","v":15},{"$f":"IFERROR(VLOOKUP($A15,FILTRO!$A9:$AY634,43,FALSE),0)","v":34},{"$nulls":35},{"$f":"IF($AO15<=SUM($G15:$AN15),\"\",\"* La Población bajo control con Espirometría Vigente no debe ser mayor al Total de Población en Control. \")","v":""},"",null,"",{"$nulls":4},{"$f":"IF($AO15<=SUM($G15:$AN15),0,1)","v":0},0,null,0]
["P3160990",null,"MODERADO",{"$f":"IFERROR(VLOOKUP($A16,FILTRO!$A10:$AY635,2,FALSE),0)","v":4440},{"$f":"IFERROR(VLOOKUP($A16,FILTRO!$A10:$AY635,3,FALSE),0)","v":1611},{"$f":"IFERROR(VLOOKUP($A16,FILTRO!$A10:$AY635,4,FALSE),0)","v":2829},{"$f":"IFERROR(VLOOKUP($A16,FILTRO!$A10:$AY635,5,FALSE),0)","v":97},{"$f":"IFERROR(VLOOKUP($A16,FILTRO!$A10:$AY635,6,FALSE),0)","v":64},{"$f":"IFERROR(VLOOKUP($A16,FILTRO!$A10:$AY635,7,FALSE),0)","v":413},{"$f":"IFERROR(VLOOKUP($A16,FILTRO!$A10:$AY635,8,FALSE),0)","v":306},{"$f":"IFERROR(VLOOKUP($A16,FILTRO!$A10:$AY635,9,FALSE),0)","v":339},{"$f":"IFERROR(VLOOKUP($A16,FILTRO!$A10:$AY635,10,FALSE),0)","v":274},{"$f":"IFERROR(VLOOKUP($A16,FILTRO!$A10:$AY635,11,FALSE),0)","v":176},{"$f":"IFERROR(VLOOKUP($A16,FILTRO!$A10:$AY635,12,FALSE),0)","v":154},{"$f":"IFERROR(VLOOKUP($A16,FILTRO!$A10:$AY635,13,FALSE),0)","v":44},{"$f":"IFERROR(VLOOKUP($A16,FILTRO!$A10:$AY635,14,FALSE),0)","v":93},{"$f":"IFERROR(VLOOKUP($A16,FILTRO!$A10:$AY635,15,FALSE),0)","v":48},{"$f":"IFERROR(VLOOKUP($A16,FILTRO!$A10:$AY635,16,FALSE),0)","v":104},{"$f":"IFERROR(VLOOKUP($A16,FILTRO!$A10:$AY635,17,FALSE),0)","v":35},{"$f":"IFERROR(VLOOKUP($A16,FILTRO!$A10:$AY635,18,FALSE),0)","v":115},{"$f":"IFERROR(VLOOKUP($A16,FILTRO!$A10:$AY635,19,FALSE),0)","v":33},{"$f":"IFERROR(VLOOKUP($A16,FILTRO!$A10:$AY635,20,FALSE),0)","v":113},{"$f":"IFERROR(VLOOKUP($A16,FILTRO!$A10:$AY635,21,FALSE),0)","v":18},{"$f":"IFERROR(VLOOKUP($A16,FILTRO!$A10:$AY635,22,FALSE),0)","v":115},{"$f":"IFERROR(VLOOKUP($A16,FILTRO!$A10:$AY635,23,FALSE),0)","v":28},{"$f":"IFERROR(VLOOKUP($A16,FILTRO!$A10:$AY635,24,FALSE),0)","v":140},{"$f":"IFERROR(VLOOKUP($A16,FILTRO!$A10:$AY635,25,FALSE),0)","v":45},{"$f":"IFERROR(VLOOKUP($A16,FILTRO!$A10:$AY635,26,FALSE),0)","v":157},{"$f":"IFERROR(VLOOKUP($A16,FILTRO!$A10:$AY635,27,FALSE),0)","v":41},{"$f":"IFERROR(VLOOKUP($A16,FILTRO!$A10:$AY635,28,FALSE),0)","v":219},{"$f":"IFERROR(VLOOKUP($A16,FILTRO!$A10:$AY635,29,FALSE),0)","v":52},{"$f":"IFERROR(VLOOKUP($A16,FILTRO!$A10:$AY635,30,FALSE),0)","v":202},{"$f":"IFERROR(VLOOKUP($A16,FILTRO!$A10:$AY635,31,FALSE),0)","v":64},{"$f":"IFERROR(VLOOKUP($A16,FILTRO!$A10:$AY635,32,FALSE),0)","v":186},{"$f":"IFERROR(VLOOKUP($A16,FILTRO!$A10:$AY635,33,FALSE),0)","v":49},{"$f":"IFERROR(VLOOKUP($A16,FILTRO!$A10:$AY635,34,FALSE),0)","v":200},{"$f":"IFERROR(VLOOKUP($A16,FILTRO!$A10:$AY635,35,FALSE),0)","v":44},{"$f":"IFERROR(VLOOKUP($A16,FILTRO!$A10:$AY635,36,FALSE),0)","v":156},{"$f":"IFERROR(VLOOKUP($A16,FILTRO!$A10:$AY635,37,FALSE),0)","v":85},{"$f":"IFERROR(VLOOKUP($A16,FILTRO!$A10:$AY635,38,FALSE),0)","v":231},{"$f":"IFERROR(VLOOKUP($A16,FILTRO!$A10:$AY635,39,FALSE),0)","v":512},{"$f":"IFERROR(VLOOKUP($A16,FILTRO!$A10:$AY635,40,FALSE),0)","v":1},{"$f":"IFERROR(VLOOKUP($A16,FILTRO!$A10:$AY635,41,FALSE),0)","v":3},{"$f":"IFERROR(VLOOKUP($A16,FILTRO!$A10:$AY635,42,FALSE),0)","v":9},{"$f":"IFERROR(VLOOKUP($A16,FILTRO!$A10:$AY635,43,FALSE),0)","v":11},{"$nulls":35},{"$f":"IF($AO16<=SUM($G16:$AN16),\"\",\"* La Población bajo control con Espirometría Vigente no debe ser mayor al Total de Población en Control. \")","v":""},"",null,"",{"$nulls":4},{"$f":"IF($AO16<=SUM($G16:$AN16),0,1)","v":0},0,null,0]
["P3161000",null,"SEVERO",{"$f":"IFERROR(VLOOKUP($A17,FILTRO!$A11:$AY636,2,FALSE),0)","v":536},{"$f":"IFERROR(VLOOKUP($A17,FILTRO!$A11:$AY636,3,FALSE),0)","v":132},{"$f":"IFERROR(VLOOKUP($A17,FILTRO!$A11:$AY636,4,FALSE),0)","v":404},{"$f":"IFERROR(VLOOKUP($A17,FILTRO!$A11:$AY636,5,FALSE),0)","v":2},{"$f":"IFERROR(VLOOKUP($A17,FILTRO!$A11:$AY636,6,FALSE),0)","v":0},{"$f":"IFERROR(VLOOKUP($A17,FILTRO!$A11:$AY636,7,FALSE),0)","v":6},{"$f":"IFERROR(VLOOKUP($A17,FILTRO!$A11:$AY636,8,FALSE),0)","v":9},{"$f":"IFERROR(VLOOKUP($A17,FILTRO!$A11:$AY636,9,FALSE),0)","v":13},{"$f":"IFERROR(VLOOKUP($A17,FILTRO!$A11:$AY636,10,FALSE),0)","v":8},{"$f":"IFERROR(VLOOKUP($A17,FILTRO!$A11:$AY636,11,FALSE),0)","v":3},{"$f":"IFERROR(VLOOKUP($A17,FILTRO!$A11:$AY636,12,FALSE),0)","v":8},{"$f":"IFERROR(VLOOKUP($A17,FILTRO!$A11:$AY636,13,FALSE),0)","v":2},{"$f":"IFERROR(VLOOKUP($A17,FILTRO!$A11:$AY636,14,FALSE),0)","v":6},{"$f":"IFERROR(VLOOKUP($A17,FILTRO!$A11:$AY636,15,FALSE),0)","v":3},{"$f":"IFERROR(VLOOKUP($A17,FILTRO!$A11:$AY636,16,FALSE),0)","v":7},{"$f":"IFERROR(VLOOKUP($A17,FILTRO!$A11:$AY636,17,FALSE),0)","v":5},{"$f":"IFERROR(VLOOKUP($A17,FILTRO!$A11:$AY636,18,FALSE),0)","v":17},{"$f":"IFERROR(VLOOKUP($A17,FILTRO!$A11:$AY636,19,FALSE),0)","v":5},{"$f":"IFERROR(VLOOKUP($A17,FILTRO!$A11:$AY636,20,FALSE),0)","v":15},{"$f":"IFERROR(VLOOKUP($A17,FILTRO!$A11:$AY636,21,FALSE),0)","v":1},{"$f":"IFERROR(VLOOKUP($A17,FILTRO!$A11:$AY636,22,FALSE),0)","v":18},{"$f":"IFERROR(VLOOKUP($A17,FILTRO!$A11:$AY636,23,FALSE),0)","v":5},{"$f":"IFERROR(VLOOKUP($A17,FILTRO!$A11:$AY636,24,FALSE),0)","v":20},{"$f":"IFERROR(VLOOKUP($A17,FILTRO!$A11:$AY636,25,FALSE),0)","v":7},{"$f":"IFERROR(VLOOKUP($A17,FILTRO!$A11:$AY636,26,FALSE),0)","v":27},{"$f":"IFERROR(VLOOKUP($A17,FILTRO!$A11:$AY636,27,FALSE),0)","v":10},{"$f":"IFERROR(VLOOKUP($A17,FILTRO!$A11:$AY636,28,FALSE),0)","v":34},{"$f":"IFERROR(VLOOKUP($A17,FILTRO!$A11:$AY636,29,FALSE),0)","v":14},{"$f":"IFERROR(VLOOKUP($A17,FILTRO!$A11:$AY636,30,FALSE),0)","v":56},{"$f":"IFERROR(VLOOKUP($A17,FILTRO!$A11:$AY636,31,FALSE),0)","v":10},{"$f":"IFERROR(VLOOKUP($A17,FILTRO!$A11:$AY636,32,FALSE),0)","v":40},{"$f":"IFERROR(VLOOKUP($A17,FILTRO!$A11:$AY636,33,FALSE),0)","v":15},{"$f":"IFERROR(VLOOKUP($A17,FILTRO!$A11:$AY636,34,FALSE),0)","v":47},{"$f":"IFERROR(VLOOKUP($A17,FILTRO!$A11:$AY636,35,FALSE),0)","v":12},{"$f":"IFERROR(VLOOKUP($A17,FILTRO!$A11:$AY636,36,FALSE),0)","v":38},{"$f":"IFERROR(VLOOKUP($A17,FILTRO!$A11:$AY636,37,FALSE),0)","v":19},{"$f":"IFERROR(VLOOKUP($A17,FILTRO!$A11:$AY636,38,FALSE),0)","v":54},{"$f":"IFERROR(VLOOKUP($A17,FILTRO!$A11:$AY636,39,FALSE),0)","v":96},{"$f":"IFERROR(VLOOKUP($A17,FILTRO!$A11:$AY636,40,FALSE),0)","v":0},{"$f":"IFERROR(VLOOKUP($A17,FILTRO!$A11:$AY636,41,FALSE),0)","v":0},{"$f":"IFERROR(VLOOKUP($A17,FILTRO!$A11:$AY636,42,FALSE),0)","v":1},{"$f":"IFERROR(VLOOKUP($A17,FILTRO!$A11:$AY636,43,FALSE),0)","v":1},{"$nulls":35},{"$f":"IF($AO17<=SUM($G17:$AN17),\"\",\"* La Población bajo control con Espirometría Vigente no debe ser mayor al Total de Población en Control. \")","v":""},"",null,"",{"$nulls":4},{"$f":"IF($AO17<=SUM($G17:$AN17),0,1)","v":0},0,null,0]
["P3161010","ENFERMEDAD PULMONAR OBSTRUCTIVA CRÓNICA (EPOC)","TIPO A",{"$f":"IFERROR(VLOOKUP($A18,FILTRO!$A12:$AY637,2,FALSE),0)","v":3028},{"$f":"IFERROR(VLOOKUP($A18,FILTRO!$A12:$AY637,3,FALSE),0)","v":1460},{"$f":"IFERROR(VLOOKUP($A18,FILTRO!$A12:$AY637,4,FALSE),0)","v":1568},{"$f":"IFERROR(VLOOKUP($A18,FILTRO!$A12:$AY637,5,FALSE),0)","v":0},{"$f":"IFERROR(VLOOKUP($A18,FILTRO!$A12:$AY637,6,FALSE),0)","v":0},{"$f":"IFERROR(VLOOKUP($A18,FILTRO!$A12:$AY637,7,FALSE),0)","v":0},{"$f":"IFERROR(VLOOKUP($A18,FILTRO!$A12:$AY637,8,FALSE),0)","v":0},{"$f":"IFERROR(VLOOKUP($A18,FILTRO!$A12:$AY637,9,FALSE),0)","v":0},{"$f":"IFERROR(VLOOKUP($A18,FILTRO!$A12:$AY637,10,FALSE),0)","v":0},{"$f":"IFERROR(VLOOKUP($A18,FILTRO!$A12:$AY637,11,FALSE),0)","v":0},{"$f":"IFERROR(VLOOKUP($A18,FILTRO!$A12:$AY637,12,FALSE),0)","v":0},{"$f":"IFERROR(VLOOKUP($A18,FILTRO!$A12:$AY637,13,FALSE),0)","v":0},{"$f":"IFERROR(VLOOKUP($A18,FILTRO!$A12:$AY637,14,FALSE),0)","v":0},{"$f":"IFERROR(VLOOKUP($A18,FILTRO!$A12:$AY637,15,FALSE),0)","v":0},{"$f":"IFERROR(VLOOKUP($A18,FILTRO!$A12:$AY637,16,FALSE),0)","v":0},{"$f":"IFERROR(VLOOKUP($A18,FILTRO!$A12:$AY637,17,FALSE),0)","v":0},{"$f":"IFERROR(VLOOKUP($A18,FILTRO!$A12:$AY637,18,FALSE),0)","v":0},{"$f":"IFERROR(VLOOKUP($A18,FILTRO!$A12:$AY637,19,FALSE),0)","v":0},{"$f":"IFERROR(VLOOKUP($A18,FILTRO!$A12:$AY637,20,FALSE),0)","v":0},{"$f":"IFERROR(VLOOKUP($A18,FILTRO!$A12:$AY637,21,FALSE),0)","v":4},{"$f":"IFERROR(VLOOKUP($A18,FILTRO!$A12:$AY637,22,FALSE),0)","v":6},{"$f":"IFERROR(VLOOKUP($A18,FILTRO!$A12:$AY637,23,FALSE),0)","v":14},{"$f":"IFERROR(VLOOKUP($A18,FILTRO!$A12:$AY637,24,FALSE),0)","v":17},{"$f":"IFERROR(VLOOKUP($A18,FILTRO!$A12:$AY637,25,FALSE),0)","v":18},{"$f":"IFERROR(VLOOKUP($A18,FILTRO!$A12:$AY637,26,FALSE),0)","v":28},{"$f":"IFERROR(VLOOKUP($A18,FILTRO!$A12:$AY637,27,FALSE),0)","v":57},{"$f":"IFERROR(VLOOKUP($A18,FILTRO!$A12:$AY637,28,FALSE),0)","v":74},{"$f":"IFERROR(VLOOKUP($A18,FILTRO!$A12:$AY637,29,FALSE),0)","v":113},{"$f":"IFERROR(VLOOKUP($A18,FILTRO!$A12:$AY637,30,FALSE),0)","v":144},{"$f":"IFERROR(VLOOKUP($A18,FILTRO!$A12:$AY637,31,FALSE),0)","v":179},{"$f":"IFERROR(VLOOKUP($A18,FILTRO!$A12:$AY637,32,FALSE),0)","v":239},{"$f":"IFERROR(VLOOKUP($A18,FILTRO!$A12:$AY637,33,FALSE),0)","v":250},{"$f":"IFERROR(VLOOKUP($A18,FILTRO!$A12:$AY637,34,FALSE),0)","v":240},{"$f":"IFERROR(VLOOKUP($A18,FILTRO!$A12:$AY637,35,FALSE),0)","v":288},{"$f":"IFERROR(VLOOKUP($A18,FILTRO!$A12:$AY637,36,FALSE),0)","v":246},{"$f":"IFERROR(VLOOKUP($A18,FILTRO!$A12:$AY637,37,FALSE),0)","v":537},{"$f":"IFERROR(VLOOKUP($A18,FILTRO!$A12:$AY637,38,FALSE),0)","v":574},{"$f":"IFERROR(VLOOKUP($A18,FILTRO!$A12:$AY637,39,FALSE),0)","v":690},{"$f":"IFERROR(VLOOKUP($A18,FILTRO!$A12:$AY637,40,FALSE),0)","v":2},{"$f":"IFERROR(VLOOKUP($A18,FILTRO!$A12:$AY637,41,FALSE),0)","v":0},{"$f":"IFERROR(VLOOKUP($A18,FILTRO!$A12:$AY637,42,FALSE),0)","v":1},{"$f":"IFERROR(VLOOKUP($A18,FILTRO!$A12:$AY637,43,FALSE),0)","v":1},{"$nulls":35},{"$f":"IF($AO18<=SUM($W18:$AN18),\"\",\"* La Población bajo control con Espirometría Vigente no debe ser mayor al Total de Población en Control. \")","v":""},"",null,"",{"$nulls":4},{"$f":"IF($AO18<=SUM($W18:$AN18),0,1)","v":0},0,null,0]
["P3161020",null,"TIPO B",{"$f":"IFERROR(VLOOKUP($A19,FILTRO!$A13:$AY638,2,FALSE),0)","v":480},{"$f":"IFERROR(VLOOKUP($A19,FILTRO!$A13:$AY638,3,FALSE),0)","v":241},{"$f":"IFERROR(VLOOKUP($A19,FILTRO!$A13:$AY638,4,FALSE),0)","v":239},{"$f":"IFERROR(VLOOKUP($A19,FILTRO!$A13:$AY638,5,FALSE),0)","v":0},{"$f":"IFERROR(VLOOKUP($A19,FILTRO!$A13:$AY638,6,FALSE),0)","v":0},{"$f":"IFERROR(VLOOKUP($A19,FILTRO!$A13:$AY638,7,FALSE),0)","v":0},{"$f":"IFERROR(VLOOKUP($A19,FILTRO!$A13:$AY638,8,FALSE),0)","v":0},{"$f":"IFERROR(VLOOKUP($A19,FILTRO!$A13:$AY638,9,FALSE),0)","v":0},{"$f":"IFERROR(VLOOKUP($A19,FILTRO!$A13:$AY638,10,FALSE),0)","v":0},{"$f":"IFERROR(VLOOKUP($A19,FILTRO!$A13:$AY638,11,FALSE),0)","v":0},{"$f":"IFERROR(VLOOKUP($A19,FILTRO!$A13:$AY638,12,FALSE),0)","v":0},{"$f":"IFERROR(VLOOKUP($A19,FILTRO!$A13:$AY638,13,FALSE),0)","v":0},{"$f":"IFERROR(VLOOKUP($A19,FILTRO!$A13:$AY638,14,FALSE),0)","v":0},{"$f":"IFERROR(VLOOKUP($A19,FILTRO!$A13:$AY638,15,FALSE),0)","v":0},{"$f":"IFERROR(VLOOKUP($A19,FILTRO!$A13:$AY638,16,FALSE),0)","v":0},{"$f":"IFERROR(VLOOKUP($A19,FILTRO!$A13:$AY638,17,FALSE),0)","v":0},{"$f":"IFERROR(VLOOKUP($A19,FILTRO!$A13:$AY638,18,FALSE),0)","v":0},{"$f":"IFERROR(VLOOKUP($A19,FILTRO!$A13:$AY638,19,FALSE),0)","v":0},{"$f":"IFERROR(VLOOKUP($A19,FILTRO!$A13:$AY638,20,FALSE),0)","v":0},{"$f":"IFERROR(VLOOKUP($A19,FILTRO!$A13:$AY638,21,FALSE),0)","v":0},{"$f":"IFERROR(VLOOKUP($A19,FILTRO!$A13:$AY638,22,FALSE),0)","v":0},{"$f":"IFERROR(VLOOKUP($A19,FILTRO!$A13:$AY638,23,FALSE),0)","v":1},{"$f":"IFERROR(VLOOKUP($A19,FILTRO!$A13:$AY638,24,FALSE),0)","v":1},{"$f":"IFERROR(VLOOKUP($A19,FILTRO!$A13:$AY638,25,FALSE),0)","v":6},{"$f":"IFERROR(VLOOKUP($A19,FILTRO!$A13:$AY638,26,FALSE),0)","v":6},{"$f":"IFERROR(VLOOKUP($A19,FILTRO!$A13:$AY638,27,FALSE),0)","v":8},{"$f":"IFERROR(VLOOKUP($A19,FILTRO!$A13:$AY638,28,FALSE),0)","v":9},{"$f":"IFERROR(VLOOKUP($A19,FILTRO!$A13:$AY638,29,FALSE),0)","v":13},{"$f":"IFERROR(VLOOKUP($A19,FILTRO!$A13:$AY638,30,FALSE),0)","v":15},{"$f":"IFERROR(VLOOKUP($A19,FILTRO!$A13:$AY638,31,FALSE),0)","v":31},{"$f":"IFERROR(VLOOKUP($A19,FILTRO!$A13:$AY638,32,FALSE),0)","v":29},{"$f":"IFERROR(VLOOKUP($A19,FILTRO!$A13:$AY638,33,FALSE),0)","v":42},{"$f":"IFERROR(VLOOKUP($A19,FILTRO!$A13:$AY638,34,FALSE),0)","v":31},{"$f":"IFERROR(VLOOKUP($A19,FILTRO!$A13:$AY638,35,FALSE),0)","v":50},{"$f":"IFERROR(VLOOKUP($A19,FILTRO!$A13:$AY638,36,FALSE),0)","v":52},{"$f":"IFERROR(VLOOKUP($A19,FILTRO!$A13:$AY638,37,FALSE),0)","v":90},{"$f":"IFERROR(VLOOKUP($A19,FILTRO!$A13:$AY638,38,FALSE),0)","v":96},{"$f":"IFERROR(VLOOKUP($A19,FILTRO!$A13:$AY638,39,FALSE),0)","v":112},{"$f":"IFERROR(VLOOKUP($A19,FILTRO!$A13:$AY638,40,FALSE),0)","v":0},{"$f":"IFERROR(VLOOKUP($A19,FILTRO!$A13:$AY638,41,FALSE),0)","v":0},{"$f":"IFERROR(VLOOKUP($A19,FILTRO!$A13:$AY638,42,FALSE),0)","v":0},{"$f":"IFERROR(VLOOKUP($A19,FILTRO!$A13:$AY638,43,FALSE),0)","v":1},{"$nulls":35},{"$f":"IF($AO19<=SUM($W19:$AN19),\"\",\"* La Población bajo control con Espirometría Vigente no debe ser mayor al Total de Población en Control. \")","v":""},"",null,"",{"$nulls":4},{"$f":"IF($AO19<=SUM($W19:$AN19),0,1)","v":0},0,null,0]
["P3161030","OTRAS RESPIRATORIAS CRONICAS",null,{"$f":"IFERROR(VLOOKUP($A20,FILTRO!$A14:$AY639,2,FALSE),0)","v":1180},{"$f":"IFERROR(VLOOKUP($A20,FILTRO!$A14:$AY639,3,FALSE),0)","v":626},{"$f":"IFERROR(VLOOKUP($A20,FILTRO!$A14:$AY639,4,FALSE),0)","v":554},{"$f":"IFERROR(VLOOKUP($A20,FILTRO!$A14:$AY639,5,FALSE),0)","v":13},{"$f":"IFERROR(VLOOKUP($A20,FILTRO!$A14:$AY639,6,FALSE),0)","v":15},{"$f":"IFERROR(VLOOKUP($A20,FILTRO!$A14:$AY639,7,FALSE),0)","v":30},{"$f":"IFERROR(VLOOKUP($A20,FILTRO!$A14:$AY639,8,FALSE),0)","v":22},{"$f":"IFERROR(VLOOKUP($A20,FILTRO!$A14:$AY639,9,FALSE),0)","v":7},{"$f":"IFERROR(VLOOKUP($A20,FILTRO!$A14:$AY639,10,FALSE),0)","v":11},{"$f":"IFERROR(VLOOKUP($A20,FILTRO!$A14:$AY639,11,FALSE),0)","v":3},{"$f":"IFERROR(VLOOKUP($A20,FILTRO!$A14:$AY639,12,FALSE),0)","v":1},{"$f":"IFERROR(VLOOKUP($A20,FILTRO!$A14:$AY639,13,FALSE),0)","v":2},{"$f":"IFERROR(VLOOKUP($A20,FILTRO!$A14:$AY639,14,FALSE),0)","v":4},{"$f":"IFERROR(VLOOKUP($A20,FILTRO!$A14:$AY639,15,FALSE),0)","v":0},{"$f":"IFERROR(VLOOKUP($A20,FILTRO!$A14:$AY639,16,FALSE),0)","v":5},{"$f":"IFERROR(VLOOKUP($A20,FILTRO!$A14:$AY639,17,FALSE),0)","v":2},{"$f":"IFERROR(VLOOKUP($A20,FILTRO!$A14:$AY639,18,FALSE),0)","v":9},{"$f":"IFERROR(VLOOKUP($A20,FILTRO!$A14:$AY639,19,FALSE),0)","v":2},{"$f":"IFERROR(VLOOKUP($A20,FILTRO!$A14:$AY639,20,FALSE),0)","v":10},{"$f":"IFERROR(VLOOKUP($A20,FILTRO!$A14:$AY639,21,FALSE),0)","v":7},{"$f":"IFERROR(VLOOKUP($A20,FILTRO!$A14:$AY639,22,FALSE),0)","v":13},{"$f":"IFERROR(VLOOKUP($A20,FILTRO!$A14:$AY639,23,FALSE),0)","v":7},{"$f":"IFERROR(VLOOKUP($A20,FILTRO!$A14:$AY639,24,FALSE),0)","v":10},{"$f":"IFERROR(VLOOKUP($A20,FILTRO!$A14:$AY639,25,FALSE),0)","v":9},{"$f":"IFERROR(VLOOKUP($A20,FILTRO!$A14:$AY639,26,FALSE),0)","v":15},{"$f":"IFERROR(VLOOKUP($A20,FILTRO!$A14:$AY639,27,FALSE),0)","v":29},{"$f":"IFERROR(VLOOKUP($A20,FILTRO!$A14:$AY639,28,FALSE),0)","v":29},{"$f":"IFERROR(VLOOKUP($A20,FILTRO!$A14:$AY639,29,FALSE),0)","v":43},{"$f":"IFERROR(VLOOKUP($A20,FILTRO!$A14:$AY639,30,FALSE),0)","v":45},{"$f":"IFERROR(VLOOKUP($A20,FILTRO!$A14:$AY639,31,FALSE),0)","v":70},{"$f":"IFERROR(VLOOKUP($A20,FILTRO!$A14:$AY639,32,FALSE),0)","v":58},{"$f":"IFERROR(VLOOKUP($A20,FILTRO!$A14:$AY639,33,FALSE),0)","v":108},{"$f":"IFERROR(VLOOKUP($A20,FILTRO!$A14:$AY639,34,FALSE),0)","v":63},{"$f":"IFERROR(VLOOKUP($A20,FILTRO!$A14:$AY639,35,FALSE),0)","v":101},{"$f":"IFERROR(VLOOKUP($A20,FILTRO!$A14:$AY639,36,FALSE),0)","v":96},{"$f":"IFERROR(VLOOKUP($A20,FILTRO!$A14:$AY639,37,FALSE),0)","v":193},{"$f":"IFERROR(VLOOKUP($A20,FILTRO!$A14:$AY639,38,FALSE),0)","v":148},{"$f":"IFERROR(VLOOKUP($A20,FILTRO!$A14:$AY639,39,FALSE),0)","v":0},{"$f":"IFERROR(VLOOKUP($A20,FILTRO!$A14:$AY639,40,FALSE),0)","v":2},{"$f":"IFERROR(VLOOKUP($A20,FILTRO!$A14:$AY639,41,FALSE),0)","v":0},{"$f":"IFERROR(VLOOKUP($A20,FILTRO!$A14:$AY639,42,FALSE),0)","v":5},{"$f":"IFERROR(VLOOKUP($A20,FILTRO!$A14:$AY639,43,FALSE),0)","v":5},{"$nulls":36},"",null,"",{"$nulls":5},0,null,0]
["P3120500","OXIGENO DEPENDIENTE",null,{"$f":"IFERROR(VLOOKUP($A21,FILTRO!$A15:$AY640,2,FALSE),0)","v":277},{"$f":"IFERROR(VLOOKUP($A21,FILTRO!$A15:$AY640,3,FALSE),0)","v":124},{"$f":"IFERROR(VLOOKUP($A21,FILTRO!$A15:$AY640,4,FALSE),0)","v":153},{"$f":"IFERROR(VLOOKUP($A21,FILTRO!$A15:$AY640,5,FALSE),0)","v":4},{"$f":"IFERROR(VLOOKUP($A21,FILTRO!$A15:$AY640,6,FALSE),0)","v":3},{"$f":"IFERROR(VLOOKUP($A21,FILTRO!$A15:$AY640,7,FALSE),0)","v":6},{"$f":"IFERROR(VLOOKUP($A21,FILTRO!$A15:$AY640,8,FALSE),0)","v":3},{"$f":"IFERROR(VLOOKUP($A21,FILTRO!$A15:$AY640,9,FALSE),0)","v":1},{"$f":"IFERROR(VLOOKUP($A21,FILTRO!$A15:$AY640,10,FALSE),0)","v":2},{"$f":"IFERROR(VLOOKUP($A21,FILTRO!$A15:$AY640,11,FALSE),0)","v":4},{"$f":"IFERROR(VLOOKUP($A21,FILTRO!$A15:$AY640,12,FALSE),0)","v":1},{"$f":"IFERROR(VLOOKUP($A21,FILTRO!$A15:$AY640,13,FALSE),0)","v":1},{"$f":"IFERROR(VLOOKUP($A21,FILTRO!$A15:$AY640,14,FALSE),0)","v":0},{"$f":"IFERROR(VLOOKUP($A21,FILTRO!$A15:$AY640,15,FALSE),0)","v":2},{"$f":"IFERROR(VLOOKUP($A21,FILTRO!$A15:$AY640,16,FALSE),0)","v":1},{"$f":"IFERROR(VLOOKUP($A21,FILTRO!$A15:$AY640,17,FALSE),0)","v":0},{"$f":"IFERROR(VLOOKUP($A21,FILTRO!$A15:$AY640,18,FALSE),0)","v":0},{"$f":"IFERROR(VLOOKUP($A21,FILTRO!$A15:$AY640,19,FALSE),0)","v":1},{"$f":"IFERROR(VLOOKUP($A21,FILTRO!$A15:$AY640,20,FALSE),0)","v":0},{"$f":"IFERROR(VLOOKUP($A21,FILTRO!$A15:$AY640,21,FALSE),0)","v":2},{"$f":"IFERROR(VLOOKUP($A21,FILTRO!$A15:$AY640,22,FALSE),0)","v":2},{"$f":"IFERROR(VLOOKUP($A21,FILTRO!$A15:$AY640,23,FALSE),0)","v":2},{"$f":"IFERROR(VLOOKUP($A21,FILTRO!$A15:$AY640,24,FALSE),0)","v":0},{"$f":"IFERROR(VLOOKUP($A21,FILTRO!$A15:$AY640,25,FALSE),0)","v":0},{"$f":"IFERROR(VLOOKUP($A21,FILTRO!$A15:$AY640,26,FALSE),0)","v":2},{"$f":"IFERROR(VLOOKUP($A21,FILTRO!$A15:$AY640,27,FALSE),0)","v":8},{"$f":"IFERROR(VLOOKUP($A21,FILTRO!$A15:$AY640,28,FALSE),0)","v":5},{"$f":"IFERROR(VLOOKUP($A21,FILTRO!$A15:$AY640,29,FALSE),0)","v":6},{"$f":"IFERROR(VLOOKUP($A21,FILTRO!$A15:$AY640,30,FALSE),0)","v":9},{"$f":"IFERROR(VLOOKUP($A21,FILTRO!$A15:$AY640,31,FALSE),0)","v":7},{"$f":"IFERROR(VLOOKUP($A21,FILTRO!$A15:$AY640,32,FALSE),0)","v":15},{"$f":"IFERROR(VLOOKUP($A21,FILTRO!$A15:$AY640,33,FALSE),0)","v":20},{"$f":"IFERROR(VLOOKUP($A21,FILTRO!$A15:$AY640,34,FALSE),0)","v":18},{"$f":"IFERROR(VLOOKUP($A21,FILTRO!$A15:$AY640,35,FALSE),0)","v":18},{"$f":"IFERROR(VLOOKUP($A21,FILTRO!$A15:$AY640,36,FALSE),0)","v":32},{"$f":"IFERROR(VLOOKUP($A21,FILTRO!$A15:$AY640,37,FALSE),0)","v":42},{"$f":"IFERROR(VLOOKUP($A21,FILTRO!$A15:$AY640,38,FALSE),0)","v":60},{"$f":"IFERROR(VLOOKUP($A21,FILTRO!$A15:$AY640,39,FALSE),0)","v":0},{"$f":"IFERROR(VLOOKUP($A21,FILTRO!$A15:$AY640,40,FALSE),0)","v":0},{"$f":"IFERROR(VLOOKUP($A21,FILTRO!$A15:$AY640,41,FALSE),0)","v":0},{"$f":"IFERROR(VLOOKUP($A21,FILTRO!$A15:$AY640,42,FALSE),0)","v":0},{"$f":"IFERROR(VLOOKUP($A21,FILTRO!$A15:$AY640,43,FALSE),0)","v":1},{"$nulls":36},"",null,"",{"$nulls":5},0,null,0]
["P3161050","ASISTENCIA VENTILATORIA NO INVASIVA O INVASIVA ",null,{"$f":"IFERROR(VLOOKUP($A22,FILTRO!$A16:$AY641,2,FALSE),0)","v":51},{"$f":"IFERROR(VLOOKUP($A22,FILTRO!$A16:$AY641,3,FALSE),0)","v":26},{"$f":"IFERROR(VLOOKUP($A22,FILTRO!$A16:$AY641,4,FALSE),0)","v":25},{"$f":"IFERROR(VLOOKUP($A22,FILTRO!$A16:$AY641,5,FALSE),0)","v":0},{"$f":"IFERROR(VLOOKUP($A22,FILTRO!$A16:$AY641,6,FALSE),0)","v":1},{"$f":"IFERROR(VLOOKUP($A22,FILTRO!$A16:$AY641,7,FALSE),0)","v":0},{"$f":"IFERROR(VLOOKUP($A22,FILTRO!$A16:$AY641,8,FALSE),0)","v":3},{"$f":"IFERROR(VLOOKUP($A22,FILTRO!$A16:$AY641,9,FALSE),0)","v":3},{"$f":"IFERROR(VLOOKUP($A22,FILTRO!$A16:$AY641,10,FALSE),0)","v":2},{"$f":"IFERROR(VLOOKUP($A22,FILTRO!$A16:$AY641,11,FALSE),0)","v":3},{"$f":"IFERROR(VLOOKUP($A22,FILTRO!$A16:$AY641,12,FALSE),0)","v":0},{"$f":"IFERROR(VLOOKUP($A22,FILTRO!$A16:$AY641,13,FALSE),0)","v":3},{"$f":"IFERROR(VLOOKUP($A22,FILTRO!$A16:$AY641,14,FALSE),0)","v":0},{"$f":"IFERROR(VLOOKUP($A22,FILTRO!$A16:$AY641,15,FALSE),0)","v":4},{"$f":"IFERROR(VLOOKUP($A22,FILTRO!$A16:$AY641,16,FALSE),0)","v":0},{"$f":"IFERROR(VLOOKUP($A22,FILTRO!$A16:$AY641,17,FALSE),0)","v":0},{"$f":"IFERROR(VLOOKUP($A22,FILTRO!$A16:$AY641,18,FALSE),0)","v":1},{"$f":"IFERROR(VLOOKUP($A22,FILTRO!$A16:$AY641,19,FALSE),0)","v":1},{"$f":"IFERROR(VLOOKUP($A22,FILTRO!$A16:$AY641,20,FALSE),0)","v":1},{"$f":"IFERROR(VLOOKUP($A22,FILTRO!$A16:$AY641,21,FALSE),0)","v":0},{"$f":"IFERROR(VLOOKUP($A22,FILTRO!$A16:$AY641,22,FALSE),0)","v":0},{"$f":"IFERROR(VLOOKUP($A22,FILTRO!$A16:$AY641,23,FALSE),0)","v":0},{"$f":"IFERROR(VLOOKUP($A22,FILTRO!$A16:$AY641,24,FALSE),0)","v":0},{"$f":"IFERROR(VLOOKUP($A22,FILTRO!$A16:$AY641,25,FALSE),0)","v":1},{"$f":"IFERROR(VLOOKUP($A22,FILTRO!$A16:$AY641,26,FALSE),0)","v":3},{"$f":"IFERROR(VLOOKUP($A22,FILTRO!$A16:$AY641,27,FALSE),0)","v":0},{"$f":"IFERROR(VLOOKUP($A22,FILTRO!$A16:$AY641,28,FALSE),0)","v":1},{"$f":"IFERROR(VLOOKUP($A22,FILTRO!$A16:$AY641,29,FALSE),0)","v":0},{"$f":"IFERROR(VLOOKUP($A22,FILTRO!$A16:$AY641,30,FALSE),0)","v":3},{"$f":"IFERROR(VLOOKUP($A22,FILTRO!$A16:$AY641,31,FALSE),0)","v":3},{"$f":"IFERROR(VLOOKUP($A22,FILTRO!$A16:$AY641,32,FALSE),0)","v":4},{"$f":"IFERROR(VLOOKUP($A22,FILTRO!$A16:$AY641,33,FALSE),0)","v":3},{"$f":"IFERROR(VLOOKUP($A22,FILTRO!$A16:$AY641,34,FALSE),0)","v":3},{"$f":"IFERROR(VLOOKUP($A22,FILTRO!$A16:$AY641,35,FALSE),0)","v":3},{"$f":"IFERROR(VLOOKUP($A22,FILTRO!$A16:$AY641,36,FALSE),0)","v":1},{"$f":"IFERROR(VLOOKUP($A22,FILTRO!$A16:$AY641,37,FALSE),0)","v":2},{"$f":"IFERROR(VLOOKUP($A22,FILTRO!$A16:$AY641,38,FALSE),0)","v":2},{"$f":"IFERROR(VLOOKUP($A22,FILTRO!$A16:$AY641,39,FALSE),0)","v":0},{"$f":"IFERROR(VLOOKUP($A22,FILTRO!$A16:$AY641,40,FALSE),0)","v":0},{"$f":"IFERROR(VLOOKUP($A22,FILTRO!$A16:$AY641,41,FALSE),0)","v":0},{"$f":"IFERROR(VLOOKUP($A22,FILTRO!$A16:$AY641,42,FALSE),0)","v":0},{"$f":"IFERROR(VLOOKUP($A22,FILTRO!$A16:$AY641,43,FALSE),0)","v":0},{"$nulls":36},"",null,"",{"$nulls":5},0,null,0]
["P3120600","FIBROSIS QUÍSTICA ",null,{"$f":"IFERROR(VLOOKUP($A23,FILTRO!$A17:$AY642,2,FALSE),0)","v":14},{"$f":"IFERROR(VLOOKUP($A23,FILTRO!$A17:$AY642,3,FALSE),0)","v":11},{"$f":"IFERROR(VLOOKUP($A23,FILTRO!$A17:$AY642,4,FALSE),0)","v":3},{"$f":"IFERROR(VLOOKUP($A23,FILTRO!$A17:$AY642,5,FALSE),0)","v":3},{"$f":"IFERROR(VLOOKUP($A23,FILTRO!$A17:$AY642,6,FALSE),0)","v":0},{"$f":"IFERROR(VLOOKUP($A23,FILTRO!$A17:$AY642,7,FALSE),0)","v":0},{"$f":"IFERROR(VLOOKUP($A23,FILTRO!$A17:$AY642,8,FALSE),0)","v":1},{"$f":"IFERROR(VLOOKUP($A23,FILTRO!$A17:$AY642,9,FALSE),0)","v":4},{"$f":"IFERROR(VLOOKUP($A23,FILTRO!$A17:$AY642,10,FALSE),0)","v":1},{"$f":"IFERROR(VLOOKUP($A23,FILTRO!$A17:$AY642,11,FALSE),0)","v":2},{"$f":"IFERROR(VLOOKUP($A23,FILTRO!$A17:$AY642,12,FALSE),0)","v":0},{"$f":"IFERROR(VLOOKUP($A23,FILTRO!$A17:$AY642,13,FALSE),0)","v":2},{"$f":"IFERROR(VLOOKUP($A23,FILTRO!$A17:$AY642,14,FALSE),0)","v":0},{"$f":"IFERROR(VLOOKUP($A23,FILTRO!$A17:$AY642,15,FALSE),0)","v":0},{"$f":"IFERROR(VLOOKUP($A23,FILTRO!$A17:$AY642,16,FALSE),0)","v":1},{"$f":"IFERROR(VLOOKUP($A23,FILTRO!$A17:$AY642,17,FALSE),0)","v":0},{"$f":"IFERROR(VLOOKUP($A23,FILTRO!$A17:$AY642,18,FALSE),0)","v":0},{"$f":"IFERROR(VLOOKUP($A23,FILTRO!$A17:$AY642,19,FALSE),0)","v":0},{"$f":"IFERROR(VLOOKUP($A23,FILTRO!$A17:$AY642,20,FALSE),0)","v":0},{"$f":"IFERROR(VLOOKUP($A23,FILTRO!$A17:$AY642,21,FALSE),0)","v":0},{"$f":"IFERROR(VLOOKUP($A23,FILTRO!$A17:$AY642,22,FALSE),0)","v":0},{"$f":"IFERROR(VLOOKUP($A23,FILTRO!$A17:$AY642,23,FALSE),0)","v":0},{"$f":"IFERROR(VLOOKUP($A23,FILTRO!$A17:$AY642,24,FALSE),0)","v":0},{"$f":"IFERROR(VLOOKUP($A23,FILTRO!$A17:$AY642,25,FALSE),0)","v":0},{"$f":"IFERROR(VLOOKUP($A23,FILTRO!$A17:$AY642,26,FALSE),0)","v":0},{"$f":"IFERROR(VLOOKUP($A23,FILTRO!$A17:$AY642,27,FALSE),0)","v":0},{"$f":"IFERROR(VLOOKUP($A23,FILTRO!$A17:$AY642,28,FALSE),0)","v":0},{"$f":"IFERROR(VLOOKUP($A23,FILTRO!$A17:$AY642,29,FALSE),0)","v":0},{"$f":"IFERROR(VLOOKUP($A23,FILTRO!$A17:$AY642,30,FALSE),0)","v":0},{"$f":"IFERROR(VLOOKUP($A23,FILTRO!$A17:$AY642,31,FALSE),0)","v":0},{"$f":"IFERROR(VLOOKUP($A23,FILTRO!$A17:$AY642,32,FALSE),0)","v":0},{"$f":"IFERROR(VLOOKUP($A23,FILTRO!$A17:$AY642,33,FALSE),0)","v":0},{"$f":"IFERROR(VLOOKUP($A23,FILTRO!$A17:$AY642,34,FALSE),0)","v":0},{"$f":"IFERROR(VLOOKUP($A23,FILTRO!$A17:$AY642,35,FALSE),0)","v":0},{"$f":"IFERROR(VLOOKUP($A23,FILTRO!$A17:$AY642,36,FALSE),0)","v":0},{"$f":"IFERROR(VLOOKUP($A23,FILTRO!$A17:$AY642,37,FALSE),0)","v":0},{"$f":"IFERROR(VLOOKUP($A23,FILTRO!$A17:$AY642,38,FALSE),0)","v":0},{"$f":"IFERROR(VLOOKUP($A23,FILTRO!$A17:$AY642,39,FALSE),0)","v":0},{"$f":"IFERROR(VLOOKUP($A23,FILTRO!$A17:$AY642,40,FALSE),0)","v":0},{"$f":"IFERROR(VLOOKUP($A23,FILTRO!$A17:$AY642,41,FALSE),0)","v":0},{"$f":"IFERROR(VLOOKUP($A23,FILTRO!$A17:$AY642,42,FALSE),0)","v":0},{"$f":"IFERROR(VLOOKUP($A23,FILTRO!$A17:$AY642,43,FALSE),0)","v":0},{"$nulls":36},"",null,"",{"$nulls":5},0,null,0]
["P3120700","EPILEPSIA ",null,{"$f":"IFERROR(VLOOKUP($A24,FILTRO!$A18:$AY643,2,FALSE),0)","v":2186},{"$f":"IFERROR(VLOOKUP($A24,FILTRO!$A18:$AY643,3,FALSE),0)","v":1050},{"$f":"IFERROR(VLOOKUP($A24,FILTRO!$A18:$AY643,4,FALSE),0)","v":1136},{"$f":"IFERROR(VLOOKUP($A24,FILTRO!$A18:$AY643,5,FALSE),0)","v":17},{"$f":"IFERROR(VLOOKUP($A24,FILTRO!$A18:$AY643,6,FALSE),0)","v":14},{"$f":"IFERROR(VLOOKUP($A24,FILTRO!$A18:$AY643,7,FALSE),0)","v":30},{"$f":"IFERROR(VLOOKUP($A24,FILTRO!$A18:$AY643,8,FALSE),0)","v":32},{"$f":"IFERROR(VLOOKUP($A24,FILTRO!$A18:$AY643,9,FALSE),0)","v":41},{"$f":"IFERROR(VLOOKUP($A24,FILTRO!$A18:$AY643,10,FALSE),0)","v":31},{"$f":"IFERROR(VLOOKUP($A24,FILTRO!$A18:$AY643,11,FALSE),0)","v":58},{"$f":"IFERROR(VLOOKUP($A24,FILTRO!$A18:$AY643,12,FALSE),0)","v":85},{"$f":"IFERROR(VLOOKUP($A24,FILTRO!$A18:$AY643,13,FALSE),0)","v":65},{"$f":"IFERROR(VLOOKUP($A24,FILTRO!$A18:$AY643,14,FALSE),0)","v":57},{"$f":"IFERROR(VLOOKUP($A24,FILTRO!$A18:$AY643,15,FALSE),0)","v":56},{"$f":"IFERROR(VLOOKUP($A24,FILTRO!$A18:$AY643,16,FALSE),0)","v":85},{"$f":"IFERROR(VLOOKUP($A24,FILTRO!$A18:$AY643,17,FALSE),0)","v":66},{"$f":"IFERROR(VLOOKUP($A24,FILTRO!$A18:$AY643,18,FALSE),0)","v":80},{"$f":"IFERROR(VLOOKUP($A24,FILTRO!$A18:$AY643,19,FALSE),0)","v":91},{"$f":"IFERROR(VLOOKUP($A24,FILTRO!$A18:$AY643,20,FALSE),0)","v":84},{"$f":"IFERROR(VLOOKUP($A24,FILTRO!$A18:$AY643,21,FALSE),0)","v":82},{"$f":"IFERROR(VLOOKUP($A24,FILTRO!$A18:$AY643,22,FALSE),0)","v":85},{"$f":"IFERROR(VLOOKUP($A24,FILTRO!$A18:$AY643,23,FALSE),0)","v":80},{"$f":"IFERROR(VLOOKUP($A24,FILTRO!$A18:$AY643,24,FALSE),0)","v":90},{"$f":"IFERROR(VLOOKUP($A24,FILTRO!$A18:$AY643,25,FALSE),0)","v":90},{"$f":"IFERROR(VLOOKUP($A24,FILTRO!$A18:$AY643,26,FALSE),0)","v":88},{"$f":"IFERROR(VLOOKUP($A24,FILTRO!$A18:$AY643,27,FALSE),0)","v":99},{"$f":"IFERROR(VLOOKUP($A24,FILTRO!$A18:$AY643,28,FALSE),0)","v":85},{"$f":"IFERROR(VLOOKUP($A24,FILTRO!$A18:$AY643,29,FALSE),0)","v":74},{"$f":"IFERROR(VLOOKUP($A24,FILTRO!$A18:$AY643,30,FALSE),0)","v":86},{"$f":"IFERROR(VLOOKUP($A24,FILTRO!$A18:$AY643,31,FALSE),0)","v":64},{"$f":"IFERROR(VLOOKUP($A24,FILTRO!$A18:$AY643,32,FALSE),0)","v":69},{"$f":"IFERROR(VLOOKUP($A24,FILTRO!$A18:$AY643,33,FALSE),0)","v":41},{"$f":"IFERROR(VLOOKUP($A24,FILTRO!$A18:$AY643,34,FALSE),0)","v":53},{"$f":"IFERROR(VLOOKUP($A24,FILTRO!$A18:$AY643,35,FALSE),0)","v":42},{"$f":"IFERROR(VLOOKUP($A24,FILTRO!$A18:$AY643,36,FALSE),0)","v":41},{"$f":"IFERROR(VLOOKUP($A24,FILTRO!$A18:$AY643,37,FALSE),0)","v":54},{"$f":"IFERROR(VLOOKUP($A24,FILTRO!$A18:$AY643,38,FALSE),0)","v":71},{"$f":"IFERROR(VLOOKUP($A24,FILTRO!$A18:$AY643,39,FALSE),0)","v":0},{"$f":"IFERROR(VLOOKUP($A24,FILTRO!$A18:$AY643,40,FALSE),0)","v":53},{"$f":"IFERROR(VLOOKUP($A24,FILTRO!$A18:$AY643,41,FALSE),0)","v":68},{"$f":"IFERROR(VLOOKUP($A24,FILTRO!$A18:$AY643,42,FALSE),0)","v":3},{"$f":"IFERROR(VLOOKUP($A24,FILTRO!$A18:$AY643,43,FALSE),0)","v":5},{"$nulls":36},"",null,"",{"$nulls":5},0,null,0]
["P3170100","GLAUCOMA",null,{"$f":"IFERROR(VLOOKUP($A25,FILTRO!$A19:$AY644,2,FALSE),0)","v":317},{"$f":"IFERROR(VLOOKUP($A25,FILTRO!$A19:$AY644,3,FALSE),0)","v":109},{"$f":"IFERROR(VLOOKUP($A25,FILTRO!$A19:$AY644,4,FALSE),0)","v":208},{"$f":"IFERROR(VLOOKUP($A25,FILTRO!$A19:$AY644,5,FALSE),0)","v":0},{"$f":"IFERROR(VLOOKUP($A25,FILTRO!$A19:$AY644,6,FALSE),0)","v":0},{"$f":"IFERROR(VLOOKUP($A25,FILTRO!$A19:$AY644,7,FALSE),0)","v":0},{"$f":"IFERROR(VLOOKUP($A25,FILTRO!$A19:$AY644,8,FALSE),0)","v":0},{"$f":"IFERROR(VLOOKUP($A25,FILTRO!$A19:$AY644,9,FALSE),0)","v":0},{"$f":"IFERROR(VLOOKUP($A25,FILTRO!$A19:$AY644,10,FALSE),0)","v":0},{"$f":"IFERROR(VLOOKUP($A25,FILTRO!$A19:$AY644,11,FALSE),0)","v":0},{"$f":"IFERROR(VLOOKUP($A25,FILTRO!$A19:$AY644,12,FALSE),0)","v":0},{"$f":"IFERROR(VLOOKUP($A25,FILTRO!$A19:$AY644,13,FALSE),0)","v":0},{"$f":"IFERROR(VLOOKUP($A25,FILTRO!$A19:$AY644,14,FALSE),0)","v":1},{"$f":"IFERROR(VLOOKUP($A25,FILTRO!$A19:$AY644,15,FALSE),0)","v":0},{"$f":"IFERROR(VLOOKUP($A25,FILTRO!$A19:$AY644,16,FALSE),0)","v":0},{"$f":"IFERROR(VLOOKUP($A25,FILTRO!$A19:$AY644,17,FALSE),0)","v":0},{"$f":"IFERROR(VLOOKUP($A25,FILTRO!$A19:$AY644,18,FALSE),0)","v":2},{"$f":"IFERROR(VLOOKUP($A25,FILTRO!$A19:$AY644,19,FALSE),0)","v":0},{"$f":"IFERROR(VLOOKUP($A25,FILTRO!$A19:$AY644,20,FALSE),0)","v":1},{"$f":"IFERROR(VLOOKUP($A25,FILTRO!$A19:$AY644,21,FALSE),0)","v":1},{"$f":"IFERROR(VLOOKUP($A25,FILTRO!$A19:$AY644,22,FALSE),0)","v":3},{"$f":"IFERROR(VLOOKUP($A25,FILTRO!$A19:$AY644,23,FALSE),0)","v":1},{"$f":"IFERROR(VLOOKUP($A25,FILTRO!$A19:$AY644,24,FALSE),0)","v":11},{"$f":"IFERROR(VLOOKUP($A25,FILTRO!$A19:$AY644,25,FALSE),0)","v":3},{"$f":"IFERROR(VLOOKUP($A25,FILTRO!$A19:$AY644,26,FALSE),0)","v":17},{"$f":"IFERROR(VLOOKUP($A25,FILTRO!$A19:$AY644,27,FALSE),0)","v":4},{"$f":"IFERROR(VLOOKUP($A25,FILTRO!$A19:$AY644,28,FALSE),0)","v":25},{"$f":"IFERROR(VLOOKUP($A25,FILTRO!$A19:$AY644,29,FALSE),0)","v":17},{"$f":"IFERROR(VLOOKUP($A25,FILTRO!$A19:$AY644,30,FALSE),0)","v":32},{"$f":"IFERROR(VLOOKUP($A25,FILTRO!$A19:$AY644,31,FALSE),0)","v":22},{"$f":"IFERROR(VLOOKUP($A25,FILTRO!$A19:$AY644,32,FALSE),0)","v":34},{"$f":"IFERROR(VLOOKUP($A25,FILTRO!$A19:$AY644,33,FALSE),0)","v":18},{"$f":"IFERROR(VLOOKUP($A25,FILTRO!$A19:$AY644,34,FALSE),0)","v":33},{"$f":"IFERROR(VLOOKUP($A25,FILTRO!$A19:$AY644,35,FALSE),0)","v":14},{"$f":"IFERROR(VLOOKUP($A25,FILTRO!$A19:$AY644,36,FALSE),0)","v":17},{"$f":"IFERROR(VLOOKUP($A25,FILTRO!$A19:$AY644,37,FALSE),0)","v":29},{"$f":"IFERROR(VLOOKUP($A25,FILTRO!$A19:$AY644,38,FALSE),0)","v":32},{"$f":"IFERROR(VLOOKUP($A25,FILTRO!$A19:$AY644,39,FALSE),0)","v":0},{"$f":"IFERROR(VLOOKUP($A25,FILTRO!$A19:$AY644,40,FALSE),0)","v":0},{"$f":"IFERROR(VLOOKUP($A25,FILTRO!$A19:$AY644,41,FALSE),0)","v":0},{"$f":"IFERROR(VLOOKUP($A25,FILTRO!$A19:$AY644,42,FALSE),0)","v":0},{"$f":"IFERROR(VLOOKUP($A25,FILTRO!$A19:$AY644,43,FALSE),0)","v":0},{"$nulls":36},"",null,"",{"$nulls":5},0,null,0]
["P3140200","ENFERMEDAD DE PARKINSON ",null,{"$f":"IFERROR(VLOOKUP($A26,FILTRO!$A20:$AY645,2,FALSE),0)","v":855},{"$f":"IFERROR(VLOOKUP($A26,FILTRO!$A20:$AY645,3,FALSE),0)","v":440},{"$f":"IFERROR(VLOOKUP($A26,FILTRO!$A20:$AY645,4,FALSE),0)","v":415},{"$f":"IFERROR(VLOOKUP($A26,FILTRO!$A20:$AY645,5,FALSE),0)","v":0},{"$f":"IFERROR(VLOOKUP($A26,FILTRO!$A20:$AY645,6,FALSE),0)","v":0},{"$f":"IFERROR(VLOOKUP($A26,FILTRO!$A20:$AY645,7,FALSE),0)","v":0},{"$f":"IFERROR(VLOOKUP($A26,FILTRO!$A20:$AY645,8,FALSE),0)","v":0},{"$f":"IFERROR(VLOOKUP($A26,FILTRO!$A20:$AY645,9,FALSE),0)","v":0},{"$f":"IFERROR(VLOOKUP($A26,FILTRO!$A20:$AY645,10,FALSE),0)","v":0},{"$f":"IFERROR(VLOOKUP($A26,FILTRO!$A20:$AY645,11,FALSE),0)","v":0},{"$f":"IFERROR(VLOOKUP($A26,FILTRO!$A20:$AY645,12,FALSE),0)","v":0},{"$f":"IFERROR(VLOOKUP($A26,FILTRO!$A20:$AY645,13,FALSE),0)","v":0},{"$f":"IFERROR(VLOOKUP($A26,FILTRO!$A20:$AY645,14,FALSE),0)","v":0},{"$f":"IFERROR(VLOOKUP($A26,FILTRO!$A20:$AY645,15,FALSE),0)","v":1},{"$f":"IFERROR(VLOOKUP($A26,FILTRO!$A20:$AY645,16,FALSE),0)","v":0},{"$f":"IFERROR(VLOOKUP($A26,FILTRO!$A20:$AY645,17,FALSE),0)","v":0},{"$f":"IFERROR(VLOOKUP($A26,FILTRO!$A20:$AY645,18,FALSE),0)","v":0},{"$f":"IFERROR(VLOOKUP($A26,FILTRO!$A20:$AY645,19,FALSE),0)","v":0},{"$f":"IFERROR(VLOOKUP($A26,FILTRO!$A20:$AY645,20,FALSE),0)","v":3},{"$f":"IFERROR(VLOOKUP($A26,FILTRO!$A20:$AY645,21,FALSE),0)","v":3},{"$f":"IFERROR(VLOOKUP($A26,FILTRO!$A20:$AY645,22,FALSE),0)","v":2},{"$f":"IFERROR(VLOOKUP($A26,FILTRO!$A20:$AY645,23,FALSE),0)","v":5},{"$f":"IFERROR(VLOOKUP($A26,FILTRO!$A20:$AY645,24,FALSE),0)","v":3},{"$f":"IFERROR(VLOOKUP($A26,FILTRO!$A20:$AY645,25,FALSE),0)","v":27},{"$f":"IFERROR(VLOOKUP($A26,FILTRO!$A20:$AY645,26,FALSE),0)","v":28},{"$f":"IFERROR(VLOOKUP($A26,FILTRO!$A20:$AY645,27,FALSE),0)","v":23},{"$f":"IFERROR(VLOOKUP($A26,FILTRO!$A20:$AY645,28,FALSE),0)","v":26},{"$f":"IFERROR(VLOOKUP($A26,FILTRO!$A20:$AY645,29,FALSE),0)","v":35},{"$f":"IFERROR(VLOOKUP($A26,FILTRO!$A20:$AY645,30,FALSE),0)","v":33},{"$f":"IFERROR(VLOOKUP($A26,FILTRO!$A20:$AY645,31,FALSE),0)","v":66},{"$f":"IFERROR(VLOOKUP($A26,FILTRO!$A20:$AY645,32,FALSE),0)","v":44},{"$f":"IFERROR(VLOOKUP($A26,FILTRO!$A20:$AY645,33,FALSE),0)","v":76},{"$f":"IFERROR(VLOOKUP($A26,FILTRO!$A20:$AY645,34,FALSE),0)","v":63},{"$f":"IFERROR(VLOOKUP($A26,FILTRO!$A20:$AY645,35,FALSE),0)","v":75},{"$f":"IFERROR(VLOOKUP($A26,FILTRO!$A20:$AY645,36,FALSE),0)","v":72},{"$f":"IFERROR(VLOOKUP($A26,FILTRO!$A20:$AY645,37,FALSE),0)","v":129},{"$f":"IFERROR(VLOOKUP($A26,FILTRO!$A20:$AY645,38,FALSE),0)","v":142},{"$f":"IFERROR(VLOOKUP($A26,FILTRO!$A20:$AY645,39,FALSE),0)","v":0},{"$f":"IFERROR(VLOOKUP($A26,FILTRO!$A20:$AY645,40,FALSE),0)","v":14},{"$f":"IFERROR(VLOOKUP($A26,FILTRO!$A20:$AY645,41,FALSE),0)","v":18},{"$f":"IFERROR(VLOOKUP($A26,FILTRO!$A20:$AY645,42,FALSE),0)","v":0},{"$f":"IFERROR(VLOOKUP($A26,FILTRO!$A20:$AY645,43,FALSE),0)","v":3},{"$nulls":36},"",null,"",{"$nulls":5},0,null,0]
["P3140300","ARTROSIS DE CADERA Y RODILLA ",null,{"$f":"IFERROR(VLOOKUP($A27,FILTRO!$A21:$AY646,2,FALSE),0)","v":11671},{"$f":"IFERROR(VLOOKUP($A27,FILTRO!$A21:$AY646,3,FALSE),0)","v":2717},{"$f":"IFERROR(VLOOKUP($A27,FILTRO!$A21:$AY646,4,FALSE),0)","v":8954},{"$f":"IFERROR(VLOOKUP($A27,FILTRO!$A21:$AY646,5,FALSE),0)","v":0},{"$f":"IFERROR(VLOOKUP($A27,FILTRO!$A21:$AY646,6,FALSE),0)","v":0},{"$f":"IFERROR(VLOOKUP($A27,FILTRO!$A21:$AY646,7,FALSE),0)","v":0},{"$f":"IFERROR(VLOOKUP($A27,FILTRO!$A21:$AY646,8,FALSE),0)","v":0},{"$f":"IFERROR(VLOOKUP($A27,FILTRO!$A21:$AY646,9,FALSE),0)","v":0},{"$f":"IFERROR(VLOOKUP($A27,FILTRO!$A21:$AY646,10,FALSE),0)","v":0},{"$f":"IFERROR(VLOOKUP($A27,FILTRO!$A21:$AY646,11,FALSE),0)","v":1},{"$f":"IFERROR(VLOOKUP($A27,FILTRO!$A21:$AY646,12,FALSE),0)","v":2},{"$f":"IFERROR(VLOOKUP($A27,FILTRO!$A21:$AY646,13,FALSE),0)","v":0},{"$f":"IFERROR(VLOOKUP($A27,FILTRO!$A21:$AY646,14,FALSE),0)","v":4},{"$f":"IFERROR(VLOOKUP($A27,FILTRO!$A21:$AY646,15,FALSE),0)","v":1},{"$f":"IFERROR(VLOOKUP($A27,FILTRO!$A21:$AY646,16,FALSE),0)","v":6},{"$f":"IFERROR(VLOOKUP($A27,FILTRO!$A21:$AY646,17,FALSE),0)","v":1},{"$f":"IFERROR(VLOOKUP($A27,FILTRO!$A21:$AY646,18,FALSE),0)","v":10},{"$f":"IFERROR(VLOOKUP($A27,FILTRO!$A21:$AY646,19,FALSE),0)","v":6},{"$f":"IFERROR(VLOOKUP($A27,FILTRO!$A21:$AY646,20,FALSE),0)","v":15},{"$f":"IFERROR(VLOOKUP($A27,FILTRO!$A21:$AY646,21,FALSE),0)","v":3},{"$f":"IFERROR(VLOOKUP($A27,FILTRO!$A21:$AY646,22,FALSE),0)","v":41},{"$f":"IFERROR(VLOOKUP($A27,FILTRO!$A21:$AY646,23,FALSE),0)","v":16},{"$f":"IFERROR(VLOOKUP($A27,FILTRO!$A21:$AY646,24,FALSE),0)","v":115},{"$f":"IFERROR(VLOOKUP($A27,FILTRO!$A21:$AY646,25,FALSE),0)","v":41},{"$f":"IFERROR(VLOOKUP($A27,FILTRO!$A21:$AY646,26,FALSE),0)","v":260},{"$f":"IFERROR(VLOOKUP($A27,FILTRO!$A21:$AY646,27,FALSE),0)","v":150},{"$f":"IFERROR(VLOOKUP($A27,FILTRO!$A21:$AY646,28,FALSE),0)","v":788},{"$f":"IFERROR(VLOOKUP($A27,FILTRO!$A21:$AY646,29,FALSE),0)","v":373},{"$f":"IFERROR(VLOOKUP($A27,FILTRO!$A21:$AY646,30,FALSE),0)","v":1305},{"$f":"IFERROR(VLOOKUP($A27,FILTRO!$A21:$AY646,31,FALSE),0)","v":422},{"$f":"IFERROR(VLOOKUP($A27,FILTRO!$A21:$AY646,32,FALSE),0)","v":1532},{"$f":"IFERROR(VLOOKUP($A27,FILTRO!$A21:$AY646,33,FALSE),0)","v":492},{"$f":"IFERROR(VLOOKUP($A27,FILTRO!$A21:$AY646,34,FALSE),0)","v":1567},{"$f":"IFERROR(VLOOKUP($A27,FILTRO!$A21:$AY646,35,FALSE),0)","v":454},{"$f":"IFERROR(VLOOKUP($A27,FILTRO!$A21:$AY646,36,FALSE),0)","v":1304},{"$f":"IFERROR(VLOOKUP($A27,FILTRO!$A21:$AY646,37,FALSE),0)","v":757},{"$f":"IFERROR(VLOOKUP($A27,FILTRO!$A21:$AY646,38,FALSE),0)","v":2005},{"$f":"IFERROR(VLOOKUP($A27,FILTRO!$A21:$AY646,39,FALSE),0)","v":0},{"$f":"IFERROR(VLOOKUP($A27,FILTRO!$A21:$AY646,40,FALSE),0)","v":13},{"$f":"IFERROR(VLOOKUP($A27,FILTRO!$A21:$AY646,41,FALSE),0)","v":54},{"$f":"IFERROR(VLOOKUP($A27,FILTRO!$A21:$AY646,42,FALSE),0)","v":4},{"$f":"IFERROR(VLOOKUP($A27,FILTRO!$A21:$AY646,43,FALSE),0)","v":17},{"$nulls":36},"",null,"",{"$nulls":5},0,null,0]
["P3120800","ALIVIO DEL DOLOR",null,{"$f":"IFERROR(VLOOKUP($A28,FILTRO!$A22:$AY647,2,FALSE),0)","v":1278},{"$f":"IFERROR(VLOOKUP($A28,FILTRO!$A22:$AY647,3,FALSE),0)","v":613},{"$f":"IFERROR(VLOOKUP($A28,FILTRO!$A22:$AY647,4,FALSE),0)","v":665},{"$f":"IFERROR(VLOOKUP($A28,FILTRO!$A22:$AY647,5,FALSE),0)","v":0},{"$f":"IFERROR(VLOOKUP($A28,FILTRO!$A22:$AY647,6,FALSE),0)","v":1},{"$f":"IFERROR(VLOOKUP($A28,FILTRO!$A22:$AY647,7,FALSE),0)","v":1},{"$f":"IFERROR(VLOOKUP($A28,FILTRO!$A22:$AY647,8,FALSE),0)","v":0},{"$f":"IFERROR(VLOOKUP($A28,FILTRO!$A22:$AY647,9,FALSE),0)","v":0},{"$f":"IFERROR(VLOOKUP($A28,FILTRO!$A22:$AY647,10,FALSE),0)","v":1},{"$f":"IFERROR(VLOOKUP($A28,FILTRO!$A22:$AY647,11,FALSE),0)","v":1},{"$f":"IFERROR(VLOOKUP($A28,FILTRO!$A22:$AY647,12,FALSE),0)","v":2},{"$f":"IFERROR(VLOOKUP($A28,FILTRO!$A22:$AY647,13,FALSE),0)","v":5},{"$f":"IFERROR(VLOOKUP($A28,FILTRO!$A22:$AY647,14,FALSE),0)","v":0},{"$f":"IFERROR(VLOOKUP($A28,FILTRO!$A22:$AY647,15,FALSE),0)","v":7},{"$f":"IFERROR(VLOOKUP($A28,FILTRO!$A22:$AY647,16,FALSE),0)","v":4},{"$f":"IFERROR(VLOOKUP($A28,FILTRO!$A22:$AY647,17,FALSE),0)","v":10},{"$f":"IFERROR(VLOOKUP($A28,FILTRO!$A22:$AY647,18,FALSE),0)","v":10},{"$f":"IFERROR(VLOOKUP($A28,FILTRO!$A22:$AY647,19,FALSE),0)","v":5},{"$f":"IFERROR(VLOOKUP($A28,FILTRO!$A22:$AY647,20,FALSE),0)","v":25},{"$f":"IFERROR(VLOOKUP($A28,FILTRO!$A22:$AY647,21,FALSE),0)","v":9},{"$f":"IFERROR(VLOOKUP($A28,FILTRO!$A22:$AY647,22,FALSE),0)","v":33},{"$f":"IFERROR(VLOOKUP($A28,FILTRO!$A22:$AY647,23,FALSE),0)","v":14},{"$f":"IFERROR(VLOOKUP($A28,FILTRO!$A22:$AY647,24,FALSE),0)","v":54},{"$f":"IFERROR(VLOOKUP($A28,FILTRO!$A22:$AY647,25,FALSE),0)","v":18},{"$f":"IFERROR(VLOOKUP($A28,FILTRO!$A22:$AY647,26,FALSE),0)","v":65},{"$f":"IFERROR(VLOOKUP($A28,FILTRO!$A22:$AY647,27,FALSE),0)","v":39},{"$f":"IFERROR(VLOOKUP($A28,FILTRO!$A22:$AY647,28,FALSE),0)","v":74},{"$f":"IFERROR(VLOOKUP($A28,FILTRO!$A22:$AY647,29,FALSE),0)","v":53},{"$f":"IFERROR(VLOOKUP($A28,FILTRO!$A22:$AY647,30,FALSE),0)","v":47},{"$f":"IFERROR(VLOOKUP($A28,FILTRO!$A22:$AY647,31,FALSE),0)","v":80},{"$f":"IFERROR(VLOOKUP($A28,FILTRO!$A22:$AY647,32,FALSE),0)","v":69},{"$f":"IFERROR(VLOOKUP($A28,FILTRO!$A22:$AY647,33,FALSE),0)","v":107},{"$f":"IFERROR(VLOOKUP($A28,FILTRO!$A22:$AY647,34,FALSE),0)","v":59},{"$f":"IFERROR(VLOOKUP($A28,FILTRO!$A22:$AY647,35,FALSE),0)","v":103},{"$f":"IFERROR(VLOOKUP($A28,FILTRO!$A22:$AY647,36,FALSE),0)","v":85},{"$f":"IFERROR(VLOOKUP($A28,FILTRO!$A22:$AY647,37,FALSE),0)","v":161},{"$f":"IFERROR(VLOOKUP($A28,FILTRO!$A22:$AY647,38,FALSE),0)","v":136},{"$f":"IFERROR(VLOOKUP($A28,FILTRO!$A22:$AY647,39,FALSE),0)","v":0},{"$f":"IFERROR(VLOOKUP($A28,FILTRO!$A22:$AY647,40,FALSE),0)","v":0},{"$f":"IFERROR(VLOOKUP($A28,FILTRO!$A22:$AY647,41,FALSE),0)","v":0},{"$f":"IFERROR(VLOOKUP($A28,FILTRO!$A22:$AY647,42,FALSE),0)","v":0},{"$f":"IFERROR(VLOOKUP($A28,FILTRO!$A22:$AY647,43,FALSE),0)","v":1},{"$nulls":36},"",null,"",{"$nulls":5},0,null,0]
["P3161040","HIPOTIROIDISMO",null,{"$f":"IFERROR(VLOOKUP($A29,FILTRO!$A23:$AY648,2,FALSE),0)","v":23308},{"$f":"IFERROR(VLOOKUP($A29,FILTRO!$A23:$AY648,3,FALSE),0)","v":4176},{"$f":"IFERROR(VLOOKUP($A29,FILTRO!$A23:$AY648,4,FALSE),0)","v":19132},{"$f":"IFERROR(VLOOKUP($A29,FILTRO!$A23:$AY648,5,FALSE),0)","v":1},{"$f":"IFERROR(VLOOKUP($A29,FILTRO!$A23:$AY648,6,FALSE),0)","v":2},{"$f":"IFERROR(VLOOKUP($A29,FILTRO!$A23:$AY648,7,FALSE),0)","v":7},{"$f":"IFERROR(VLOOKUP($A29,FILTRO!$A23:$AY648,8,FALSE),0)","v":3},{"$f":"IFERROR(VLOOKUP($A29,FILTRO!$A23:$AY648,9,FALSE),0)","v":11},{"$f":"IFERROR(VLOOKUP($A29,FILTRO!$A23:$AY648,10,FALSE),0)","v":16},{"$f":"IFERROR(VLOOKUP($A29,FILTRO!$A23:$AY648,11,FALSE),0)","v":55},{"$f":"IFERROR(VLOOKUP($A29,FILTRO!$A23:$AY648,12,FALSE),0)","v":162},{"$f":"IFERROR(VLOOKUP($A29,FILTRO!$A23:$AY648,13,FALSE),0)","v":69},{"$f":"IFERROR(VLOOKUP($A29,FILTRO!$A23:$AY648,14,FALSE),0)","v":345},{"$f":"IFERROR(VLOOKUP($A29,FILTRO!$A23:$AY648,15,FALSE),0)","v":54},{"$f":"IFERROR(VLOOKUP($A29,FILTRO!$A23:$AY648,16,FALSE),0)","v":443},{"$f":"IFERROR(VLOOKUP($A29,FILTRO!$A23:$AY648,17,FALSE),0)","v":57},{"$f":"IFERROR(VLOOKUP($A29,FILTRO!$A23:$AY648,18,FALSE),0)","v":590},{"$f":"IFERROR(VLOOKUP($A29,FILTRO!$A23:$AY648,19,FALSE),0)","v":75},{"$f":"IFERROR(VLOOKUP($A29,FILTRO!$A23:$AY648,20,FALSE),0)","v":821},{"$f":"IFERROR(VLOOKUP($A29,FILTRO!$A23:$AY648,21,FALSE),0)","v":94},{"$f":"IFERROR(VLOOKUP($A29,FILTRO!$A23:$AY648,22,FALSE),0)","v":941},{"$f":"IFERROR(VLOOKUP($A29,FILTRO!$A23:$AY648,23,FALSE),0)","v":144},{"$f":"IFERROR(VLOOKUP($A29,FILTRO!$A23:$AY648,24,FALSE),0)","v":1319},{"$f":"IFERROR(VLOOKUP($A29,FILTRO!$A23:$AY648,25,FALSE),0)","v":246},{"$f":"IFERROR(VLOOKUP($A29,FILTRO!$A23:$AY648,26,FALSE),0)","v":1715},{"$f":"IFERROR(VLOOKUP($A29,FILTRO!$A23:$AY648,27,FALSE),0)","v":341},{"$f":"IFERROR(VLOOKUP($A29,FILTRO!$A23:$AY648,28,FALSE),0)","v":2365},{"$f":"IFERROR(VLOOKUP($A29,FILTRO!$A23:$AY648,29,FALSE),0)","v":496},{"$f":"IFERROR(VLOOKUP($A29,FILTRO!$A23:$AY648,30,FALSE),0)","v":2629},{"$f":"IFERROR(VLOOKUP($A29,FILTRO!$A23:$AY648,31,FALSE),0)","v":508},{"$f":"IFERROR(VLOOKUP($A29,FILTRO!$A23:$AY648,32,FALSE),0)","v":2140},{"$f":"IFERROR(VLOOKUP($A29,FILTRO!$A23:$AY648,33,FALSE),0)","v":570},{"$f":"IFERROR(VLOOKUP($A29,FILTRO!$A23:$AY648,34,FALSE),0)","v":1926},{"$f":"IFERROR(VLOOKUP($A29,FILTRO!$A23:$AY648,35,FALSE),0)","v":520},{"$f":"IFERROR(VLOOKUP($A29,FILTRO!$A23:$AY648,36,FALSE),0)","v":1599},{"$f":"IFERROR(VLOOKUP($A29,FILTRO!$A23:$AY648,37,FALSE),0)","v":928},{"$f":"IFERROR(VLOOKUP($A29,FILTRO!$A23:$AY648,38,FALSE),0)","v":2116},{"$f":"IFERROR(VLOOKUP($A29,FILTRO!$A23:$AY648,39,FALSE),0)","v":0},{"$f":"IFERROR(VLOOKUP($A29,FILTRO!$A23:$AY648,40,FALSE),0)","v":14},{"$f":"IFERROR(VLOOKUP($A29,FILTRO!$A23:$AY648,41,FALSE),0)","v":29},{"$f":"IFERROR(VLOOKUP($A29,FILTRO!$A23:$AY648,42,FALSE),0)","v":3},{"$f":"IFERROR(VLOOKUP($A29,FILTRO!$A23:$AY648,43,FALSE),0)","v":55},{"$nulls":36},"",null,"",{"$nulls":5},0,null,0]
["P3160910","DEPENDENCIA LEVE",null,{"$f":"IFERROR(VLOOKUP($A30,FILTRO!$A24:$AY649,2,FALSE),0)","v":1670},{"$f":"IFERROR(VLOOKUP($A30,FILTRO!$A24:$AY649,3,FALSE),0)","v":562},{"$f":"IFERROR(VLOOKUP($A30,FILTRO!$A24:$AY649,4,FALSE),0)","v":1108},{"$f":"IFERROR(VLOOKUP($A30,FILTRO!$A24:$AY649,5,FALSE),0)","v":0},{"$f":"IFERROR(VLOOKUP($A30,FILTRO!$A24:$AY649,6,FALSE),0)","v":0},{"$f":"IFERROR(VLOOKUP($A30,FILTRO!$A24:$AY649,7,FALSE),0)","v":0},{"$f":"IFERROR(VLOOKUP($A30,FILTRO!$A24:$AY649,8,FALSE),0)","v":0},{"$f":"IFERROR(VLOOKUP($A30,FILTRO!$A24:$AY649,9,FALSE),0)","v":0},{"$f":"IFERROR(VLOOKUP($A30,FILTRO!$A24:$AY649,10,FALSE),0)","v":0},{"$f":"IFERROR(VLOOKUP($A30,FILTRO!$A24:$AY649,11,FALSE),0)","v":2},{"$f":"IFERROR(VLOOKUP($A30,FILTRO!$A24:$AY649,12,FALSE),0)","v":0},{"$f":"IFERROR(VLOOKUP($A30,FILTRO!$A24:$AY649,13,FALSE),0)","v":0},{"$f":"IFERROR(VLOOKUP($A30,FILTRO!$A24:$AY649,14,FALSE),0)","v":0},{"$f":"IFERROR(VLOOKUP($A30,FILTRO!$A24:$AY649,15,FALSE),0)","v":0},{"$f":"IFERROR(VLOOKUP($A30,FILTRO!$A24:$AY649,16,FALSE),0)","v":0},{"$f":"IFERROR(VLOOKUP($A30,FILTRO!$A24:$AY649,17,FALSE),0)","v":1},{"$f":"IFERROR(VLOOKUP($A30,FILTRO!$A24:$AY649,18,FALSE),0)","v":3},{"$f":"IFERROR(VLOOKUP($A30,FILTRO!$A24:$AY649,19,FALSE),0)","v":0},{"$f":"IFERROR(VLOOKUP($A30,FILTRO!$A24:$AY649,20,FALSE),0)","v":1},{"$f":"IFERROR(VLOOKUP($A30,FILTRO!$A24:$AY649,21,FALSE),0)","v":3},{"$f":"IFERROR(VLOOKUP($A30,FILTRO!$A24:$AY649,22,FALSE),0)","v":2},{"$f":"IFERROR(VLOOKUP($A30,FILTRO!$A24:$AY649,23,FALSE),0)","v":3},{"$f":"IFERROR(VLOOKUP($A30,FILTRO!$A24:$AY649,24,FALSE),0)","v":6},{"$f":"IFERROR(VLOOKUP($A30,FILTRO!$A24:$AY649,25,FALSE),0)","v":5},{"$f":"IFERROR(VLOOKUP($A30,FILTRO!$A24:$AY649,26,FALSE),0)","v":4},{"$f":"IFERROR(VLOOKUP($A30,FILTRO!$A24:$AY649,27,FALSE),0)","v":6},{"$f":"IFERROR(VLOOKUP($A30,FILTRO!$A24:$AY649,28,FALSE),0)","v":6},{"$f":"IFERROR(VLOOKUP($A30,FILTRO!$A24:$AY649,29,FALSE),0)","v":16},{"$f":"IFERROR(VLOOKUP($A30,FILTRO!$A24:$AY649,30,FALSE),0)","v":14},{"$f":"IFERROR(VLOOKUP($A30,FILTRO!$A24:$AY649,31,FALSE),0)","v":63},{"$f":"IFERROR(VLOOKUP($A30,FILTRO!$A24:$AY649,32,FALSE),0)","v":113},{"$f":"IFERROR(VLOOKUP($A30,FILTRO!$A24:$AY649,33,FALSE),0)","v":70},{"$f":"IFERROR(VLOOKUP($A30,FILTRO!$A24:$AY649,34,FALSE),0)","v":146},{"$f":"IFERROR(VLOOKUP($A30,FILTRO!$A24:$AY649,35,FALSE),0)","v":111},{"$f":"IFERROR(VLOOKUP($A30,FILTRO!$A24:$AY649,36,FALSE),0)","v":225},{"$f":"IFERROR(VLOOKUP($A30,FILTRO!$A24:$AY649,37,FALSE),0)","v":282},{"$f":"IFERROR(VLOOKUP($A30,FILTRO!$A24:$AY649,38,FALSE),0)","v":588},{"$f":"IFERROR(VLOOKUP($A30,FILTRO!$A24:$AY649,39,FALSE),0)","v":0},{"$f":"IFERROR(VLOOKUP($A30,FILTRO!$A24:$AY649,40,FALSE),0)","v":0},{"$f":"IFERROR(VLOOKUP($A30,FILTRO!$A24:$AY649,41,FALSE),0)","v":0},{"$f":"IFERROR(VLOOKUP($A30,FILTRO!$A24:$AY649,42,FALSE),0)","v":0},{"$f":"IFERROR(VLOOKUP($A30,FILTRO!$A24:$AY649,43,FALSE),0)","v":0},{"$nulls":36},"",null,"",{"$nulls":5},0,null,0]
["P3160920","DEPENDENCIA MODERADA",null,{"$f":"IFERROR(VLOOKUP($A31,FILTRO!$A25:$AY650,2,FALSE),0)","v":608},{"$f":"IFERROR(VLOOKUP($A31,FILTRO!$A25:$AY650,3,FALSE),0)","v":191},{"$f":"IFERROR(VLOOKUP($A31,FILTRO!$A25:$AY650,4,FALSE),0)","v":417},{"$f":"IFERROR(VLOOKUP($A31,FILTRO!$A25:$AY650,5,FALSE),0)","v":0},{"$f":"IFERROR(VLOOKUP($A31,FILTRO!$A25:$AY650,6,FALSE),0)","v":0},{"$f":"IFERROR(VLOOKUP($A31,FILTRO!$A25:$AY650,7,FALSE),0)","v":0},{"$f":"IFERROR(VLOOKUP($A31,FILTRO!$A25:$AY650,8,FALSE),0)","v":0},{"$f":"IFERROR(VLOOKUP($A31,FILTRO!$A25:$AY650,9,FALSE),0)","v":0},{"$f":"IFERROR(VLOOKUP($A31,FILTRO!$A25:$AY650,10,FALSE),0)","v":0},{"$f":"IFERROR(VLOOKUP($A31,FILTRO!$A25:$AY650,11,FALSE),0)","v":0},{"$f":"IFERROR(VLOOKUP($A31,FILTRO!$A25:$AY650,12,FALSE),0)","v":0},{"$f":"IFERROR(VLOOKUP($A31,FILTRO!$A25:$AY650,13,FALSE),0)","v":0},{"$f":"IFERROR(VLOOKUP($A31,FILTRO!$A25:$AY650,14,FALSE),0)","v":4},{"$f":"IFERROR(VLOOKUP($A31,FILTRO!$A25:$AY650,15,FALSE),0)","v":3},{"$f":"IFERROR(VLOOKUP($A31,FILTRO!$A25:$AY650,16,FALSE),0)","v":2},{"$f":"IFERROR(VLOOKUP($A31,FILTRO!$A25:$AY650,17,FALSE),0)","v":1},{"$f":"IFERROR(VLOOKUP($A31,FILTRO!$A25:$AY650,18,FALSE),0)","v":2},{"$f":"IFERROR(VLOOKUP($A31,FILTRO!$A25:$AY650,19,FALSE),0)","v":4},{"$f":"IFERROR(VLOOKUP($A31,FILTRO!$A25:$AY650,20,FALSE),0)","v":3},{"$f":"IFERROR(VLOOKUP($A31,FILTRO!$A25:$AY650,21,FALSE),0)","v":1},{"$f":"IFERROR(VLOOKUP($A31,FILTRO!$A25:$AY650,22,FALSE),0)","v":4},{"$f":"IFERROR(VLOOKUP($A31,FILTRO!$A25:$AY650,23,FALSE),0)","v":5},{"$f":"IFERROR(VLOOKUP($A31,FILTRO!$A25:$AY650,24,FALSE),0)","v":2},{"$f":"IFERROR(VLOOKUP($A31,FILTRO!$A25:$AY650,25,FALSE),0)","v":3},{"$f":"IFERROR(VLOOKUP($A31,FILTRO!$A25:$AY650,26,FALSE),0)","v":5},{"$f":"IFERROR(VLOOKUP($A31,FILTRO!$A25:$AY650,27,FALSE),0)","v":9},{"$f":"IFERROR(VLOOKUP($A31,FILTRO!$A25:$AY650,28,FALSE),0)","v":12},{"$f":"IFERROR(VLOOKUP($A31,FILTRO!$A25:$AY650,29,FALSE),0)","v":9},{"$f":"IFERROR(VLOOKUP($A31,FILTRO!$A25:$AY650,30,FALSE),0)","v":17},{"$f":"IFERROR(VLOOKUP($A31,FILTRO!$A25:$AY650,31,FALSE),0)","v":19},{"$f":"IFERROR(VLOOKUP($A31,FILTRO!$A25:$AY650,32,FALSE),0)","v":22},{"$f":"IFERROR(VLOOKUP($A31,FILTRO!$A25:$AY650,33,FALSE),0)","v":13},{"$f":"IFERROR(VLOOKUP($A31,FILTRO!$A25:$AY650,34,FALSE),0)","v":34},{"$f":"IFERROR(VLOOKUP($A31,FILTRO!$A25:$AY650,35,FALSE),0)","v":37},{"$f":"IFERROR(VLOOKUP($A31,FILTRO!$A25:$AY650,36,FALSE),0)","v":48},{"$f":"IFERROR(VLOOKUP($A31,FILTRO!$A25:$AY650,37,FALSE),0)","v":87},{"$f":"IFERROR(VLOOKUP($A31,FILTRO!$A25:$AY650,38,FALSE),0)","v":262},{"$f":"IFERROR(VLOOKUP($A31,FILTRO!$A25:$AY650,39,FALSE),0)","v":0},{"$f":"IFERROR(VLOOKUP($A31,FILTRO!$A25:$AY650,40,FALSE),0)","v":0},{"$f":"IFERROR(VLOOKUP($A31,FILTRO!$A25:$AY650,41,FALSE),0)","v":0},{"$f":"IFERROR(VLOOKUP($A31,FILTRO!$A25:$AY650,42,FALSE),0)","v":0},{"$f":"IFERROR(VLOOKUP($A31,FILTRO!$A25:$AY650,43,FALSE),0)","v":0},{"$nulls":36},"",null,"",{"$nulls":5},0,null,0]
["P3130200","DEPENDENCIA SEVERA","ONCOLÓGICA",{"$f":"IFERROR(VLOOKUP($A32,FILTRO!$A26:$AY651,2,FALSE),0)","v":321},{"$f":"IFERROR(VLOOKUP($A32,FILTRO!$A26:$AY651,3,FALSE),0)","v":169},{"$f":"IFERROR(VLOOKUP($A32,FILTRO!$A26:$AY651,4,FALSE),0)","v":152},{"$f":"IFERROR(VLOOKUP($A32,FILTRO!$A26:$AY651,5,FALSE),0)","v":0},{"$f":"IFERROR(VLOOKUP($A32,FILTRO!$A26:$AY651,6,FALSE),0)","v":0},{"$f":"IFERROR(VLOOKUP($A32,FILTRO!$A26:$AY651,7,FALSE),0)","v":0},{"$f":"IFERROR(VLOOKUP($A32,FILTRO!$A26:$AY651,8,FALSE),0)","v":0},{"$f":"IFERROR(VLOOKUP($A32,FILTRO!$A26:$AY651,9,FALSE),0)","v":0},{"$f":"IFERROR(VLOOKUP($A32,FILTRO!$A26:$AY651,10,FALSE),0)","v":1},{"$f":"IFERROR(VLOOKUP($A32,FILTRO!$A26:$AY651,11,FALSE),0)","v":0},{"$f":"IFERROR(VLOOKUP($A32,FILTRO!$A26:$AY651,12,FALSE),0)","v":0},{"$f":"IFERROR(VLOOKUP($A32,FILTRO!$A26:$AY651,13,FALSE),0)","v":0},{"$f":"IFERROR(VLOOKUP($A32,FILTRO!$A26:$AY651,14,FALSE),0)","v":0},{"$f":"IFERROR(VLOOKUP($A32,FILTRO!$A26:$AY651,15,FALSE),0)","v":0},{"$f":"IFERROR(VLOOKUP($A32,FILTRO!$A26:$AY651,16,FALSE),0)","v":0},{"$f":"IFERROR(VLOOKUP($A32,FILTRO!$A26:$AY651,17,FALSE),0)","v":1},{"$f":"IFERROR(VLOOKUP($A32,FILTRO!$A26:$AY651,18,FALSE),0)","v":1},{"$f":"IFERROR(VLOOKUP($A32,FILTRO!$A26:$AY651,19,FALSE),0)","v":1},{"$f":"IFERROR(VLOOKUP($A32,FILTRO!$A26:$AY651,20,FALSE),0)","v":1},{"$f":"IFERROR(VLOOKUP($A32,FILTRO!$A26:$AY651,21,FALSE),0)","v":1},{"$f":"IFERROR(VLOOKUP($A32,FILTRO!$A26:$AY651,22,FALSE),0)","v":3},{"$f":"IFERROR(VLOOKUP($A32,FILTRO!$A26:$AY651,23,FALSE),0)","v":0},{"$f":"IFERROR(VLOOKUP($A32,FILTRO!$A26:$AY651,24,FALSE),0)","v":3},{"$f":"IFERROR(VLOOKUP($A32,FILTRO!$A26:$AY651,25,FALSE),0)","v":1},{"$f":"IFERROR(VLOOKUP($A32,FILTRO!$A26:$AY651,26,FALSE),0)","v":1},{"$f":"IFERROR(VLOOKUP($A32,FILTRO!$A26:$AY651,27,FALSE),0)","v":7},{"$f":"IFERROR(VLOOKUP($A32,FILTRO!$A26:$AY651,28,FALSE),0)","v":5},{"$f":"IFERROR(VLOOKUP($A32,FILTRO!$A26:$AY651,29,FALSE),0)","v":4},{"$f":"IFERROR(VLOOKUP($A32,FILTRO!$A26:$AY651,30,FALSE),0)","v":8},{"$f":"IFERROR(VLOOKUP($A32,FILTRO!$A26:$AY651,31,FALSE),0)","v":20},{"$f":"IFERROR(VLOOKUP($A32,FILTRO!$A26:$AY651,32,FALSE),0)","v":17},{"$f":"IFERROR(VLOOKUP($A32,FILTRO!$A26:$AY651,33,FALSE),0)","v":23},{"$f":"IFERROR(VLOOKUP($A32,FILTRO!$A26:$AY651,34,FALSE),0)","v":13},{"$f":"IFERROR(VLOOKUP($A32,FILTRO!$A26:$AY651,35,FALSE),0)","v":32},{"$f":"IFERROR(VLOOKUP($A32,FILTRO!$A26:$AY651,36,FALSE),0)","v":27},{"$f":"IFERROR(VLOOKUP($A32,FILTRO!$A26:$AY651,37,FALSE),0)","v":79},{"$f":"IFERROR(VLOOKUP($A32,FILTRO!$A26:$AY651,38,FALSE),0)","v":72},{"$f":"IFERROR(VLOOKUP($A32,FILTRO!$A26:$AY651,39,FALSE),0)","v":0},{"$f":"IFERROR(VLOOKUP($A32,FILTRO!$A26:$AY651,40,FALSE),0)","v":1},{"$f":"IFERROR(VLOOKUP($A32,FILTRO!$A26:$AY651,41,FALSE),0)","v":0},{"$f":"IFERROR(VLOOKUP($A32,FILTRO!$A26:$AY651,42,FALSE),0)","v":0},{"$f":"IFERROR(VLOOKUP($A32,FILTRO!$A26:$AY651,43,FALSE),0)","v":2},{"$nulls":36},"",null,"",{"$nulls":5},0,null,0]
["P3140400",null,"NO ONCOLÓGICA",{"$f":"IFERROR(VLOOKUP($A33,FILTRO!$A27:$AY652,2,FALSE),0)","v":3284},{"$f":"IFERROR(VLOOKUP($A33,FILTRO!$A27:$AY652,3,FALSE),0)","v":1142},{"$f":"IFERROR(VLOOKUP($A33,FILTRO!$A27:$AY652,4,FALSE),0)","v":2142},{"$f":"IFERROR(VLOOKUP($A33,FILTRO!$A27:$AY652,5,FALSE),0)","v":4},{"$f":"IFERROR(VLOOKUP($A33,FILTRO!$A27:$AY652,6,FALSE),0)","v":3},{"$f":"IFERROR(VLOOKUP($A33,FILTRO!$A27:$AY652,7,FALSE),0)","v":16},{"$f":"IFERROR(VLOOKUP($A33,FILTRO!$A27:$AY652,8,FALSE),0)","v":10},{"$f":"IFERROR(VLOOKUP($A33,FILTRO!$A27:$AY652,9,FALSE),0)","v":19},{"$f":"IFERROR(VLOOKUP($A33,FILTRO!$A27:$AY652,10,FALSE),0)","v":22},{"$f":"IFERROR(VLOOKUP($A33,FILTRO!$A27:$AY652,11,FALSE),0)","v":22},{"$f":"IFERROR(VLOOKUP($A33,FILTRO!$A27:$AY652,12,FALSE),0)","v":23},{"$f":"IFERROR(VLOOKUP($A33,FILTRO!$A27:$AY652,13,FALSE),0)","v":29},{"$f":"IFERROR(VLOOKUP($A33,FILTRO!$A27:$AY652,14,FALSE),0)","v":10},{"$f":"IFERROR(VLOOKUP($A33,FILTRO!$A27:$AY652,15,FALSE),0)","v":28},{"$f":"IFERROR(VLOOKUP($A33,FILTRO!$A27:$AY652,16,FALSE),0)","v":21},{"$f":"IFERROR(VLOOKUP($A33,FILTRO!$A27:$AY652,17,FALSE),0)","v":26},{"$f":"IFERROR(VLOOKUP($A33,FILTRO!$A27:$AY652,18,FALSE),0)","v":29},{"$f":"IFERROR(VLOOKUP($A33,FILTRO!$A27:$AY652,19,FALSE),0)","v":34},{"$f":"IFERROR(VLOOKUP($A33,FILTRO!$A27:$AY652,20,FALSE),0)","v":23},{"$f":"IFERROR(VLOOKUP($A33,FILTRO!$A27:$AY652,21,FALSE),0)","v":32},{"$f":"IFERROR(VLOOKUP($A33,FILTRO!$A27:$AY652,22,FALSE),0)","v":22},{"$f":"IFERROR(VLOOKUP($A33,FILTRO!$A27:$AY652,23,FALSE),0)","v":33},{"$f":"IFERROR(VLOOKUP($A33,FILTRO!$A27:$AY652,24,FALSE),0)","v":24},{"$f":"IFERROR(VLOOKUP($A33,FILTRO!$A27:$AY652,25,FALSE),0)","v":44},{"$f":"IFERROR(VLOOKUP($A33,FILTRO!$A27:$AY652,26,FALSE),0)","v":39},{"$f":"IFERROR(VLOOKUP($A33,FILTRO!$A27:$AY652,27,FALSE),0)","v":55},{"$f":"IFERROR(VLOOKUP($A33,FILTRO!$A27:$AY652,28,FALSE),0)","v":46},{"$f":"IFERROR(VLOOKUP($A33,FILTRO!$A27:$AY652,29,FALSE),0)","v":53},{"$f":"IFERROR(VLOOKUP($A33,FILTRO!$A27:$AY652,30,FALSE),0)","v":39},{"$f":"IFERROR(VLOOKUP($A33,FILTRO!$A27:$AY652,31,FALSE),0)","v":68},{"$f":"IFERROR(VLOOKUP($A33,FILTRO!$A27:$AY652,32,FALSE),0)","v":92},{"$f":"IFERROR(VLOOKUP($A33,FILTRO!$A27:$AY652,33,FALSE),0)","v":104},{"$f":"IFERROR(VLOOKUP($A33,FILTRO!$A27:$AY652,34,FALSE),0)","v":141},{"$f":"IFERROR(VLOOKUP($A33,FILTRO!$A27:$AY652,35,FALSE),0)","v":150},{"$f":"IFERROR(VLOOKUP($A33,FILTRO!$A27:$AY652,36,FALSE),0)","v":242},{"$f":"IFERROR(VLOOKUP($A33,FILTRO!$A27:$AY652,37,FALSE),0)","v":425},{"$f":"IFERROR(VLOOKUP($A33,FILTRO!$A27:$AY652,38,FALSE),0)","v":1356},{"$f":"IFERROR(VLOOKUP($A33,FILTRO!$A27:$AY652,39,FALSE),0)","v":0},{"$f":"IFERROR(VLOOKUP($A33,FILTRO!$A27:$AY652,40,FALSE),0)","v":1},{"$f":"IFERROR(VLOOKUP($A33,FILTRO!$A27:$AY652,41,FALSE),0)","v":3},{"$f":"IFERROR(VLOOKUP($A33,FILTRO!$A27:$AY652,42,FALSE),0)","v":0},{"$f":"IFERROR(VLOOKUP($A33,FILTRO!$A27:$AY652,43,FALSE),0)","v":0},{"$nulls":36},"",null,"",{"$nulls":5},0,null,0]
["P3171610",null,"TOTAL PERSONAS CON LESIÓN POR PRESIÓN*",{"$f":"IFERROR(VLOOKUP($A34,FILTRO!$A28:$AY653,2,FALSE),0)","v":331},{"$f":"IFERROR(VLOOKUP($A34,FILTRO!$A28:$AY653,3,FALSE),0)","v":114},{"$f":"IFERROR(VLOOKUP($A34,FILTRO!$A28:$AY653,4,FALSE),0)","v":217},{"$f":"IFERROR(VLOOKUP($A34,FILTRO!$A28:$AY653,5,FALSE),0)","v":0},{"$f":"IFERROR(VLOOKUP($A34,FILTRO!$A28:$AY653,6,FALSE),0)","v":0},{"$f":"IFERROR(VLOOKUP($A34,FILTRO!$A28:$AY653,7,FALSE),0)","v":1},{"$f":"IFERROR(VLOOKUP($A34,FILTRO!$A28:$AY653,8,FALSE),0)","v":0},{"$f":"IFERROR(VLOOKUP($A34,FILTRO!$A28:$AY653,9,FALSE),0)","v":0},{"$f":"IFERROR(VLOOKUP($A34,FILTRO!$A28:$AY653,10,FALSE),0)","v":0},{"$f":"IFERROR(VLOOKUP($A34,FILTRO!$A28:$AY653,11,FALSE),0)","v":0},{"$f":"IFERROR(VLOOKUP($A34,FILTRO!$A28:$AY653,12,FALSE),0)","v":1},{"$f":"IFERROR(VLOOKUP($A34,FILTRO!$A28:$AY653,13,FALSE),0)","v":2},{"$f":"IFERROR(VLOOKUP($A34,FILTRO!$A28:$AY653,14,FALSE),0)","v":1},{"$f":"IFERROR(VLOOKUP($A34,FILTRO!$A28:$AY653,15,FALSE),0)","v":0},{"$f":"IFERROR(VLOOKUP($A34,FILTRO!$A28:$AY653,16,FALSE),0)","v":1},{"$f":"IFERROR(VLOOKUP($A34,FILTRO!$A28:$AY653,17,FALSE),0)","v":2},{"$f":"IFERROR(VLOOKUP($A34,FILTRO!$A28:$AY653,18,FALSE),0)","v":1},{"$f":"IFERROR(VLOOKUP($A34,FILTRO!$A28:$AY653,19,FALSE),0)","v":2},{"$f":"IFERROR(VLOOKUP($A34,FILTRO!$A28:$AY653,20,FALSE),0)","v":0},{"$f":"IFERROR(VLOOKUP($A34,FILTRO!$A28:$AY653,21,FALSE),0)","v":1},{"$f":"IFERROR(VLOOKUP($A34,FILTRO!$A28:$AY653,22,FALSE),0)","v":1},{"$f":"IFERROR(VLOOKUP($A34,FILTRO!$A28:$AY653,23,FALSE),0)","v":0},{"$f":"IFERROR(VLOOKUP($A34,FILTRO!$A28:$AY653,24,FALSE),0)","v":3},{"$f":"IFERROR(VLOOKUP($A34,FILTRO!$A28:$AY653,25,FALSE),0)","v":5},{"$f":"IFERROR(VLOOKUP($A34,FILTRO!$A28:$AY653,26,FALSE),0)","v":0},{"$f":"IFERROR(VLOOKUP($A34,FILTRO!$A28:$AY653,27,FALSE),0)","v":2},{"$f":"IFERROR(VLOOKUP($A34,FILTRO!$A28:$AY653,28,FALSE),0)","v":2},{"$f":"IFERROR(VLOOKUP($A34,FILTRO!$A28:$AY653,29,FALSE),0)","v":7},{"$f":"IFERROR(VLOOKUP($A34,FILTRO!$A28:$AY653,30,FALSE),0)","v":5},{"$f":"IFERROR(VLOOKUP($A34,FILTRO!$A28:$AY653,31,FALSE),0)","v":7},{"$f":"IFERROR(VLOOKUP($A34,FILTRO!$A28:$AY653,32,FALSE),0)","v":12},{"$f":"IFERROR(VLOOKUP($A34,FILTRO!$A28:$AY653,33,FALSE),0)","v":18},{"$f":"IFERROR(VLOOKUP($A34,FILTRO!$A28:$AY653,34,FALSE),0)","v":22},{"$f":"IFERROR(VLOOKUP($A34,FILTRO!$A28:$AY653,35,FALSE),0)","v":18},{"$f":"IFERROR(VLOOKUP($A34,FILTRO!$A28:$AY653,36,FALSE),0)","v":33},{"$f":"IFERROR(VLOOKUP($A34,FILTRO!$A28:$AY653,37,FALSE),0)","v":49},{"$f":"IFERROR(VLOOKUP($A34,FILTRO!$A28:$AY653,38,FALSE),0)","v":135},{"$f":"IFERROR(VLOOKUP($A34,FILTRO!$A28:$AY653,39,FALSE),0)","v":0},{"$f":"IFERROR(VLOOKUP($A34,FILTRO!$A28:$AY653,40,FALSE),0)","v":0},{"$f":"IFERROR(VLOOKUP($A34,FILTRO!$A28:$AY653,41,FALSE),0)","v":0},{"$f":"IFERROR(VLOOKUP($A34,FILTRO!$A28:$AY653,42,FALSE),0)","v":0},{"$f":"IFERROR(VLOOKUP($A34,FILTRO!$A28:$AY653,43,FALSE),0)","v":0},{"$nulls":36},"",{"$f":"IF($D34<=$D32+$D33,\"\",\"Dependencia severa con escaras no debe ser mayor que los Dependientes oncológicos más no Oncológicos. \")","v":""},"",{"$nulls":5},0,{"$f":"IF($D34<=$D32+$D33,0,1)","v":0},0]
["P3160800","ATENCIÓN DOMICILIARIA POR DEPENDENCIA SEVERA","TOTAL PERSONAS",{"$f":"IFERROR(VLOOKUP($A35,FILTRO!$A29:$AY654,2,FALSE),0)","v":3585},{"$f":"IFERROR(VLOOKUP($A35,FILTRO!$A29:$AY654,3,FALSE),0)","v":1315},{"$f":"IFERROR(VLOOKUP($A35,FILTRO!$A29:$AY654,4,FALSE),0)","v":2270},{"$f":"IFERROR(VLOOKUP($A35,FILTRO!$A29:$AY654,5,FALSE),0)","v":4},{"$f":"IFERROR(VLOOKUP($A35,FILTRO!$A29:$AY654,6,FALSE),0)","v":3},{"$f":"IFERROR(VLOOKUP($A35,FILTRO!$A29:$AY654,7,FALSE),0)","v":16},{"$f":"IFERROR(VLOOKUP($A35,FILTRO!$A29:$AY654,8,FALSE),0)","v":10},{"$f":"IFERROR(VLOOKUP($A35,FILTRO!$A29:$AY654,9,FALSE),0)","v":18},{"$f":"IFERROR(VLOOKUP($A35,FILTRO!$A29:$AY654,10,FALSE),0)","v":22},{"$f":"IFERROR(VLOOKUP($A35,FILTRO!$A29:$AY654,11,FALSE),0)","v":21},{"$f":"IFERROR(VLOOKUP($A35,FILTRO!$A29:$AY654,12,FALSE),0)","v":24},{"$f":"IFERROR(VLOOKUP($A35,FILTRO!$A29:$AY654,13,FALSE),0)","v":28},{"$f":"IFERROR(VLOOKUP($A35,FILTRO!$A29:$AY654,14,FALSE),0)","v":9},{"$f":"IFERROR(VLOOKUP($A35,FILTRO!$A29:$AY654,15,FALSE),0)","v":27},{"$f":"IFERROR(VLOOKUP($A35,FILTRO!$A29:$AY654,16,FALSE),0)","v":21},{"$f":"IFERROR(VLOOKUP($A35,FILTRO!$A29:$AY654,17,FALSE),0)","v":31},{"$f":"IFERROR(VLOOKUP($A35,FILTRO!$A29:$AY654,18,FALSE),0)","v":25},{"$f":"IFERROR(VLOOKUP($A35,FILTRO!$A29:$AY654,19,FALSE),0)","v":35},{"$f":"IFERROR(VLOOKUP($A35,FILTRO!$A29:$AY654,20,FALSE),0)","v":24},{"$f":"IFERROR(VLOOKUP($A35,FILTRO!$A29:$AY654,21,FALSE),0)","v":33},{"$f":"IFERROR(VLOOKUP($A35,FILTRO!$A29:$AY654,22,FALSE),0)","v":25},{"$f":"IFERROR(VLOOKUP($A35,FILTRO!$A29:$AY654,23,FALSE),0)","v":35},{"$f":"IFERROR(VLOOKUP($A35,FILTRO!$A29:$AY654,24,FALSE),0)","v":26},{"$f":"IFERROR(VLOOKUP($A35,FILTRO!$A29:$AY654,25,FALSE),0)","v":47},{"$f":"IFERROR(VLOOKUP($A35,FILTRO!$A29:$AY654,26,FALSE),0)","v":37},{"$f":"IFERROR(VLOOKUP($A35,FILTRO!$A29:$AY654,27,FALSE),0)","v":61},{"$f":"IFERROR(VLOOKUP($A35,FILTRO!$A29:$AY654,28,FALSE),0)","v":51},{"$f":"IFERROR(VLOOKUP($A35,FILTRO!$A29:$AY654,29,FALSE),0)","v":57},{"$f":"IFERROR(VLOOKUP($A35,FILTRO!$A29:$AY654,30,FALSE),0)","v":50},{"$f":"IFERROR(VLOOKUP($A35,FILTRO!$A29:$AY654,31,FALSE),0)","v":87},{"$f":"IFERROR(VLOOKUP($A35,FILTRO!$A29:$AY654,32,FALSE),0)","v":107},{"$f":"IFERROR(VLOOKUP($A35,FILTRO!$A29:$AY654,33,FALSE),0)","v":130},{"$f":"IFERROR(VLOOKUP($A35,FILTRO!$A29:$AY654,34,FALSE),0)","v":147},{"$f":"IFERROR(VLOOKUP($A35,FILTRO!$A29:$AY654,35,FALSE),0)","v":184},{"$f":"IFERROR(VLOOKUP($A35,FILTRO!$A29:$AY654,36,FALSE),0)","v":271},{"$f":"IFERROR(VLOOKUP($A35,FILTRO!$A29:$AY654,37,FALSE),0)","v":501},{"$f":"IFERROR(VLOOKUP($A35,FILTRO!$A29:$AY654,38,FALSE),0)","v":1418},{"$f":"IFERROR(VLOOKUP($A35,FILTRO!$A29:$AY654,39,FALSE),0)","v":0},{"$f":"IFERROR(VLOOKUP($A35,FILTRO!$A29:$AY654,40,FALSE),0)","v":0},{"$f":"IFERROR(VLOOKUP($A35,FILTRO!$A29:$AY654,41,FALSE),0)","v":2},{"$f":"IFERROR(VLOOKUP($A35,FILTRO!$A29:$AY654,42,FALSE),0)","v":1},{"$f":"IFERROR(VLOOKUP($A35,FILTRO!$A29:$AY654,43,FALSE),0)","v":3},{"$nulls":36},"",{"$f":"IF($D35<=$D32+$D33,\"\",\"* Atención Domiciliaria por Dependencia Severa: Total Personas no debe ser mayor que los Dependientes oncológicos más no Oncológicos. \")","v":""},"",{"$nulls":5},0,{"$f":"IF($D35<=$D32+$D33,0,1)","v":0},0]
["P3171611",null,"ONCOLÓGICA",{"$f":"IFERROR(VLOOKUP($A36,FILTRO!$A30:$AY655,2,FALSE),0)","v":312},{"$f":"IFERROR(VLOOKUP($A36,FILTRO!$A30:$AY655,3,FALSE),0)","v":166},{"$f":"IFERROR(VLOOKUP($A36,FILTRO!$A30:$AY655,4,FALSE),0)","v":146},{"$f":"IFERROR(VLOOKUP($A36,FILTRO!$A30:$AY655,5,FALSE),0)","v":0},{"$f":"IFERROR(VLOOKUP($A36,FILTRO!$A30:$AY655,6,FALSE),0)","v":0},{"$f":"IFERROR(VLOOKUP($A36,FILTRO!$A30:$AY655,7,FALSE),0)","v":0},{"$f":"IFERROR(VLOOKUP($A36,FILTRO!$A30:$AY655,8,FALSE),0)","v":0},{"$f":"IFERROR(VLOOKUP($A36,FILTRO!$A30:$AY655,9,FALSE),0)","v":0},{"$f":"IFERROR(VLOOKUP($A36,FILTRO!$A30:$AY655,10,FALSE),0)","v":1},{"$f":"IFERROR(VLOOKUP($A36,FILTRO!$A30:$AY655,11,FALSE),0)","v":0},{"$f":"IFERROR(VLOOKUP($A36,FILTRO!$A30:$AY655,12,FALSE),0)","v":0},{"$f":"IFERROR(VLOOKUP($A36,FILTRO!$A30:$AY655,13,FALSE),0)","v":0},{"$f":"IFERROR(VLOOKUP($A36,FILTRO!$A30:$AY655,14,FALSE),0)","v":0},{"$f":"IFERROR(VLOOKUP($A36,FILTRO!$A30:$AY655,15,FALSE),0)","v":0},{"$f":"IFERROR(VLOOKUP($A36,FILTRO!$A30:$AY655,16,FALSE),0)","v":0},{"$f":"IFERROR(VLOOKUP($A36,FILTRO!$A30:$AY655,17,FALSE),0)","v":1},{"$f":"IFERROR(VLOOKUP($A36,FILTRO!$A30:$AY655,18,FALSE),0)","v":1},{"$f":"IFERROR(VLOOKUP($A36,FILTRO!$A30:$AY655,19,FALSE),0)","v":1},{"$f":"IFERROR(VLOOKUP($A36,FILTRO!$A30:$AY655,20,FALSE),0)","v":1},{"$f":"IFERROR(VLOOKUP($A36,FILTRO!$A30:$AY655,21,FALSE),0)","v":1},{"$f":"IFERROR(VLOOKUP($A36,FILTRO!$A30:$AY655,22,FALSE),0)","v":3},{"$f":"IFERROR(VLOOKUP($A36,FILTRO!$A30:$AY655,23,FALSE),0)","v":0},{"$f":"IFERROR(VLOOKUP($A36,FILTRO!$A30:$AY655,24,FALSE),0)","v":3},{"$f":"IFERROR(VLOOKUP($A36,FILTRO!$A30:$AY655,25,FALSE),0)","v":1},{"$f":"IFERROR(VLOOKUP($A36,FILTRO!$A30:$AY655,26,FALSE),0)","v":1},{"$f":"IFERROR(VLOOKUP($A36,FILTRO!$A30:$AY655,27,FALSE),0)","v":7},{"$f":"IFERROR(VLOOKUP($A36,FILTRO!$A30:$AY655,28,FALSE),0)","v":5},{"$f":"IFERROR(VLOOKUP($A36,FILTRO!$A30:$AY655,29,FALSE),0)","v":4},{"$f":"IFERROR(VLOOKUP($A36,FILTRO!$A30:$AY655,30,FALSE),0)","v":8},{"$f":"IFERROR(VLOOKUP($A36,FILTRO!$A30:$AY655,31,FALSE),0)","v":19},{"$f":"IFERROR(VLOOKUP($A36,FILTRO!$A30:$AY655,32,FALSE),0)","v":17},{"$f":"IFERROR(VLOOKUP($A36,FILTRO!$A30:$AY655,33,FALSE),0)","v":23},{"$f":"IFERROR(VLOOKUP($A36,FILTRO!$A30:$AY655,34,FALSE),0)","v":13},{"$f":"IFERROR(VLOOKUP($A36,FILTRO!$A30:$AY655,35,FALSE),0)","v":30},{"$f":"IFERROR(VLOOKUP($A36,FILTRO!$A30:$AY655,36,FALSE),0)","v":27},{"$f":"IFERROR(VLOOKUP($A36,FILTRO!$A30:$AY655,37,FALSE),0)","v":79},{"$f":"IFERROR(VLOOKUP($A36,FILTRO!$A30:$AY655,38,FALSE),0)","v":66},{"$f":"IFERROR(VLOOKUP($A36,FILTRO!$A30:$AY655,39,FALSE),0)","v":0},{"$f":"IFERROR(VLOOKUP($A36,FILTRO!$A30:$AY655,40,FALSE),0)","v":1},{"$f":"IFERROR(VLOOKUP($A36,FILTRO!$A30:$AY655,41,FALSE),0)","v":0},{"$f":"IFERROR(VLOOKUP($A36,FILTRO!$A30:$AY655,42,FALSE),0)","v":0},{"$f":"IFERROR(VLOOKUP($A36,FILTRO!$A30:$AY655,43,FALSE),0)","v":2},{"$nulls":36},"",{"$f":"IF($D36<=$D35,\"\",\"* Atención Domiciliaria por Dependencia Severa: Total Personas con Escaras no debe ser mayor al Total Personas. \")","v":""},"",{"$f":"IF($D36<=$D34,\"\",\"* Atención Domiciliaria por Dependencia Severa: Total Personas con Escaras no debe ser mayor a las personas con Dependencia Severa con Escaras. \")","v":""},{"$nulls":4},0,{"$f":"IF($D36<=$D35,0,1)","v":0},0,{"$f":"IF($D36<=$D34,0,1)","v":0}]
["P3171612",null,"NO ONCOLÓGICA",{"$f":"IFERROR(VLOOKUP($A37,FILTRO!$A31:$AY656,2,FALSE),0)","v":3003},{"$f":"IFERROR(VLOOKUP($A37,FILTRO!$A31:$AY656,3,FALSE),0)","v":1057},{"$f":"IFERROR(VLOOKUP($A37,FILTRO!$A31:$AY656,4,FALSE),0)","v":1946},{"$f":"IFERROR(VLOOKUP($A37,FILTRO!$A31:$AY656,5,FALSE),0)","v":4},{"$f":"IFERROR(VLOOKUP($A37,FILTRO!$A31:$AY656,6,FALSE),0)","v":3},{"$f":"IFERROR(VLOOKUP($A37,FILTRO!$A31:$AY656,7,FALSE),0)","v":14},{"$f":"IFERROR(VLOOKUP($A37,FILTRO!$A31:$AY656,8,FALSE),0)","v":10},{"$f":"IFERROR(VLOOKUP($A37,FILTRO!$A31:$AY656,9,FALSE),0)","v":19},{"$f":"IFERROR(VLOOKUP($A37,FILTRO!$A31:$AY656,10,FALSE),0)","v":20},{"$f":"IFERROR(VLOOKUP($A37,FILTRO!$A31:$AY656,11,FALSE),0)","v":22},{"$f":"IFERROR(VLOOKUP($A37,FILTRO!$A31:$AY656,12,FALSE),0)","v":20},{"$f":"IFERROR(VLOOKUP($A37,FILTRO!$A31:$AY656,13,FALSE),0)","v":27},{"$f":"IFERROR(VLOOKUP($A37,FILTRO!$A31:$AY656,14,FALSE),0)","v":9},{"$f":"IFERROR(VLOOKUP($A37,FILTRO!$A31:$AY656,15,FALSE),0)","v":25},{"$f":"IFERROR(VLOOKUP($A37,FILTRO!$A31:$AY656,16,FALSE),0)","v":21},{"$f":"IFERROR(VLOOKUP($A37,FILTRO!$A31:$AY656,17,FALSE),0)","v":27},{"$f":"IFERROR(VLOOKUP($A37,FILTRO!$A31:$AY656,18,FALSE),0)","v":25},{"$f":"IFERROR(VLOOKUP($A37,FILTRO!$A31:$AY656,19,FALSE),0)","v":34},{"$f":"IFERROR(VLOOKUP($A37,FILTRO!$A31:$AY656,20,FALSE),0)","v":22},{"$f":"IFERROR(VLOOKUP($A37,FILTRO!$A31:$AY656,21,FALSE),0)","v":30},{"$f":"IFERROR(VLOOKUP($A37,FILTRO!$A31:$AY656,22,FALSE),0)","v":18},{"$f":"IFERROR(VLOOKUP($A37,FILTRO!$A31:$AY656,23,FALSE),0)","v":31},{"$f":"IFERROR(VLOOKUP($A37,FILTRO!$A31:$AY656,24,FALSE),0)","v":22},{"$f":"IFERROR(VLOOKUP($A37,FILTRO!$A31:$AY656,25,FALSE),0)","v":44},{"$f":"IFERROR(VLOOKUP($A37,FILTRO!$A31:$AY656,26,FALSE),0)","v":36},{"$f":"IFERROR(VLOOKUP($A37,FILTRO!$A31:$AY656,27,FALSE),0)","v":53},{"$f":"IFERROR(VLOOKUP($A37,FILTRO!$A31:$AY656,28,FALSE),0)","v":40},{"$f":"IFERROR(VLOOKUP($A37,FILTRO!$A31:$AY656,29,FALSE),0)","v":51},{"$f":"IFERROR(VLOOKUP($A37,FILTRO!$A31:$AY656,30,FALSE),0)","v":39},{"$f":"IFERROR(VLOOKUP($A37,FILTRO!$A31:$AY656,31,FALSE),0)","v":58},{"$f":"IFERROR(VLOOKUP($A37,FILTRO!$A31:$AY656,32,FALSE),0)","v":85},{"$f":"IFERROR(VLOOKUP($A37,FILTRO!$A31:$AY656,33,FALSE),0)","v":97},{"$f":"IFERROR(VLOOKUP($A37,FILTRO!$A31:$AY656,34,FALSE),0)","v":132},{"$f":"IFERROR(VLOOKUP($A37,FILTRO!$A31:$AY656,35,FALSE),0)","v":133},{"$f":"IFERROR(VLOOKUP($A37,FILTRO!$A31:$AY656,36,FALSE),0)","v":217},{"$f":"IFERROR(VLOOKUP($A37,FILTRO!$A31:$AY656,37,FALSE),0)","v":388},{"$f":"IFERROR(VLOOKUP($A37,FILTRO!$A31:$AY656,38,FALSE),0)","v":1227},{"$f":"IFERROR(VLOOKUP($A37,FILTRO!$A31:$AY656,39,FALSE),0)","v":0},{"$f":"IFERROR(VLOOKUP($A37,FILTRO!$A31:$AY656,40,FALSE),0)","v":1},{"$f":"IFERROR(VLOOKUP($A37,FILTRO!$A31:$AY656,41,FALSE),0)","v":3},{"$f":"IFERROR(VLOOKUP($A37,FILTRO!$A31:$AY656,42,FALSE),0)","v":1},{"$f":"IFERROR(VLOOKUP($A37,FILTRO!$A31:$AY656,43,FALSE),0)","v":3}]
["P3171613",null,"CON DEMENCIA",{"$f":"IFERROR(VLOOKUP($A38,FILTRO!$A32:$AY657,2,FALSE),0)","v":687},{"$f":"IFERROR(VLOOKUP($A38,FILTRO!$A32:$AY657,3,FALSE),0)","v":152},{"$f":"IFERROR(VLOOKUP($A38,FILTRO!$A32:$AY657,4,FALSE),0)","v":535},{"$f":"IFERROR(VLOOKUP($A38,FILTRO!$A32:$AY657,5,FALSE),0)","v":0},{"$f":"IFERROR(VLOOKUP($A38,FILTRO!$A32:$AY657,6,FALSE),0)","v":0},{"$f":"IFERROR(VLOOKUP($A38,FILTRO!$A32:$AY657,7,FALSE),0)","v":0},{"$f":"IFERROR(VLOOKUP($A38,FILTRO!$A32:$AY657,8,FALSE),0)","v":0},{"$f":"IFERROR(VLOOKUP($A38,FILTRO!$A32:$AY657,9,FALSE),0)","v":0},{"$f":"IFERROR(VLOOKUP($A38,FILTRO!$A32:$AY657,10,FALSE),0)","v":0},{"$f":"IFERROR(VLOOKUP($A38,FILTRO!$A32:$AY657,11,FALSE),0)","v":0},{"$f":"IFERROR(VLOOKUP($A38,FILTRO!$A32:$AY657,12,FALSE),0)","v":0},{"$f":"IFERROR(VLOOKUP($A38,FILTRO!$A32:$AY657,13,FALSE),0)","v":0},{"$f":"IFERROR(VLOOKUP($A38,FILTRO!$A32:$AY657,14,FALSE),0)","v":0},{"$f":"IFERROR(VLOOKUP($A38,FILTRO!$A32:$AY657,15,FALSE),0)","v":0},{"$f":"IFERROR(VLOOKUP($A38,FILTRO!$A32:$AY657,16,FALSE),0)","v":0},{"$f":"IFERROR(VLOOKUP($A38,FILTRO!$A32:$AY657,17,FALSE),0)","v":0},{"$f":"IFERROR(VLOOKUP($A38,FILTRO!$A32:$AY657,18,FALSE),0)","v":1},{"$f":"IFERROR(VLOOKUP($A38,FILTRO!$A32:$AY657,19,FALSE),0)","v":1},{"$f":"IFERROR(VLOOKUP($A38,FILTRO!$A32:$AY657,20,FALSE),0)","v":0},{"$f":"IFERROR(VLOOKUP($A38,FILTRO!$A32:$AY657,21,FALSE),0)","v":0},{"$f":"IFERROR(VLOOKUP($A38,FILTRO!$A32:$AY657,22,FALSE),0)","v":0},{"$f":"IFERROR(VLOOKUP($A38,FILTRO!$A32:$AY657,23,FALSE),0)","v":0},{"$f":"IFERROR(VLOOKUP($A38,FILTRO!$A32:$AY657,24,FALSE),0)","v":0},{"$f":"IFERROR(VLOOKUP($A38,FILTRO!$A32:$AY657,25,FALSE),0)","v":1},{"$f":"IFERROR(VLOOKUP($A38,FILTRO!$A32:$AY657,26,FALSE),0)","v":1},{"$f":"IFERROR(VLOOKUP($A38,FILTRO!$A32:$AY657,27,FALSE),0)","v":0},{"$f":"IFERROR(VLOOKUP($A38,FILTRO!$A32:$AY657,28,FALSE),0)","v":2},{"$f":"IFERROR(VLOOKUP($A38,FILTRO!$A32:$AY657,29,FALSE),0)","v":3},{"$f":"IFERROR(VLOOKUP($A38,FILTRO!$A32:$AY657,30,FALSE),0)","v":4},{"$f":"IFERROR(VLOOKUP($A38,FILTRO!$A32:$AY657,31,FALSE),0)","v":8},{"$f":"IFERROR(VLOOKUP($A38,FILTRO!$A32:$AY657,32,FALSE),0)","v":17},{"$f":"IFERROR(VLOOKUP($A38,FILTRO!$A32:$AY657,33,FALSE),0)","v":11},{"$f":"IFERROR(VLOOKUP($A38,FILTRO!$A32:$AY657,34,FALSE),0)","v":35},{"$f":"IFERROR(VLOOKUP($A38,FILTRO!$A32:$AY657,35,FALSE),0)","v":26},{"$f":"IFERROR(VLOOKUP($A38,FILTRO!$A32:$AY657,36,FALSE),0)","v":58},{"$f":"IFERROR(VLOOKUP($A38,FILTRO!$A32:$AY657,37,FALSE),0)","v":102},{"$f":"IFERROR(VLOOKUP($A38,FILTRO!$A32:$AY657,38,FALSE),0)","v":417},{"$f":"IFERROR(VLOOKUP($A38,FILTRO!$A32:$AY657,39,FALSE),0)","v":0},{"$f":"IFERROR(VLOOKUP($A38,FILTRO!$A32:$AY657,40,FALSE),0)","v":0},{"$f":"IFERROR(VLOOKUP($A38,FILTRO!$A32:$AY657,41,FALSE),0)","v":0},{"$f":"IFERROR(VLOOKUP($A38,FILTRO!$A32:$AY657,42,FALSE),0)","v":0},{"$f":"IFERROR(VLOOKUP($A38,FILTRO!$A32:$AY657,43,FALSE),0)","v":2}]
["P3171614",null,"INSTITUCIONALIZADA",{"$f":"IFERROR(VLOOKUP($A39,FILTRO!$A33:$AY658,2,FALSE),0)","v":235},{"$f":"IFERROR(VLOOKUP($A39,FILTRO!$A33:$AY658,3,FALSE),0)","v":81},{"$f":"IFERROR(VLOOKUP($A39,FILTRO!$A33:$AY658,4,FALSE),0)","v":154},{"$f":"IFERROR(VLOOKUP($A39,FILTRO!$A33:$AY658,5,FALSE),0)","v":0},{"$f":"IFERROR(VLOOKUP($A39,FILTRO!$A33:$AY658,6,FALSE),0)","v":0},{"$f":"IFERROR(VLOOKUP($A39,FILTRO!$A33:$AY658,7,FALSE),0)","v":0},{"$f":"IFERROR(VLOOKUP($A39,FILTRO!$A33:$AY658,8,FALSE),0)","v":0},{"$f":"IFERROR(VLOOKUP($A39,FILTRO!$A33:$AY658,9,FALSE),0)","v":0},{"$f":"IFERROR(VLOOKUP($A39,FILTRO!$A33:$AY658,10,FALSE),0)","v":0},{"$f":"IFERROR(VLOOKUP($A39,FILTRO!$A33:$AY658,11,FALSE),0)","v":0},{"$f":"IFERROR(VLOOKUP($A39,FILTRO!$A33:$AY658,12,FALSE),0)","v":0},{"$f":"IFERROR(VLOOKUP($A39,FILTRO!$A33:$AY658,13,FALSE),0)","v":0},{"$f":"IFERROR(VLOOKUP($A39,FILTRO!$A33:$AY658,14,FALSE),0)","v":0},{"$f":"IFERROR(VLOOKUP($A39,FILTRO!$A33:$AY658,15,FALSE),0)","v":0},{"$f":"IFERROR(VLOOKUP($A39,FILTRO!$A33:$AY658,16,FALSE),0)","v":0},{"$f":"IFERROR(VLOOKUP($A39,FILTRO!$A33:$AY658,17,FALSE),0)","v":0},{"$f":"IFERROR(VLOOKUP($A39,FILTRO!$A33:$AY658,18,FALSE),0)","v":0},{"$f":"IFERROR(VLOOKUP($A39,FILTRO!$A33:$AY658,19,FALSE),0)","v":0},{"$f":"IFERROR(VLOOKUP($A39,FILTRO!$A33:$AY658,20,FALSE),0)","v":0},{"$f":"IFERROR(VLOOKUP($A39,FILTRO!$A33:$AY658,21,FALSE),0)","v":0},{"$f":"IFERROR(VLOOKUP($A39,FILTRO!$A33:$AY658,22,FALSE),0)","v":0},{"$f":"IFERROR(VLOOKUP($A39,FILTRO!$A33:$AY658,23,FALSE),0)","v":0},{"$f":"IFERROR(VLOOKUP($A39,FILTRO!$A33:$AY658,24,FALSE),0)","v":0},{"$f":"IFERROR(VLOOKUP($A39,FILTRO!$A33:$AY658,25,FALSE),0)","v":0},{"$f":"IFERROR(VLOOKUP($A39,FILTRO!$A33:$AY658,26,FALSE),0)","v":1},{"$f":"IFERROR(VLOOKUP($A39,FILTRO!$A33:$AY658,27,FALSE),0)","v":1},{"$f":"IFERROR(VLOOKUP($A39,FILTRO!$A33:$AY658,28,FALSE),0)","v":0},{"$f":"IFERROR(VLOOKUP($A39,FILTRO!$A33:$AY658,29,FALSE),0)","v":2},{"$f":"IFERROR(VLOOKUP($A39,FILTRO!$A33:$AY658,30,FALSE),0)","v":2},{"$f":"IFERROR(VLOOKUP($A39,FILTRO!$A33:$AY658,31,FALSE),0)","v":12},{"$f":"IFERROR(VLOOKUP($A39,FILTRO!$A33:$AY658,32,FALSE),0)","v":6},{"$f":"IFERROR(VLOOKUP($A39,FILTRO!$A33:$AY658,33,FALSE),0)","v":13},{"$f":"IFERROR(VLOOKUP($A39,FILTRO!$A33:$AY658,34,FALSE),0)","v":5},{"$f":"IFERROR(VLOOKUP($A39,FILTRO!$A33:$AY658,35,FALSE),0)","v":13},{"$f":"IFERROR(VLOOKUP($A39,FILTRO!$A33:$AY658,36,FALSE),0)","v":28},{"$f":"IFERROR(VLOOKUP($A39,FILTRO!$A33:$AY658,37,FALSE),0)","v":40},{"$f":"IFERROR(VLOOKUP($A39,FILTRO!$A33:$AY658,38,FALSE),0)","v":112},{"$f":"IFERROR(VLOOKUP($A39,FILTRO!$A33:$AY658,39,FALSE),0)","v":0},{"$f":"IFERROR(VLOOKUP($A39,FILTRO!$A33:$AY658,40,FALSE),0)","v":0},{"$f":"IFERROR(VLOOKUP($A39,FILTRO!$A33:$AY658,41,FALSE),0)","v":0},{"$f":"IFERROR(VLOOKUP($A39,FILTRO!$A33:$AY658,42,FALSE),0)","v":0},{"$f":"IFERROR(VLOOKUP($A39,FILTRO!$A33:$AY658,43,FALSE),0)","v":0}]
["P3171615",null,"TOTAL PERSONAS CON LESIÓN POR PRESIÓN*",{"$f":"IFERROR(VLOOKUP($A40,FILTRO!$A34:$AY659,2,FALSE),0)","v":295},{"$f":"IFERROR(VLOOKUP($A40,FILTRO!$A34:$AY659,3,FALSE),0)","v":98},{"$f":"IFERROR(VLOOKUP($A40,FILTRO!$A34:$AY659,4,FALSE),0)","v":197},{"$f":"IFERROR(VLOOKUP($A40,FILTRO!$A34:$AY659,5,FALSE),0)","v":0},{"$f":"IFERROR(VLOOKUP($A40,FILTRO!$A34:$AY659,6,FALSE),0)","v":0},{"$f":"IFERROR(VLOOKUP($A40,FILTRO!$A34:$AY659,7,FALSE),0)","v":1},{"$f":"IFERROR(VLOOKUP($A40,FILTRO!$A34:$AY659,8,FALSE),0)","v":0},{"$f":"IFERROR(VLOOKUP($A40,FILTRO!$A34:$AY659,9,FALSE),0)","v":0},{"$f":"IFERROR(VLOOKUP($A40,FILTRO!$A34:$AY659,10,FALSE),0)","v":0},{"$f":"IFERROR(VLOOKUP($A40,FILTRO!$A34:$AY659,11,FALSE),0)","v":0},{"$f":"IFERROR(VLOOKUP($A40,FILTRO!$A34:$AY659,12,FALSE),0)","v":1},{"$f":"IFERROR(VLOOKUP($A40,FILTRO!$A34:$AY659,13,FALSE),0)","v":2},{"$f":"IFERROR(VLOOKUP($A40,FILTRO!$A34:$AY659,14,FALSE),0)","v":0},{"$f":"IFERROR(VLOOKUP($A40,FILTRO!$A34:$AY659,15,FALSE),0)","v":0},{"$f":"IFERROR(VLOOKUP($A40,FILTRO!$A34:$AY659,16,FALSE),0)","v":1},{"$f":"IFERROR(VLOOKUP($A40,FILTRO!$A34:$AY659,17,FALSE),0)","v":1},{"$f":"IFERROR(VLOOKUP($A40,FILTRO!$A34:$AY659,18,FALSE),0)","v":0},{"$f":"IFERROR(VLOOKUP($A40,FILTRO!$A34:$AY659,19,FALSE),0)","v":0},{"$f":"IFERROR(VLOOKUP($A40,FILTRO!$A34:$AY659,20,FALSE),0)","v":0},{"$f":"IFERROR(VLOOKUP($A40,FILTRO!$A34:$AY659,21,FALSE),0)","v":1},{"$f":"IFERROR(VLOOKUP($A40,FILTRO!$A34:$AY659,22,FALSE),0)","v":0},{"$f":"IFERROR(VLOOKUP($A40,FILTRO!$A34:$AY659,23,FALSE),0)","v":0},{"$f":"IFERROR(VLOOKUP($A40,FILTRO!$A34:$AY659,24,FALSE),0)","v":2},{"$f":"IFERROR(VLOOKUP($A40,FILTRO!$A34:$AY659,25,FALSE),0)","v":5},{"$f":"IFERROR(VLOOKUP($A40,FILTRO!$A34:$AY659,26,FALSE),0)","v":0},{"$f":"IFERROR(VLOOKUP($A40,FILTRO!$A34:$AY659,27,FALSE),0)","v":3},{"$f":"IFERROR(VLOOKUP($A40,FILTRO!$A34:$AY659,28,FALSE),0)","v":2},{"$f":"IFERROR(VLOOKUP($A40,FILTRO!$A34:$AY659,29,FALSE),0)","v":5},{"$f":"IFERROR(VLOOKUP($A40,FILTRO!$A34:$AY659,30,FALSE),0)","v":5},{"$f":"IFERROR(VLOOKUP($A40,FILTRO!$A34:$AY659,31,FALSE),0)","v":7},{"$f":"IFERROR(VLOOKUP($A40,FILTRO!$A34:$AY659,32,FALSE),0)","v":7},{"$f":"IFERROR(VLOOKUP($A40,FILTRO!$A34:$AY659,33,FALSE),0)","v":17},{"$f":"IFERROR(VLOOKUP($A40,FILTRO!$A34:$AY659,34,FALSE),0)","v":21},{"$f":"IFERROR(VLOOKUP($A40,FILTRO!$A34:$AY659,35,FALSE),0)","v":16},{"$f":"IFERROR(VLOOKUP($A40,FILTRO!$A34:$AY659,36,FALSE),0)","v":31},{"$f":"IFERROR(VLOOKUP($A40,FILTRO!$A34:$AY659,37,FALSE),0)","v":40},{"$f":"IFERROR(VLOOKUP($A40,FILTRO!$A34:$AY659,38,FALSE),0)","v":127},{"$f":"IFERROR(VLOOKUP($A40,FILTRO!$A34:$AY659,39,FALSE),0)","v":0},{"$f":"IFERROR(VLOOKUP($A40,FILTRO!$A34:$AY659,40,FALSE),0)","v":0},{"$f":"IFERROR(VLOOKUP($A40,FILTRO!$A34:$AY659,41,FALSE),0)","v":0},{"$f":"IFERROR(VLOOKUP($A40,FILTRO!$A34:$AY659,42,FALSE),0)","v":1},{"$f":"IFERROR(VLOOKUP($A40,FILTRO!$A34:$AY659,43,FALSE),0)","v":1}]
["P3170200",null,"CON INDICACIÓN DE NUTRICIÓN ENTERAL DOMICILIARIA (NED) ",{"$f":"IFERROR(VLOOKUP($A41,FILTRO!$A35:$AY660,2,FALSE),0)","v":93},{"$f":"IFERROR(VLOOKUP($A41,FILTRO!$A35:$AY660,3,FALSE),0)","v":30},{"$f":"IFERROR(VLOOKUP($A41,FILTRO!$A35:$AY660,4,FALSE),0)","v":63},{"$f":"IFERROR(VLOOKUP($A41,FILTRO!$A35:$AY660,5,FALSE),0)","v":0},{"$f":"IFERROR(VLOOKUP($A41,FILTRO!$A35:$AY660,6,FALSE),0)","v":1},{"$f":"IFERROR(VLOOKUP($A41,FILTRO!$A35:$AY660,7,FALSE),0)","v":1},{"$f":"IFERROR(VLOOKUP($A41,FILTRO!$A35:$AY660,8,FALSE),0)","v":1},{"$f":"IFERROR(VLOOKUP($A41,FILTRO!$A35:$AY660,9,FALSE),0)","v":3},{"$f":"IFERROR(VLOOKUP($A41,FILTRO!$A35:$AY660,10,FALSE),0)","v":1},{"$f":"IFERROR(VLOOKUP($A41,FILTRO!$A35:$AY660,11,FALSE),0)","v":1},{"$f":"IFERROR(VLOOKUP($A41,FILTRO!$A35:$AY660,12,FALSE),0)","v":2},{"$f":"IFERROR(VLOOKUP($A41,FILTRO!$A35:$AY660,13,FALSE),0)","v":0},{"$f":"IFERROR(VLOOKUP($A41,FILTRO!$A35:$AY660,14,FALSE),0)","v":3},{"$f":"IFERROR(VLOOKUP($A41,FILTRO!$A35:$AY660,15,FALSE),0)","v":1},{"$f":"IFERROR(VLOOKUP($A41,FILTRO!$A35:$AY660,16,FALSE),0)","v":0},{"$f":"IFERROR(VLOOKUP($A41,FILTRO!$A35:$AY660,17,FALSE),0)","v":1},{"$f":"IFERROR(VLOOKUP($A41,FILTRO!$A35:$AY660,18,FALSE),0)","v":1},{"$f":"IFERROR(VLOOKUP($A41,FILTRO!$A35:$AY660,19,FALSE),0)","v":3},{"$f":"IFERROR(VLOOKUP($A41,FILTRO!$A35:$AY660,20,FALSE),0)","v":0},{"$f":"IFERROR(VLOOKUP($A41,FILTRO!$A35:$AY660,21,FALSE),0)","v":0},{"$f":"IFERROR(VLOOKUP($A41,FILTRO!$A35:$AY660,22,FALSE),0)","v":0},{"$f":"IFERROR(VLOOKUP($A41,FILTRO!$A35:$AY660,23,FALSE),0)","v":2},{"$f":"IFERROR(VLOOKUP($A41,FILTRO!$A35:$AY660,24,FALSE),0)","v":2},{"$f":"IFERROR(VLOOKUP($A41,FILTRO!$A35:$AY660,25,FALSE),0)","v":1},{"$f":"IFERROR(VLOOKUP($A41,FILTRO!$A35:$AY660,26,FALSE),0)","v":0},{"$f":"IFERROR(VLOOKUP($A41,FILTRO!$A35:$AY660,27,FALSE),0)","v":1},{"$f":"IFERROR(VLOOKUP($A41,FILTRO!$A35:$AY660,28,FALSE),0)","v":0},{"$f":"IFERROR(VLOOKUP($A41,FILTRO!$A35:$AY660,29,FALSE),0)","v":0},{"$f":"IFERROR(VLOOKUP($A41,FILTRO!$A35:$AY660,30,FALSE),0)","v":3},{"$f":"IFERROR(VLOOKUP($A41,FILTRO!$A35:$AY660,31,FALSE),0)","v":2},{"$f":"IFERROR(VLOOKUP($A41,FILTRO!$A35:$AY660,32,FALSE),0)","v":2},{"$f":"IFERROR(VLOOKUP($A41,FILTRO!$A35:$AY660,33,FALSE),0)","v":3},{"$f":"IFERROR(VLOOKUP($A41,FILTRO!$A35:$AY660,34,FALSE),0)","v":4},{"$f":"IFERROR(VLOOKUP($A41,FILTRO!$A35:$AY660,35,FALSE),0)","v":6},{"$f":"IFERROR(VLOOKUP($A41,FILTRO!$A35:$AY660,36,FALSE),0)","v":10},{"$f":"IFERROR(VLOOKUP($A41,FILTRO!$A35:$AY660,37,FALSE),0)","v":5},{"$f":"IFERROR(VLOOKUP($A41,FILTRO!$A35:$AY660,38,FALSE),0)","v":33},{"$f":"IFERROR(VLOOKUP($A41,FILTRO!$A35:$AY660,39,FALSE),0)","v":0},{"$f":"IFERROR(VLOOKUP($A41,FILTRO!$A35:$AY660,40,FALSE),0)","v":0},{"$f":"IFERROR(VLOOKUP($A41,FILTRO!$A35:$AY660,41,FALSE),0)","v":0},{"$f":"IFERROR(VLOOKUP($A41,FILTRO!$A35:$AY660,42,FALSE),0)","v":0},{"$f":"IFERROR(VLOOKUP($A41,FILTRO!$A35:$AY660,43,FALSE),0)","v":0},{"$nulls":36},"",{"$f":"IF($D41<=$D35,\"\",\"Total Personas con indicación de Nutrición Enteral Domiciliaria no debe ser mayor al Total Personas. \")","v":""},"",{"$nulls":5},{"$f":"IF($D41>=$AP41+$AQ41,0,1)","v":0},{"$f":"IF($D41<=$D35,0,1)","v":0},0]
[null,"(*) Incluidos en Dependencia Severa Oncológica y NO Oncológica"]
[null,"SECCION B: CUIDADORES DE PACIENTES CON DEPENDENCIA SEVERA"]
[null,"CONCEPTO","Total","Hombres","Mujeres","ATENCIÓN DOMICILIARIA POR DEPENDENCIA SEVERA"]
[{"$nulls":5},"Total Cuidadoras/es capacitadas/os","Total cuidadoras/es con examen preventivo vigente","Cuidadoras/es sin examen preventivo, ingresado a programa de salud","Cuidadoras/es con apoyo monetario","Cuidadoras/es en espera de apoyo monetario","Total Cuidadoras/es con evaluacion anual de nivel de sobrecarga","Total Cuidadoras/es mayores de 65 años"]
["P5300600","NÚMERO DE CUIDADORES",{"$f":"IFERROR(VLOOKUP($A46,FILTRO!$A40:$AY665,2,FALSE),0)","v":3614},{"$f":"IFERROR(VLOOKUP($A46,FILTRO!$A40:$AY665,3,FALSE),0)","v":830},{"$f":"IFERROR(VLOOKUP($A46,FILTRO!$A40:$AY665,4,FALSE),0)","v":2919},{"$f":"IFERROR(VLOOKUP($A46,FILTRO!$A40:$AY665,5,FALSE),0)","v":1905},{"$f":"IFERROR(VLOOKUP($A46,FILTRO!$A40:$AY665,6,FALSE),0)","v":743},{"$f":"IFERROR(VLOOKUP($A46,FILTRO!$A40:$AY665,7,FALSE),0)","v":926},{"$f":"IFERROR(VLOOKUP($A46,FILTRO!$A40:$AY665,8,FALSE),0)","v":770},{"$f":"IFERROR(VLOOKUP($A46,FILTRO!$A40:$AY665,9,FALSE),0)","v":677},{"$f":"IFERROR(VLOOKUP($A46,FILTRO!$A40:$AY665,10,FALSE),0)","v":2041},{"$f":"IFERROR(VLOOKUP($A46,FILTRO!$A40:$AY665,11,FALSE),0)","v":1025},{"$nulls":72},{"$f":"IF((D46+$E46>=$I46),\"\",\"* Los Cuidadores con apoyo monetario no debe ser mayor al Total de Cuidadores. \")","v":""},{"$f":"IF((D46+$E46>=$F46),\"\",\"* Los Cuidadores Capacitados no debe ser mayor al Total Cuidadores. \")","v":""},{"$nulls":6},{"$f":"IF($E46>=$I46,0,1)","v":0},{"$f":"IF($E46>=$F46,0,1)","v":0}]
[null,"SECCION C: POBLACIÓN EN CONTROL EN PROGRAMA DE REHABILITACIÓN PULMONAR EN SALA IRA-ERA"]
[null,"PROGRAMA",null,"TOTAL",null,null,"GRUPOS DE EDAD (en años) Y SEXO"]
[{"$nulls":6},"0 a 4 años",null,"5 a 9 años",null,"10 a 14 años",null,"15 a 19 años",null,"20 a 24 años",null,"25 a 29 años",null,"30 a 34 años",null,"35 a 39 años",null,"40 a 44 años",null,"45 a 49 años",null,"50 a 54 años",null,"55 a 59 años",null,"60 a 64 años",null,"65 a 69 años",null,"70 a 74 años",null,"75 a 79 años",null,"80 y más años"]
[{"$nulls":3},"Ambos\nsexos","Hombres","Mujeres","Hombres","Mujeres","Hombres","Mujeres","Hombres","Mujeres","Hombres","Mujeres","Hombres","Mujeres","Hombres","Mujeres","Hombres","Mujeres","Hombres","Mujeres","Hombres","Mujeres","Hombres","Mujeres","Hombres","Mujeres","Hombres","Mujeres","Hombres","Mujeres","Hombres ","Mujeres","Hombres ","Mujeres","Hombres ","Mujeres","Hombres ","Mujeres"]
["P3170400","REHABILITACIÓN PULMONAR","Ingresos",{"$f":"IFERROR(VLOOKUP($A51,FILTRO!$A45:$AY670,2,FALSE),0)","v":66},{"$f":"IFERROR(VLOOKUP($A51,FILTRO!$A45:$AY670,3,FALSE),0)","v":28},{"$f":"IFERROR(VLOOKUP($A51,FILTRO!$A45:$AY670,4,FALSE),0)","v":38},{"$f":"IFERROR(VLOOKUP($A51,FILTRO!$A45:$AY670,5,FALSE),0)","v":0},{"$f":"IFERROR(VLOOKUP($A51,FILTRO!$A45:$AY670,6,FALSE),0)","v":0},{"$f":"IFERROR(VLOOKUP($A51,FILTRO!$A45:$AY670,7,FALSE),0)","v":1},{"$f":"IFERROR(VLOOKUP($A51,FILTRO!$A45:$AY670,8,FALSE),0)","v":0},{"$f":"IFERROR(VLOOKUP($A51,FILTRO!$A45:$AY670,9,FALSE),0)","v":0},{"$f":"IFERROR(VLOOKUP($A51,FILTRO!$A45:$AY670,10,FALSE),0)","v":0},{"$f":"IFERROR(VLOOKUP($A51,FILTRO!$A45:$AY670,11,FALSE),0)","v":0},{"$f":"IFERROR(VLOOKUP($A51,FILTRO!$A45:$AY670,12,FALSE),0)","v":0},{"$f":"IFERROR(VLOOKUP($A51,FILTRO!$A45:$AY670,13,FALSE),0)","v":0},{"$f":"IFERROR(VLOOKUP($A51,FILTRO!$A45:$AY670,14,FALSE),0)","v":0},{"$f":"IFERROR(VLOOKUP($A51,FILTRO!$A45:$AY670,15,FALSE),0)","v":0},{"$f":"IFERROR(VLOOKUP($A51,FILTRO!$A45:$AY670,16,FALSE),0)","v":0},{"$f":"IFERROR(VLOOKUP($A51,FILTRO!$A45:$AY670,17,FALSE),0)","v":0},{"$f":"IFERROR(VLOOKUP($A51,FILTRO!$A45:$AY670,18,FALSE),0)","v":1},{"$f":"IFERROR(VLOOKUP($A51,FILTRO!$A45:$AY670,19,FALSE),0)","v":1},{"$f":"IFERROR(VLOOKUP($A51,FILTRO!$A45:$AY670,20,FALSE),0)","v":0},{"$f":"IFERROR(VLOOKUP($A51,FILTRO!$A45:$AY670,21,FALSE),0)","v":1},{"$f":"IFERROR(VLOOKUP($A51,FILTRO!$A45:$AY670,22,FALSE),0)","v":0},{"$f":"IFERROR(VLOOKUP($A51,FILTRO!$A45:$AY670,23,FALSE),0)","v":0},{"$f":"IFERROR(VLOOKUP($A51,FILTRO!$A45:$AY670,24,FALSE),0)","v":1},{"$f":"IFERROR(VLOOKUP($A51,FILTRO!$A45:$AY670,25,FALSE),0)","v":3},{"$f":"IFERROR(VLOOKUP($A51,FILTRO!$A45:$AY670,26,FALSE),0)","v":1},{"$f":"IFERROR(VLOOKUP($A51,FILTRO!$A45:$AY670,27,FALSE),0)","v":2},{"$f":"IFERROR(VLOOKUP($A51,FILTRO!$A45:$AY670,28,FALSE),0)","v":1},{"$f":"IFERROR(VLOOKUP($A51,FILTRO!$A45:$AY670,29,FALSE),0)","v":1},{"$f":"IFERROR(VLOOKUP($A51,FILTRO!$A45:$AY670,30,FALSE),0)","v":4},{"$f":"IFERROR(VLOOKUP($A51,FILTRO!$A45:$AY670,31,FALSE),0)","v":5},{"$f":"IFERROR(VLOOKUP($A51,FILTRO!$A45:$AY670,32,FALSE),0)","v":6},{"$f":"IFERROR(VLOOKUP($A51,FILTRO!$A45:$AY670,33,FALSE),0)","v":3},{"$f":"IFERROR(VLOOKUP($A51,FILTRO!$A45:$AY670,34,FALSE),0)","v":9},{"$f":"IFERROR(VLOOKUP($A51,FILTRO!$A45:$AY670,35,FALSE),0)","v":8},{"$f":"IFERROR(VLOOKUP($A51,FILTRO!$A45:$AY670,36,FALSE),0)","v":9},{"$f":"IFERROR(VLOOKUP($A51,FILTRO!$A45:$AY670,37,FALSE),0)","v":3},{"$f":"IFERROR(VLOOKUP($A51,FILTRO!$A45:$AY670,38,FALSE),0)","v":6}]
["P3170500",null,"Abandonos",{"$f":"IFERROR(VLOOKUP($A52,FILTRO!$A46:$AY671,2,FALSE),0)","v":19},{"$f":"IFERROR(VLOOKUP($A52,FILTRO!$A46:$AY671,3,FALSE),0)","v":11},{"$f":"IFERROR(VLOOKUP($A52,FILTRO!$A46:$AY671,4,FALSE),0)","v":8},{"$f":"IFERROR(VLOOKUP($A52,FILTRO!$A46:$AY671,5,FALSE),0)","v":0},{"$f":"IFERROR(VLOOKUP($A52,FILTRO!$A46:$AY671,6,FALSE),0)","v":0},{"$f":"IFERROR(VLOOKUP($A52,FILTRO!$A46:$AY671,7,FALSE),0)","v":0},{"$f":"IFERROR(VLOOKUP($A52,FILTRO!$A46:$AY671,8,FALSE),0)","v":0},{"$f":"IFERROR(VLOOKUP($A52,FILTRO!$A46:$AY671,9,FALSE),0)","v":0},{"$f":"IFERROR(VLOOKUP($A52,FILTRO!$A46:$AY671,10,FALSE),0)","v":0},{"$f":"IFERROR(VLOOKUP($A52,FILTRO!$A46:$AY671,11,FALSE),0)","v":0},{"$f":"IFERROR(VLOOKUP($A52,FILTRO!$A46:$AY671,12,FALSE),0)","v":0},{"$f":"IFERROR(VLOOKUP($A52,FILTRO!$A46:$AY671,13,FALSE),0)","v":2},{"$f":"IFERROR(VLOOKUP($A52,FILTRO!$A46:$AY671,14,FALSE),0)","v":0},{"$f":"IFERROR(VLOOKUP($A52,FILTRO!$A46:$AY671,15,FALSE),0)","v":0},{"$f":"IFERROR(VLOOKUP($A52,FILTRO!$A46:$AY671,16,FALSE),0)","v":0},{"$f":"IFERROR(VLOOKUP($A52,FILTRO!$A46:$AY671,17,FALSE),0)","v":0},{"$f":"IFERROR(VLOOKUP($A52,FILTRO!$A46:$AY671,18,FALSE),0)","v":0},{"$f":"IFERROR(VLOOKUP($A52,FILTRO!$A46:$AY671,19,FALSE),0)","v":1},{"$f":"IFERROR(VLOOKUP($A52,FILTRO!$A46:$AY671,20,FALSE),0)","v":0},{"$f":"IFERROR(VLOOKUP($A52,FILTRO!$A46:$AY671,21,FALSE),0)","v":0},{"$f":"IFERROR(VLOOKUP($A52,FILTRO!$A46:$AY671,22,FALSE),0)","v":0},{"$f":"IFERROR(VLOOKUP($A52,FILTRO!$A46:$AY671,23,FALSE),0)","v":0},{"$f":"IFERROR(VLOOKUP($A52,FILTRO!$A46:$AY671,24,FALSE),0)","v":1},{"$f":"IFERROR(VLOOKUP($A52,FILTRO!$A46:$AY671,25,FALSE),0)","v":0},{"$f":"IFERROR(VLOOKUP($A52,FILTRO!$A46:$AY671,26,FALSE),0)","v":0},{"$f":"IFERROR(VLOOKUP($A52,FILTRO!$A46:$AY671,27,FALSE),0)","v":2},{"$f":"IFERROR(VLOOKUP($A52,FILTRO!$A46:$AY671,28,FALSE),0)","v":1},{"$f":"IFERROR(VLOOKUP($A52,FILTRO!$A46:$AY671,29,FALSE),0)","v":0},{"$f":"IFERROR(VLOOKUP($A52,FILTRO!$A46:$AY671,30,FALSE),0)","v":0},{"$f":"IFERROR(VLOOKUP($A52,FILTRO!$A46:$AY671,31,FALSE),0)","v":1},{"$f":"IFERROR(VLOOKUP($A52,FILTRO!$A46:$AY671,32,FALSE),0)","v":3},{"$f":"IFERROR(VLOOKUP($A52,FILTRO!$A46:$AY671,33,FALSE),0)","v":2},{"$f":"IFERROR(VLOOKUP($A52,FILTRO!$A46:$AY671,34,FALSE),0)","v":0},{"$f":"IFERROR(VLOOKUP($A52,FILTRO!$A46:$AY671,35,FALSE),0)","v":3},{"$f":"IFERROR(VLOOKUP($A52,FILTRO!$A46:$AY671,36,FALSE),0)","v":2},{"$f":"IFERROR(VLOOKUP($A52,FILTRO!$A46:$AY671,37,FALSE),0)","v":0},{"$f":"IFERROR(VLOOKUP($A52,FILTRO!$A46:$AY671,38,FALSE),0)","v":1}]
["P3170600",null,"Egresos por termino de ciclo",{"$f":"IFERROR(VLOOKUP($A53,FILTRO!$A47:$AY672,2,FALSE),0)","v":30},{"$f":"IFERROR(VLOOKUP($A53,FILTRO!$A47:$AY672,3,FALSE),0)","v":13},{"$f":"IFERROR(VLOOKUP($A53,FILTRO!$A47:$AY672,4,FALSE),0)","v":17},{"$f":"IFERROR(VLOOKUP($A53,FILTRO!$A47:$AY672,5,FALSE),0)","v":0},{"$f":"IFERROR(VLOOKUP($A53,FILTRO!$A47:$AY672,6,FALSE),0)","v":0},{"$f":"IFERROR(VLOOKUP($A53,FILTRO!$A47:$AY672,7,FALSE),0)","v":3},{"$f":"IFERROR(VLOOKUP($A53,FILTRO!$A47:$AY672,8,FALSE),0)","v":0},{"$f":"IFERROR(VLOOKUP($A53,FILTRO!$A47:$AY672,9,FALSE),0)","v":0},{"$f":"IFERROR(VLOOKUP($A53,FILTRO!$A47:$AY672,10,FALSE),0)","v":0},{"$f":"IFERROR(VLOOKUP($A53,FILTRO!$A47:$AY672,11,FALSE),0)","v":0},{"$f":"IFERROR(VLOOKUP($A53,FILTRO!$A47:$AY672,12,FALSE),0)","v":0},{"$f":"IFERROR(VLOOKUP($A53,FILTRO!$A47:$AY672,13,FALSE),0)","v":0},{"$f":"IFERROR(VLOOKUP($A53,FILTRO!$A47:$AY672,14,FALSE),0)","v":0},{"$f":"IFERROR(VLOOKUP($A53,FILTRO!$A47:$AY672,15,FALSE),0)","v":0},{"$f":"IFERROR(VLOOKUP($A53,FILTRO!$A47:$AY672,16,FALSE),0)","v":0},{"$f":"IFERROR(VLOOKUP($A53,FILTRO!$A47:$AY672,17,FALSE),0)","v":0},{"$f":"IFERROR(VLOOKUP($A53,FILTRO!$A47:$AY672,18,FALSE),0)","v":1},{"$f":"IFERROR(VLOOKUP($A53,FILTRO!$A47:$AY672,19,FALSE),0)","v":0},{"$f":"IFERROR(VLOOKUP($A53,FILTRO!$A47:$AY672,20,FALSE),0)","v":0},{"$f":"IFERROR(VLOOKUP($A53,FILTRO!$A47:$AY672,21,FALSE),0)","v":0},{"$f":"IFERROR(VLOOKUP($A53,FILTRO!$A47:$AY672,22,FALSE),0)","v":0},{"$f":"IFERROR(VLOOKUP($A53,FILTRO!$A47:$AY672,23,FALSE),0)","v":0},{"$f":"IFERROR(VLOOKUP($A53,FILTRO!$A47:$AY672,24,FALSE),0)","v":0},{"$f":"IFERROR(VLOOKUP($A53,FILTRO!$A47:$AY672,25,FALSE),0)","v":1},{"$f":"IFERROR(VLOOKUP($A53,FILTRO!$A47:$AY672,26,FALSE),0)","v":1},{"$f":"IFERROR(VLOOKUP($A53,FILTRO!$A47:$AY672,27,FALSE),0)","v":0},{"$f":"IFERROR(VLOOKUP($A53,FILTRO!$A47:$AY672,28,FALSE),0)","v":0},{"$f":"IFERROR(VLOOKUP($A53,FILTRO!$A47:$AY672,29,FALSE),0)","v":1},{"$f":"IFERROR(VLOOKUP($A53,FILTRO!$A47:$AY672,30,FALSE),0)","v":3},{"$f":"IFERROR(VLOOKUP($A53,FILTRO!$A47:$AY672,31,FALSE),0)","v":2},{"$f":"IFERROR(VLOOKUP($A53,FILTRO!$A47:$AY672,32,FALSE),0)","v":3},{"$f":"IFERROR(VLOOKUP($A53,FILTRO!$A47:$AY672,33,FALSE),0)","v":2},{"$f":"IFERROR(VLOOKUP($A53,FILTRO!$A47:$AY672,34,FALSE),0)","v":4},{"$f":"IFERROR(VLOOKUP($A53,FILTRO!$A47:$AY672,35,FALSE),0)","v":3},{"$f":"IFERROR(VLOOKUP($A53,FILTRO!$A47:$AY672,36,FALSE),0)","v":2},{"$f":"IFERROR(VLOOKUP($A53,FILTRO!$A47:$AY672,37,FALSE),0)","v":1},{"$f":"IFERROR(VLOOKUP($A53,FILTRO!$A47:$AY672,38,FALSE),0)","v":3}]
["P3170700",null,"Articulacion continuidad en intersector",{"$f":"IFERROR(VLOOKUP($A54,FILTRO!$A48:$AY673,2,FALSE),0)","v":0},{"$f":"IFERROR(VLOOKUP($A54,FILTRO!$A48:$AY673,3,FALSE),0)","v":0},{"$f":"IFERROR(VLOOKUP($A54,FILTRO!$A48:$AY673,4,FALSE),0)","v":0},{"$f":"IFERROR(VLOOKUP($A54,FILTRO!$A48:$AY673,5,FALSE),0)","v":0},{"$f":"IFERROR(VLOOKUP($A54,FILTRO!$A48:$AY673,6,FALSE),0)","v":0},{"$f":"IFERROR(VLOOKUP($A54,FILTRO!$A48:$AY673,7,FALSE),0)","v":0},{"$f":"IFERROR(VLOOKUP($A54,FILTRO!$A48:$AY673,8,FALSE),0)","v":0},{"$f":"IFERROR(VLOOKUP($A54,FILTRO!$A48:$AY673,9,FALSE),0)","v":0},{"$f":"IFERROR(VLOOKUP($A54,FILTRO!$A48:$AY673,10,FALSE),0)","v":0},{"$f":"IFERROR(VLOOKUP($A54,FILTRO!$A48:$AY673,11,FALSE),0)","v":0},{"$f":"IFERROR(VLOOKUP($A54,FILTRO!$A48:$AY673,12,FALSE),0)","v":0},{"$f":"IFERROR(VLOOKUP($A54,FILTRO!$A48:$AY673,13,FALSE),0)","v":0},{"$f":"IFERROR(VLOOKUP($A54,FILTRO!$A48:$AY673,14,FALSE),0)","v":0},{"$f":"IFERROR(VLOOKUP($A54,FILTRO!$A48:$AY673,15,FALSE),0)","v":0},{"$f":"IFERROR(VLOOKUP($A54,FILTRO!$A48:$AY673,16,FALSE),0)","v":0},{"$f":"IFERROR(VLOOKUP($A54,FILTRO!$A48:$AY673,17,FALSE),0)","v":0},{"$f":"IFERROR(VLOOKUP($A54,FILTRO!$A48:$AY673,18,FALSE),0)","v":0},{"$f":"IFERROR(VLOOKUP($A54,FILTRO!$A48:$AY673,19,FALSE),0)","v":0},{"$f":"IFERROR(VLOOKUP($A54,FILTRO!$A48:$AY673,20,FALSE),0)","v":0},{"$f":"IFERROR(VLOOKUP($A54,FILTRO!$A48:$AY673,21,FALSE),0)","v":0},{"$f":"IFERROR(VLOOKUP($A54,FILTRO!$A48:$AY673,22,FALSE),0)","v":0},{"$f":"IFERROR(VLOOKUP($A54,FILTRO!$A48:$AY673,23,FALSE),0)","v":0},{"$f":"IFERROR(VLOOKUP($A54,FILTRO!$A48:$AY673,24,FALSE),0)","v":0},{"$f":"IFERROR(VLOOKUP($A54,FILTRO!$A48:$AY673,25,FALSE),0)","v":0},{"$f":"IFERROR(VLOOKUP($A54,FILTRO!$A48:$AY673,26,FALSE),0)","v":0},{"$f":"IFERROR(VLOOKUP($A54,FILTRO!$A48:$AY673,27,FALSE),0)","v":0},{"$f":"IFERROR(VLOOKUP($A54,FILTRO!$A48:$AY673,28,FALSE),0)","v":0},{"$f":"IFERROR(VLOOKUP($A54,FILTRO!$A48:$AY673,29,FALSE),0)","v":0},{"$f":"IFERROR(VLOOKUP($A54,FILTRO!$A48:$AY673,30,FALSE),0)","v":0},{"$f":"IFERROR(VLOOKUP($A54,FILTRO!$A48:$AY673,31,FALSE),0)","v":0},{"$f":"IFERROR(VLOOKUP($A54,FILTRO!$A48:$AY673,32,FALSE),0)","v":0},{"$f":"IFERROR(VLOOKUP($A54,FILTRO!$A48:$AY673,33,FALSE),0)","v":0},{"$f":"IFERROR(VLOOKUP($A54,FILTRO!$A48:$AY673,34,FALSE),0)","v":0},{"$f":"IFERROR(VLOOKUP($A54,FILTRO!$A48:$AY673,35,FALSE),0)","v":0},{"$f":"IFERROR(VLOOKUP($A54,FILTRO!$A48:$AY673,36,FALSE),0)","v":0},{"$f":"IFERROR(VLOOKUP($A54,FILTRO!$A48:$AY673,37,FALSE),0)","v":0},{"$f":"IFERROR(VLOOKUP($A54,FILTRO!$A48:$AY673,38,FALSE),0)","v":0}]
[null,"SECCION D: NIVEL DE CONTROL DE POBLACION RESPIRATORIA CRONICA"]
[null,"PROGRAMAS",null,"TOTAL",null,null,"GRUPOS DE EDAD (en años) Y SEXO"]
[{"$nulls":6},"0 a 4 años",null,"5 a 9 años",null,"10 a 14 años",null,"15 a 19 años",null,"20 a 24 años",null,"25 a 29 años",null,"30 a 34 años",null,"35 a 39 años",null,"40 a 44 años",null,"45 a 49 años",null,"50 a 54 años",null,"55 a 59 años",null,"60 a 64 años",null,"65 a 69 años",null,"70 a 74 años",null,"75 a 79 años",null,"80 y más años"]
[{"$nulls":3},"Ambos\nsexos","Hombres","Mujeres","Hombres","Mujeres","Hombres","Mujeres","Hombres","Mujeres","Hombres","Mujeres","Hombres","Mujeres","Hombres","Mujeres","Hombres","Mujeres","Hombres","Mujeres","Hombres","Mujeres","Hombres","Mujeres","Hombres","Mujeres","Hombres","Mujeres","Hombres","Mujeres","Hombres ","Mujeres","Hombres ","Mujeres","Hombres ","Mujeres","Hombres ","Mujeres"]
["P3161041","ASMA BRONQUIAL","Controlado",{"$f":"IFERROR(VLOOKUP($A59,FILTRO!$A53:$AY678,2,FALSE),0)","v":7946},{"$f":"IFERROR(VLOOKUP($A59,FILTRO!$A53:$AY678,3,FALSE),0)","v":2959},{"$f":"IFERROR(VLOOKUP($A59,FILTRO!$A53:$AY678,4,FALSE),0)","v":4987},{"$f":"IFERROR(VLOOKUP($A59,FILTRO!$A53:$AY678,5,FALSE),0)","v":95},{"$f":"IFERROR(VLOOKUP($A59,FILTRO!$A53:$AY678,6,FALSE),0)","v":72},{"$f":"IFERROR(VLOOKUP($A59,FILTRO!$A53:$AY678,7,FALSE),0)","v":771},{"$f":"IFERROR(VLOOKUP($A59,FILTRO!$A53:$AY678,8,FALSE),0)","v":532},{"$f":"IFERROR(VLOOKUP($A59,FILTRO!$A53:$AY678,9,FALSE),0)","v":708},{"$f":"IFERROR(VLOOKUP($A59,FILTRO!$A53:$AY678,10,FALSE),0)","v":549},{"$f":"IFERROR(VLOOKUP($A59,FILTRO!$A53:$AY678,11,FALSE),0)","v":366},{"$f":"IFERROR(VLOOKUP($A59,FILTRO!$A53:$AY678,12,FALSE),0)","v":294},{"$f":"IFERROR(VLOOKUP($A59,FILTRO!$A53:$AY678,13,FALSE),0)","v":102},{"$f":"IFERROR(VLOOKUP($A59,FILTRO!$A53:$AY678,14,FALSE),0)","v":218},{"$f":"IFERROR(VLOOKUP($A59,FILTRO!$A53:$AY678,15,FALSE),0)","v":93},{"$f":"IFERROR(VLOOKUP($A59,FILTRO!$A53:$AY678,16,FALSE),0)","v":168},{"$f":"IFERROR(VLOOKUP($A59,FILTRO!$A53:$AY678,17,FALSE),0)","v":56},{"$f":"IFERROR(VLOOKUP($A59,FILTRO!$A53:$AY678,18,FALSE),0)","v":171},{"$f":"IFERROR(VLOOKUP($A59,FILTRO!$A53:$AY678,19,FALSE),0)","v":40},{"$f":"IFERROR(VLOOKUP($A59,FILTRO!$A53:$AY678,20,FALSE),0)","v":198},{"$f":"IFERROR(VLOOKUP($A59,FILTRO!$A53:$AY678,21,FALSE),0)","v":44},{"$f":"IFERROR(VLOOKUP($A59,FILTRO!$A53:$AY678,22,FALSE),0)","v":197},{"$f":"IFERROR(VLOOKUP($A59,FILTRO!$A53:$AY678,23,FALSE),0)","v":35},{"$f":"IFERROR(VLOOKUP($A59,FILTRO!$A53:$AY678,24,FALSE),0)","v":255},{"$f":"IFERROR(VLOOKUP($A59,FILTRO!$A53:$AY678,25,FALSE),0)","v":58},{"$f":"IFERROR(VLOOKUP($A59,FILTRO!$A53:$AY678,26,FALSE),0)","v":277},{"$f":"IFERROR(VLOOKUP($A59,FILTRO!$A53:$AY678,27,FALSE),0)","v":71},{"$f":"IFERROR(VLOOKUP($A59,FILTRO!$A53:$AY678,28,FALSE),0)","v":353},{"$f":"IFERROR(VLOOKUP($A59,FILTRO!$A53:$AY678,29,FALSE),0)","v":104},{"$f":"IFERROR(VLOOKUP($A59,FILTRO!$A53:$AY678,30,FALSE),0)","v":358},{"$f":"IFERROR(VLOOKUP($A59,FILTRO!$A53:$AY678,31,FALSE),0)","v":109},{"$f":"IFERROR(VLOOKUP($A59,FILTRO!$A53:$AY678,32,FALSE),0)","v":380},{"$f":"IFERROR(VLOOKUP($A59,FILTRO!$A53:$AY678,33,FALSE),0)","v":101},{"$f":"IFERROR(VLOOKUP($A59,FILTRO!$A53:$AY678,34,FALSE),0)","v":374},{"$f":"IFERROR(VLOOKUP($A59,FILTRO!$A53:$AY678,35,FALSE),0)","v":95},{"$f":"IFERROR(VLOOKUP($A59,FILTRO!$A53:$AY678,36,FALSE),0)","v":267},{"$f":"IFERROR(VLOOKUP($A59,FILTRO!$A53:$AY678,37,FALSE),0)","v":111},{"$f":"IFERROR(VLOOKUP($A59,FILTRO!$A53:$AY678,38,FALSE),0)","v":324}]
["P3161042",null,"Parcialmente Controlado",{"$f":"IFERROR(VLOOKUP($A60,FILTRO!$A54:$AY679,2,FALSE),0)","v":2382},{"$f":"IFERROR(VLOOKUP($A60,FILTRO!$A54:$AY679,3,FALSE),0)","v":797},{"$f":"IFERROR(VLOOKUP($A60,FILTRO!$A54:$AY679,4,FALSE),0)","v":1585},{"$f":"IFERROR(VLOOKUP($A60,FILTRO!$A54:$AY679,5,FALSE),0)","v":54},{"$f":"IFERROR(VLOOKUP($A60,FILTRO!$A54:$AY679,6,FALSE),0)","v":42},{"$f":"IFERROR(VLOOKUP($A60,FILTRO!$A54:$AY679,7,FALSE),0)","v":246},{"$f":"IFERROR(VLOOKUP($A60,FILTRO!$A54:$AY679,8,FALSE),0)","v":208},{"$f":"IFERROR(VLOOKUP($A60,FILTRO!$A54:$AY679,9,FALSE),0)","v":157},{"$f":"IFERROR(VLOOKUP($A60,FILTRO!$A54:$AY679,10,FALSE),0)","v":141},{"$f":"IFERROR(VLOOKUP($A60,FILTRO!$A54:$AY679,11,FALSE),0)","v":63},{"$f":"IFERROR(VLOOKUP($A60,FILTRO!$A54:$AY679,12,FALSE),0)","v":94},{"$f":"IFERROR(VLOOKUP($A60,FILTRO!$A54:$AY679,13,FALSE),0)","v":22},{"$f":"IFERROR(VLOOKUP($A60,FILTRO!$A54:$AY679,14,FALSE),0)","v":54},{"$f":"IFERROR(VLOOKUP($A60,FILTRO!$A54:$AY679,15,FALSE),0)","v":24},{"$f":"IFERROR(VLOOKUP($A60,FILTRO!$A54:$AY679,16,FALSE),0)","v":71},{"$f":"IFERROR(VLOOKUP($A60,FILTRO!$A54:$AY679,17,FALSE),0)","v":16},{"$f":"IFERROR(VLOOKUP($A60,FILTRO!$A54:$AY679,18,FALSE),0)","v":77},{"$f":"IFERROR(VLOOKUP($A60,FILTRO!$A54:$AY679,19,FALSE),0)","v":20},{"$f":"IFERROR(VLOOKUP($A60,FILTRO!$A54:$AY679,20,FALSE),0)","v":63},{"$f":"IFERROR(VLOOKUP($A60,FILTRO!$A54:$AY679,21,FALSE),0)","v":13},{"$f":"IFERROR(VLOOKUP($A60,FILTRO!$A54:$AY679,22,FALSE),0)","v":66},{"$f":"IFERROR(VLOOKUP($A60,FILTRO!$A54:$AY679,23,FALSE),0)","v":20},{"$f":"IFERROR(VLOOKUP($A60,FILTRO!$A54:$AY679,24,FALSE),0)","v":76},{"$f":"IFERROR(VLOOKUP($A60,FILTRO!$A54:$AY679,25,FALSE),0)","v":13},{"$f":"IFERROR(VLOOKUP($A60,FILTRO!$A54:$AY679,26,FALSE),0)","v":98},{"$f":"IFERROR(VLOOKUP($A60,FILTRO!$A54:$AY679,27,FALSE),0)","v":23},{"$f":"IFERROR(VLOOKUP($A60,FILTRO!$A54:$AY679,28,FALSE),0)","v":106},{"$f":"IFERROR(VLOOKUP($A60,FILTRO!$A54:$AY679,29,FALSE),0)","v":25},{"$f":"IFERROR(VLOOKUP($A60,FILTRO!$A54:$AY679,30,FALSE),0)","v":106},{"$f":"IFERROR(VLOOKUP($A60,FILTRO!$A54:$AY679,31,FALSE),0)","v":32},{"$f":"IFERROR(VLOOKUP($A60,FILTRO!$A54:$AY679,32,FALSE),0)","v":106},{"$f":"IFERROR(VLOOKUP($A60,FILTRO!$A54:$AY679,33,FALSE),0)","v":24},{"$f":"IFERROR(VLOOKUP($A60,FILTRO!$A54:$AY679,34,FALSE),0)","v":101},{"$f":"IFERROR(VLOOKUP($A60,FILTRO!$A54:$AY679,35,FALSE),0)","v":22},{"$f":"IFERROR(VLOOKUP($A60,FILTRO!$A54:$AY679,36,FALSE),0)","v":77},{"$f":"IFERROR(VLOOKUP($A60,FILTRO!$A54:$AY679,37,FALSE),0)","v":23},{"$f":"IFERROR(VLOOKUP($A60,FILTRO!$A54:$AY679,38,FALSE),0)","v":99}]
["P3161043",null,"No Controlado",{"$f":"IFERROR(VLOOKUP($A61,FILTRO!$A55:$AY680,2,FALSE),0)","v":978},{"$f":"IFERROR(VLOOKUP($A61,FILTRO!$A55:$AY680,3,FALSE),0)","v":316},{"$f":"IFERROR(VLOOKUP($A61,FILTRO!$A55:$AY680,4,FALSE),0)","v":662},{"$f":"IFERROR(VLOOKUP($A61,FILTRO!$A55:$AY680,5,FALSE),0)","v":21},{"$f":"IFERROR(VLOOKUP($A61,FILTRO!$A55:$AY680,6,FALSE),0)","v":26},{"$f":"IFERROR(VLOOKUP($A61,FILTRO!$A55:$AY680,7,FALSE),0)","v":87},{"$f":"IFERROR(VLOOKUP($A61,FILTRO!$A55:$AY680,8,FALSE),0)","v":74},{"$f":"IFERROR(VLOOKUP($A61,FILTRO!$A55:$AY680,9,FALSE),0)","v":63},{"$f":"IFERROR(VLOOKUP($A61,FILTRO!$A55:$AY680,10,FALSE),0)","v":53},{"$f":"IFERROR(VLOOKUP($A61,FILTRO!$A55:$AY680,11,FALSE),0)","v":26},{"$f":"IFERROR(VLOOKUP($A61,FILTRO!$A55:$AY680,12,FALSE),0)","v":31},{"$f":"IFERROR(VLOOKUP($A61,FILTRO!$A55:$AY680,13,FALSE),0)","v":4},{"$f":"IFERROR(VLOOKUP($A61,FILTRO!$A55:$AY680,14,FALSE),0)","v":21},{"$f":"IFERROR(VLOOKUP($A61,FILTRO!$A55:$AY680,15,FALSE),0)","v":10},{"$f":"IFERROR(VLOOKUP($A61,FILTRO!$A55:$AY680,16,FALSE),0)","v":34},{"$f":"IFERROR(VLOOKUP($A61,FILTRO!$A55:$AY680,17,FALSE),0)","v":5},{"$f":"IFERROR(VLOOKUP($A61,FILTRO!$A55:$AY680,18,FALSE),0)","v":42},{"$f":"IFERROR(VLOOKUP($A61,FILTRO!$A55:$AY680,19,FALSE),0)","v":6},{"$f":"IFERROR(VLOOKUP($A61,FILTRO!$A55:$AY680,20,FALSE),0)","v":30},{"$f":"IFERROR(VLOOKUP($A61,FILTRO!$A55:$AY680,21,FALSE),0)","v":12},{"$f":"IFERROR(VLOOKUP($A61,FILTRO!$A55:$AY680,22,FALSE),0)","v":27},{"$f":"IFERROR(VLOOKUP($A61,FILTRO!$A55:$AY680,23,FALSE),0)","v":9},{"$f":"IFERROR(VLOOKUP($A61,FILTRO!$A55:$AY680,24,FALSE),0)","v":42},{"$f":"IFERROR(VLOOKUP($A61,FILTRO!$A55:$AY680,25,FALSE),0)","v":12},{"$f":"IFERROR(VLOOKUP($A61,FILTRO!$A55:$AY680,26,FALSE),0)","v":44},{"$f":"IFERROR(VLOOKUP($A61,FILTRO!$A55:$AY680,27,FALSE),0)","v":10},{"$f":"IFERROR(VLOOKUP($A61,FILTRO!$A55:$AY680,28,FALSE),0)","v":45},{"$f":"IFERROR(VLOOKUP($A61,FILTRO!$A55:$AY680,29,FALSE),0)","v":12},{"$f":"IFERROR(VLOOKUP($A61,FILTRO!$A55:$AY680,30,FALSE),0)","v":52},{"$f":"IFERROR(VLOOKUP($A61,FILTRO!$A55:$AY680,31,FALSE),0)","v":13},{"$f":"IFERROR(VLOOKUP($A61,FILTRO!$A55:$AY680,32,FALSE),0)","v":42},{"$f":"IFERROR(VLOOKUP($A61,FILTRO!$A55:$AY680,33,FALSE),0)","v":7},{"$f":"IFERROR(VLOOKUP($A61,FILTRO!$A55:$AY680,34,FALSE),0)","v":39},{"$f":"IFERROR(VLOOKUP($A61,FILTRO!$A55:$AY680,35,FALSE),0)","v":7},{"$f":"IFERROR(VLOOKUP($A61,FILTRO!$A55:$AY680,36,FALSE),0)","v":20},{"$f":"IFERROR(VLOOKUP($A61,FILTRO!$A55:$AY680,37,FALSE),0)","v":12},{"$f":"IFERROR(VLOOKUP($A61,FILTRO!$A55:$AY680,38,FALSE),0)","v":40}]
["P3161044",null,"No evaluada",{"$f":"IFERROR(VLOOKUP($A62,FILTRO!$A56:$AY681,2,FALSE),0)","v":1370},{"$f":"IFERROR(VLOOKUP($A62,FILTRO!$A56:$AY681,3,FALSE),0)","v":489},{"$f":"IFERROR(VLOOKUP($A62,FILTRO!$A56:$AY681,4,FALSE),0)","v":881},{"$f":"IFERROR(VLOOKUP($A62,FILTRO!$A56:$AY681,5,FALSE),0)","v":16},{"$f":"IFERROR(VLOOKUP($A62,FILTRO!$A56:$AY681,6,FALSE),0)","v":14},{"$f":"IFERROR(VLOOKUP($A62,FILTRO!$A56:$AY681,7,FALSE),0)","v":102},{"$f":"IFERROR(VLOOKUP($A62,FILTRO!$A56:$AY681,8,FALSE),0)","v":93},{"$f":"IFERROR(VLOOKUP($A62,FILTRO!$A56:$AY681,9,FALSE),0)","v":71},{"$f":"IFERROR(VLOOKUP($A62,FILTRO!$A56:$AY681,10,FALSE),0)","v":62},{"$f":"IFERROR(VLOOKUP($A62,FILTRO!$A56:$AY681,11,FALSE),0)","v":52},{"$f":"IFERROR(VLOOKUP($A62,FILTRO!$A56:$AY681,12,FALSE),0)","v":42},{"$f":"IFERROR(VLOOKUP($A62,FILTRO!$A56:$AY681,13,FALSE),0)","v":33},{"$f":"IFERROR(VLOOKUP($A62,FILTRO!$A56:$AY681,14,FALSE),0)","v":40},{"$f":"IFERROR(VLOOKUP($A62,FILTRO!$A56:$AY681,15,FALSE),0)","v":25},{"$f":"IFERROR(VLOOKUP($A62,FILTRO!$A56:$AY681,16,FALSE),0)","v":43},{"$f":"IFERROR(VLOOKUP($A62,FILTRO!$A56:$AY681,17,FALSE),0)","v":19},{"$f":"IFERROR(VLOOKUP($A62,FILTRO!$A56:$AY681,18,FALSE),0)","v":54},{"$f":"IFERROR(VLOOKUP($A62,FILTRO!$A56:$AY681,19,FALSE),0)","v":16},{"$f":"IFERROR(VLOOKUP($A62,FILTRO!$A56:$AY681,20,FALSE),0)","v":45},{"$f":"IFERROR(VLOOKUP($A62,FILTRO!$A56:$AY681,21,FALSE),0)","v":15},{"$f":"IFERROR(VLOOKUP($A62,FILTRO!$A56:$AY681,22,FALSE),0)","v":41},{"$f":"IFERROR(VLOOKUP($A62,FILTRO!$A56:$AY681,23,FALSE),0)","v":12},{"$f":"IFERROR(VLOOKUP($A62,FILTRO!$A56:$AY681,24,FALSE),0)","v":43},{"$f":"IFERROR(VLOOKUP($A62,FILTRO!$A56:$AY681,25,FALSE),0)","v":8},{"$f":"IFERROR(VLOOKUP($A62,FILTRO!$A56:$AY681,26,FALSE),0)","v":52},{"$f":"IFERROR(VLOOKUP($A62,FILTRO!$A56:$AY681,27,FALSE),0)","v":17},{"$f":"IFERROR(VLOOKUP($A62,FILTRO!$A56:$AY681,28,FALSE),0)","v":56},{"$f":"IFERROR(VLOOKUP($A62,FILTRO!$A56:$AY681,29,FALSE),0)","v":15},{"$f":"IFERROR(VLOOKUP($A62,FILTRO!$A56:$AY681,30,FALSE),0)","v":58},{"$f":"IFERROR(VLOOKUP($A62,FILTRO!$A56:$AY681,31,FALSE),0)","v":20},{"$f":"IFERROR(VLOOKUP($A62,FILTRO!$A56:$AY681,32,FALSE),0)","v":55},{"$f":"IFERROR(VLOOKUP($A62,FILTRO!$A56:$AY681,33,FALSE),0)","v":21},{"$f":"IFERROR(VLOOKUP($A62,FILTRO!$A56:$AY681,34,FALSE),0)","v":56},{"$f":"IFERROR(VLOOKUP($A62,FILTRO!$A56:$AY681,35,FALSE),0)","v":22},{"$f":"IFERROR(VLOOKUP($A62,FILTRO!$A56:$AY681,36,FALSE),0)","v":51},{"$f":"IFERROR(VLOOKUP($A62,FILTRO!$A56:$AY681,37,FALSE),0)","v":25},{"$f":"IFERROR(VLOOKUP($A62,FILTRO!$A56:$AY681,38,FALSE),0)","v":76},{"$f":"CC62","v":""},{"$nulls":39},{"$f":"IF(SUM(D15:D17)>=SUM(D59:D62),\"\",\"* El total de Asma Bronquial en ambos sexo no puede ser mayor al total de Asma Bronquial de ambos sexo de la Sección A. \")","v":""},{"$nulls":7},{"$f":"IF(SUM(D15:D17)>=SUM(D59:D62),0,1)","v":0}]
["P3161045","ENFERMEDAD PULMONAR OBSTRUCTIVA CRÓNICA (EPOC)","Logra Control Adecuado",{"$f":"IFERROR(VLOOKUP($A63,FILTRO!$A57:$AY682,2,FALSE),0)","v":2343},{"$f":"IFERROR(VLOOKUP($A63,FILTRO!$A57:$AY682,3,FALSE),0)","v":1136},{"$f":"IFERROR(VLOOKUP($A63,FILTRO!$A57:$AY682,4,FALSE),0)","v":1207},{"$f":"IFERROR(VLOOKUP($A63,FILTRO!$A57:$AY682,5,FALSE),0)","v":0},{"$f":"IFERROR(VLOOKUP($A63,FILTRO!$A57:$AY682,6,FALSE),0)","v":0},{"$f":"IFERROR(VLOOKUP($A63,FILTRO!$A57:$AY682,7,FALSE),0)","v":0},{"$f":"IFERROR(VLOOKUP($A63,FILTRO!$A57:$AY682,8,FALSE),0)","v":0},{"$f":"IFERROR(VLOOKUP($A63,FILTRO!$A57:$AY682,9,FALSE),0)","v":0},{"$f":"IFERROR(VLOOKUP($A63,FILTRO!$A57:$AY682,10,FALSE),0)","v":0},{"$f":"IFERROR(VLOOKUP($A63,FILTRO!$A57:$AY682,11,FALSE),0)","v":0},{"$f":"IFERROR(VLOOKUP($A63,FILTRO!$A57:$AY682,12,FALSE),0)","v":0},{"$f":"IFERROR(VLOOKUP($A63,FILTRO!$A57:$AY682,13,FALSE),0)","v":0},{"$f":"IFERROR(VLOOKUP($A63,FILTRO!$A57:$AY682,14,FALSE),0)","v":0},{"$f":"IFERROR(VLOOKUP($A63,FILTRO!$A57:$AY682,15,FALSE),0)","v":0},{"$f":"IFERROR(VLOOKUP($A63,FILTRO!$A57:$AY682,16,FALSE),0)","v":0},{"$f":"IFERROR(VLOOKUP($A63,FILTRO!$A57:$AY682,17,FALSE),0)","v":0},{"$f":"IFERROR(VLOOKUP($A63,FILTRO!$A57:$AY682,18,FALSE),0)","v":0},{"$f":"IFERROR(VLOOKUP($A63,FILTRO!$A57:$AY682,19,FALSE),0)","v":0},{"$f":"IFERROR(VLOOKUP($A63,FILTRO!$A57:$AY682,20,FALSE),0)","v":0},{"$f":"IFERROR(VLOOKUP($A63,FILTRO!$A57:$AY682,21,FALSE),0)","v":5},{"$f":"IFERROR(VLOOKUP($A63,FILTRO!$A57:$AY682,22,FALSE),0)","v":4},{"$f":"IFERROR(VLOOKUP($A63,FILTRO!$A57:$AY682,23,FALSE),0)","v":10},{"$f":"IFERROR(VLOOKUP($A63,FILTRO!$A57:$AY682,24,FALSE),0)","v":9},{"$f":"IFERROR(VLOOKUP($A63,FILTRO!$A57:$AY682,25,FALSE),0)","v":16},{"$f":"IFERROR(VLOOKUP($A63,FILTRO!$A57:$AY682,26,FALSE),0)","v":21},{"$f":"IFERROR(VLOOKUP($A63,FILTRO!$A57:$AY682,27,FALSE),0)","v":47},{"$f":"IFERROR(VLOOKUP($A63,FILTRO!$A57:$AY682,28,FALSE),0)","v":53},{"$f":"IFERROR(VLOOKUP($A63,FILTRO!$A57:$AY682,29,FALSE),0)","v":85},{"$f":"IFERROR(VLOOKUP($A63,FILTRO!$A57:$AY682,30,FALSE),0)","v":101},{"$f":"IFERROR(VLOOKUP($A63,FILTRO!$A57:$AY682,31,FALSE),0)","v":144},{"$f":"IFERROR(VLOOKUP($A63,FILTRO!$A57:$AY682,32,FALSE),0)","v":190},{"$f":"IFERROR(VLOOKUP($A63,FILTRO!$A57:$AY682,33,FALSE),0)","v":189},{"$f":"IFERROR(VLOOKUP($A63,FILTRO!$A57:$AY682,34,FALSE),0)","v":205},{"$f":"IFERROR(VLOOKUP($A63,FILTRO!$A57:$AY682,35,FALSE),0)","v":229},{"$f":"IFERROR(VLOOKUP($A63,FILTRO!$A57:$AY682,36,FALSE),0)","v":190},{"$f":"IFERROR(VLOOKUP($A63,FILTRO!$A57:$AY682,37,FALSE),0)","v":411},{"$f":"IFERROR(VLOOKUP($A63,FILTRO!$A57:$AY682,38,FALSE),0)","v":434}]
["P3161046",null,"No Logra Control Adecuado",{"$f":"IFERROR(VLOOKUP($A64,FILTRO!$A58:$AY683,2,FALSE),0)","v":424},{"$f":"IFERROR(VLOOKUP($A64,FILTRO!$A58:$AY683,3,FALSE),0)","v":180},{"$f":"IFERROR(VLOOKUP($A64,FILTRO!$A58:$AY683,4,FALSE),0)","v":244},{"$f":"IFERROR(VLOOKUP($A64,FILTRO!$A58:$AY683,5,FALSE),0)","v":0},{"$f":"IFERROR(VLOOKUP($A64,FILTRO!$A58:$AY683,6,FALSE),0)","v":0},{"$f":"IFERROR(VLOOKUP($A64,FILTRO!$A58:$AY683,7,FALSE),0)","v":0},{"$f":"IFERROR(VLOOKUP($A64,FILTRO!$A58:$AY683,8,FALSE),0)","v":0},{"$f":"IFERROR(VLOOKUP($A64,FILTRO!$A58:$AY683,9,FALSE),0)","v":0},{"$f":"IFERROR(VLOOKUP($A64,FILTRO!$A58:$AY683,10,FALSE),0)","v":0},{"$f":"IFERROR(VLOOKUP($A64,FILTRO!$A58:$AY683,11,FALSE),0)","v":0},{"$f":"IFERROR(VLOOKUP($A64,FILTRO!$A58:$AY683,12,FALSE),0)","v":0},{"$f":"IFERROR(VLOOKUP($A64,FILTRO!$A58:$AY683,13,FALSE),0)","v":0},{"$f":"IFERROR(VLOOKUP($A64,FILTRO!$A58:$AY683,14,FALSE),0)","v":0},{"$f":"IFERROR(VLOOKUP($A64,FILTRO!$A58:$AY683,15,FALSE),0)","v":0},{"$f":"IFERROR(VLOOKUP($A64,FILTRO!$A58:$AY683,16,FALSE),0)","v":0},{"$f":"IFERROR(VLOOKUP($A64,FILTRO!$A58:$AY683,17,FALSE),0)","v":0},{"$f":"IFERROR(VLOOKUP($A64,FILTRO!$A58:$AY683,18,FALSE),0)","v":0},{"$f":"IFERROR(VLOOKUP($A64,FILTRO!$A58:$AY683,19,FALSE),0)","v":0},{"$f":"IFERROR(VLOOKUP($A64,FILTRO!$A58:$AY683,20,FALSE),0)","v":0},{"$f":"IFERROR(VLOOKUP($A64,FILTRO!$A58:$AY683,21,FALSE),0)","v":1},{"$f":"IFERROR(VLOOKUP($A64,FILTRO!$A58:$AY683,22,FALSE),0)","v":2},{"$f":"IFERROR(VLOOKUP($A64,FILTRO!$A58:$AY683,23,FALSE),0)","v":2},{"$f":"IFERROR(VLOOKUP($A64,FILTRO!$A58:$AY683,24,FALSE),0)","v":4},{"$f":"IFERROR(VLOOKUP($A64,FILTRO!$A58:$AY683,25,FALSE),0)","v":2},{"$f":"IFERROR(VLOOKUP($A64,FILTRO!$A58:$AY683,26,FALSE),0)","v":4},{"$f":"IFERROR(VLOOKUP($A64,FILTRO!$A58:$AY683,27,FALSE),0)","v":8},{"$f":"IFERROR(VLOOKUP($A64,FILTRO!$A58:$AY683,28,FALSE),0)","v":11},{"$f":"IFERROR(VLOOKUP($A64,FILTRO!$A58:$AY683,29,FALSE),0)","v":9},{"$f":"IFERROR(VLOOKUP($A64,FILTRO!$A58:$AY683,30,FALSE),0)","v":32},{"$f":"IFERROR(VLOOKUP($A64,FILTRO!$A58:$AY683,31,FALSE),0)","v":29},{"$f":"IFERROR(VLOOKUP($A64,FILTRO!$A58:$AY683,32,FALSE),0)","v":34},{"$f":"IFERROR(VLOOKUP($A64,FILTRO!$A58:$AY683,33,FALSE),0)","v":33},{"$f":"IFERROR(VLOOKUP($A64,FILTRO!$A58:$AY683,34,FALSE),0)","v":29},{"$f":"IFERROR(VLOOKUP($A64,FILTRO!$A58:$AY683,35,FALSE),0)","v":36},{"$f":"IFERROR(VLOOKUP($A64,FILTRO!$A58:$AY683,36,FALSE),0)","v":44},{"$f":"IFERROR(VLOOKUP($A64,FILTRO!$A58:$AY683,37,FALSE),0)","v":60},{"$f":"IFERROR(VLOOKUP($A64,FILTRO!$A58:$AY683,38,FALSE),0)","v":84}]
["P3161047",null,"No evaluada",{"$f":"IFERROR(VLOOKUP($A65,FILTRO!$A59:$AY684,2,FALSE),0)","v":608},{"$f":"IFERROR(VLOOKUP($A65,FILTRO!$A59:$AY684,3,FALSE),0)","v":278},{"$f":"IFERROR(VLOOKUP($A65,FILTRO!$A59:$AY684,4,FALSE),0)","v":330},{"$f":"IFERROR(VLOOKUP($A65,FILTRO!$A59:$AY684,5,FALSE),0)","v":0},{"$f":"IFERROR(VLOOKUP($A65,FILTRO!$A59:$AY684,6,FALSE),0)","v":0},{"$f":"IFERROR(VLOOKUP($A65,FILTRO!$A59:$AY684,7,FALSE),0)","v":0},{"$f":"IFERROR(VLOOKUP($A65,FILTRO!$A59:$AY684,8,FALSE),0)","v":0},{"$f":"IFERROR(VLOOKUP($A65,FILTRO!$A59:$AY684,9,FALSE),0)","v":0},{"$f":"IFERROR(VLOOKUP($A65,FILTRO!$A59:$AY684,10,FALSE),0)","v":0},{"$f":"IFERROR(VLOOKUP($A65,FILTRO!$A59:$AY684,11,FALSE),0)","v":0},{"$f":"IFERROR(VLOOKUP($A65,FILTRO!$A59:$AY684,12,FALSE),0)","v":0},{"$f":"IFERROR(VLOOKUP($A65,FILTRO!$A59:$AY684,13,FALSE),0)","v":0},{"$f":"IFERROR(VLOOKUP($A65,FILTRO!$A59:$AY684,14,FALSE),0)","v":0},{"$f":"IFERROR(VLOOKUP($A65,FILTRO!$A59:$AY684,15,FALSE),0)","v":0},{"$f":"IFERROR(VLOOKUP($A65,FILTRO!$A59:$AY684,16,FALSE),0)","v":0},{"$f":"IFERROR(VLOOKUP($A65,FILTRO!$A59:$AY684,17,FALSE),0)","v":0},{"$f":"IFERROR(VLOOKUP($A65,FILTRO!$A59:$AY684,18,FALSE),0)","v":0},{"$f":"IFERROR(VLOOKUP($A65,FILTRO!$A59:$AY684,19,FALSE),0)","v":0},{"$f":"IFERROR(VLOOKUP($A65,FILTRO!$A59:$AY684,20,FALSE),0)","v":0},{"$f":"IFERROR(VLOOKUP($A65,FILTRO!$A59:$AY684,21,FALSE),0)","v":0},{"$f":"IFERROR(VLOOKUP($A65,FILTRO!$A59:$AY684,22,FALSE),0)","v":1},{"$f":"IFERROR(VLOOKUP($A65,FILTRO!$A59:$AY684,23,FALSE),0)","v":4},{"$f":"IFERROR(VLOOKUP($A65,FILTRO!$A59:$AY684,24,FALSE),0)","v":3},{"$f":"IFERROR(VLOOKUP($A65,FILTRO!$A59:$AY684,25,FALSE),0)","v":6},{"$f":"IFERROR(VLOOKUP($A65,FILTRO!$A59:$AY684,26,FALSE),0)","v":7},{"$f":"IFERROR(VLOOKUP($A65,FILTRO!$A59:$AY684,27,FALSE),0)","v":7},{"$f":"IFERROR(VLOOKUP($A65,FILTRO!$A59:$AY684,28,FALSE),0)","v":11},{"$f":"IFERROR(VLOOKUP($A65,FILTRO!$A59:$AY684,29,FALSE),0)","v":23},{"$f":"IFERROR(VLOOKUP($A65,FILTRO!$A59:$AY684,30,FALSE),0)","v":28},{"$f":"IFERROR(VLOOKUP($A65,FILTRO!$A59:$AY684,31,FALSE),0)","v":28},{"$f":"IFERROR(VLOOKUP($A65,FILTRO!$A59:$AY684,32,FALSE),0)","v":39},{"$f":"IFERROR(VLOOKUP($A65,FILTRO!$A59:$AY684,33,FALSE),0)","v":46},{"$f":"IFERROR(VLOOKUP($A65,FILTRO!$A59:$AY684,34,FALSE),0)","v":42},{"$f":"IFERROR(VLOOKUP($A65,FILTRO!$A59:$AY684,35,FALSE),0)","v":52},{"$f":"IFERROR(VLOOKUP($A65,FILTRO!$A59:$AY684,36,FALSE),0)","v":41},{"$f":"IFERROR(VLOOKUP($A65,FILTRO!$A59:$AY684,37,FALSE),0)","v":112},{"$f":"IFERROR(VLOOKUP($A65,FILTRO!$A59:$AY684,38,FALSE),0)","v":158},{"$f":"CC65","v":""},{"$nulls":39},{"$f":"IF(SUM(D63:D65)>SUM(D18:D19),\"* El total de EPOC en ambos sexos no puede ser superior al total de EPOC en ambos sexos de la sección A. \",\"\")","v":""},{"$nulls":7},{"$f":"IF(SUM(D63:D65)>SUM(D18:D19),1,0)","v":0}]
[null,"SECCIÓN E:  RESULTADO DE ENCUESTA CALIDAD DE VIDA"]
[null,"DIAGNÓSTICO","ACTIVIDAD","TOTAL",null,null,"POR EDAD"]
[{"$nulls":6},"0 a 4 años",null,"5 - 9 \naños",null,"10 - 14\naños",null,"15 - 19\naños",null,"20 a 24 años\n",null,"25 a 29 años",null,"30 a 34 años",null,"35 a 39 años",null,"40 - 44 años",null,"45 - 49 años",null,"50 - 54 años",null,"55 - 59 años",null,"60 - 64 años",null,"65 - 69 años",null,"70 - 74 años",null,"75 - 79 años",null,"80 y mas años"]
[{"$nulls":3},"Ambos Sexos","Hombres","Mujeres","Hombres","Mujeres","Hombres","Mujeres","Hombres","Mujeres","Hombres","Mujeres","Hombres","Mujeres","Hombres","Mujeres","Hombres","Mujeres","Hombres","Mujeres","Hombres","Mujeres","Hombres","Mujeres","Hombres","Mujeres","Hombres","Mujeres","Hombres","Mujeres","Hombres","Mujeres","Hombres","Mujeres","Hombres","Mujeres","Hombres","Mujeres"]
["P3170800","ENFERMEDAD PULMONAR OBSTRUCTIVA CRÓNICA (EPOC)","Evaluados",{"$f":"IFERROR(VLOOKUP($A70,FILTRO!$A64:$AY689,2,FALSE),0)","v":1284},{"$f":"IFERROR(VLOOKUP($A70,FILTRO!$A64:$AY689,3,FALSE),0)","v":631},{"$f":"IFERROR(VLOOKUP($A70,FILTRO!$A64:$AY689,4,FALSE),0)","v":653},{"$f":"IFERROR(VLOOKUP($A70,FILTRO!$A64:$AY689,5,FALSE),0)","v":0},{"$f":"IFERROR(VLOOKUP($A70,FILTRO!$A64:$AY689,6,FALSE),0)","v":0},{"$f":"IFERROR(VLOOKUP($A70,FILTRO!$A64:$AY689,7,FALSE),0)","v":0},{"$f":"IFERROR(VLOOKUP($A70,FILTRO!$A64:$AY689,8,FALSE),0)","v":0},{"$f":"IFERROR(VLOOKUP($A70,FILTRO!$A64:$AY689,9,FALSE),0)","v":0},{"$f":"IFERROR(VLOOKUP($A70,FILTRO!$A64:$AY689,10,FALSE),0)","v":0},{"$f":"IFERROR(VLOOKUP($A70,FILTRO!$A64:$AY689,11,FALSE),0)","v":0},{"$f":"IFERROR(VLOOKUP($A70,FILTRO!$A64:$AY689,12,FALSE),0)","v":0},{"$f":"IFERROR(VLOOKUP($A70,FILTRO!$A64:$AY689,13,FALSE),0)","v":0},{"$f":"IFERROR(VLOOKUP($A70,FILTRO!$A64:$AY689,14,FALSE),0)","v":0},{"$f":"IFERROR(VLOOKUP($A70,FILTRO!$A64:$AY689,15,FALSE),0)","v":0},{"$f":"IFERROR(VLOOKUP($A70,FILTRO!$A64:$AY689,16,FALSE),0)","v":0},{"$f":"IFERROR(VLOOKUP($A70,FILTRO!$A64:$AY689,17,FALSE),0)","v":0},{"$f":"IFERROR(VLOOKUP($A70,FILTRO!$A64:$AY689,18,FALSE),0)","v":0},{"$f":"IFERROR(VLOOKUP($A70,FILTRO!$A64:$AY689,19,FALSE),0)","v":0},{"$f":"IFERROR(VLOOKUP($A70,FILTRO!$A64:$AY689,20,FALSE),0)","v":0},{"$f":"IFERROR(VLOOKUP($A70,FILTRO!$A64:$AY689,21,FALSE),0)","v":2},{"$f":"IFERROR(VLOOKUP($A70,FILTRO!$A64:$AY689,22,FALSE),0)","v":3},{"$f":"IFERROR(VLOOKUP($A70,FILTRO!$A64:$AY689,23,FALSE),0)","v":8},{"$f":"IFERROR(VLOOKUP($A70,FILTRO!$A64:$AY689,24,FALSE),0)","v":6},{"$f":"IFERROR(VLOOKUP($A70,FILTRO!$A64:$AY689,25,FALSE),0)","v":9},{"$f":"IFERROR(VLOOKUP($A70,FILTRO!$A64:$AY689,26,FALSE),0)","v":11},{"$f":"IFERROR(VLOOKUP($A70,FILTRO!$A64:$AY689,27,FALSE),0)","v":28},{"$f":"IFERROR(VLOOKUP($A70,FILTRO!$A64:$AY689,28,FALSE),0)","v":27},{"$f":"IFERROR(VLOOKUP($A70,FILTRO!$A64:$AY689,29,FALSE),0)","v":61},{"$f":"IFERROR(VLOOKUP($A70,FILTRO!$A64:$AY689,30,FALSE),0)","v":68},{"$f":"IFERROR(VLOOKUP($A70,FILTRO!$A64:$AY689,31,FALSE),0)","v":89},{"$f":"IFERROR(VLOOKUP($A70,FILTRO!$A64:$AY689,32,FALSE),0)","v":99},{"$f":"IFERROR(VLOOKUP($A70,FILTRO!$A64:$AY689,33,FALSE),0)","v":107},{"$f":"IFERROR(VLOOKUP($A70,FILTRO!$A64:$AY689,34,FALSE),0)","v":118},{"$f":"IFERROR(VLOOKUP($A70,FILTRO!$A64:$AY689,35,FALSE),0)","v":131},{"$f":"IFERROR(VLOOKUP($A70,FILTRO!$A64:$AY689,36,FALSE),0)","v":106},{"$f":"IFERROR(VLOOKUP($A70,FILTRO!$A64:$AY689,37,FALSE),0)","v":196},{"$f":"IFERROR(VLOOKUP($A70,FILTRO!$A64:$AY689,38,FALSE),0)","v":215}]
["P3170900",null,"Mejora en relación a  año anterior",{"$f":"IFERROR(VLOOKUP($A71,FILTRO!$A65:$AY690,2,FALSE),0)","v":642},{"$f":"IFERROR(VLOOKUP($A71,FILTRO!$A65:$AY690,3,FALSE),0)","v":336},{"$f":"IFERROR(VLOOKUP($A71,FILTRO!$A65:$AY690,4,FALSE),0)","v":306},{"$f":"IFERROR(VLOOKUP($A71,FILTRO!$A65:$AY690,5,FALSE),0)","v":0},{"$f":"IFERROR(VLOOKUP($A71,FILTRO!$A65:$AY690,6,FALSE),0)","v":0},{"$f":"IFERROR(VLOOKUP($A71,FILTRO!$A65:$AY690,7,FALSE),0)","v":0},{"$f":"IFERROR(VLOOKUP($A71,FILTRO!$A65:$AY690,8,FALSE),0)","v":0},{"$f":"IFERROR(VLOOKUP($A71,FILTRO!$A65:$AY690,9,FALSE),0)","v":0},{"$f":"IFERROR(VLOOKUP($A71,FILTRO!$A65:$AY690,10,FALSE),0)","v":0},{"$f":"IFERROR(VLOOKUP($A71,FILTRO!$A65:$AY690,11,FALSE),0)","v":0},{"$f":"IFERROR(VLOOKUP($A71,FILTRO!$A65:$AY690,12,FALSE),0)","v":0},{"$f":"IFERROR(VLOOKUP($A71,FILTRO!$A65:$AY690,13,FALSE),0)","v":0},{"$f":"IFERROR(VLOOKUP($A71,FILTRO!$A65:$AY690,14,FALSE),0)","v":0},{"$f":"IFERROR(VLOOKUP($A71,FILTRO!$A65:$AY690,15,FALSE),0)","v":0},{"$f":"IFERROR(VLOOKUP($A71,FILTRO!$A65:$AY690,16,FALSE),0)","v":0},{"$f":"IFERROR(VLOOKUP($A71,FILTRO!$A65:$AY690,17,FALSE),0)","v":0},{"$f":"IFERROR(VLOOKUP($A71,FILTRO!$A65:$AY690,18,FALSE),0)","v":0},{"$f":"IFERROR(VLOOKUP($A71,FILTRO!$A65:$AY690,19,FALSE),0)","v":0},{"$f":"IFERROR(VLOOKUP($A71,FILTRO!$A65:$AY690,20,FALSE),0)","v":0},{"$f":"IFERROR(VLOOKUP($A71,FILTRO!$A65:$AY690,21,FALSE),0)","v":0},{"$f":"IFERROR(VLOOKUP($A71,FILTRO!$A65:$AY690,22,FALSE),0)","v":2},{"$f":"IFERROR(VLOOKUP($A71,FILTRO!$A65:$AY690,23,FALSE),0)","v":3},{"$f":"IFERROR(VLOOKUP($A71,FILTRO!$A65:$AY690,24,FALSE),0)","v":3},{"$f":"IFERROR(VLOOKUP($A71,FILTRO!$A65:$AY690,25,FALSE),0)","v":3},{"$f":"IFERROR(VLOOKUP($A71,FILTRO!$A65:$AY690,26,FALSE),0)","v":2},{"$f":"IFERROR(VLOOKUP($A71,FILTRO!$A65:$AY690,27,FALSE),0)","v":15},{"$f":"IFERROR(VLOOKUP($A71,FILTRO!$A65:$AY690,28,FALSE),0)","v":9},{"$f":"IFERROR(VLOOKUP($A71,FILTRO!$A65:$AY690,29,FALSE),0)","v":42},{"$f":"IFERROR(VLOOKUP($A71,FILTRO!$A65:$AY690,30,FALSE),0)","v":33},{"$f":"IFERROR(VLOOKUP($A71,FILTRO!$A65:$AY690,31,FALSE),0)","v":45},{"$f":"IFERROR(VLOOKUP($A71,FILTRO!$A65:$AY690,32,FALSE),0)","v":48},{"$f":"IFERROR(VLOOKUP($A71,FILTRO!$A65:$AY690,33,FALSE),0)","v":63},{"$f":"IFERROR(VLOOKUP($A71,FILTRO!$A65:$AY690,34,FALSE),0)","v":65},{"$f":"IFERROR(VLOOKUP($A71,FILTRO!$A65:$AY690,35,FALSE),0)","v":73},{"$f":"IFERROR(VLOOKUP($A71,FILTRO!$A65:$AY690,36,FALSE),0)","v":48},{"$f":"IFERROR(VLOOKUP($A71,FILTRO!$A65:$AY690,37,FALSE),0)","v":92},{"$f":"IFERROR(VLOOKUP($A71,FILTRO!$A65:$AY690,38,FALSE),0)","v":96}]
["P3171000",null,"No mejora en relación a año anterior",{"$f":"IFERROR(VLOOKUP($A72,FILTRO!$A66:$AY691,2,FALSE),0)","v":274},{"$f":"IFERROR(VLOOKUP($A72,FILTRO!$A66:$AY691,3,FALSE),0)","v":117},{"$f":"IFERROR(VLOOKUP($A72,FILTRO!$A66:$AY691,4,FALSE),0)","v":157},{"$f":"IFERROR(VLOOKUP($A72,FILTRO!$A66:$AY691,5,FALSE),0)","v":0},{"$f":"IFERROR(VLOOKUP($A72,FILTRO!$A66:$AY691,6,FALSE),0)","v":0},{"$f":"IFERROR(VLOOKUP($A72,FILTRO!$A66:$AY691,7,FALSE),0)","v":0},{"$f":"IFERROR(VLOOKUP($A72,FILTRO!$A66:$AY691,8,FALSE),0)","v":0},{"$f":"IFERROR(VLOOKUP($A72,FILTRO!$A66:$AY691,9,FALSE),0)","v":0},{"$f":"IFERROR(VLOOKUP($A72,FILTRO!$A66:$AY691,10,FALSE),0)","v":0},{"$f":"IFERROR(VLOOKUP($A72,FILTRO!$A66:$AY691,11,FALSE),0)","v":0},{"$f":"IFERROR(VLOOKUP($A72,FILTRO!$A66:$AY691,12,FALSE),0)","v":0},{"$f":"IFERROR(VLOOKUP($A72,FILTRO!$A66:$AY691,13,FALSE),0)","v":0},{"$f":"IFERROR(VLOOKUP($A72,FILTRO!$A66:$AY691,14,FALSE),0)","v":0},{"$f":"IFERROR(VLOOKUP($A72,FILTRO!$A66:$AY691,15,FALSE),0)","v":0},{"$f":"IFERROR(VLOOKUP($A72,FILTRO!$A66:$AY691,16,FALSE),0)","v":0},{"$f":"IFERROR(VLOOKUP($A72,FILTRO!$A66:$AY691,17,FALSE),0)","v":0},{"$f":"IFERROR(VLOOKUP($A72,FILTRO!$A66:$AY691,18,FALSE),0)","v":0},{"$f":"IFERROR(VLOOKUP($A72,FILTRO!$A66:$AY691,19,FALSE),0)","v":0},{"$f":"IFERROR(VLOOKUP($A72,FILTRO!$A66:$AY691,20,FALSE),0)","v":0},{"$f":"IFERROR(VLOOKUP($A72,FILTRO!$A66:$AY691,21,FALSE),0)","v":4},{"$f":"IFERROR(VLOOKUP($A72,FILTRO!$A66:$AY691,22,FALSE),0)","v":0},{"$f":"IFERROR(VLOOKUP($A72,FILTRO!$A66:$AY691,23,FALSE),0)","v":1},{"$f":"IFERROR(VLOOKUP($A72,FILTRO!$A66:$AY691,24,FALSE),0)","v":1},{"$f":"IFERROR(VLOOKUP($A72,FILTRO!$A66:$AY691,25,FALSE),0)","v":1},{"$f":"IFERROR(VLOOKUP($A72,FILTRO!$A66:$AY691,26,FALSE),0)","v":2},{"$f":"IFERROR(VLOOKUP($A72,FILTRO!$A66:$AY691,27,FALSE),0)","v":5},{"$f":"IFERROR(VLOOKUP($A72,FILTRO!$A66:$AY691,28,FALSE),0)","v":7},{"$f":"IFERROR(VLOOKUP($A72,FILTRO!$A66:$AY691,29,FALSE),0)","v":6},{"$f":"IFERROR(VLOOKUP($A72,FILTRO!$A66:$AY691,30,FALSE),0)","v":13},{"$f":"IFERROR(VLOOKUP($A72,FILTRO!$A66:$AY691,31,FALSE),0)","v":20},{"$f":"IFERROR(VLOOKUP($A72,FILTRO!$A66:$AY691,32,FALSE),0)","v":28},{"$f":"IFERROR(VLOOKUP($A72,FILTRO!$A66:$AY691,33,FALSE),0)","v":13},{"$f":"IFERROR(VLOOKUP($A72,FILTRO!$A66:$AY691,34,FALSE),0)","v":26},{"$f":"IFERROR(VLOOKUP($A72,FILTRO!$A66:$AY691,35,FALSE),0)","v":24},{"$f":"IFERROR(VLOOKUP($A72,FILTRO!$A66:$AY691,36,FALSE),0)","v":25},{"$f":"IFERROR(VLOOKUP($A72,FILTRO!$A66:$AY691,37,FALSE),0)","v":43},{"$f":"IFERROR(VLOOKUP($A72,FILTRO!$A66:$AY691,38,FALSE),0)","v":55}]
["P3171100","ASMA BRONQUIAL","Evaluados",{"$f":"IFERROR(VLOOKUP($A73,FILTRO!$A67:$AY692,2,FALSE),0)","v":4056},{"$f":"IFERROR(VLOOKUP($A73,FILTRO!$A67:$AY692,3,FALSE),0)","v":1340},{"$f":"IFERROR(VLOOKUP($A73,FILTRO!$A67:$AY692,4,FALSE),0)","v":2716},{"$f":"IFERROR(VLOOKUP($A73,FILTRO!$A67:$AY692,5,FALSE),0)","v":50},{"$f":"IFERROR(VLOOKUP($A73,FILTRO!$A67:$AY692,6,FALSE),0)","v":53},{"$f":"IFERROR(VLOOKUP($A73,FILTRO!$A67:$AY692,7,FALSE),0)","v":317},{"$f":"IFERROR(VLOOKUP($A73,FILTRO!$A67:$AY692,8,FALSE),0)","v":250},{"$f":"IFERROR(VLOOKUP($A73,FILTRO!$A67:$AY692,9,FALSE),0)","v":262},{"$f":"IFERROR(VLOOKUP($A73,FILTRO!$A67:$AY692,10,FALSE),0)","v":209},{"$f":"IFERROR(VLOOKUP($A73,FILTRO!$A67:$AY692,11,FALSE),0)","v":113},{"$f":"IFERROR(VLOOKUP($A73,FILTRO!$A67:$AY692,12,FALSE),0)","v":96},{"$f":"IFERROR(VLOOKUP($A73,FILTRO!$A67:$AY692,13,FALSE),0)","v":59},{"$f":"IFERROR(VLOOKUP($A73,FILTRO!$A67:$AY692,14,FALSE),0)","v":126},{"$f":"IFERROR(VLOOKUP($A73,FILTRO!$A67:$AY692,15,FALSE),0)","v":60},{"$f":"IFERROR(VLOOKUP($A73,FILTRO!$A67:$AY692,16,FALSE),0)","v":107},{"$f":"IFERROR(VLOOKUP($A73,FILTRO!$A67:$AY692,17,FALSE),0)","v":33},{"$f":"IFERROR(VLOOKUP($A73,FILTRO!$A67:$AY692,18,FALSE),0)","v":120},{"$f":"IFERROR(VLOOKUP($A73,FILTRO!$A67:$AY692,19,FALSE),0)","v":24},{"$f":"IFERROR(VLOOKUP($A73,FILTRO!$A67:$AY692,20,FALSE),0)","v":131},{"$f":"IFERROR(VLOOKUP($A73,FILTRO!$A67:$AY692,21,FALSE),0)","v":23},{"$f":"IFERROR(VLOOKUP($A73,FILTRO!$A67:$AY692,22,FALSE),0)","v":117},{"$f":"IFERROR(VLOOKUP($A73,FILTRO!$A67:$AY692,23,FALSE),0)","v":33},{"$f":"IFERROR(VLOOKUP($A73,FILTRO!$A67:$AY692,24,FALSE),0)","v":174},{"$f":"IFERROR(VLOOKUP($A73,FILTRO!$A67:$AY692,25,FALSE),0)","v":32},{"$f":"IFERROR(VLOOKUP($A73,FILTRO!$A67:$AY692,26,FALSE),0)","v":187},{"$f":"IFERROR(VLOOKUP($A73,FILTRO!$A67:$AY692,27,FALSE),0)","v":43},{"$f":"IFERROR(VLOOKUP($A73,FILTRO!$A67:$AY692,28,FALSE),0)","v":219},{"$f":"IFERROR(VLOOKUP($A73,FILTRO!$A67:$AY692,29,FALSE),0)","v":50},{"$f":"IFERROR(VLOOKUP($A73,FILTRO!$A67:$AY692,30,FALSE),0)","v":213},{"$f":"IFERROR(VLOOKUP($A73,FILTRO!$A67:$AY692,31,FALSE),0)","v":77},{"$f":"IFERROR(VLOOKUP($A73,FILTRO!$A67:$AY692,32,FALSE),0)","v":244},{"$f":"IFERROR(VLOOKUP($A73,FILTRO!$A67:$AY692,33,FALSE),0)","v":52},{"$f":"IFERROR(VLOOKUP($A73,FILTRO!$A67:$AY692,34,FALSE),0)","v":181},{"$f":"IFERROR(VLOOKUP($A73,FILTRO!$A67:$AY692,35,FALSE),0)","v":62},{"$f":"IFERROR(VLOOKUP($A73,FILTRO!$A67:$AY692,36,FALSE),0)","v":125},{"$f":"IFERROR(VLOOKUP($A73,FILTRO!$A67:$AY692,37,FALSE),0)","v":50},{"$f":"IFERROR(VLOOKUP($A73,FILTRO!$A67:$AY692,38,FALSE),0)","v":164}]
["P3171200",null,"Mejora en relación a  año anterior",{"$f":"IFERROR(VLOOKUP($A74,FILTRO!$A68:$AY693,2,FALSE),0)","v":2039},{"$f":"IFERROR(VLOOKUP($A74,FILTRO!$A68:$AY693,3,FALSE),0)","v":659},{"$f":"IFERROR(VLOOKUP($A74,FILTRO!$A68:$AY693,4,FALSE),0)","v":1380},{"$f":"IFERROR(VLOOKUP($A74,FILTRO!$A68:$AY693,5,FALSE),0)","v":15},{"$f":"IFERROR(VLOOKUP($A74,FILTRO!$A68:$AY693,6,FALSE),0)","v":17},{"$f":"IFERROR(VLOOKUP($A74,FILTRO!$A68:$AY693,7,FALSE),0)","v":146},{"$f":"IFERROR(VLOOKUP($A74,FILTRO!$A68:$AY693,8,FALSE),0)","v":118},{"$f":"IFERROR(VLOOKUP($A74,FILTRO!$A68:$AY693,9,FALSE),0)","v":101},{"$f":"IFERROR(VLOOKUP($A74,FILTRO!$A68:$AY693,10,FALSE),0)","v":116},{"$f":"IFERROR(VLOOKUP($A74,FILTRO!$A68:$AY693,11,FALSE),0)","v":61},{"$f":"IFERROR(VLOOKUP($A74,FILTRO!$A68:$AY693,12,FALSE),0)","v":47},{"$f":"IFERROR(VLOOKUP($A74,FILTRO!$A68:$AY693,13,FALSE),0)","v":34},{"$f":"IFERROR(VLOOKUP($A74,FILTRO!$A68:$AY693,14,FALSE),0)","v":70},{"$f":"IFERROR(VLOOKUP($A74,FILTRO!$A68:$AY693,15,FALSE),0)","v":34},{"$f":"IFERROR(VLOOKUP($A74,FILTRO!$A68:$AY693,16,FALSE),0)","v":48},{"$f":"IFERROR(VLOOKUP($A74,FILTRO!$A68:$AY693,17,FALSE),0)","v":19},{"$f":"IFERROR(VLOOKUP($A74,FILTRO!$A68:$AY693,18,FALSE),0)","v":56},{"$f":"IFERROR(VLOOKUP($A74,FILTRO!$A68:$AY693,19,FALSE),0)","v":11},{"$f":"IFERROR(VLOOKUP($A74,FILTRO!$A68:$AY693,20,FALSE),0)","v":60},{"$f":"IFERROR(VLOOKUP($A74,FILTRO!$A68:$AY693,21,FALSE),0)","v":8},{"$f":"IFERROR(VLOOKUP($A74,FILTRO!$A68:$AY693,22,FALSE),0)","v":53},{"$f":"IFERROR(VLOOKUP($A74,FILTRO!$A68:$AY693,23,FALSE),0)","v":14},{"$f":"IFERROR(VLOOKUP($A74,FILTRO!$A68:$AY693,24,FALSE),0)","v":92},{"$f":"IFERROR(VLOOKUP($A74,FILTRO!$A68:$AY693,25,FALSE),0)","v":20},{"$f":"IFERROR(VLOOKUP($A74,FILTRO!$A68:$AY693,26,FALSE),0)","v":96},{"$f":"IFERROR(VLOOKUP($A74,FILTRO!$A68:$AY693,27,FALSE),0)","v":24},{"$f":"IFERROR(VLOOKUP($A74,FILTRO!$A68:$AY693,28,FALSE),0)","v":93},{"$f":"IFERROR(VLOOKUP($A74,FILTRO!$A68:$AY693,29,FALSE),0)","v":24},{"$f":"IFERROR(VLOOKUP($A74,FILTRO!$A68:$AY693,30,FALSE),0)","v":129},{"$f":"IFERROR(VLOOKUP($A74,FILTRO!$A68:$AY693,31,FALSE),0)","v":39},{"$f":"IFERROR(VLOOKUP($A74,FILTRO!$A68:$AY693,32,FALSE),0)","v":131},{"$f":"IFERROR(VLOOKUP($A74,FILTRO!$A68:$AY693,33,FALSE),0)","v":30},{"$f":"IFERROR(VLOOKUP($A74,FILTRO!$A68:$AY693,34,FALSE),0)","v":97},{"$f":"IFERROR(VLOOKUP($A74,FILTRO!$A68:$AY693,35,FALSE),0)","v":46},{"$f":"IFERROR(VLOOKUP($A74,FILTRO!$A68:$AY693,36,FALSE),0)","v":73},{"$f":"IFERROR(VLOOKUP($A74,FILTRO!$A68:$AY693,37,FALSE),0)","v":33},{"$f":"IFERROR(VLOOKUP($A74,FILTRO!$A68:$AY693,38,FALSE),0)","v":84}]
["P3171300",null,"No mejora en relación a año anterior",{"$f":"IFERROR(VLOOKUP($A75,FILTRO!$A69:$AY694,2,FALSE),0)","v":640},{"$f":"IFERROR(VLOOKUP($A75,FILTRO!$A69:$AY694,3,FALSE),0)","v":233},{"$f":"IFERROR(VLOOKUP($A75,FILTRO!$A69:$AY694,4,FALSE),0)","v":407},{"$f":"IFERROR(VLOOKUP($A75,FILTRO!$A69:$AY694,5,FALSE),0)","v":12},{"$f":"IFERROR(VLOOKUP($A75,FILTRO!$A69:$AY694,6,FALSE),0)","v":25},{"$f":"IFERROR(VLOOKUP($A75,FILTRO!$A69:$AY694,7,FALSE),0)","v":61},{"$f":"IFERROR(VLOOKUP($A75,FILTRO!$A69:$AY694,8,FALSE),0)","v":43},{"$f":"IFERROR(VLOOKUP($A75,FILTRO!$A69:$AY694,9,FALSE),0)","v":37},{"$f":"IFERROR(VLOOKUP($A75,FILTRO!$A69:$AY694,10,FALSE),0)","v":29},{"$f":"IFERROR(VLOOKUP($A75,FILTRO!$A69:$AY694,11,FALSE),0)","v":15},{"$f":"IFERROR(VLOOKUP($A75,FILTRO!$A69:$AY694,12,FALSE),0)","v":11},{"$f":"IFERROR(VLOOKUP($A75,FILTRO!$A69:$AY694,13,FALSE),0)","v":1},{"$f":"IFERROR(VLOOKUP($A75,FILTRO!$A69:$AY694,14,FALSE),0)","v":14},{"$f":"IFERROR(VLOOKUP($A75,FILTRO!$A69:$AY694,15,FALSE),0)","v":11},{"$f":"IFERROR(VLOOKUP($A75,FILTRO!$A69:$AY694,16,FALSE),0)","v":20},{"$f":"IFERROR(VLOOKUP($A75,FILTRO!$A69:$AY694,17,FALSE),0)","v":5},{"$f":"IFERROR(VLOOKUP($A75,FILTRO!$A69:$AY694,18,FALSE),0)","v":10},{"$f":"IFERROR(VLOOKUP($A75,FILTRO!$A69:$AY694,19,FALSE),0)","v":4},{"$f":"IFERROR(VLOOKUP($A75,FILTRO!$A69:$AY694,20,FALSE),0)","v":19},{"$f":"IFERROR(VLOOKUP($A75,FILTRO!$A69:$AY694,21,FALSE),0)","v":5},{"$f":"IFERROR(VLOOKUP($A75,FILTRO!$A69:$AY694,22,FALSE),0)","v":14},{"$f":"IFERROR(VLOOKUP($A75,FILTRO!$A69:$AY694,23,FALSE),0)","v":4},{"$f":"IFERROR(VLOOKUP($A75,FILTRO!$A69:$AY694,24,FALSE),0)","v":23},{"$f":"IFERROR(VLOOKUP($A75,FILTRO!$A69:$AY694,25,FALSE),0)","v":8},{"$f":"IFERROR(VLOOKUP($A75,FILTRO!$A69:$AY694,26,FALSE),0)","v":30},{"$f":"IFERROR(VLOOKUP($A75,FILTRO!$A69:$AY694,27,FALSE),0)","v":3},{"$f":"IFERROR(VLOOKUP($A75,FILTRO!$A69:$AY694,28,FALSE),0)","v":29},{"$f":"IFERROR(VLOOKUP($A75,FILTRO!$A69:$AY694,29,FALSE),0)","v":22},{"$f":"IFERROR(VLOOKUP($A75,FILTRO!$A69:$AY694,30,FALSE),0)","v":31},{"$f":"IFERROR(VLOOKUP($A75,FILTRO!$A69:$AY694,31,FALSE),0)","v":15},{"$f":"IFERROR(VLOOKUP($A75,FILTRO!$A69:$AY694,32,FALSE),0)","v":40},{"$f":"IFERROR(VLOOKUP($A75,FILTRO!$A69:$AY694,33,FALSE),0)","v":7},{"$f":"IFERROR(VLOOKUP($A75,FILTRO!$A69:$AY694,34,FALSE),0)","v":29},{"$f":"IFERROR(VLOOKUP($A75,FILTRO!$A69:$AY694,35,FALSE),0)","v":13},{"$f":"IFERROR(VLOOKUP($A75,FILTRO!$A69:$AY694,36,FALSE),0)","v":22},{"$f":"IFERROR(VLOOKUP($A75,FILTRO!$A69:$AY694,37,FALSE),0)","v":10},{"$f":"IFERROR(VLOOKUP($A75,FILTRO!$A69:$AY694,38,FALSE),0)","v":18}]
["P3171400","OTRAS CRÓNICAS RESPIRATORIAS","Evaluados",{"$f":"IFERROR(VLOOKUP($A76,FILTRO!$A70:$AY695,2,FALSE),0)","v":396},{"$f":"IFERROR(VLOOKUP($A76,FILTRO!$A70:$AY695,3,FALSE),0)","v":252},{"$f":"IFERROR(VLOOKUP($A76,FILTRO!$A70:$AY695,4,FALSE),0)","v":144},{"$f":"IFERROR(VLOOKUP($A76,FILTRO!$A70:$AY695,5,FALSE),0)","v":0},{"$f":"IFERROR(VLOOKUP($A76,FILTRO!$A70:$AY695,6,FALSE),0)","v":1},{"$f":"IFERROR(VLOOKUP($A76,FILTRO!$A70:$AY695,7,FALSE),0)","v":0},{"$f":"IFERROR(VLOOKUP($A76,FILTRO!$A70:$AY695,8,FALSE),0)","v":0},{"$f":"IFERROR(VLOOKUP($A76,FILTRO!$A70:$AY695,9,FALSE),0)","v":0},{"$f":"IFERROR(VLOOKUP($A76,FILTRO!$A70:$AY695,10,FALSE),0)","v":1},{"$f":"IFERROR(VLOOKUP($A76,FILTRO!$A70:$AY695,11,FALSE),0)","v":0},{"$f":"IFERROR(VLOOKUP($A76,FILTRO!$A70:$AY695,12,FALSE),0)","v":0},{"$f":"IFERROR(VLOOKUP($A76,FILTRO!$A70:$AY695,13,FALSE),0)","v":0},{"$f":"IFERROR(VLOOKUP($A76,FILTRO!$A70:$AY695,14,FALSE),0)","v":0},{"$f":"IFERROR(VLOOKUP($A76,FILTRO!$A70:$AY695,15,FALSE),0)","v":0},{"$f":"IFERROR(VLOOKUP($A76,FILTRO!$A70:$AY695,16,FALSE),0)","v":0},{"$f":"IFERROR(VLOOKUP($A76,FILTRO!$A70:$AY695,17,FALSE),0)","v":0},{"$f":"IFERROR(VLOOKUP($A76,FILTRO!$A70:$AY695,18,FALSE),0)","v":1},{"$f":"IFERROR(VLOOKUP($A76,FILTRO!$A70:$AY695,19,FALSE),0)","v":0},{"$f":"IFERROR(VLOOKUP($A76,FILTRO!$A70:$AY695,20,FALSE),0)","v":1},{"$f":"IFERROR(VLOOKUP($A76,FILTRO!$A70:$AY695,21,FALSE),0)","v":4},{"$f":"IFERROR(VLOOKUP($A76,FILTRO!$A70:$AY695,22,FALSE),0)","v":3},{"$f":"IFERROR(VLOOKUP($A76,FILTRO!$A70:$AY695,23,FALSE),0)","v":3},{"$f":"IFERROR(VLOOKUP($A76,FILTRO!$A70:$AY695,24,FALSE),0)","v":6},{"$f":"IFERROR(VLOOKUP($A76,FILTRO!$A70:$AY695,25,FALSE),0)","v":5},{"$f":"IFERROR(VLOOKUP($A76,FILTRO!$A70:$AY695,26,FALSE),0)","v":5},{"$f":"IFERROR(VLOOKUP($A76,FILTRO!$A70:$AY695,27,FALSE),0)","v":6},{"$f":"IFERROR(VLOOKUP($A76,FILTRO!$A70:$AY695,28,FALSE),0)","v":3},{"$f":"IFERROR(VLOOKUP($A76,FILTRO!$A70:$AY695,29,FALSE),0)","v":19},{"$f":"IFERROR(VLOOKUP($A76,FILTRO!$A70:$AY695,30,FALSE),0)","v":19},{"$f":"IFERROR(VLOOKUP($A76,FILTRO!$A70:$AY695,31,FALSE),0)","v":33},{"$f":"IFERROR(VLOOKUP($A76,FILTRO!$A70:$AY695,32,FALSE),0)","v":19},{"$f":"IFERROR(VLOOKUP($A76,FILTRO!$A70:$AY695,33,FALSE),0)","v":44},{"$f":"IFERROR(VLOOKUP($A76,FILTRO!$A70:$AY695,34,FALSE),0)","v":19},{"$f":"IFERROR(VLOOKUP($A76,FILTRO!$A70:$AY695,35,FALSE),0)","v":53},{"$f":"IFERROR(VLOOKUP($A76,FILTRO!$A70:$AY695,36,FALSE),0)","v":31},{"$f":"IFERROR(VLOOKUP($A76,FILTRO!$A70:$AY695,37,FALSE),0)","v":85},{"$f":"IFERROR(VLOOKUP($A76,FILTRO!$A70:$AY695,38,FALSE),0)","v":35}]
["P3171500",null,"Mejora en relación a  año anterior",{"$f":"IFERROR(VLOOKUP($A77,FILTRO!$A71:$AY696,2,FALSE),0)","v":192},{"$f":"IFERROR(VLOOKUP($A77,FILTRO!$A71:$AY696,3,FALSE),0)","v":139},{"$f":"IFERROR(VLOOKUP($A77,FILTRO!$A71:$AY696,4,FALSE),0)","v":53},{"$f":"IFERROR(VLOOKUP($A77,FILTRO!$A71:$AY696,5,FALSE),0)","v":0},{"$f":"IFERROR(VLOOKUP($A77,FILTRO!$A71:$AY696,6,FALSE),0)","v":1},{"$f":"IFERROR(VLOOKUP($A77,FILTRO!$A71:$AY696,7,FALSE),0)","v":0},{"$f":"IFERROR(VLOOKUP($A77,FILTRO!$A71:$AY696,8,FALSE),0)","v":0},{"$f":"IFERROR(VLOOKUP($A77,FILTRO!$A71:$AY696,9,FALSE),0)","v":0},{"$f":"IFERROR(VLOOKUP($A77,FILTRO!$A71:$AY696,10,FALSE),0)","v":0},{"$f":"IFERROR(VLOOKUP($A77,FILTRO!$A71:$AY696,11,FALSE),0)","v":0},{"$f":"IFERROR(VLOOKUP($A77,FILTRO!$A71:$AY696,12,FALSE),0)","v":0},{"$f":"IFERROR(VLOOKUP($A77,FILTRO!$A71:$AY696,13,FALSE),0)","v":0},{"$f":"IFERROR(VLOOKUP($A77,FILTRO!$A71:$AY696,14,FALSE),0)","v":0},{"$f":"IFERROR(VLOOKUP($A77,FILTRO!$A71:$AY696,15,FALSE),0)","v":0},{"$f":"IFERROR(VLOOKUP($A77,FILTRO!$A71:$AY696,16,FALSE),0)","v":0},{"$f":"IFERROR(VLOOKUP($A77,FILTRO!$A71:$AY696,17,FALSE),0)","v":0},{"$f":"IFERROR(VLOOKUP($A77,FILTRO!$A71:$AY696,18,FALSE),0)","v":1},{"$f":"IFERROR(VLOOKUP($A77,FILTRO!$A71:$AY696,19,FALSE),0)","v":0},{"$f":"IFERROR(VLOOKUP($A77,FILTRO!$A71:$AY696,20,FALSE),0)","v":0},{"$f":"IFERROR(VLOOKUP($A77,FILTRO!$A71:$AY696,21,FALSE),0)","v":2},{"$f":"IFERROR(VLOOKUP($A77,FILTRO!$A71:$AY696,22,FALSE),0)","v":1},{"$f":"IFERROR(VLOOKUP($A77,FILTRO!$A71:$AY696,23,FALSE),0)","v":2},{"$f":"IFERROR(VLOOKUP($A77,FILTRO!$A71:$AY696,24,FALSE),0)","v":2},{"$f":"IFERROR(VLOOKUP($A77,FILTRO!$A71:$AY696,25,FALSE),0)","v":1},{"$f":"IFERROR(VLOOKUP($A77,FILTRO!$A71:$AY696,26,FALSE),0)","v":1},{"$f":"IFERROR(VLOOKUP($A77,FILTRO!$A71:$AY696,27,FALSE),0)","v":4},{"$f":"IFERROR(VLOOKUP($A77,FILTRO!$A71:$AY696,28,FALSE),0)","v":1},{"$f":"IFERROR(VLOOKUP($A77,FILTRO!$A71:$AY696,29,FALSE),0)","v":16},{"$f":"IFERROR(VLOOKUP($A77,FILTRO!$A71:$AY696,30,FALSE),0)","v":6},{"$f":"IFERROR(VLOOKUP($A77,FILTRO!$A71:$AY696,31,FALSE),0)","v":20},{"$f":"IFERROR(VLOOKUP($A77,FILTRO!$A71:$AY696,32,FALSE),0)","v":7},{"$f":"IFERROR(VLOOKUP($A77,FILTRO!$A71:$AY696,33,FALSE),0)","v":30},{"$f":"IFERROR(VLOOKUP($A77,FILTRO!$A71:$AY696,34,FALSE),0)","v":4},{"$f":"IFERROR(VLOOKUP($A77,FILTRO!$A71:$AY696,35,FALSE),0)","v":32},{"$f":"IFERROR(VLOOKUP($A77,FILTRO!$A71:$AY696,36,FALSE),0)","v":16},{"$f":"IFERROR(VLOOKUP($A77,FILTRO!$A71:$AY696,37,FALSE),0)","v":32},{"$f":"IFERROR(VLOOKUP($A77,FILTRO!$A71:$AY696,38,FALSE),0)","v":13}]
["P3171600",null,"No mejora en relación a año anterior",{"$f":"IFERROR(VLOOKUP($A78,FILTRO!$A72:$AY697,2,FALSE),0)","v":79},{"$f":"IFERROR(VLOOKUP($A78,FILTRO!$A72:$AY697,3,FALSE),0)","v":47},{"$f":"IFERROR(VLOOKUP($A78,FILTRO!$A72:$AY697,4,FALSE),0)","v":32},{"$f":"IFERROR(VLOOKUP($A78,FILTRO!$A72:$AY697,5,FALSE),0)","v":0},{"$f":"IFERROR(VLOOKUP($A78,FILTRO!$A72:$AY697,6,FALSE),0)","v":0},{"$f":"IFERROR(VLOOKUP($A78,FILTRO!$A72:$AY697,7,FALSE),0)","v":0},{"$f":"IFERROR(VLOOKUP($A78,FILTRO!$A72:$AY697,8,FALSE),0)","v":0},{"$f":"IFERROR(VLOOKUP($A78,FILTRO!$A72:$AY697,9,FALSE),0)","v":0},{"$f":"IFERROR(VLOOKUP($A78,FILTRO!$A72:$AY697,10,FALSE),0)","v":0},{"$f":"IFERROR(VLOOKUP($A78,FILTRO!$A72:$AY697,11,FALSE),0)","v":0},{"$f":"IFERROR(VLOOKUP($A78,FILTRO!$A72:$AY697,12,FALSE),0)","v":0},{"$f":"IFERROR(VLOOKUP($A78,FILTRO!$A72:$AY697,13,FALSE),0)","v":0},{"$f":"IFERROR(VLOOKUP($A78,FILTRO!$A72:$AY697,14,FALSE),0)","v":0},{"$f":"IFERROR(VLOOKUP($A78,FILTRO!$A72:$AY697,15,FALSE),0)","v":0},{"$f":"IFERROR(VLOOKUP($A78,FILTRO!$A72:$AY697,16,FALSE),0)","v":0},{"$f":"IFERROR(VLOOKUP($A78,FILTRO!$A72:$AY697,17,FALSE),0)","v":0},{"$f":"IFERROR(VLOOKUP($A78,FILTRO!$A72:$AY697,18,FALSE),0)","v":1},{"$f":"IFERROR(VLOOKUP($A78,FILTRO!$A72:$AY697,19,FALSE),0)","v":0},{"$f":"IFERROR(VLOOKUP($A78,FILTRO!$A72:$AY697,20,FALSE),0)","v":0},{"$f":"IFERROR(VLOOKUP($A78,FILTRO!$A72:$AY697,21,FALSE),0)","v":2},{"$f":"IFERROR(VLOOKUP($A78,FILTRO!$A72:$AY697,22,FALSE),0)","v":0},{"$f":"IFERROR(VLOOKUP($A78,FILTRO!$A72:$AY697,23,FALSE),0)","v":0},{"$f":"IFERROR(VLOOKUP($A78,FILTRO!$A72:$AY697,24,FALSE),0)","v":1},{"$f":"IFERROR(VLOOKUP($A78,FILTRO!$A72:$AY697,25,FALSE),0)","v":0},{"$f":"IFERROR(VLOOKUP($A78,FILTRO!$A72:$AY697,26,FALSE),0)","v":0},{"$f":"IFERROR(VLOOKUP($A78,FILTRO!$A72:$AY697,27,FALSE),0)","v":2},{"$f":"IFERROR(VLOOKUP($A78,FILTRO!$A72:$AY697,28,FALSE),0)","v":1},{"$f":"IFERROR(VLOOKUP($A78,FILTRO!$A72:$AY697,29,FALSE),0)","v":1},{"$f":"IFERROR(VLOOKUP($A78,FILTRO!$A72:$AY697,30,FALSE),0)","v":8},{"$f":"IFERROR(VLOOKUP($A78,FILTRO!$A72:$AY697,31,FALSE),0)","v":4},{"$f":"IFERROR(VLOOKUP($A78,FILTRO!$A72:$AY697,32,FALSE),0)","v":2},{"$f":"IFERROR(VLOOKUP($A78,FILTRO!$A72:$AY697,33,FALSE),0)","v":5},{"$f":"IFERROR(VLOOKUP($A78,FILTRO!$A72:$AY697,34,FALSE),0)","v":4},{"$f":"IFERROR(VLOOKUP($A78,FILTRO!$A72:$AY697,35,FALSE),0)","v":6},{"$f":"IFERROR(VLOOKUP($A78,FILTRO!$A72:$AY697,36,FALSE),0)","v":4},{"$f":"IFERROR(VLOOKUP($A78,FILTRO!$A72:$AY697,37,FALSE),0)","v":27},{"$f":"IFERROR(VLOOKUP($A78,FILTRO!$A72:$AY697,38,FALSE),0)","v":11}]
[]
[]
[]
["CODIGOS ELIMINADOS"]
["P3130201"]
["P3160900"]
["P3160940"]
[]
[null,{"$f":"SUM(D12:AQ36,E46:I46,D51:AN51,D59:AN65)","v":264269},"datos"]
[null,{"$f":"SUM(CJ11:CP78)","v":0},"errores"]
[]
["CODIGOS NUEVOS"]
["P3171610"]
["P3171611"]
["P3171612"]
["P3171613"]
["P3171614"]
["P3171615"]

{"sheet":"P4","index":5,"n_rows":101,"n_cols":124,"rows_kept":101,"merged":[[6,1,6,21],[8,1,10,2],[8,3,9,5],[8,6,8,33],[8,34,9,35],[8,36,9,37],[8,38,10,38],[8,56,9,57],[8,58,9,59],[8,60,10,60],[8,62,9,62],[8,63,9,63],[9,6,9,7],[9,8,9,9],[9,10,9,11],[9,12,9,13],[9,14,9,15],[9,16,9,17],[9,18,9,19],[9,20,9,21],[9,22,9,23],[9,24,9,25],[9,26,9,27],[9,28,9,29],[9,30,9,31],[9,32,9,33],[11,1,11,2],[12,1,14,1],[15,1,20,1],[21,1,28,1],[29,1,29,2],[30,1,32,2],[30,3,31,5],[30,6,30,33],[30,34,31,35],[30,36,31,37],[31,6,31,7],[31,8,31,9],[31,10,31,11],[31,12,31,13],[31,14,31,15],[31,16,31,17],[31,18,31,19],[31,20,31,21],[31,22,31,23],[31,24,31,25],[31,26,31,27],[31,28,31,29],[31,30,31,31],[31,32,31,33],[33,1,34,1],[35,1,37,1],[39,1,41,1],[43,1,45,2],[43,3,44,5],[43,6,43,33],[43,34,44,35],[43,36,44,37],[43,56,44,57],[43,58,44,59],[43,62,44,62],[43,63,44,63],[43,92,44,93],[43,94,44,95],[43,100,44,100],[43,101,44,101],[44,6,44,7],[44,8,44,9],[44,10,44,11],[44,12,44,13],[44,14,44,15],[44,16,44,17],[44,18,44,19],[44,20,44,21],[44,22,44,23],[44,24,44,25],[44,26,44,27],[44,28,44,29],[44,30,44,31],[44,32,44,33],[46,3,46,37],[47,1,47,2],[48,1,48,2],[49,1,49,2],[50,1,50,2],[51,1,51,2],[52,1,52,2],[53,1,53,2],[54,1,54,2],[55,1,55,2],[57,1,57,2],[59,1,59,2],[60,1,63,1],[64,1,66,1],[67,1,67,2],[68,1,68,2],[69,1,69,2],[70,1,70,2],[74,3,74,37],[75,1,75,2],[76,1,76,2],[77,1,77,2],[78,1,78,2],[79,1,79,2],[80,1,80,2],[80,3,80,37],[81,1,81,2],[82,1,82,2],[83,1,83,2],[84,1,84,2],[85,1,85,2]]}
[null,"DATOS DEL ESTABLECIMIENTO"]
[null,{"$f":"CONCATENATE(\"COMUNA: \",NOMBRE!$B$2,\" - \",\"( \",NOMBRE!$C$2,NOMBRE!$D$2,NOMBRE!$E$2,NOMBRE!$F$2,NOMBRE!$G$2,\" )\")","v":"COMUNA:  - (  )"}]
[null,{"$f":"CONCATENATE(\"ESTABLECIMIENTO/ESTRATEGIA: \",NOMBRE!$B$3,\" - \",\"( \",NOMBRE!$C$3,NOMBRE!$D$3,NOMBRE!$E$3,NOMBRE!$F$3,NOMBRE!$G$3,NOMBRE!$H$3,\" )\")","v":"ESTABLECIMIENTO/ESTRATEGIA:  - (  )"}]
[null,{"$f":"CONCATENATE(\"MES: \",NOMBRE!$B$6,\" - \",\"( \",NOMBRE!$C$6,NOMBRE!$D$6,\" )\")","v":"MES:  - (  )"}]
[null,{"$f":"CONCATENATE(\"AÑO: \",NOMBRE!$B$7)","v":"AÑO: 2023"}]
[]
[null,"REM-P4. POBLACIÓN EN CONTROL PROGRAMA DE SALUD CARDIOVASCULAR (PSCV)"]
[null,"SECCIÓN A: PROGRAMA SALUD CARDIOVASCULAR (PSCV)"]
[null,"CONCEPTO",null,"TOTAL ",null,null,"GRUPOS DE EDAD (en años) Y SEXO",{"$nulls":27},"Pueblos Originarios",null," Migrantes",null,"Pacientes Diabéticos",{"$nulls":17},"Pueblos Originarios",null,"Población Migrantes",null,"Pacientes Diabéticos",null,"Pueblos Originarios","Población Migrantes"]
[{"$nulls":6},"15 a 19 años",null,"20 a 24 años",null,"25 a 29 años",null,"30 a 34 años",null,"35 a 39 años",null,"40 a 44 años",null,"45 a 49 años",null,"50 a 54 años",null,"55 a 59 años",null,"60 a 64 años",null,"65 a 69 años",null,"70 a 74 años",null,"75 a 79 años",null,"80 y más años"]
[{"$nulls":3},"Ambos sexos","Hombres","Mujeres","Hombres","Mujeres","Hombres","Mujeres","Hombres","Mujeres","Hombres","Mujeres","Hombres","Mujeres","Hombres","Mujeres","Hombres","Mujeres","Hombres","Mujeres","Hombres","Mujeres","Hombres","Mujeres","Hombres ","Mujeres","Hombres ","Mujeres","Hombres ","Mujeres","Hombres ","Mujeres","Hombres","Mujeres","Hombres","Mujeres",{"$nulls":18},"Hombres","Mujeres","Hombres","Mujeres",null,null,"No Olvide","No Olvide"]
["P4150100","NUMERO DE PERSONAS EN PSCV",null,{"$f":"IFERROR(VLOOKUP($A12,FILTRO!$A6:$AY631,2,FALSE),0)","v":106189},{"$f":"IFERROR(VLOOKUP($A12,FILTRO!$A6:$AY631,3,FALSE),0)","v":38372},{"$f":"IFERROR(VLOOKUP($A12,FILTRO!$A6:$AY631,4,FALSE),0)","v":67817},{"$f":"IFERROR(VLOOKUP($A12,FILTRO!$A6:$AY631,5,FALSE),0)","v":64},{"$f":"IFERROR(VLOOKUP($A12,FILTRO!$A6:$AY631,6,FALSE),0)","v":52},{"$f":"IFERROR(VLOOKUP($A12,FILTRO!$A6:$AY631,7,FALSE),0)","v":95},{"$f":"IFERROR(VLOOKUP($A12,FILTRO!$A6:$AY631,8,FALSE),0)","v":182},{"$f":"IFERROR(VLOOKUP($A12,FILTRO!$A6:$AY631,9,FALSE),0)","v":178},{"$f":"IFERROR(VLOOKUP($A12,FILTRO!$A6:$AY631,10,FALSE),0)","v":416},{"$f":"IFERROR(VLOOKUP($A12,FILTRO!$A6:$AY631,11,FALSE),0)","v":365},{"$f":"IFERROR(VLOOKUP($A12,FILTRO!$A6:$AY631,12,FALSE),0)","v":800},{"$f":"IFERROR(VLOOKUP($A12,FILTRO!$A6:$AY631,13,FALSE),0)","v":600},{"$f":"IFERROR(VLOOKUP($A12,FILTRO!$A6:$AY631,14,FALSE),0)","v":1387},{"$f":"IFERROR(VLOOKUP($A12,FILTRO!$A6:$AY631,15,FALSE),0)","v":1038},{"$f":"IFERROR(VLOOKUP($A12,FILTRO!$A6:$AY631,16,FALSE),0)","v":2428},{"$f":"IFERROR(VLOOKUP($A12,FILTRO!$A6:$AY631,17,FALSE),0)","v":1703},{"$f":"IFERROR(VLOOKUP($A12,FILTRO!$A6:$AY631,18,FALSE),0)","v":3712},{"$f":"IFERROR(VLOOKUP($A12,FILTRO!$A6:$AY631,19,FALSE),0)","v":2616},{"$f":"IFERROR(VLOOKUP($A12,FILTRO!$A6:$AY631,20,FALSE),0)","v":5927},{"$f":"IFERROR(VLOOKUP($A12,FILTRO!$A6:$AY631,21,FALSE),0)","v":3883},{"$f":"IFERROR(VLOOKUP($A12,FILTRO!$A6:$AY631,22,FALSE),0)","v":8336},{"$f":"IFERROR(VLOOKUP($A12,FILTRO!$A6:$AY631,23,FALSE),0)","v":5191},{"$f":"IFERROR(VLOOKUP($A12,FILTRO!$A6:$AY631,24,FALSE),0)","v":9249},{"$f":"IFERROR(VLOOKUP($A12,FILTRO!$A6:$AY631,25,FALSE),0)","v":5955},{"$f":"IFERROR(VLOOKUP($A12,FILTRO!$A6:$AY631,26,FALSE),0)","v":9574},{"$f":"IFERROR(VLOOKUP($A12,FILTRO!$A6:$AY631,27,FALSE),0)","v":5755},{"$f":"IFERROR(VLOOKUP($A12,FILTRO!$A6:$AY631,28,FALSE),0)","v":8695},{"$f":"IFERROR(VLOOKUP($A12,FILTRO!$A6:$AY631,29,FALSE),0)","v":4799},{"$f":"IFERROR(VLOOKUP($A12,FILTRO!$A6:$AY631,30,FALSE),0)","v":7331},{"$f":"IFERROR(VLOOKUP($A12,FILTRO!$A6:$AY631,31,FALSE),0)","v":6130},{"$f":"IFERROR(VLOOKUP($A12,FILTRO!$A6:$AY631,32,FALSE),0)","v":9728},{"$f":"IFERROR(VLOOKUP($A12,FILTRO!$A6:$AY631,33,FALSE),0)","v":361},{"$f":"IFERROR(VLOOKUP($A12,FILTRO!$A6:$AY631,34,FALSE),0)","v":678},{"$f":"IFERROR(VLOOKUP($A12,FILTRO!$A6:$AY631,35,FALSE),0)","v":224},{"$f":"IFERROR(VLOOKUP($A12,FILTRO!$A6:$AY631,36,FALSE),0)","v":428},{"$f":"IFERROR(VLOOKUP($A12,FILTRO!$A6:$AY631,37,FALSE),0)","v":0}]
["P4190100","CLASIFICACIÓN DEL\nRIESGO\nCARDIOVASCULAR","BAJO",{"$f":"IFERROR(VLOOKUP($A13,FILTRO!$A7:$AY632,2,FALSE),0)","v":21487},{"$f":"IFERROR(VLOOKUP($A13,FILTRO!$A7:$AY632,3,FALSE),0)","v":6191},{"$f":"IFERROR(VLOOKUP($A13,FILTRO!$A7:$AY632,4,FALSE),0)","v":15296},{"$f":"IFERROR(VLOOKUP($A13,FILTRO!$A7:$AY632,5,FALSE),0)","v":28},{"$f":"IFERROR(VLOOKUP($A13,FILTRO!$A7:$AY632,6,FALSE),0)","v":30},{"$f":"IFERROR(VLOOKUP($A13,FILTRO!$A7:$AY632,7,FALSE),0)","v":31},{"$f":"IFERROR(VLOOKUP($A13,FILTRO!$A7:$AY632,8,FALSE),0)","v":78},{"$f":"IFERROR(VLOOKUP($A13,FILTRO!$A7:$AY632,9,FALSE),0)","v":58},{"$f":"IFERROR(VLOOKUP($A13,FILTRO!$A7:$AY632,10,FALSE),0)","v":160},{"$f":"IFERROR(VLOOKUP($A13,FILTRO!$A7:$AY632,11,FALSE),0)","v":107},{"$f":"IFERROR(VLOOKUP($A13,FILTRO!$A7:$AY632,12,FALSE),0)","v":264},{"$f":"IFERROR(VLOOKUP($A13,FILTRO!$A7:$AY632,13,FALSE),0)","v":167},{"$f":"IFERROR(VLOOKUP($A13,FILTRO!$A7:$AY632,14,FALSE),0)","v":428},{"$f":"IFERROR(VLOOKUP($A13,FILTRO!$A7:$AY632,15,FALSE),0)","v":261},{"$f":"IFERROR(VLOOKUP($A13,FILTRO!$A7:$AY632,16,FALSE),0)","v":740},{"$f":"IFERROR(VLOOKUP($A13,FILTRO!$A7:$AY632,17,FALSE),0)","v":410},{"$f":"IFERROR(VLOOKUP($A13,FILTRO!$A7:$AY632,18,FALSE),0)","v":1067},{"$f":"IFERROR(VLOOKUP($A13,FILTRO!$A7:$AY632,19,FALSE),0)","v":554},{"$f":"IFERROR(VLOOKUP($A13,FILTRO!$A7:$AY632,20,FALSE),0)","v":1646},{"$f":"IFERROR(VLOOKUP($A13,FILTRO!$A7:$AY632,21,FALSE),0)","v":725},{"$f":"IFERROR(VLOOKUP($A13,FILTRO!$A7:$AY632,22,FALSE),0)","v":2096},{"$f":"IFERROR(VLOOKUP($A13,FILTRO!$A7:$AY632,23,FALSE),0)","v":897},{"$f":"IFERROR(VLOOKUP($A13,FILTRO!$A7:$AY632,24,FALSE),0)","v":2052},{"$f":"IFERROR(VLOOKUP($A13,FILTRO!$A7:$AY632,25,FALSE),0)","v":907},{"$f":"IFERROR(VLOOKUP($A13,FILTRO!$A7:$AY632,26,FALSE),0)","v":2072},{"$f":"IFERROR(VLOOKUP($A13,FILTRO!$A7:$AY632,27,FALSE),0)","v":786},{"$f":"IFERROR(VLOOKUP($A13,FILTRO!$A7:$AY632,28,FALSE),0)","v":1833},{"$f":"IFERROR(VLOOKUP($A13,FILTRO!$A7:$AY632,29,FALSE),0)","v":652},{"$f":"IFERROR(VLOOKUP($A13,FILTRO!$A7:$AY632,30,FALSE),0)","v":1534},{"$f":"IFERROR(VLOOKUP($A13,FILTRO!$A7:$AY632,31,FALSE),0)","v":608},{"$f":"IFERROR(VLOOKUP($A13,FILTRO!$A7:$AY632,32,FALSE),0)","v":1296},{"$f":"IFERROR(VLOOKUP($A13,FILTRO!$A7:$AY632,33,FALSE),0)","v":134},{"$f":"IFERROR(VLOOKUP($A13,FILTRO!$A7:$AY632,34,FALSE),0)","v":275},{"$f":"IFERROR(VLOOKUP($A13,FILTRO!$A7:$AY632,35,FALSE),0)","v":75},{"$f":"IFERROR(VLOOKUP($A13,FILTRO!$A7:$AY632,36,FALSE),0)","v":151},{"$f":"IFERROR(VLOOKUP($A13,FILTRO!$A7:$AY632,37,FALSE),0)","v":0},{"$f":" BE13 & BF13 & BG13 & BH13 & BI13 & BK13 & BL13","v":"* El numero de Personas en PSCV de ambos sexo debe ser igua al total de detección y prevención de la progresión de la enfermedad renal crónica de ambos sexo. "},{"$nulls":16},{"$f":"IF($E13>=$AI13,\"\",\"* Pueblos Originarios-Hombres no debe ser mayor al Total de personas en PSCV. \")","v":""},{"$f":"IF($F13>=$AJ13,\"\",\"* Pueblos Originarios-Mujeres no debe ser mayor al Total de personas en PSCV. \")","v":""},{"$f":"IF($E13>=$AK13,\"\",\"* Población Migrantes-Hombres no debe ser mayor al Total de personas en PSCV. \")","v":""},{"$f":"IF($F13>=$AL13,\"\",\"* Población Migrantes-Mujeres no debe ser mayor al Total de personas en PSCV. \")","v":""},{"$f":"IF(D12<>D29, \"* El numero de Personas en PSCV de ambos sexo debe ser igua al total de detección y prevención de la progresión de la enfermedad renal crónica de ambos sexo. \",\"\")","v":"* El numero de Personas en PSCV de ambos sexo debe ser igua al total de detección y prevención de la progresión de la enfermedad renal crónica de ambos sexo. "},null,{"$f":"IF(AND(E13<>0,AI13=\"\"),\"* No olvide escribir en la celda de 'Pueblos Originarios' (Digite CERO si no tiene). \",IF(AND(F13<>0,AJ13=\"\"),\"* No olvide escribir en la celda de 'Pueblos Originarios' (Digite CERO si no tiene). \",\"\"))","v":""},{"$f":"IF(AND(E13<>0,AK13=\"\"),\"* No olvide escribir en la celda de 'Población Migrantes' (Digite CERO si no tiene). \",IF(AND(F13<>0,AL13=\"\"),\"* No olvide escribir en la celda de 'Población Migrantes' (Digite CERO si no tiene). \",\"\"))","v":""},{"$nulls":28},{"$f":"IF($E13>=$AI13,0,1)","v":0},{"$f":"IF($F13>=$AJ13,0,1)","v":0},{"$f":"IF($E13>=$AK13,0,1)","v":0},{"$f":"IF($F13>=$AL13,0,1)","v":0},{"$f":"IF(D12<>D29, 1,0)","v":1},{"$nulls":3},{"$f":"IF(AND(E15<>0,AI15=\"\"),1,IF(AND(F15<>0,AJ15=\"\"),1,0))","v":0},{"$f":"IF(AND(E15<>0,AK15=\"\"),1,IF(AND(F15<>0,AL15=\"\"),1,0))","v":0}]
["P4150703",null,"MODERADO",{"$f":"IFERROR(VLOOKUP($A14,FILTRO!$A8:$AY633,2,FALSE),0)","v":27988},{"$f":"IFERROR(VLOOKUP($A14,FILTRO!$A8:$AY633,3,FALSE),0)","v":9373},{"$f":"IFERROR(VLOOKUP($A14,FILTRO!$A8:$AY633,4,FALSE),0)","v":18615},{"$f":"IFERROR(VLOOKUP($A14,FILTRO!$A8:$AY633,5,FALSE),0)","v":11},{"$f":"IFERROR(VLOOKUP($A14,FILTRO!$A8:$AY633,6,FALSE),0)","v":8},{"$f":"IFERROR(VLOOKUP($A14,FILTRO!$A8:$AY633,7,FALSE),0)","v":29},{"$f":"IFERROR(VLOOKUP($A14,FILTRO!$A8:$AY633,8,FALSE),0)","v":46},{"$f":"IFERROR(VLOOKUP($A14,FILTRO!$A8:$AY633,9,FALSE),0)","v":52},{"$f":"IFERROR(VLOOKUP($A14,FILTRO!$A8:$AY633,10,FALSE),0)","v":99},{"$f":"IFERROR(VLOOKUP($A14,FILTRO!$A8:$AY633,11,FALSE),0)","v":116},{"$f":"IFERROR(VLOOKUP($A14,FILTRO!$A8:$AY633,12,FALSE),0)","v":196},{"$f":"IFERROR(VLOOKUP($A14,FILTRO!$A8:$AY633,13,FALSE),0)","v":143},{"$f":"IFERROR(VLOOKUP($A14,FILTRO!$A8:$AY633,14,FALSE),0)","v":363},{"$f":"IFERROR(VLOOKUP($A14,FILTRO!$A8:$AY633,15,FALSE),0)","v":260},{"$f":"IFERROR(VLOOKUP($A14,FILTRO!$A8:$AY633,16,FALSE),0)","v":678},{"$f":"IFERROR(VLOOKUP($A14,FILTRO!$A8:$AY633,17,FALSE),0)","v":386},{"$f":"IFERROR(VLOOKUP($A14,FILTRO!$A8:$AY633,18,FALSE),0)","v":1072},{"$f":"IFERROR(VLOOKUP($A14,FILTRO!$A8:$AY633,19,FALSE),0)","v":657},{"$f":"IFERROR(VLOOKUP($A14,FILTRO!$A8:$AY633,20,FALSE),0)","v":1756},{"$f":"IFERROR(VLOOKUP($A14,FILTRO!$A8:$AY633,21,FALSE),0)","v":1043},{"$f":"IFERROR(VLOOKUP($A14,FILTRO!$A8:$AY633,22,FALSE),0)","v":2357},{"$f":"IFERROR(VLOOKUP($A14,FILTRO!$A8:$AY633,23,FALSE),0)","v":1278},{"$f":"IFERROR(VLOOKUP($A14,FILTRO!$A8:$AY633,24,FALSE),0)","v":2697},{"$f":"IFERROR(VLOOKUP($A14,FILTRO!$A8:$AY633,25,FALSE),0)","v":1387},{"$f":"IFERROR(VLOOKUP($A14,FILTRO!$A8:$AY633,26,FALSE),0)","v":2715},{"$f":"IFERROR(VLOOKUP($A14,FILTRO!$A8:$AY633,27,FALSE),0)","v":1457},{"$f":"IFERROR(VLOOKUP($A14,FILTRO!$A8:$AY633,28,FALSE),0)","v":2442},{"$f":"IFERROR(VLOOKUP($A14,FILTRO!$A8:$AY633,29,FALSE),0)","v":1276},{"$f":"IFERROR(VLOOKUP($A14,FILTRO!$A8:$AY633,30,FALSE),0)","v":2008},{"$f":"IFERROR(VLOOKUP($A14,FILTRO!$A8:$AY633,31,FALSE),0)","v":1278},{"$f":"IFERROR(VLOOKUP($A14,FILTRO!$A8:$AY633,32,FALSE),0)","v":2178},{"$f":"IFERROR(VLOOKUP($A14,FILTRO!$A8:$AY633,33,FALSE),0)","v":89},{"$f":"IFERROR(VLOOKUP($A14,FILTRO!$A8:$AY633,34,FALSE),0)","v":184},{"$f":"IFERROR(VLOOKUP($A14,FILTRO!$A8:$AY633,35,FALSE),0)","v":47},{"$f":"IFERROR(VLOOKUP($A14,FILTRO!$A8:$AY633,36,FALSE),0)","v":111},{"$f":"IFERROR(VLOOKUP($A14,FILTRO!$A8:$AY633,37,FALSE),0)","v":0},{"$f":" BE14 & BF14 & BG14 & BH14 & BK14 & BL14","v":""},{"$nulls":16},"","","","",null,null,"","",{"$nulls":28},{"$f":"IF($E14>=$AI14,0,1)","v":0},{"$f":"IF($F14>=$AJ14,0,1)","v":0},{"$f":"IF($E14>=$AK14,0,1)","v":0},{"$f":"IF($F14>=$AL14,0,1)","v":0},{"$nulls":4},{"$f":"IF(AND(E16<>0,AI16=\"\"),1,IF(AND(F16<>0,AJ16=\"\"),1,0))","v":0},{"$f":"IF(AND(E16<>0,AK16=\"\"),1,IF(AND(F16<>0,AL16=\"\"),1,0))","v":0}]
["P4150801",null,"ALTO",{"$f":"IFERROR(VLOOKUP($A15,FILTRO!$A9:$AY634,2,FALSE),0)","v":56714},{"$f":"IFERROR(VLOOKUP($A15,FILTRO!$A9:$AY634,3,FALSE),0)","v":22808},{"$f":"IFERROR(VLOOKUP($A15,FILTRO!$A9:$AY634,4,FALSE),0)","v":33906},{"$f":"IFERROR(VLOOKUP($A15,FILTRO!$A9:$AY634,5,FALSE),0)","v":25},{"$f":"IFERROR(VLOOKUP($A15,FILTRO!$A9:$AY634,6,FALSE),0)","v":14},{"$f":"IFERROR(VLOOKUP($A15,FILTRO!$A9:$AY634,7,FALSE),0)","v":35},{"$f":"IFERROR(VLOOKUP($A15,FILTRO!$A9:$AY634,8,FALSE),0)","v":58},{"$f":"IFERROR(VLOOKUP($A15,FILTRO!$A9:$AY634,9,FALSE),0)","v":68},{"$f":"IFERROR(VLOOKUP($A15,FILTRO!$A9:$AY634,10,FALSE),0)","v":157},{"$f":"IFERROR(VLOOKUP($A15,FILTRO!$A9:$AY634,11,FALSE),0)","v":142},{"$f":"IFERROR(VLOOKUP($A15,FILTRO!$A9:$AY634,12,FALSE),0)","v":340},{"$f":"IFERROR(VLOOKUP($A15,FILTRO!$A9:$AY634,13,FALSE),0)","v":290},{"$f":"IFERROR(VLOOKUP($A15,FILTRO!$A9:$AY634,14,FALSE),0)","v":596},{"$f":"IFERROR(VLOOKUP($A15,FILTRO!$A9:$AY634,15,FALSE),0)","v":517},{"$f":"IFERROR(VLOOKUP($A15,FILTRO!$A9:$AY634,16,FALSE),0)","v":1010},{"$f":"IFERROR(VLOOKUP($A15,FILTRO!$A9:$AY634,17,FALSE),0)","v":907},{"$f":"IFERROR(VLOOKUP($A15,FILTRO!$A9:$AY634,18,FALSE),0)","v":1573},{"$f":"IFERROR(VLOOKUP($A15,FILTRO!$A9:$AY634,19,FALSE),0)","v":1405},{"$f":"IFERROR(VLOOKUP($A15,FILTRO!$A9:$AY634,20,FALSE),0)","v":2525},{"$f":"IFERROR(VLOOKUP($A15,FILTRO!$A9:$AY634,21,FALSE),0)","v":2115},{"$f":"IFERROR(VLOOKUP($A15,FILTRO!$A9:$AY634,22,FALSE),0)","v":3883},{"$f":"IFERROR(VLOOKUP($A15,FILTRO!$A9:$AY634,23,FALSE),0)","v":3016},{"$f":"IFERROR(VLOOKUP($A15,FILTRO!$A9:$AY634,24,FALSE),0)","v":4500},{"$f":"IFERROR(VLOOKUP($A15,FILTRO!$A9:$AY634,25,FALSE),0)","v":3661},{"$f":"IFERROR(VLOOKUP($A15,FILTRO!$A9:$AY634,26,FALSE),0)","v":4787},{"$f":"IFERROR(VLOOKUP($A15,FILTRO!$A9:$AY634,27,FALSE),0)","v":3512},{"$f":"IFERROR(VLOOKUP($A15,FILTRO!$A9:$AY634,28,FALSE),0)","v":4420},{"$f":"IFERROR(VLOOKUP($A15,FILTRO!$A9:$AY634,29,FALSE),0)","v":2871},{"$f":"IFERROR(VLOOKUP($A15,FILTRO!$A9:$AY634,30,FALSE),0)","v":3789},{"$f":"IFERROR(VLOOKUP($A15,FILTRO!$A9:$AY634,31,FALSE),0)","v":4244},{"$f":"IFERROR(VLOOKUP($A15,FILTRO!$A9:$AY634,32,FALSE),0)","v":6254},{"$f":"IFERROR(VLOOKUP($A15,FILTRO!$A9:$AY634,33,FALSE),0)","v":138},{"$f":"IFERROR(VLOOKUP($A15,FILTRO!$A9:$AY634,34,FALSE),0)","v":219},{"$f":"IFERROR(VLOOKUP($A15,FILTRO!$A9:$AY634,35,FALSE),0)","v":102},{"$f":"IFERROR(VLOOKUP($A15,FILTRO!$A9:$AY634,36,FALSE),0)","v":166},{"$f":"IFERROR(VLOOKUP($A15,FILTRO!$A9:$AY634,37,FALSE),0)","v":0},"",{"$nulls":16},"","","","",null,null,"","",{"$nulls":28},0,0,0,0,{"$nulls":4},0,0]
["P4150601","PERSONAS BAJO CONTROL SEGÚN PATOLOGÍA Y FACTORES DE RIESGO (EXISTENCIA)","HIPERTENSIÓN ARTERIAL",{"$f":"IFERROR(VLOOKUP($A16,FILTRO!$A10:$AY635,2,FALSE),0)","v":81040},{"$f":"IFERROR(VLOOKUP($A16,FILTRO!$A10:$AY635,3,FALSE),0)","v":29600},{"$f":"IFERROR(VLOOKUP($A16,FILTRO!$A10:$AY635,4,FALSE),0)","v":51440},{"$f":"IFERROR(VLOOKUP($A16,FILTRO!$A10:$AY635,5,FALSE),0)","v":17},{"$f":"IFERROR(VLOOKUP($A16,FILTRO!$A10:$AY635,6,FALSE),0)","v":12},{"$f":"IFERROR(VLOOKUP($A16,FILTRO!$A10:$AY635,7,FALSE),0)","v":44},{"$f":"IFERROR(VLOOKUP($A16,FILTRO!$A10:$AY635,8,FALSE),0)","v":50},{"$f":"IFERROR(VLOOKUP($A16,FILTRO!$A10:$AY635,9,FALSE),0)","v":84},{"$f":"IFERROR(VLOOKUP($A16,FILTRO!$A10:$AY635,10,FALSE),0)","v":174},{"$f":"IFERROR(VLOOKUP($A16,FILTRO!$A10:$AY635,11,FALSE),0)","v":200},{"$f":"IFERROR(VLOOKUP($A16,FILTRO!$A10:$AY635,12,FALSE),0)","v":360},{"$f":"IFERROR(VLOOKUP($A16,FILTRO!$A10:$AY635,13,FALSE),0)","v":327},{"$f":"IFERROR(VLOOKUP($A16,FILTRO!$A10:$AY635,14,FALSE),0)","v":712},{"$f":"IFERROR(VLOOKUP($A16,FILTRO!$A10:$AY635,15,FALSE),0)","v":572},{"$f":"IFERROR(VLOOKUP($A16,FILTRO!$A10:$AY635,16,FALSE),0)","v":1374},{"$f":"IFERROR(VLOOKUP($A16,FILTRO!$A10:$AY635,17,FALSE),0)","v":1004},{"$f":"IFERROR(VLOOKUP($A16,FILTRO!$A10:$AY635,18,FALSE),0)","v":2290},{"$f":"IFERROR(VLOOKUP($A16,FILTRO!$A10:$AY635,19,FALSE),0)","v":1653},{"$f":"IFERROR(VLOOKUP($A16,FILTRO!$A10:$AY635,20,FALSE),0)","v":3794},{"$f":"IFERROR(VLOOKUP($A16,FILTRO!$A10:$AY635,21,FALSE),0)","v":2689},{"$f":"IFERROR(VLOOKUP($A16,FILTRO!$A10:$AY635,22,FALSE),0)","v":5800},{"$f":"IFERROR(VLOOKUP($A16,FILTRO!$A10:$AY635,23,FALSE),0)","v":3888},{"$f":"IFERROR(VLOOKUP($A16,FILTRO!$A10:$AY635,24,FALSE),0)","v":6712},{"$f":"IFERROR(VLOOKUP($A16,FILTRO!$A10:$AY635,25,FALSE),0)","v":4721},{"$f":"IFERROR(VLOOKUP($A16,FILTRO!$A10:$AY635,26,FALSE),0)","v":7409},{"$f":"IFERROR(VLOOKUP($A16,FILTRO!$A10:$AY635,27,FALSE),0)","v":4765},{"$f":"IFERROR(VLOOKUP($A16,FILTRO!$A10:$AY635,28,FALSE),0)","v":7185},{"$f":"IFERROR(VLOOKUP($A16,FILTRO!$A10:$AY635,29,FALSE),0)","v":4137},{"$f":"IFERROR(VLOOKUP($A16,FILTRO!$A10:$AY635,30,FALSE),0)","v":6418},{"$f":"IFERROR(VLOOKUP($A16,FILTRO!$A10:$AY635,31,FALSE),0)","v":5499},{"$f":"IFERROR(VLOOKUP($A16,FILTRO!$A10:$AY635,32,FALSE),0)","v":9150},{"$f":"IFERROR(VLOOKUP($A16,FILTRO!$A10:$AY635,33,FALSE),0)","v":166},{"$f":"IFERROR(VLOOKUP($A16,FILTRO!$A10:$AY635,34,FALSE),0)","v":317},{"$f":"IFERROR(VLOOKUP($A16,FILTRO!$A10:$AY635,35,FALSE),0)","v":163},{"$f":"IFERROR(VLOOKUP($A16,FILTRO!$A10:$AY635,36,FALSE),0)","v":318},{"$f":"IFERROR(VLOOKUP($A16,FILTRO!$A10:$AY635,37,FALSE),0)","v":0},"",{"$nulls":16},"","","","",null,null,"","",{"$nulls":28},0,0,0,0,{"$nulls":4},0,0]
["P4150602",null,"DIABETES MELLITUS TIPO 2",{"$f":"IFERROR(VLOOKUP($A17,FILTRO!$A11:$AY636,2,FALSE),0)","v":42408},{"$f":"IFERROR(VLOOKUP($A17,FILTRO!$A11:$AY636,3,FALSE),0)","v":16166},{"$f":"IFERROR(VLOOKUP($A17,FILTRO!$A11:$AY636,4,FALSE),0)","v":26242},{"$f":"IFERROR(VLOOKUP($A17,FILTRO!$A11:$AY636,5,FALSE),0)","v":14},{"$f":"IFERROR(VLOOKUP($A17,FILTRO!$A11:$AY636,6,FALSE),0)","v":9},{"$f":"IFERROR(VLOOKUP($A17,FILTRO!$A11:$AY636,7,FALSE),0)","v":27},{"$f":"IFERROR(VLOOKUP($A17,FILTRO!$A11:$AY636,8,FALSE),0)","v":47},{"$f":"IFERROR(VLOOKUP($A17,FILTRO!$A11:$AY636,9,FALSE),0)","v":53},{"$f":"IFERROR(VLOOKUP($A17,FILTRO!$A11:$AY636,10,FALSE),0)","v":150},{"$f":"IFERROR(VLOOKUP($A17,FILTRO!$A11:$AY636,11,FALSE),0)","v":122},{"$f":"IFERROR(VLOOKUP($A17,FILTRO!$A11:$AY636,12,FALSE),0)","v":316},{"$f":"IFERROR(VLOOKUP($A17,FILTRO!$A11:$AY636,13,FALSE),0)","v":252},{"$f":"IFERROR(VLOOKUP($A17,FILTRO!$A11:$AY636,14,FALSE),0)","v":546},{"$f":"IFERROR(VLOOKUP($A17,FILTRO!$A11:$AY636,15,FALSE),0)","v":407},{"$f":"IFERROR(VLOOKUP($A17,FILTRO!$A11:$AY636,16,FALSE),0)","v":866},{"$f":"IFERROR(VLOOKUP($A17,FILTRO!$A11:$AY636,17,FALSE),0)","v":728},{"$f":"IFERROR(VLOOKUP($A17,FILTRO!$A11:$AY636,18,FALSE),0)","v":1388},{"$f":"IFERROR(VLOOKUP($A17,FILTRO!$A11:$AY636,19,FALSE),0)","v":1195},{"$f":"IFERROR(VLOOKUP($A17,FILTRO!$A11:$AY636,20,FALSE),0)","v":2215},{"$f":"IFERROR(VLOOKUP($A17,FILTRO!$A11:$AY636,21,FALSE),0)","v":1743},{"$f":"IFERROR(VLOOKUP($A17,FILTRO!$A11:$AY636,22,FALSE),0)","v":3323},{"$f":"IFERROR(VLOOKUP($A17,FILTRO!$A11:$AY636,23,FALSE),0)","v":2385},{"$f":"IFERROR(VLOOKUP($A17,FILTRO!$A11:$AY636,24,FALSE),0)","v":3755},{"$f":"IFERROR(VLOOKUP($A17,FILTRO!$A11:$AY636,25,FALSE),0)","v":2732},{"$f":"IFERROR(VLOOKUP($A17,FILTRO!$A11:$AY636,26,FALSE),0)","v":3963},{"$f":"IFERROR(VLOOKUP($A17,FILTRO!$A11:$AY636,27,FALSE),0)","v":2490},{"$f":"IFERROR(VLOOKUP($A17,FILTRO!$A11:$AY636,28,FALSE),0)","v":3511},{"$f":"IFERROR(VLOOKUP($A17,FILTRO!$A11:$AY636,29,FALSE),0)","v":1938},{"$f":"IFERROR(VLOOKUP($A17,FILTRO!$A11:$AY636,30,FALSE),0)","v":2785},{"$f":"IFERROR(VLOOKUP($A17,FILTRO!$A11:$AY636,31,FALSE),0)","v":2080},{"$f":"IFERROR(VLOOKUP($A17,FILTRO!$A11:$AY636,32,FALSE),0)","v":3368},{"$f":"IFERROR(VLOOKUP($A17,FILTRO!$A11:$AY636,33,FALSE),0)","v":155},{"$f":"IFERROR(VLOOKUP($A17,FILTRO!$A11:$AY636,34,FALSE),0)","v":293},{"$f":"IFERROR(VLOOKUP($A17,FILTRO!$A11:$AY636,35,FALSE),0)","v":77},{"$f":"IFERROR(VLOOKUP($A17,FILTRO!$A11:$AY636,36,FALSE),0)","v":157},{"$f":"IFERROR(VLOOKUP($A17,FILTRO!$A11:$AY636,37,FALSE),0)","v":0},"",{"$nulls":16},"","","","",null,null,"","",{"$nulls":28},0,0,0,0,{"$nulls":4},0,0]
["P4150603",null,"DISLIPIDEMIA",{"$f":"IFERROR(VLOOKUP($A18,FILTRO!$A12:$AY637,2,FALSE),0)","v":60398},{"$f":"IFERROR(VLOOKUP($A18,FILTRO!$A12:$AY637,3,FALSE),0)","v":20024},{"$f":"IFERROR(VLOOKUP($A18,FILTRO!$A12:$AY637,4,FALSE),0)","v":40374},{"$f":"IFERROR(VLOOKUP($A18,FILTRO!$A12:$AY637,5,FALSE),0)","v":24},{"$f":"IFERROR(VLOOKUP($A18,FILTRO!$A12:$AY637,6,FALSE),0)","v":26},{"$f":"IFERROR(VLOOKUP($A18,FILTRO!$A12:$AY637,7,FALSE),0)","v":44},{"$f":"IFERROR(VLOOKUP($A18,FILTRO!$A12:$AY637,8,FALSE),0)","v":98},{"$f":"IFERROR(VLOOKUP($A18,FILTRO!$A12:$AY637,9,FALSE),0)","v":78},{"$f":"IFERROR(VLOOKUP($A18,FILTRO!$A12:$AY637,10,FALSE),0)","v":194},{"$f":"IFERROR(VLOOKUP($A18,FILTRO!$A12:$AY637,11,FALSE),0)","v":171},{"$f":"IFERROR(VLOOKUP($A18,FILTRO!$A12:$AY637,12,FALSE),0)","v":372},{"$f":"IFERROR(VLOOKUP($A18,FILTRO!$A12:$AY637,13,FALSE),0)","v":288},{"$f":"IFERROR(VLOOKUP($A18,FILTRO!$A12:$AY637,14,FALSE),0)","v":642},{"$f":"IFERROR(VLOOKUP($A18,FILTRO!$A12:$AY637,15,FALSE),0)","v":512},{"$f":"IFERROR(VLOOKUP($A18,FILTRO!$A12:$AY637,16,FALSE),0)","v":1190},{"$f":"IFERROR(VLOOKUP($A18,FILTRO!$A12:$AY637,17,FALSE),0)","v":895},{"$f":"IFERROR(VLOOKUP($A18,FILTRO!$A12:$AY637,18,FALSE),0)","v":1914},{"$f":"IFERROR(VLOOKUP($A18,FILTRO!$A12:$AY637,19,FALSE),0)","v":1459},{"$f":"IFERROR(VLOOKUP($A18,FILTRO!$A12:$AY637,20,FALSE),0)","v":3176},{"$f":"IFERROR(VLOOKUP($A18,FILTRO!$A12:$AY637,21,FALSE),0)","v":2054},{"$f":"IFERROR(VLOOKUP($A18,FILTRO!$A12:$AY637,22,FALSE),0)","v":5199},{"$f":"IFERROR(VLOOKUP($A18,FILTRO!$A12:$AY637,23,FALSE),0)","v":2850},{"$f":"IFERROR(VLOOKUP($A18,FILTRO!$A12:$AY637,24,FALSE),0)","v":6039},{"$f":"IFERROR(VLOOKUP($A18,FILTRO!$A12:$AY637,25,FALSE),0)","v":3255},{"$f":"IFERROR(VLOOKUP($A18,FILTRO!$A12:$AY637,26,FALSE),0)","v":6314},{"$f":"IFERROR(VLOOKUP($A18,FILTRO!$A12:$AY637,27,FALSE),0)","v":3164},{"$f":"IFERROR(VLOOKUP($A18,FILTRO!$A12:$AY637,28,FALSE),0)","v":5572},{"$f":"IFERROR(VLOOKUP($A18,FILTRO!$A12:$AY637,29,FALSE),0)","v":2499},{"$f":"IFERROR(VLOOKUP($A18,FILTRO!$A12:$AY637,30,FALSE),0)","v":4325},{"$f":"IFERROR(VLOOKUP($A18,FILTRO!$A12:$AY637,31,FALSE),0)","v":2731},{"$f":"IFERROR(VLOOKUP($A18,FILTRO!$A12:$AY637,32,FALSE),0)","v":5313},{"$f":"IFERROR(VLOOKUP($A18,FILTRO!$A12:$AY637,33,FALSE),0)","v":154},{"$f":"IFERROR(VLOOKUP($A18,FILTRO!$A12:$AY637,34,FALSE),0)","v":364},{"$f":"IFERROR(VLOOKUP($A18,FILTRO!$A12:$AY637,35,FALSE),0)","v":104},{"$f":"IFERROR(VLOOKUP($A18,FILTRO!$A12:$AY637,36,FALSE),0)","v":199},{"$f":"IFERROR(VLOOKUP($A18,FILTRO!$A12:$AY637,37,FALSE),0)","v":0},"",{"$nulls":16},"","","","",null,null,"","",{"$nulls":28},0,0,0,0,{"$nulls":4},0,0]
["P4150701",null,"TABAQUISMO ≥ 55 AÑOS",{"$f":"IFERROR(VLOOKUP($A19,FILTRO!$A13:$AY638,2,FALSE),0)","v":7920},{"$f":"IFERROR(VLOOKUP($A19,FILTRO!$A13:$AY638,3,FALSE),0)","v":3218},{"$f":"IFERROR(VLOOKUP($A19,FILTRO!$A13:$AY638,4,FALSE),0)","v":4702},{"$f":"IFERROR(VLOOKUP($A19,FILTRO!$A13:$AY638,5,FALSE),0)","v":0},{"$f":"IFERROR(VLOOKUP($A19,FILTRO!$A13:$AY638,6,FALSE),0)","v":0},{"$f":"IFERROR(VLOOKUP($A19,FILTRO!$A13:$AY638,7,FALSE),0)","v":0},{"$f":"IFERROR(VLOOKUP($A19,FILTRO!$A13:$AY638,8,FALSE),0)","v":0},{"$f":"IFERROR(VLOOKUP($A19,FILTRO!$A13:$AY638,9,FALSE),0)","v":0},{"$f":"IFERROR(VLOOKUP($A19,FILTRO!$A13:$AY638,10,FALSE),0)","v":0},{"$f":"IFERROR(VLOOKUP($A19,FILTRO!$A13:$AY638,11,FALSE),0)","v":0},{"$f":"IFERROR(VLOOKUP($A19,FILTRO!$A13:$AY638,12,FALSE),0)","v":0},{"$f":"IFERROR(VLOOKUP($A19,FILTRO!$A13:$AY638,13,FALSE),0)","v":0},{"$f":"IFERROR(VLOOKUP($A19,FILTRO!$A13:$AY638,14,FALSE),0)","v":0},{"$f":"IFERROR(VLOOKUP($A19,FILTRO!$A13:$AY638,15,FALSE),0)","v":0},{"$f":"IFERROR(VLOOKUP($A19,FILTRO!$A13:$AY638,16,FALSE),0)","v":0},{"$f":"IFERROR(VLOOKUP($A19,FILTRO!$A13:$AY638,17,FALSE),0)","v":0},{"$f":"IFERROR(VLOOKUP($A19,FILTRO!$A13:$AY638,18,FALSE),0)","v":0},{"$f":"IFERROR(VLOOKUP($A19,FILTRO!$A13:$AY638,19,FALSE),0)","v":0},{"$f":"IFERROR(VLOOKUP($A19,FILTRO!$A13:$AY638,20,FALSE),0)","v":0},{"$f":"IFERROR(VLOOKUP($A19,FILTRO!$A13:$AY638,21,FALSE),0)","v":548},{"$f":"IFERROR(VLOOKUP($A19,FILTRO!$A13:$AY638,22,FALSE),0)","v":1109},{"$f":"IFERROR(VLOOKUP($A19,FILTRO!$A13:$AY638,23,FALSE),0)","v":775},{"$f":"IFERROR(VLOOKUP($A19,FILTRO!$A13:$AY638,24,FALSE),0)","v":1276},{"$f":"IFERROR(VLOOKUP($A19,FILTRO!$A13:$AY638,25,FALSE),0)","v":714},{"$f":"IFERROR(VLOOKUP($A19,FILTRO!$A13:$AY638,26,FALSE),0)","v":1053},{"$f":"IFERROR(VLOOKUP($A19,FILTRO!$A13:$AY638,27,FALSE),0)","v":537},{"$f":"IFERROR(VLOOKUP($A19,FILTRO!$A13:$AY638,28,FALSE),0)","v":664},{"$f":"IFERROR(VLOOKUP($A19,FILTRO!$A13:$AY638,29,FALSE),0)","v":361},{"$f":"IFERROR(VLOOKUP($A19,FILTRO!$A13:$AY638,30,FALSE),0)","v":359},{"$f":"IFERROR(VLOOKUP($A19,FILTRO!$A13:$AY638,31,FALSE),0)","v":283},{"$f":"IFERROR(VLOOKUP($A19,FILTRO!$A13:$AY638,32,FALSE),0)","v":241},{"$f":"IFERROR(VLOOKUP($A19,FILTRO!$A13:$AY638,33,FALSE),0)","v":20},{"$f":"IFERROR(VLOOKUP($A19,FILTRO!$A13:$AY638,34,FALSE),0)","v":29},{"$f":"IFERROR(VLOOKUP($A19,FILTRO!$A13:$AY638,35,FALSE),0)","v":18},{"$f":"IFERROR(VLOOKUP($A19,FILTRO!$A13:$AY638,36,FALSE),0)","v":17},{"$f":"IFERROR(VLOOKUP($A19,FILTRO!$A13:$AY638,37,FALSE),0)","v":0},"",{"$nulls":16},"","","","",null,null,"","",{"$nulls":28},0,0,0,0,{"$nulls":4},0,0]
["P4190900",null,"ANTECEDENTES DE INFARTO AGUDO AL MIOCARDIO (IAM)",{"$f":"IFERROR(VLOOKUP($A20,FILTRO!$A14:$AY639,2,FALSE),0)","v":3468},{"$f":"IFERROR(VLOOKUP($A20,FILTRO!$A14:$AY639,3,FALSE),0)","v":1866},{"$f":"IFERROR(VLOOKUP($A20,FILTRO!$A14:$AY639,4,FALSE),0)","v":1602},{"$f":"IFERROR(VLOOKUP($A20,FILTRO!$A14:$AY639,5,FALSE),0)","v":0},{"$f":"IFERROR(VLOOKUP($A20,FILTRO!$A14:$AY639,6,FALSE),0)","v":0},{"$f":"IFERROR(VLOOKUP($A20,FILTRO!$A14:$AY639,7,FALSE),0)","v":1},{"$f":"IFERROR(VLOOKUP($A20,FILTRO!$A14:$AY639,8,FALSE),0)","v":0},{"$f":"IFERROR(VLOOKUP($A20,FILTRO!$A14:$AY639,9,FALSE),0)","v":1},{"$f":"IFERROR(VLOOKUP($A20,FILTRO!$A14:$AY639,10,FALSE),0)","v":1},{"$f":"IFERROR(VLOOKUP($A20,FILTRO!$A14:$AY639,11,FALSE),0)","v":2},{"$f":"IFERROR(VLOOKUP($A20,FILTRO!$A14:$AY639,12,FALSE),0)","v":1},{"$f":"IFERROR(VLOOKUP($A20,FILTRO!$A14:$AY639,13,FALSE),0)","v":8},{"$f":"IFERROR(VLOOKUP($A20,FILTRO!$A14:$AY639,14,FALSE),0)","v":8},{"$f":"IFERROR(VLOOKUP($A20,FILTRO!$A14:$AY639,15,FALSE),0)","v":20},{"$f":"IFERROR(VLOOKUP($A20,FILTRO!$A14:$AY639,16,FALSE),0)","v":20},{"$f":"IFERROR(VLOOKUP($A20,FILTRO!$A14:$AY639,17,FALSE),0)","v":37},{"$f":"IFERROR(VLOOKUP($A20,FILTRO!$A14:$AY639,18,FALSE),0)","v":25},{"$f":"IFERROR(VLOOKUP($A20,FILTRO!$A14:$AY639,19,FALSE),0)","v":74},{"$f":"IFERROR(VLOOKUP($A20,FILTRO!$A14:$AY639,20,FALSE),0)","v":92},{"$f":"IFERROR(VLOOKUP($A20,FILTRO!$A14:$AY639,21,FALSE),0)","v":133},{"$f":"IFERROR(VLOOKUP($A20,FILTRO!$A14:$AY639,22,FALSE),0)","v":125},{"$f":"IFERROR(VLOOKUP($A20,FILTRO!$A14:$AY639,23,FALSE),0)","v":217},{"$f":"IFERROR(VLOOKUP($A20,FILTRO!$A14:$AY639,24,FALSE),0)","v":191},{"$f":"IFERROR(VLOOKUP($A20,FILTRO!$A14:$AY639,25,FALSE),0)","v":297},{"$f":"IFERROR(VLOOKUP($A20,FILTRO!$A14:$AY639,26,FALSE),0)","v":224},{"$f":"IFERROR(VLOOKUP($A20,FILTRO!$A14:$AY639,27,FALSE),0)","v":365},{"$f":"IFERROR(VLOOKUP($A20,FILTRO!$A14:$AY639,28,FALSE),0)","v":248},{"$f":"IFERROR(VLOOKUP($A20,FILTRO!$A14:$AY639,29,FALSE),0)","v":314},{"$f":"IFERROR(VLOOKUP($A20,FILTRO!$A14:$AY639,30,FALSE),0)","v":283},{"$f":"IFERROR(VLOOKUP($A20,FILTRO!$A14:$AY639,31,FALSE),0)","v":397},{"$f":"IFERROR(VLOOKUP($A20,FILTRO!$A14:$AY639,32,FALSE),0)","v":384},{"$f":"IFERROR(VLOOKUP($A20,FILTRO!$A14:$AY639,33,FALSE),0)","v":6},{"$f":"IFERROR(VLOOKUP($A20,FILTRO!$A14:$AY639,34,FALSE),0)","v":8},{"$f":"IFERROR(VLOOKUP($A20,FILTRO!$A14:$AY639,35,FALSE),0)","v":11},{"$f":"IFERROR(VLOOKUP($A20,FILTRO!$A14:$AY639,36,FALSE),0)","v":8},{"$f":"IFERROR(VLOOKUP($A20,FILTRO!$A14:$AY639,37,FALSE),0)","v":0},"",{"$nulls":16},"","","","",null,null,"","",{"$nulls":28},0,0,0,0,{"$nulls":4},0,0]
["P4190910",null,"ANTECEDENTES DE ENFERMEDAD CEREBRO VASCULAR ",{"$f":"IFERROR(VLOOKUP($A21,FILTRO!$A15:$AY640,2,FALSE),0)","v":3656},{"$f":"IFERROR(VLOOKUP($A21,FILTRO!$A15:$AY640,3,FALSE),0)","v":1837},{"$f":"IFERROR(VLOOKUP($A21,FILTRO!$A15:$AY640,4,FALSE),0)","v":1819},{"$f":"IFERROR(VLOOKUP($A21,FILTRO!$A15:$AY640,5,FALSE),0)","v":0},{"$f":"IFERROR(VLOOKUP($A21,FILTRO!$A15:$AY640,6,FALSE),0)","v":0},{"$f":"IFERROR(VLOOKUP($A21,FILTRO!$A15:$AY640,7,FALSE),0)","v":0},{"$f":"IFERROR(VLOOKUP($A21,FILTRO!$A15:$AY640,8,FALSE),0)","v":0},{"$f":"IFERROR(VLOOKUP($A21,FILTRO!$A15:$AY640,9,FALSE),0)","v":4},{"$f":"IFERROR(VLOOKUP($A21,FILTRO!$A15:$AY640,10,FALSE),0)","v":0},{"$f":"IFERROR(VLOOKUP($A21,FILTRO!$A15:$AY640,11,FALSE),0)","v":3},{"$f":"IFERROR(VLOOKUP($A21,FILTRO!$A15:$AY640,12,FALSE),0)","v":5},{"$f":"IFERROR(VLOOKUP($A21,FILTRO!$A15:$AY640,13,FALSE),0)","v":8},{"$f":"IFERROR(VLOOKUP($A21,FILTRO!$A15:$AY640,14,FALSE),0)","v":10},{"$f":"IFERROR(VLOOKUP($A21,FILTRO!$A15:$AY640,15,FALSE),0)","v":15},{"$f":"IFERROR(VLOOKUP($A21,FILTRO!$A15:$AY640,16,FALSE),0)","v":25},{"$f":"IFERROR(VLOOKUP($A21,FILTRO!$A15:$AY640,17,FALSE),0)","v":34},{"$f":"IFERROR(VLOOKUP($A21,FILTRO!$A15:$AY640,18,FALSE),0)","v":36},{"$f":"IFERROR(VLOOKUP($A21,FILTRO!$A15:$AY640,19,FALSE),0)","v":74},{"$f":"IFERROR(VLOOKUP($A21,FILTRO!$A15:$AY640,20,FALSE),0)","v":84},{"$f":"IFERROR(VLOOKUP($A21,FILTRO!$A15:$AY640,21,FALSE),0)","v":110},{"$f":"IFERROR(VLOOKUP($A21,FILTRO!$A15:$AY640,22,FALSE),0)","v":132},{"$f":"IFERROR(VLOOKUP($A21,FILTRO!$A15:$AY640,23,FALSE),0)","v":243},{"$f":"IFERROR(VLOOKUP($A21,FILTRO!$A15:$AY640,24,FALSE),0)","v":217},{"$f":"IFERROR(VLOOKUP($A21,FILTRO!$A15:$AY640,25,FALSE),0)","v":311},{"$f":"IFERROR(VLOOKUP($A21,FILTRO!$A15:$AY640,26,FALSE),0)","v":246},{"$f":"IFERROR(VLOOKUP($A21,FILTRO!$A15:$AY640,27,FALSE),0)","v":318},{"$f":"IFERROR(VLOOKUP($A21,FILTRO!$A15:$AY640,28,FALSE),0)","v":269},{"$f":"IFERROR(VLOOKUP($A21,FILTRO!$A15:$AY640,29,FALSE),0)","v":284},{"$f":"IFERROR(VLOOKUP($A21,FILTRO!$A15:$AY640,30,FALSE),0)","v":296},{"$f":"IFERROR(VLOOKUP($A21,FILTRO!$A15:$AY640,31,FALSE),0)","v":433},{"$f":"IFERROR(VLOOKUP($A21,FILTRO!$A15:$AY640,32,FALSE),0)","v":499},{"$f":"IFERROR(VLOOKUP($A21,FILTRO!$A15:$AY640,33,FALSE),0)","v":10},{"$f":"IFERROR(VLOOKUP($A21,FILTRO!$A15:$AY640,34,FALSE),0)","v":14},{"$f":"IFERROR(VLOOKUP($A21,FILTRO!$A15:$AY640,35,FALSE),0)","v":9},{"$f":"IFERROR(VLOOKUP($A21,FILTRO!$A15:$AY640,36,FALSE),0)","v":6},{"$f":"IFERROR(VLOOKUP($A21,FILTRO!$A15:$AY640,37,FALSE),0)","v":0},"",{"$nulls":16},"","","","",null,null,"","",{"$nulls":28},0,0,0,0,{"$nulls":4},0,0]
["P4190800","DETECCIÓN Y PREVENCION DE LA PROGRESION DE LA ENFERMEDAD RENAL CRÓNICA (ERC)","SIN ENFERMEDAD RENAL (S/ERC)",{"$f":"IFERROR(VLOOKUP($A22,FILTRO!$A16:$AY641,2,FALSE),0)","v":46859},{"$f":"IFERROR(VLOOKUP($A22,FILTRO!$A16:$AY641,3,FALSE),0)","v":16647},{"$f":"IFERROR(VLOOKUP($A22,FILTRO!$A16:$AY641,4,FALSE),0)","v":30405},{"$f":"IFERROR(VLOOKUP($A22,FILTRO!$A16:$AY641,5,FALSE),0)","v":39},{"$f":"IFERROR(VLOOKUP($A22,FILTRO!$A16:$AY641,6,FALSE),0)","v":43},{"$f":"IFERROR(VLOOKUP($A22,FILTRO!$A16:$AY641,7,FALSE),0)","v":57},{"$f":"IFERROR(VLOOKUP($A22,FILTRO!$A16:$AY641,8,FALSE),0)","v":109},{"$f":"IFERROR(VLOOKUP($A22,FILTRO!$A16:$AY641,9,FALSE),0)","v":120},{"$f":"IFERROR(VLOOKUP($A22,FILTRO!$A16:$AY641,10,FALSE),0)","v":281},{"$f":"IFERROR(VLOOKUP($A22,FILTRO!$A16:$AY641,11,FALSE),0)","v":217},{"$f":"IFERROR(VLOOKUP($A22,FILTRO!$A16:$AY641,12,FALSE),0)","v":510},{"$f":"IFERROR(VLOOKUP($A22,FILTRO!$A16:$AY641,13,FALSE),0)","v":358},{"$f":"IFERROR(VLOOKUP($A22,FILTRO!$A16:$AY641,14,FALSE),0)","v":844},{"$f":"IFERROR(VLOOKUP($A22,FILTRO!$A16:$AY641,15,FALSE),0)","v":581},{"$f":"IFERROR(VLOOKUP($A22,FILTRO!$A16:$AY641,16,FALSE),0)","v":1413},{"$f":"IFERROR(VLOOKUP($A22,FILTRO!$A16:$AY641,17,FALSE),0)","v":902},{"$f":"IFERROR(VLOOKUP($A22,FILTRO!$A16:$AY641,18,FALSE),0)","v":2064},{"$f":"IFERROR(VLOOKUP($A22,FILTRO!$A16:$AY641,19,FALSE),0)","v":1265},{"$f":"IFERROR(VLOOKUP($A22,FILTRO!$A16:$AY641,20,FALSE),0)","v":3019},{"$f":"IFERROR(VLOOKUP($A22,FILTRO!$A16:$AY641,21,FALSE),0)","v":1852},{"$f":"IFERROR(VLOOKUP($A22,FILTRO!$A16:$AY641,22,FALSE),0)","v":4142},{"$f":"IFERROR(VLOOKUP($A22,FILTRO!$A16:$AY641,23,FALSE),0)","v":2496},{"$f":"IFERROR(VLOOKUP($A22,FILTRO!$A16:$AY641,24,FALSE),0)","v":4428},{"$f":"IFERROR(VLOOKUP($A22,FILTRO!$A16:$AY641,25,FALSE),0)","v":2652},{"$f":"IFERROR(VLOOKUP($A22,FILTRO!$A16:$AY641,26,FALSE),0)","v":4200},{"$f":"IFERROR(VLOOKUP($A22,FILTRO!$A16:$AY641,27,FALSE),0)","v":2339},{"$f":"IFERROR(VLOOKUP($A22,FILTRO!$A16:$AY641,28,FALSE),0)","v":3547},{"$f":"IFERROR(VLOOKUP($A22,FILTRO!$A16:$AY641,29,FALSE),0)","v":1768},{"$f":"IFERROR(VLOOKUP($A22,FILTRO!$A16:$AY641,30,FALSE),0)","v":2658},{"$f":"IFERROR(VLOOKUP($A22,FILTRO!$A16:$AY641,31,FALSE),0)","v":2001},{"$f":"IFERROR(VLOOKUP($A22,FILTRO!$A16:$AY641,32,FALSE),0)","v":3147},{"$f":"IFERROR(VLOOKUP($A22,FILTRO!$A16:$AY641,33,FALSE),0)","v":145},{"$f":"IFERROR(VLOOKUP($A22,FILTRO!$A16:$AY641,34,FALSE),0)","v":312},{"$f":"IFERROR(VLOOKUP($A22,FILTRO!$A16:$AY641,35,FALSE),0)","v":124},{"$f":"IFERROR(VLOOKUP($A22,FILTRO!$A16:$AY641,36,FALSE),0)","v":233},{"$f":"IFERROR(VLOOKUP($A22,FILTRO!$A16:$AY641,37,FALSE),0)","v":13549},{"$f":" BE22 & BF22 & BI22 & BG22 & BH22 & BK22 & BL22","v":""},{"$nulls":16},"","","","",{"$f":"IF($AM22<=$D22,\"\",\"* Personas diabéticas 'Sin enfermedad renal' no debe ser mayor que el Total pacientes evaluados. \")","v":""},null,"","",{"$nulls":28},0,0,0,0,{"$f":"IF($AM22<=$D22,0,1)","v":0},{"$nulls":3},{"$f":"IF(AND(E25<>0,AI25=\"\"),1,IF(AND(F25<>0,AJ25=\"\"),1,0))","v":0},{"$f":"IF(AND(E25<>0,AK25=\"\"),1,IF(AND(F25<>0,AL25=\"\"),1,0))","v":0}]
["P4190801",null,"ETAPA G1 ",{"$f":"IFERROR(VLOOKUP($A23,FILTRO!$A17:$AY642,2,FALSE),0)","v":13475},{"$f":"IFERROR(VLOOKUP($A23,FILTRO!$A17:$AY642,3,FALSE),0)","v":4933},{"$f":"IFERROR(VLOOKUP($A23,FILTRO!$A17:$AY642,4,FALSE),0)","v":8542},{"$f":"IFERROR(VLOOKUP($A23,FILTRO!$A17:$AY642,5,FALSE),0)","v":12},{"$f":"IFERROR(VLOOKUP($A23,FILTRO!$A17:$AY642,6,FALSE),0)","v":2},{"$f":"IFERROR(VLOOKUP($A23,FILTRO!$A17:$AY642,7,FALSE),0)","v":10},{"$f":"IFERROR(VLOOKUP($A23,FILTRO!$A17:$AY642,8,FALSE),0)","v":30},{"$f":"IFERROR(VLOOKUP($A23,FILTRO!$A17:$AY642,9,FALSE),0)","v":30},{"$f":"IFERROR(VLOOKUP($A23,FILTRO!$A17:$AY642,10,FALSE),0)","v":50},{"$f":"IFERROR(VLOOKUP($A23,FILTRO!$A17:$AY642,11,FALSE),0)","v":54},{"$f":"IFERROR(VLOOKUP($A23,FILTRO!$A17:$AY642,12,FALSE),0)","v":106},{"$f":"IFERROR(VLOOKUP($A23,FILTRO!$A17:$AY642,13,FALSE),0)","v":97},{"$f":"IFERROR(VLOOKUP($A23,FILTRO!$A17:$AY642,14,FALSE),0)","v":191},{"$f":"IFERROR(VLOOKUP($A23,FILTRO!$A17:$AY642,15,FALSE),0)","v":140},{"$f":"IFERROR(VLOOKUP($A23,FILTRO!$A17:$AY642,16,FALSE),0)","v":339},{"$f":"IFERROR(VLOOKUP($A23,FILTRO!$A17:$AY642,17,FALSE),0)","v":245},{"$f":"IFERROR(VLOOKUP($A23,FILTRO!$A17:$AY642,18,FALSE),0)","v":493},{"$f":"IFERROR(VLOOKUP($A23,FILTRO!$A17:$AY642,19,FALSE),0)","v":427},{"$f":"IFERROR(VLOOKUP($A23,FILTRO!$A17:$AY642,20,FALSE),0)","v":885},{"$f":"IFERROR(VLOOKUP($A23,FILTRO!$A17:$AY642,21,FALSE),0)","v":617},{"$f":"IFERROR(VLOOKUP($A23,FILTRO!$A17:$AY642,22,FALSE),0)","v":1169},{"$f":"IFERROR(VLOOKUP($A23,FILTRO!$A17:$AY642,23,FALSE),0)","v":789},{"$f":"IFERROR(VLOOKUP($A23,FILTRO!$A17:$AY642,24,FALSE),0)","v":1420},{"$f":"IFERROR(VLOOKUP($A23,FILTRO!$A17:$AY642,25,FALSE),0)","v":875},{"$f":"IFERROR(VLOOKUP($A23,FILTRO!$A17:$AY642,26,FALSE),0)","v":1400},{"$f":"IFERROR(VLOOKUP($A23,FILTRO!$A17:$AY642,27,FALSE),0)","v":739},{"$f":"IFERROR(VLOOKUP($A23,FILTRO!$A17:$AY642,28,FALSE),0)","v":1032},{"$f":"IFERROR(VLOOKUP($A23,FILTRO!$A17:$AY642,29,FALSE),0)","v":480},{"$f":"IFERROR(VLOOKUP($A23,FILTRO!$A17:$AY642,30,FALSE),0)","v":694},{"$f":"IFERROR(VLOOKUP($A23,FILTRO!$A17:$AY642,31,FALSE),0)","v":418},{"$f":"IFERROR(VLOOKUP($A23,FILTRO!$A17:$AY642,32,FALSE),0)","v":731},{"$f":"IFERROR(VLOOKUP($A23,FILTRO!$A17:$AY642,33,FALSE),0)","v":41},{"$f":"IFERROR(VLOOKUP($A23,FILTRO!$A17:$AY642,34,FALSE),0)","v":97},{"$f":"IFERROR(VLOOKUP($A23,FILTRO!$A17:$AY642,35,FALSE),0)","v":17},{"$f":"IFERROR(VLOOKUP($A23,FILTRO!$A17:$AY642,36,FALSE),0)","v":27},{"$f":"IFERROR(VLOOKUP($A23,FILTRO!$A17:$AY642,37,FALSE),0)","v":3872},"",{"$nulls":16},"","","","",{"$f":"IF($AM23<=$D23,\"\",\"* Personas diabéticas 'Etapa 1 y 2' no debe ser mayor que el Total pacientes evaluados. \")","v":""},null,"","",{"$nulls":28},0,0,0,0,0,{"$nulls":3},{"$f":"IF(AND(E26<>0,AI26=\"\"),1,IF(AND(F26<>0,AJ26=\"\"),1,0))","v":0},{"$f":"IF(AND(E26<>0,AK26=\"\"),1,IF(AND(F26<>0,AL26=\"\"),1,0))","v":0}]
["P4301020",null,"ETAPA G2 ",{"$f":"IFERROR(VLOOKUP($A24,FILTRO!$A18:$AY643,2,FALSE),0)","v":18203},{"$f":"IFERROR(VLOOKUP($A24,FILTRO!$A18:$AY643,3,FALSE),0)","v":6678},{"$f":"IFERROR(VLOOKUP($A24,FILTRO!$A18:$AY643,4,FALSE),0)","v":11525},{"$f":"IFERROR(VLOOKUP($A24,FILTRO!$A18:$AY643,5,FALSE),0)","v":1},{"$f":"IFERROR(VLOOKUP($A24,FILTRO!$A18:$AY643,6,FALSE),0)","v":1},{"$f":"IFERROR(VLOOKUP($A24,FILTRO!$A18:$AY643,7,FALSE),0)","v":3},{"$f":"IFERROR(VLOOKUP($A24,FILTRO!$A18:$AY643,8,FALSE),0)","v":3},{"$f":"IFERROR(VLOOKUP($A24,FILTRO!$A18:$AY643,9,FALSE),0)","v":3},{"$f":"IFERROR(VLOOKUP($A24,FILTRO!$A18:$AY643,10,FALSE),0)","v":11},{"$f":"IFERROR(VLOOKUP($A24,FILTRO!$A18:$AY643,11,FALSE),0)","v":11},{"$f":"IFERROR(VLOOKUP($A24,FILTRO!$A18:$AY643,12,FALSE),0)","v":25},{"$f":"IFERROR(VLOOKUP($A24,FILTRO!$A18:$AY643,13,FALSE),0)","v":32},{"$f":"IFERROR(VLOOKUP($A24,FILTRO!$A18:$AY643,14,FALSE),0)","v":77},{"$f":"IFERROR(VLOOKUP($A24,FILTRO!$A18:$AY643,15,FALSE),0)","v":61},{"$f":"IFERROR(VLOOKUP($A24,FILTRO!$A18:$AY643,16,FALSE),0)","v":152},{"$f":"IFERROR(VLOOKUP($A24,FILTRO!$A18:$AY643,17,FALSE),0)","v":154},{"$f":"IFERROR(VLOOKUP($A24,FILTRO!$A18:$AY643,18,FALSE),0)","v":326},{"$f":"IFERROR(VLOOKUP($A24,FILTRO!$A18:$AY643,19,FALSE),0)","v":286},{"$f":"IFERROR(VLOOKUP($A24,FILTRO!$A18:$AY643,20,FALSE),0)","v":666},{"$f":"IFERROR(VLOOKUP($A24,FILTRO!$A18:$AY643,21,FALSE),0)","v":454},{"$f":"IFERROR(VLOOKUP($A24,FILTRO!$A18:$AY643,22,FALSE),0)","v":1117},{"$f":"IFERROR(VLOOKUP($A24,FILTRO!$A18:$AY643,23,FALSE),0)","v":764},{"$f":"IFERROR(VLOOKUP($A24,FILTRO!$A18:$AY643,24,FALSE),0)","v":1542},{"$f":"IFERROR(VLOOKUP($A24,FILTRO!$A18:$AY643,25,FALSE),0)","v":1141},{"$f":"IFERROR(VLOOKUP($A24,FILTRO!$A18:$AY643,26,FALSE),0)","v":1831},{"$f":"IFERROR(VLOOKUP($A24,FILTRO!$A18:$AY643,27,FALSE),0)","v":1263},{"$f":"IFERROR(VLOOKUP($A24,FILTRO!$A18:$AY643,28,FALSE),0)","v":1961},{"$f":"IFERROR(VLOOKUP($A24,FILTRO!$A18:$AY643,29,FALSE),0)","v":1093},{"$f":"IFERROR(VLOOKUP($A24,FILTRO!$A18:$AY643,30,FALSE),0)","v":1700},{"$f":"IFERROR(VLOOKUP($A24,FILTRO!$A18:$AY643,31,FALSE),0)","v":1412},{"$f":"IFERROR(VLOOKUP($A24,FILTRO!$A18:$AY643,32,FALSE),0)","v":2113},{"$f":"IFERROR(VLOOKUP($A24,FILTRO!$A18:$AY643,33,FALSE),0)","v":32},{"$f":"IFERROR(VLOOKUP($A24,FILTRO!$A18:$AY643,34,FALSE),0)","v":76},{"$f":"IFERROR(VLOOKUP($A24,FILTRO!$A18:$AY643,35,FALSE),0)","v":20},{"$f":"IFERROR(VLOOKUP($A24,FILTRO!$A18:$AY643,36,FALSE),0)","v":54},{"$f":"IFERROR(VLOOKUP($A24,FILTRO!$A18:$AY643,37,FALSE),0)","v":5569}]
["P4190810",null,"ETAPA G3a",{"$f":"IFERROR(VLOOKUP($A25,FILTRO!$A19:$AY644,2,FALSE),0)","v":4965},{"$f":"IFERROR(VLOOKUP($A25,FILTRO!$A19:$AY644,3,FALSE),0)","v":1788},{"$f":"IFERROR(VLOOKUP($A25,FILTRO!$A19:$AY644,4,FALSE),0)","v":3177},{"$f":"IFERROR(VLOOKUP($A25,FILTRO!$A19:$AY644,5,FALSE),0)","v":0},{"$f":"IFERROR(VLOOKUP($A25,FILTRO!$A19:$AY644,6,FALSE),0)","v":0},{"$f":"IFERROR(VLOOKUP($A25,FILTRO!$A19:$AY644,7,FALSE),0)","v":1},{"$f":"IFERROR(VLOOKUP($A25,FILTRO!$A19:$AY644,8,FALSE),0)","v":0},{"$f":"IFERROR(VLOOKUP($A25,FILTRO!$A19:$AY644,9,FALSE),0)","v":2},{"$f":"IFERROR(VLOOKUP($A25,FILTRO!$A19:$AY644,10,FALSE),0)","v":1},{"$f":"IFERROR(VLOOKUP($A25,FILTRO!$A19:$AY644,11,FALSE),0)","v":2},{"$f":"IFERROR(VLOOKUP($A25,FILTRO!$A19:$AY644,12,FALSE),0)","v":5},{"$f":"IFERROR(VLOOKUP($A25,FILTRO!$A19:$AY644,13,FALSE),0)","v":5},{"$f":"IFERROR(VLOOKUP($A25,FILTRO!$A19:$AY644,14,FALSE),0)","v":7},{"$f":"IFERROR(VLOOKUP($A25,FILTRO!$A19:$AY644,15,FALSE),0)","v":9},{"$f":"IFERROR(VLOOKUP($A25,FILTRO!$A19:$AY644,16,FALSE),0)","v":19},{"$f":"IFERROR(VLOOKUP($A25,FILTRO!$A19:$AY644,17,FALSE),0)","v":12},{"$f":"IFERROR(VLOOKUP($A25,FILTRO!$A19:$AY644,18,FALSE),0)","v":46},{"$f":"IFERROR(VLOOKUP($A25,FILTRO!$A19:$AY644,19,FALSE),0)","v":38},{"$f":"IFERROR(VLOOKUP($A25,FILTRO!$A19:$AY644,20,FALSE),0)","v":55},{"$f":"IFERROR(VLOOKUP($A25,FILTRO!$A19:$AY644,21,FALSE),0)","v":47},{"$f":"IFERROR(VLOOKUP($A25,FILTRO!$A19:$AY644,22,FALSE),0)","v":122},{"$f":"IFERROR(VLOOKUP($A25,FILTRO!$A19:$AY644,23,FALSE),0)","v":121},{"$f":"IFERROR(VLOOKUP($A25,FILTRO!$A19:$AY644,24,FALSE),0)","v":215},{"$f":"IFERROR(VLOOKUP($A25,FILTRO!$A19:$AY644,25,FALSE),0)","v":205},{"$f":"IFERROR(VLOOKUP($A25,FILTRO!$A19:$AY644,26,FALSE),0)","v":323},{"$f":"IFERROR(VLOOKUP($A25,FILTRO!$A19:$AY644,27,FALSE),0)","v":276},{"$f":"IFERROR(VLOOKUP($A25,FILTRO!$A19:$AY644,28,FALSE),0)","v":475},{"$f":"IFERROR(VLOOKUP($A25,FILTRO!$A19:$AY644,29,FALSE),0)","v":338},{"$f":"IFERROR(VLOOKUP($A25,FILTRO!$A19:$AY644,30,FALSE),0)","v":635},{"$f":"IFERROR(VLOOKUP($A25,FILTRO!$A19:$AY644,31,FALSE),0)","v":732},{"$f":"IFERROR(VLOOKUP($A25,FILTRO!$A19:$AY644,32,FALSE),0)","v":1274},{"$f":"IFERROR(VLOOKUP($A25,FILTRO!$A19:$AY644,33,FALSE),0)","v":11},{"$f":"IFERROR(VLOOKUP($A25,FILTRO!$A19:$AY644,34,FALSE),0)","v":22},{"$f":"IFERROR(VLOOKUP($A25,FILTRO!$A19:$AY644,35,FALSE),0)","v":10},{"$f":"IFERROR(VLOOKUP($A25,FILTRO!$A19:$AY644,36,FALSE),0)","v":13},{"$f":"IFERROR(VLOOKUP($A25,FILTRO!$A19:$AY644,37,FALSE),0)","v":1541},"",{"$nulls":16},"","","","",{"$f":"IF($AM25<=$D25,\"\",\"* Personas diabéticas 'Etapa 1 y 2' no debe ser mayor que el Total pacientes evaluados. \")","v":""},null,"","",{"$nulls":28},0,0,0,0,0,{"$nulls":3},0,0]
["P4190811",null,"ETAPA G3b ",{"$f":"IFERROR(VLOOKUP($A26,FILTRO!$A20:$AY645,2,FALSE),0)","v":1928},{"$f":"IFERROR(VLOOKUP($A26,FILTRO!$A20:$AY645,3,FALSE),0)","v":736},{"$f":"IFERROR(VLOOKUP($A26,FILTRO!$A20:$AY645,4,FALSE),0)","v":1192},{"$f":"IFERROR(VLOOKUP($A26,FILTRO!$A20:$AY645,5,FALSE),0)","v":0},{"$f":"IFERROR(VLOOKUP($A26,FILTRO!$A20:$AY645,6,FALSE),0)","v":0},{"$f":"IFERROR(VLOOKUP($A26,FILTRO!$A20:$AY645,7,FALSE),0)","v":0},{"$f":"IFERROR(VLOOKUP($A26,FILTRO!$A20:$AY645,8,FALSE),0)","v":0},{"$f":"IFERROR(VLOOKUP($A26,FILTRO!$A20:$AY645,9,FALSE),0)","v":0},{"$f":"IFERROR(VLOOKUP($A26,FILTRO!$A20:$AY645,10,FALSE),0)","v":1},{"$f":"IFERROR(VLOOKUP($A26,FILTRO!$A20:$AY645,11,FALSE),0)","v":0},{"$f":"IFERROR(VLOOKUP($A26,FILTRO!$A20:$AY645,12,FALSE),0)","v":2},{"$f":"IFERROR(VLOOKUP($A26,FILTRO!$A20:$AY645,13,FALSE),0)","v":2},{"$f":"IFERROR(VLOOKUP($A26,FILTRO!$A20:$AY645,14,FALSE),0)","v":7},{"$f":"IFERROR(VLOOKUP($A26,FILTRO!$A20:$AY645,15,FALSE),0)","v":4},{"$f":"IFERROR(VLOOKUP($A26,FILTRO!$A20:$AY645,16,FALSE),0)","v":8},{"$f":"IFERROR(VLOOKUP($A26,FILTRO!$A20:$AY645,17,FALSE),0)","v":11},{"$f":"IFERROR(VLOOKUP($A26,FILTRO!$A20:$AY645,18,FALSE),0)","v":17},{"$f":"IFERROR(VLOOKUP($A26,FILTRO!$A20:$AY645,19,FALSE),0)","v":12},{"$f":"IFERROR(VLOOKUP($A26,FILTRO!$A20:$AY645,20,FALSE),0)","v":33},{"$f":"IFERROR(VLOOKUP($A26,FILTRO!$A20:$AY645,21,FALSE),0)","v":17},{"$f":"IFERROR(VLOOKUP($A26,FILTRO!$A20:$AY645,22,FALSE),0)","v":36},{"$f":"IFERROR(VLOOKUP($A26,FILTRO!$A20:$AY645,23,FALSE),0)","v":30},{"$f":"IFERROR(VLOOKUP($A26,FILTRO!$A20:$AY645,24,FALSE),0)","v":61},{"$f":"IFERROR(VLOOKUP($A26,FILTRO!$A20:$AY645,25,FALSE),0)","v":85},{"$f":"IFERROR(VLOOKUP($A26,FILTRO!$A20:$AY645,26,FALSE),0)","v":137},{"$f":"IFERROR(VLOOKUP($A26,FILTRO!$A20:$AY645,27,FALSE),0)","v":111},{"$f":"IFERROR(VLOOKUP($A26,FILTRO!$A20:$AY645,28,FALSE),0)","v":142},{"$f":"IFERROR(VLOOKUP($A26,FILTRO!$A20:$AY645,29,FALSE),0)","v":128},{"$f":"IFERROR(VLOOKUP($A26,FILTRO!$A20:$AY645,30,FALSE),0)","v":185},{"$f":"IFERROR(VLOOKUP($A26,FILTRO!$A20:$AY645,31,FALSE),0)","v":336},{"$f":"IFERROR(VLOOKUP($A26,FILTRO!$A20:$AY645,32,FALSE),0)","v":563},{"$f":"IFERROR(VLOOKUP($A26,FILTRO!$A20:$AY645,33,FALSE),0)","v":5},{"$f":"IFERROR(VLOOKUP($A26,FILTRO!$A20:$AY645,34,FALSE),0)","v":4},{"$f":"IFERROR(VLOOKUP($A26,FILTRO!$A20:$AY645,35,FALSE),0)","v":4},{"$f":"IFERROR(VLOOKUP($A26,FILTRO!$A20:$AY645,36,FALSE),0)","v":1},{"$f":"IFERROR(VLOOKUP($A26,FILTRO!$A20:$AY645,37,FALSE),0)","v":695},"",{"$nulls":16},"","","","",{"$f":"IF($AM26<=$D26,\"\",\"* Personas diabéticas 'Etapa 1 y 2' no debe ser mayor que el Total pacientes evaluados. \")","v":""},null,"","",{"$nulls":28},0,0,0,0,0,{"$nulls":3},0,0]
["P4190803",null,"ETAPA G4  ",{"$f":"IFERROR(VLOOKUP($A27,FILTRO!$A21:$AY646,2,FALSE),0)","v":604},{"$f":"IFERROR(VLOOKUP($A27,FILTRO!$A21:$AY646,3,FALSE),0)","v":270},{"$f":"IFERROR(VLOOKUP($A27,FILTRO!$A21:$AY646,4,FALSE),0)","v":334},{"$f":"IFERROR(VLOOKUP($A27,FILTRO!$A21:$AY646,5,FALSE),0)","v":0},{"$f":"IFERROR(VLOOKUP($A27,FILTRO!$A21:$AY646,6,FALSE),0)","v":0},{"$f":"IFERROR(VLOOKUP($A27,FILTRO!$A21:$AY646,7,FALSE),0)","v":0},{"$f":"IFERROR(VLOOKUP($A27,FILTRO!$A21:$AY646,8,FALSE),0)","v":0},{"$f":"IFERROR(VLOOKUP($A27,FILTRO!$A21:$AY646,9,FALSE),0)","v":0},{"$f":"IFERROR(VLOOKUP($A27,FILTRO!$A21:$AY646,10,FALSE),0)","v":0},{"$f":"IFERROR(VLOOKUP($A27,FILTRO!$A21:$AY646,11,FALSE),0)","v":2},{"$f":"IFERROR(VLOOKUP($A27,FILTRO!$A21:$AY646,12,FALSE),0)","v":2},{"$f":"IFERROR(VLOOKUP($A27,FILTRO!$A21:$AY646,13,FALSE),0)","v":0},{"$f":"IFERROR(VLOOKUP($A27,FILTRO!$A21:$AY646,14,FALSE),0)","v":0},{"$f":"IFERROR(VLOOKUP($A27,FILTRO!$A21:$AY646,15,FALSE),0)","v":0},{"$f":"IFERROR(VLOOKUP($A27,FILTRO!$A21:$AY646,16,FALSE),0)","v":4},{"$f":"IFERROR(VLOOKUP($A27,FILTRO!$A21:$AY646,17,FALSE),0)","v":5},{"$f":"IFERROR(VLOOKUP($A27,FILTRO!$A21:$AY646,18,FALSE),0)","v":8},{"$f":"IFERROR(VLOOKUP($A27,FILTRO!$A21:$AY646,19,FALSE),0)","v":8},{"$f":"IFERROR(VLOOKUP($A27,FILTRO!$A21:$AY646,20,FALSE),0)","v":18},{"$f":"IFERROR(VLOOKUP($A27,FILTRO!$A21:$AY646,21,FALSE),0)","v":20},{"$f":"IFERROR(VLOOKUP($A27,FILTRO!$A21:$AY646,22,FALSE),0)","v":14},{"$f":"IFERROR(VLOOKUP($A27,FILTRO!$A21:$AY646,23,FALSE),0)","v":20},{"$f":"IFERROR(VLOOKUP($A27,FILTRO!$A21:$AY646,24,FALSE),0)","v":20},{"$f":"IFERROR(VLOOKUP($A27,FILTRO!$A21:$AY646,25,FALSE),0)","v":37},{"$f":"IFERROR(VLOOKUP($A27,FILTRO!$A21:$AY646,26,FALSE),0)","v":32},{"$f":"IFERROR(VLOOKUP($A27,FILTRO!$A21:$AY646,27,FALSE),0)","v":35},{"$f":"IFERROR(VLOOKUP($A27,FILTRO!$A21:$AY646,28,FALSE),0)","v":39},{"$f":"IFERROR(VLOOKUP($A27,FILTRO!$A21:$AY646,29,FALSE),0)","v":47},{"$f":"IFERROR(VLOOKUP($A27,FILTRO!$A21:$AY646,30,FALSE),0)","v":54},{"$f":"IFERROR(VLOOKUP($A27,FILTRO!$A21:$AY646,31,FALSE),0)","v":96},{"$f":"IFERROR(VLOOKUP($A27,FILTRO!$A21:$AY646,32,FALSE),0)","v":143},{"$f":"IFERROR(VLOOKUP($A27,FILTRO!$A21:$AY646,33,FALSE),0)","v":2},{"$f":"IFERROR(VLOOKUP($A27,FILTRO!$A21:$AY646,34,FALSE),0)","v":3},{"$f":"IFERROR(VLOOKUP($A27,FILTRO!$A21:$AY646,35,FALSE),0)","v":2},{"$f":"IFERROR(VLOOKUP($A27,FILTRO!$A21:$AY646,36,FALSE),0)","v":0},{"$f":"IFERROR(VLOOKUP($A27,FILTRO!$A21:$AY646,37,FALSE),0)","v":272},"",{"$nulls":16},"","","","",{"$f":"IF($AM27<=$D27,\"\",\"* Personas diabéticas 'Etapa 4' no debe ser mayor que el Total pacientes evaluados. \")","v":""},null,"","",{"$nulls":28},0,0,0,0,0,{"$nulls":3},0,0]
["P4190804",null,"ETAPA G5",{"$f":"IFERROR(VLOOKUP($A28,FILTRO!$A22:$AY647,2,FALSE),0)","v":452},{"$f":"IFERROR(VLOOKUP($A28,FILTRO!$A22:$AY647,3,FALSE),0)","v":208},{"$f":"IFERROR(VLOOKUP($A28,FILTRO!$A22:$AY647,4,FALSE),0)","v":244},{"$f":"IFERROR(VLOOKUP($A28,FILTRO!$A22:$AY647,5,FALSE),0)","v":0},{"$f":"IFERROR(VLOOKUP($A28,FILTRO!$A22:$AY647,6,FALSE),0)","v":0},{"$f":"IFERROR(VLOOKUP($A28,FILTRO!$A22:$AY647,7,FALSE),0)","v":1},{"$f":"IFERROR(VLOOKUP($A28,FILTRO!$A22:$AY647,8,FALSE),0)","v":0},{"$f":"IFERROR(VLOOKUP($A28,FILTRO!$A22:$AY647,9,FALSE),0)","v":1},{"$f":"IFERROR(VLOOKUP($A28,FILTRO!$A22:$AY647,10,FALSE),0)","v":3},{"$f":"IFERROR(VLOOKUP($A28,FILTRO!$A22:$AY647,11,FALSE),0)","v":2},{"$f":"IFERROR(VLOOKUP($A28,FILTRO!$A22:$AY647,12,FALSE),0)","v":2},{"$f":"IFERROR(VLOOKUP($A28,FILTRO!$A22:$AY647,13,FALSE),0)","v":4},{"$f":"IFERROR(VLOOKUP($A28,FILTRO!$A22:$AY647,14,FALSE),0)","v":4},{"$f":"IFERROR(VLOOKUP($A28,FILTRO!$A22:$AY647,15,FALSE),0)","v":2},{"$f":"IFERROR(VLOOKUP($A28,FILTRO!$A22:$AY647,16,FALSE),0)","v":9},{"$f":"IFERROR(VLOOKUP($A28,FILTRO!$A22:$AY647,17,FALSE),0)","v":13},{"$f":"IFERROR(VLOOKUP($A28,FILTRO!$A22:$AY647,18,FALSE),0)","v":10},{"$f":"IFERROR(VLOOKUP($A28,FILTRO!$A22:$AY647,19,FALSE),0)","v":14},{"$f":"IFERROR(VLOOKUP($A28,FILTRO!$A22:$AY647,20,FALSE),0)","v":25},{"$f":"IFERROR(VLOOKUP($A28,FILTRO!$A22:$AY647,21,FALSE),0)","v":23},{"$f":"IFERROR(VLOOKUP($A28,FILTRO!$A22:$AY647,22,FALSE),0)","v":26},{"$f":"IFERROR(VLOOKUP($A28,FILTRO!$A22:$AY647,23,FALSE),0)","v":29},{"$f":"IFERROR(VLOOKUP($A28,FILTRO!$A22:$AY647,24,FALSE),0)","v":33},{"$f":"IFERROR(VLOOKUP($A28,FILTRO!$A22:$AY647,25,FALSE),0)","v":38},{"$f":"IFERROR(VLOOKUP($A28,FILTRO!$A22:$AY647,26,FALSE),0)","v":28},{"$f":"IFERROR(VLOOKUP($A28,FILTRO!$A22:$AY647,27,FALSE),0)","v":30},{"$f":"IFERROR(VLOOKUP($A28,FILTRO!$A22:$AY647,28,FALSE),0)","v":36},{"$f":"IFERROR(VLOOKUP($A28,FILTRO!$A22:$AY647,29,FALSE),0)","v":25},{"$f":"IFERROR(VLOOKUP($A28,FILTRO!$A22:$AY647,30,FALSE),0)","v":35},{"$f":"IFERROR(VLOOKUP($A28,FILTRO!$A22:$AY647,31,FALSE),0)","v":26},{"$f":"IFERROR(VLOOKUP($A28,FILTRO!$A22:$AY647,32,FALSE),0)","v":33},{"$f":"IFERROR(VLOOKUP($A28,FILTRO!$A22:$AY647,33,FALSE),0)","v":1},{"$f":"IFERROR(VLOOKUP($A28,FILTRO!$A22:$AY647,34,FALSE),0)","v":1},{"$f":"IFERROR(VLOOKUP($A28,FILTRO!$A22:$AY647,35,FALSE),0)","v":0},{"$f":"IFERROR(VLOOKUP($A28,FILTRO!$A22:$AY647,36,FALSE),0)","v":2},{"$f":"IFERROR(VLOOKUP($A28,FILTRO!$A22:$AY647,37,FALSE),0)","v":150},"",{"$nulls":16},"","","","",{"$f":"IF($AM28<=$D28,\"\",\"* Personas diabéticas 'Etapa 5' no debe ser mayor que el Total pacientes evaluados. \")","v":""},null,"","",{"$nulls":28},0,0,0,0,0,{"$nulls":3},0,0]
[null,null,"TOTAL",{"$f":"SUM(E29:F29)","v":86679},{"$f":"+G29+I29+K29+M29+O29+Q29+S29+U29+W29+Y29+AA29+AC29+AE29+AG29","v":31260},{"$f":"+H29+J29+L29+N29+P29+R29+T29+V29+X29+Z29+AB29+AD29+AF29+AH29","v":55419},{"$f":"SUM(G22:G28)","v":52},{"$f":"SUM(H22:H28)","v":46},72,142,156,347,288,652,498,1130,797,1944,1342,2964,2050,4701,3030,6626,4249,7719,5033,7951,4793,7232,3879,5961,5021,8004,237,515,177,330,{"$f":"SUM(AM22:AM28)","v":25648}]
[null,"SECCIÓN B: METAS DE COMPENSACIÓN"]
[null,"CONCEPTO",null,"TOTAL ",null,null,"GRUPOS DE EDAD (en años) Y SEXO",{"$nulls":27},"Pueblos Originarios",null," Migrantes"]
[{"$nulls":6},"15 a 19 años",null,"20 a 24 años",null,"25 a 29 años",null,"30 a 34 años",null,"35 a 39 años",null,"40 a 44 años",null,"45 a 49 años",null,"50 a 54 años",null,"55 a 59 años",null,"60 a 64 años",null,"65 a 69 años",null,"70 a 74 años",null,"75 a 79 años",null,"80 y más años"]
[{"$nulls":3},"Ambos sexos","Hombres","Mujeres","Hombres","Mujeres","Hombres","Mujeres","Hombres","Mujeres","Hombres","Mujeres","Hombres","Mujeres","Hombres","Mujeres","Hombres","Mujeres","Hombres","Mujeres","Hombres","Mujeres","Hombres","Mujeres","Hombres ","Mujeres","Hombres ","Mujeres","Hombres ","Mujeres","Hombres ","Mujeres","Hombres","Mujeres","Hombres","Mujeres"]
["P4180200","PERSONAS BAJO CONTROL POR HIPERTENSION","PA < 140/90 mmHg ",{"$f":"IFERROR(VLOOKUP($A34,FILTRO!$A28:$AY653,2,FALSE),0)","v":40228},{"$f":"IFERROR(VLOOKUP($A34,FILTRO!$A28:$AY653,3,FALSE),0)","v":14187},{"$f":"IFERROR(VLOOKUP($A34,FILTRO!$A28:$AY653,4,FALSE),0)","v":26041},{"$f":"IFERROR(VLOOKUP($A34,FILTRO!$A28:$AY653,5,FALSE),0)","v":8},{"$f":"IFERROR(VLOOKUP($A34,FILTRO!$A28:$AY653,6,FALSE),0)","v":7},{"$f":"IFERROR(VLOOKUP($A34,FILTRO!$A28:$AY653,7,FALSE),0)","v":27},{"$f":"IFERROR(VLOOKUP($A34,FILTRO!$A28:$AY653,8,FALSE),0)","v":28},{"$f":"IFERROR(VLOOKUP($A34,FILTRO!$A28:$AY653,9,FALSE),0)","v":39},{"$f":"IFERROR(VLOOKUP($A34,FILTRO!$A28:$AY653,10,FALSE),0)","v":98},{"$f":"IFERROR(VLOOKUP($A34,FILTRO!$A28:$AY653,11,FALSE),0)","v":110},{"$f":"IFERROR(VLOOKUP($A34,FILTRO!$A28:$AY653,12,FALSE),0)","v":214},{"$f":"IFERROR(VLOOKUP($A34,FILTRO!$A28:$AY653,13,FALSE),0)","v":190},{"$f":"IFERROR(VLOOKUP($A34,FILTRO!$A28:$AY653,14,FALSE),0)","v":451},{"$f":"IFERROR(VLOOKUP($A34,FILTRO!$A28:$AY653,15,FALSE),0)","v":328},{"$f":"IFERROR(VLOOKUP($A34,FILTRO!$A28:$AY653,16,FALSE),0)","v":849},{"$f":"IFERROR(VLOOKUP($A34,FILTRO!$A28:$AY653,17,FALSE),0)","v":556},{"$f":"IFERROR(VLOOKUP($A34,FILTRO!$A28:$AY653,18,FALSE),0)","v":1455},{"$f":"IFERROR(VLOOKUP($A34,FILTRO!$A28:$AY653,19,FALSE),0)","v":969},{"$f":"IFERROR(VLOOKUP($A34,FILTRO!$A28:$AY653,20,FALSE),0)","v":2387},{"$f":"IFERROR(VLOOKUP($A34,FILTRO!$A28:$AY653,21,FALSE),0)","v":1513},{"$f":"IFERROR(VLOOKUP($A34,FILTRO!$A28:$AY653,22,FALSE),0)","v":3645},{"$f":"IFERROR(VLOOKUP($A34,FILTRO!$A28:$AY653,23,FALSE),0)","v":2200},{"$f":"IFERROR(VLOOKUP($A34,FILTRO!$A28:$AY653,24,FALSE),0)","v":4161},{"$f":"IFERROR(VLOOKUP($A34,FILTRO!$A28:$AY653,25,FALSE),0)","v":2729},{"$f":"IFERROR(VLOOKUP($A34,FILTRO!$A28:$AY653,26,FALSE),0)","v":4622},{"$f":"IFERROR(VLOOKUP($A34,FILTRO!$A28:$AY653,27,FALSE),0)","v":2937},{"$f":"IFERROR(VLOOKUP($A34,FILTRO!$A28:$AY653,28,FALSE),0)","v":4334},{"$f":"IFERROR(VLOOKUP($A34,FILTRO!$A28:$AY653,29,FALSE),0)","v":2581},{"$f":"IFERROR(VLOOKUP($A34,FILTRO!$A28:$AY653,30,FALSE),0)","v":3790},{"$f":"IFERROR(VLOOKUP($A34,FILTRO!$A28:$AY653,31,FALSE),0)","v":0},{"$f":"IFERROR(VLOOKUP($A34,FILTRO!$A28:$AY653,32,FALSE),0)","v":0},{"$f":"IFERROR(VLOOKUP($A34,FILTRO!$A28:$AY653,33,FALSE),0)","v":71},{"$f":"IFERROR(VLOOKUP($A34,FILTRO!$A28:$AY653,34,FALSE),0)","v":135},{"$f":"IFERROR(VLOOKUP($A34,FILTRO!$A28:$AY653,35,FALSE),0)","v":64},{"$f":"IFERROR(VLOOKUP($A34,FILTRO!$A28:$AY653,36,FALSE),0)","v":142},{"$f":" BE34 & BF34 & BI34 & BJ34 & BK34 & BL34 & BM34 & BN34 & BO34 & BP34 & BQ34 & BR34 & BS34 & BT34 & BU34 & BV34 & BW34 & BX34 & BY34 & BZ34 & CA34 & CB34 & CC34 & CD34 & CE34 & CF34 & CG34 & CI34 & CJ34 & CH34 & BG34 & BH34 & BC34 & BD34","v":""},{"$nulls":15},{"$f":"IF(AND(E34<>0,AI34=\"\"),\"* No olvide escribir en la celda de 'Pueblos Originarios' (Digite CERO si no tiene). \",IF(AND(F34<>0,AJ34=\"\"),\"* No olvide escribir en la celda de 'Pueblos Originarios' (Digite CERO si no tiene). \",\"\"))","v":""},{"$f":"IF(AND(E34<>0,AK34=\"\"),\"* No olvide escribir en la celda de 'Población Migrantes' (Digite CERO si no tiene). \",IF(AND(F34<>0,AL34=\"\"),\"* No olvide escribir en la celda de 'Población Migrantes' (Digite CERO si no tiene). \",\"\"))","v":""},{"$f":"IF($E$34>=$AI$34,\"\",\"* Pueblos Originarios-Hombres no debe ser mayor al Total de personas Hombres. \")","v":""},{"$f":"IF($F$34>=$AJ$34,\"\",\"* Pueblos Originarios-Mujeres no debe ser mayor al Total de personas Mujeres. \")","v":""},{"$f":"IF($E34>=$AK34,\"\",\"* Población Migrantes-Hombres no debe ser mayor al Total de personas Hombres. \")","v":""},{"$f":"IF($F34>=$AL34,\"\",\"* Pueblos Originarios-Mujeres no debe ser mayor al Total de personas Mujeres. \")","v":""},{"$f":"IF($G$34<=$G$16,\"\",\"* Pacientes 15 a 19 años (Hombres) con PA<140/90 mmHg debe ser menor o igual a Hipertensos en Sección A. \")","v":""},{"$f":"IF($H$34<=$H$16,\"\",\"* Pacientes 15 a 19 años (Mujeres) con PA<140/90 mmHg debe ser menor o igual a Hipertensos en Sección A. \")","v":""},{"$f":"IF($I$34<=$I$16,\"\",\"* Pacientes 20 a 24 años (Hombres) con PA<140/90 mmHg debe ser menor o igual a Hipertensos en Sección A. \")","v":""},{"$f":"IF($J$34<=$J$16,\"\",\"* Pacientes 20 a 24 años (Mujeres) con PA<140/90 mmHg debe ser menor o igual a Hipertensos en Sección A. \")","v":""},{"$f":"IF($K$34<=$K$16,\"\",\"* Pacientes 25 a 29 años (Hombres) con PA<140/90 mmHg debe ser menor o igual a Hipertensos en Sección A. \")","v":""},{"$f":"IF($L$34<=$L$16,\"\",\"* Pacientes 25 a 29 años (Mujeres) con PA<140/90 mmHg debe ser menor o igual a Hipertensos en Sección A. \")","v":""},{"$f":"IF($M$34<=$M$16,\"\",\"* Pacientes 30 a 34 años (Hombres) con PA<140/90 mmHg debe ser menor o igual a Hipertensos en Sección A. \")","v":""},{"$f":"IF($N$34<=$N$16,\"\",\"* Pacientes 30 a 34 años (Mujeres) con PA<140/90 mmHg debe ser menor o igual a Hipertensos en Sección A. \")","v":""},{"$f":"IF($O$34<=$O$16,\"\",\"* Pacientes 35 a 39 años (Hombres) con PA<140/90 mmHg debe ser menor o igual a Hipertensos en Sección A. \")","v":""},{"$f":"IF($P$34<=$P$16,\"\",\"* Pacientes 35 a 39 años (Mujeres) con PA<140/90 mmHg debe ser menor o igual a Hipertensos en Sección A. \")","v":""},{"$f":"IF($Q$34<=$Q$16,\"\",\"* Pacientes 40 a 44 años (Hombres) con PA<140/90 mmHg debe ser menor o igual a Hipertensos en Sección A. \")","v":""},{"$f":"IF($R$34<=$R$16,\"\",\"* Pacientes 40 a 44 años (Mujeres) con PA<140/90 mmHg debe ser menor o igual a Hipertensos en Sección A. \")","v":""},{"$f":"IF($S$34<=$S$16,\"\",\"* Pacientes 45 a 49 años (Hombres) con PA<140/90 mmHg debe ser menor o igual a Hipertensos en Sección A. \")","v":""},{"$f":"IF($T$34<=$T$16,\"\",\"* Pacientes 45 a 49 años (Mujeres) con PA<140/90 mmHg debe ser menor o igual a Hipertensos en Sección A. \")","v":""},{"$f":"IF($U$34<=$U$16,\"\",\"* Pacientes 50 a 54 años (Hombres) con PA<140/90 mmHg debe ser menor o igual a Hipertensos en Sección A. \")","v":""},{"$f":"IF($V$34<=$V$16,\"\",\"* Pacientes 50 a 54 años (Mujeres) con PA<140/90 mmHg debe ser menor o igual a Hipertensos en Sección A. \")","v":""},{"$f":"IF($W$34<=$W$16,\"\",\"* Pacientes 55 a 59 años (Hombres) con PA<140/90 mmHg debe ser menor o igual a Hipertensos en Sección A. \")","v":""},{"$f":"IF($X$34<=$X$16,\"\",\"* Pacientes 55 a 59 años (Mujeres) con PA<140/90 mmHg debe ser menor o igual a Hipertensos en Sección A. \")","v":""},{"$f":"IF($Y$34<=$Y$16,\"\",\"* Pacientes 60 a 64 años (Hombres) con PA<140/90 mmHg debe ser menor o igual a Hipertensos en Sección A. \")","v":""},{"$f":"IF($Z$34<=$Z$16,\"\",\"* Pacientes 60 a 64 años (Mujeres) con PA<140/90 mmHg debe ser menor o igual a Hipertensos en Sección A. \")","v":""},{"$f":"IF($AA$34<=$AA$16,\"\",\"* Pacientes 65 a 69 años (Hombres) con PA<140/90 mmHg debe ser menor o igual a Hipertensos en Sección A. \")","v":""},{"$f":"IF($AB$34<=$AB$16,\"\",\"* Pacientes 65 a 69 años (Mujeres) con PA<140/90 mmHg debe ser menor o igual a Hipertensos en Sección A. \")","v":""},{"$f":"IF($AC$34<=$AC$16,\"\",\"* Pacientes 70 a 74 años (Hombres) con PA<140/90 mmHg debe ser menor o igual a Hipertensos en Sección A. \")","v":""},{"$f":"IF($AD$34<=$AD$16,\"\",\"* Pacientes 70 a 74 años (Mujeres) con PA<140/90 mmHg debe ser menor o igual a Hipertensos en Sección A. \")","v":""},{"$f":"IF($AE$34<=$AE$16,\"\",\"* Pacientes 75 a 79 años (Hombres) con PA<140/90 mmHg debe ser menor o igual a Hipertensos en Sección A. \")","v":""},{"$f":"IF($AF$34<=$AF$16,\"\",\"* Pacientes 75 a 79 años (Mujeres) con PA<140/90 mmHg debe ser menor o igual a Hipertensos en Sección A. \")","v":""},{"$f":"IF($AG$34<=$AG$16,\"\",\"* Pacientes 80 y más años (Hombres) con PA<140/90 mmHg debe ser menor o igual a Hipertensos en Sección A. \")","v":""},{"$f":"IF($AH$34<=$AH$16,\"\",\"* Pacientes 80 y más años (Mujeres) con PA<140/90 mmHg debe ser menor o igual a Hipertensos en Sección A. \")","v":""},null,null,{"$f":"IF(AND(E34<>0,AI34=\"\"),1,IF(AND(F34<>0,AJ34=\"\"),1,0))","v":0},{"$f":"IF(AND(E34<>0,AK34=\"\"),1,IF(AND(F34<>0,AL34=\"\"),1,0))","v":0},{"$f":"IF($E$34>=$AI$34,0,1)","v":0},{"$f":"IF($F$34>=$AJ$34,0,1)","v":0},{"$f":"IF($E34>=$AK34,0,1)","v":0},{"$f":"IF($F34>=$AL34,0,1)","v":0},{"$f":"IF(G$34<=G$16,0,1)","v":0},0,0,0,0,0,0,0,0,0,0,0,0,0,0,0,0,0,0,0,0,0,0,0,0,0,0,0]
["P4200100",null,"PA < 150/90 mmHg ",{"$f":"IFERROR(VLOOKUP($A35,FILTRO!$A29:$AY654,2,FALSE),0)","v":9275},{"$f":"IFERROR(VLOOKUP($A35,FILTRO!$A29:$AY654,3,FALSE),0)","v":3717},{"$f":"IFERROR(VLOOKUP($A35,FILTRO!$A29:$AY654,4,FALSE),0)","v":5558},{"$f":"IFERROR(VLOOKUP($A35,FILTRO!$A29:$AY654,5,FALSE),0)","v":0},{"$f":"IFERROR(VLOOKUP($A35,FILTRO!$A29:$AY654,6,FALSE),0)","v":0},{"$f":"IFERROR(VLOOKUP($A35,FILTRO!$A29:$AY654,7,FALSE),0)","v":0},{"$f":"IFERROR(VLOOKUP($A35,FILTRO!$A29:$AY654,8,FALSE),0)","v":0},{"$f":"IFERROR(VLOOKUP($A35,FILTRO!$A29:$AY654,9,FALSE),0)","v":0},{"$f":"IFERROR(VLOOKUP($A35,FILTRO!$A29:$AY654,10,FALSE),0)","v":0},{"$f":"IFERROR(VLOOKUP($A35,FILTRO!$A29:$AY654,11,FALSE),0)","v":0},{"$f":"IFERROR(VLOOKUP($A35,FILTRO!$A29:$AY654,12,FALSE),0)","v":0},{"$f":"IFERROR(VLOOKUP($A35,FILTRO!$A29:$AY654,13,FALSE),0)","v":0},{"$f":"IFERROR(VLOOKUP($A35,FILTRO!$A29:$AY654,14,FALSE),0)","v":0},{"$f":"IFERROR(VLOOKUP($A35,FILTRO!$A29:$AY654,15,FALSE),0)","v":0},{"$f":"IFERROR(VLOOKUP($A35,FILTRO!$A29:$AY654,16,FALSE),0)","v":0},{"$f":"IFERROR(VLOOKUP($A35,FILTRO!$A29:$AY654,17,FALSE),0)","v":0},{"$f":"IFERROR(VLOOKUP($A35,FILTRO!$A29:$AY654,18,FALSE),0)","v":0},{"$f":"IFERROR(VLOOKUP($A35,FILTRO!$A29:$AY654,19,FALSE),0)","v":0},{"$f":"IFERROR(VLOOKUP($A35,FILTRO!$A29:$AY654,20,FALSE),0)","v":0},{"$f":"IFERROR(VLOOKUP($A35,FILTRO!$A29:$AY654,21,FALSE),0)","v":0},{"$f":"IFERROR(VLOOKUP($A35,FILTRO!$A29:$AY654,22,FALSE),0)","v":0},{"$f":"IFERROR(VLOOKUP($A35,FILTRO!$A29:$AY654,23,FALSE),0)","v":0},{"$f":"IFERROR(VLOOKUP($A35,FILTRO!$A29:$AY654,24,FALSE),0)","v":0},{"$f":"IFERROR(VLOOKUP($A35,FILTRO!$A29:$AY654,25,FALSE),0)","v":0},{"$f":"IFERROR(VLOOKUP($A35,FILTRO!$A29:$AY654,26,FALSE),0)","v":0},{"$f":"IFERROR(VLOOKUP($A35,FILTRO!$A29:$AY654,27,FALSE),0)","v":0},{"$f":"IFERROR(VLOOKUP($A35,FILTRO!$A29:$AY654,28,FALSE),0)","v":0},{"$f":"IFERROR(VLOOKUP($A35,FILTRO!$A29:$AY654,29,FALSE),0)","v":0},{"$f":"IFERROR(VLOOKUP($A35,FILTRO!$A29:$AY654,30,FALSE),0)","v":0},{"$f":"IFERROR(VLOOKUP($A35,FILTRO!$A29:$AY654,31,FALSE),0)","v":3717},{"$f":"IFERROR(VLOOKUP($A35,FILTRO!$A29:$AY654,32,FALSE),0)","v":5558},{"$f":"IFERROR(VLOOKUP($A35,FILTRO!$A29:$AY654,33,FALSE),0)","v":15},{"$f":"IFERROR(VLOOKUP($A35,FILTRO!$A29:$AY654,34,FALSE),0)","v":18},{"$f":"IFERROR(VLOOKUP($A35,FILTRO!$A29:$AY654,35,FALSE),0)","v":7},{"$f":"IFERROR(VLOOKUP($A35,FILTRO!$A29:$AY654,36,FALSE),0)","v":10},{"$f":" BE35 & BF35 & BG35 & BH35 & BC35 & BD35","v":""},{"$nulls":15},"","",{"$f":"IF($E$35>=$AI$35,\"\",\"* Pueblos Originarios-Hombres no debe ser mayor al Total de personas Hombres. \")","v":""},{"$f":"IF($F$35>=$AJ$35,\"\",\"* Pueblos Originarios-Mujeres no debe ser mayor al Total de personas Mujeres. \")","v":""},"","",{"$nulls":30},{"$f":"IF(AND(E35<>0,AI35=\"\"),1,IF(AND(F35<>0,AJ35=\"\"),1,0))","v":0},{"$f":"IF(AND(E35<>0,AK35=\"\"),1,IF(AND(F35<>0,AL35=\"\"),1,0))","v":0},{"$f":"IF($E$35>=$AI$35,0,1)","v":0},{"$f":"IF($F$35>=$AJ$35,0,1)","v":0},0,{"$f":"IF($F35>=$AL35,0,1)","v":0}]
["P4180300","PERSONAS BAJO CONTROL POR DIABETES MELLITUS","HbA1C<7% ",{"$f":"IFERROR(VLOOKUP($A36,FILTRO!$A30:$AY655,2,FALSE),0)","v":16097},{"$f":"IFERROR(VLOOKUP($A36,FILTRO!$A30:$AY655,3,FALSE),0)","v":5823},{"$f":"IFERROR(VLOOKUP($A36,FILTRO!$A30:$AY655,4,FALSE),0)","v":10274},{"$f":"IFERROR(VLOOKUP($A36,FILTRO!$A30:$AY655,5,FALSE),0)","v":8},{"$f":"IFERROR(VLOOKUP($A36,FILTRO!$A30:$AY655,6,FALSE),0)","v":5},{"$f":"IFERROR(VLOOKUP($A36,FILTRO!$A30:$AY655,7,FALSE),0)","v":9},{"$f":"IFERROR(VLOOKUP($A36,FILTRO!$A30:$AY655,8,FALSE),0)","v":22},{"$f":"IFERROR(VLOOKUP($A36,FILTRO!$A30:$AY655,9,FALSE),0)","v":20},{"$f":"IFERROR(VLOOKUP($A36,FILTRO!$A30:$AY655,10,FALSE),0)","v":68},{"$f":"IFERROR(VLOOKUP($A36,FILTRO!$A30:$AY655,11,FALSE),0)","v":41},{"$f":"IFERROR(VLOOKUP($A36,FILTRO!$A30:$AY655,12,FALSE),0)","v":113},{"$f":"IFERROR(VLOOKUP($A36,FILTRO!$A30:$AY655,13,FALSE),0)","v":76},{"$f":"IFERROR(VLOOKUP($A36,FILTRO!$A30:$AY655,14,FALSE),0)","v":246},{"$f":"IFERROR(VLOOKUP($A36,FILTRO!$A30:$AY655,15,FALSE),0)","v":135},{"$f":"IFERROR(VLOOKUP($A36,FILTRO!$A30:$AY655,16,FALSE),0)","v":360},{"$f":"IFERROR(VLOOKUP($A36,FILTRO!$A30:$AY655,17,FALSE),0)","v":282},{"$f":"IFERROR(VLOOKUP($A36,FILTRO!$A30:$AY655,18,FALSE),0)","v":586},{"$f":"IFERROR(VLOOKUP($A36,FILTRO!$A30:$AY655,19,FALSE),0)","v":425},{"$f":"IFERROR(VLOOKUP($A36,FILTRO!$A30:$AY655,20,FALSE),0)","v":902},{"$f":"IFERROR(VLOOKUP($A36,FILTRO!$A30:$AY655,21,FALSE),0)","v":636},{"$f":"IFERROR(VLOOKUP($A36,FILTRO!$A30:$AY655,22,FALSE),0)","v":1426},{"$f":"IFERROR(VLOOKUP($A36,FILTRO!$A30:$AY655,23,FALSE),0)","v":885},{"$f":"IFERROR(VLOOKUP($A36,FILTRO!$A30:$AY655,24,FALSE),0)","v":1659},{"$f":"IFERROR(VLOOKUP($A36,FILTRO!$A30:$AY655,25,FALSE),0)","v":1202},{"$f":"IFERROR(VLOOKUP($A36,FILTRO!$A30:$AY655,26,FALSE),0)","v":1801},{"$f":"IFERROR(VLOOKUP($A36,FILTRO!$A30:$AY655,27,FALSE),0)","v":1123},{"$f":"IFERROR(VLOOKUP($A36,FILTRO!$A30:$AY655,28,FALSE),0)","v":1682},{"$f":"IFERROR(VLOOKUP($A36,FILTRO!$A30:$AY655,29,FALSE),0)","v":981},{"$f":"IFERROR(VLOOKUP($A36,FILTRO!$A30:$AY655,30,FALSE),0)","v":1404},{"$f":"IFERROR(VLOOKUP($A36,FILTRO!$A30:$AY655,31,FALSE),0)","v":0},{"$f":"IFERROR(VLOOKUP($A36,FILTRO!$A30:$AY655,32,FALSE),0)","v":0},{"$f":"IFERROR(VLOOKUP($A36,FILTRO!$A30:$AY655,33,FALSE),0)","v":34},{"$f":"IFERROR(VLOOKUP($A36,FILTRO!$A30:$AY655,34,FALSE),0)","v":63},{"$f":"IFERROR(VLOOKUP($A36,FILTRO!$A30:$AY655,35,FALSE),0)","v":18},{"$f":"IFERROR(VLOOKUP($A36,FILTRO!$A30:$AY655,36,FALSE),0)","v":44},{"$f":" BE36 & BF36 & BI36 & BJ36 & BK36 & BL36 & BM36 & BN36 & BO36 & BP36 & BQ36 & BR36 & BS36 & BT36 & BU36 & BV36 & BW36 & BX36 & BY36 & BZ36 & CA36 & CB36 & CC36 & CD36 & CE36 & CF36 & CG36 & CI36 & CJ36 & CH36 & BG36 & BH36 & BC36 & BD36","v":""},{"$nulls":15},"","",{"$f":"IF($E$36>=$AI$36,\"\",\"* Pueblos Originarios-Hombres no debe ser mayor al Total de personas Hombres. \")","v":""},{"$f":"IF($F$36>=$AJ$36,\"\",\"* Pueblos Originarios-Mujeres no debe ser mayor al Total de personas Mujeres. \")","v":""},"","",{"$f":"IF($G$36<=$G$17,\"\",\"* Pacientes 15 a 19 años (Hombres) con HbA1C<7% debe ser menor o igual a Diabéticos en Sección A. \")","v":""},{"$f":"IF($H$36<=$H$17,\"\",\"* Pacientes 15 a 19 años (Mujeres) con HbA1C<7% debe ser menor o igual a Diabéticos en Sección A. \")","v":""},{"$f":"IF($I$36<=$I$17,\"\",\"* Pacientes 20 a 24 años (Hombres) con HbA1C<7% debe ser menor o igual a Diabéticos en Sección A. \")","v":""},{"$f":"IF($J$36<=$J$17,\"\",\"* Pacientes 20 a 24 años (Mujeres) con HbA1C<7% debe ser menor o igual a Diabéticos en Sección A. \")","v":""},{"$f":"IF($K$36<=$K$17,\"\",\"* Pacientes 25 a 29 años (Hombres) con HbA1C<7% debe ser menor o igual a Diabéticos en Sección A. \")","v":""},{"$f":"IF($L$36<=$L$17,\"\",\"* Pacientes 25 a 29 años (Mujeres) con HbA1C<7% debe ser menor o igual a Diabéticos en Sección A. \")","v":""},{"$f":"IF($M$36<=$M$17,\"\",\"* Pacientes 30 a 34 años (Hombres) con HbA1C<7% debe ser menor o igual a Diabéticos en Sección A. \")","v":""},{"$f":"IF($N$36<=$N$17,\"\",\"* Pacientes 30 a 34 años (Mujeres) con HbA1C<7% debe ser menor o igual a Diabéticos en Sección A. \")","v":""},{"$f":"IF($O$36<=$O$17,\"\",\"* Pacientes 35 a 39 años (Hombres) con HbA1C<7% debe ser menor o igual a Diabéticos en Sección A. \")","v":""},{"$f":"IF($P$36<=$P$17,\"\",\"* Pacientes 35 a 39 años (Mujeres) con HbA1C<7% debe ser menor o igual a Diabéticos en Sección A. \")","v":""},{"$f":"IF($Q$36<=$Q$17,\"\",\"* Pacientes 40 a 44 años (Hombres) con HbA1C<7% debe ser menor o igual a Diabéticos en Sección A. \")","v":""},{"$f":"IF($R$36<=$R$17,\"\",\"* Pacientes 40 a 44 años (Mujeres) con HbA1C<7% debe ser menor o igual a Diabéticos en Sección A. \")","v":""},{"$f":"IF($S$36<=$S$17,\"\",\"* Pacientes 45 a 49 años (Hombres) con HbA1C<7% debe ser menor o igual a Diabéticos en Sección A. \")","v":""},{"$f":"IF($T$36<=$T$17,\"\",\"* Pacientes 45 a 49 años (Mujeres) con HbA1C<7% debe ser menor o igual a Diabéticos en Sección A. \")","v":""},{"$f":"IF($U$36<=$U$17,\"\",\"* Pacientes 50 a 54 años (Hombres) con HbA1C<7% debe ser menor o igual a Diabéticos en Sección A. \")","v":""},{"$f":"IF($V$36<=$V$17,\"\",\"* Pacientes 50 a 54 años (Mujeres) con HbA1C<7% debe ser menor o igual a Diabéticos en Sección A. \")","v":""},{"$f":"IF($W$36<=$W$17,\"\",\"* Pacientes 55 a 59 años (Hombres) con HbA1C<7% debe ser menor o igual a Diabéticos en Sección A. \")","v":""},{"$f":"IF($X$36<=$X$17,\"\",\"* Pacientes 55 a 59 años (Mujeres) con HbA1C<7% debe ser menor o igual a Diabéticos en Sección A. \")","v":""},{"$f":"IF($Y$36<=$Y$17,\"\",\"* Pacientes 60 a 64 años (Hombres) con HbA1C<7% debe ser menor o igual a Diabéticos en Sección A. \")","v":""},{"$f":"IF($Z$36<=$Z$17,\"\",\"* Pacientes 60 a 64 años (Mujeres) con HbA1C<7% debe ser menor o igual a Diabéticos en Sección A. \")","v":""},{"$f":"IF($AA$36<=$AA$17,\"\",\"* Pacientes 65 a 69 años (Hombres) con HbA1C<7% debe ser menor o igual a Diabéticos en Sección A. \")","v":""},{"$f":"IF($AB$36<=$AB$17,\"\",\"* Pacientes 65 a 69 años (Mujeres) con HbA1C<7% debe ser menor o igual a Diabéticos en Sección A. \")","v":""},{"$f":"IF($AC$36<=$AC$17,\"\",\"* Pacientes 70 a 74 años (Hombres) con HbA1C<7% debe ser menor o igual a Diabéticos en Sección A. \")","v":""},{"$f":"IF($AD$36<=$AD$17,\"\",\"* Pacientes 70 a 74 años (Mujeres) con HbA1C<7% debe ser menor o igual a Diabéticos en Sección A. \")","v":""},{"$f":"IF($AE$36<=$AE$17,\"\",\"* Pacientes 75 a 79 años (Hombres) con HbA1C<7% debe ser menor o igual a Diabéticos en Sección A. \")","v":""},{"$f":"IF($AF$36<=$AF$17,\"\",\"* Pacientes 75 a 79 años (Mujeres) con HbA1C<7% debe ser menor o igual a Diabéticos en Sección A. \")","v":""},{"$f":"IF($AG$36<=$AG$17,\"\",\"* Pacientes 80 y más años (Hombres) con HbA1C<7% debe ser menor o igual a Diabéticos en Sección A. \")","v":""},{"$f":"IF($AH$37<=$AH$17,\"\",\"* Pacientes 80 y más años (Mujeres) con HbA1C<8% debe ser menor o igual a Diabéticos en Sección A. \")","v":""},null,null,0,0,{"$f":"IF($E$36>=$AI$36,0,1)","v":0},{"$f":"IF($F$36>=$AJ$36,0,1)","v":0},0,{"$f":"IF($F36>=$AL36,0,1)","v":0},{"$f":"IF(G$36<=G$17,0,1)","v":0},0,0,0,0,0,0,0,0,0,0,0,0,0,0,0,0,0,0,0,0,0,0,0,0,0,0,0]
["P4200200",null,"HbA1C<8%",{"$f":"IFERROR(VLOOKUP($A37,FILTRO!$A31:$AY656,2,FALSE),0)","v":3272},{"$f":"IFERROR(VLOOKUP($A37,FILTRO!$A31:$AY656,3,FALSE),0)","v":1260},{"$f":"IFERROR(VLOOKUP($A37,FILTRO!$A31:$AY656,4,FALSE),0)","v":2012},{"$f":"IFERROR(VLOOKUP($A37,FILTRO!$A31:$AY656,5,FALSE),0)","v":0},{"$f":"IFERROR(VLOOKUP($A37,FILTRO!$A31:$AY656,6,FALSE),0)","v":0},{"$f":"IFERROR(VLOOKUP($A37,FILTRO!$A31:$AY656,7,FALSE),0)","v":0},{"$f":"IFERROR(VLOOKUP($A37,FILTRO!$A31:$AY656,8,FALSE),0)","v":0},{"$f":"IFERROR(VLOOKUP($A37,FILTRO!$A31:$AY656,9,FALSE),0)","v":0},{"$f":"IFERROR(VLOOKUP($A37,FILTRO!$A31:$AY656,10,FALSE),0)","v":0},{"$f":"IFERROR(VLOOKUP($A37,FILTRO!$A31:$AY656,11,FALSE),0)","v":0},{"$f":"IFERROR(VLOOKUP($A37,FILTRO!$A31:$AY656,12,FALSE),0)","v":0},{"$f":"IFERROR(VLOOKUP($A37,FILTRO!$A31:$AY656,13,FALSE),0)","v":0},{"$f":"IFERROR(VLOOKUP($A37,FILTRO!$A31:$AY656,14,FALSE),0)","v":0},{"$f":"IFERROR(VLOOKUP($A37,FILTRO!$A31:$AY656,15,FALSE),0)","v":0},{"$f":"IFERROR(VLOOKUP($A37,FILTRO!$A31:$AY656,16,FALSE),0)","v":0},{"$f":"IFERROR(VLOOKUP($A37,FILTRO!$A31:$AY656,17,FALSE),0)","v":0},{"$f":"IFERROR(VLOOKUP($A37,FILTRO!$A31:$AY656,18,FALSE),0)","v":0},{"$f":"IFERROR(VLOOKUP($A37,FILTRO!$A31:$AY656,19,FALSE),0)","v":0},{"$f":"IFERROR(VLOOKUP($A37,FILTRO!$A31:$AY656,20,FALSE),0)","v":0},{"$f":"IFERROR(VLOOKUP($A37,FILTRO!$A31:$AY656,21,FALSE),0)","v":0},{"$f":"IFERROR(VLOOKUP($A37,FILTRO!$A31:$AY656,22,FALSE),0)","v":0},{"$f":"IFERROR(VLOOKUP($A37,FILTRO!$A31:$AY656,23,FALSE),0)","v":0},{"$f":"IFERROR(VLOOKUP($A37,FILTRO!$A31:$AY656,24,FALSE),0)","v":0},{"$f":"IFERROR(VLOOKUP($A37,FILTRO!$A31:$AY656,25,FALSE),0)","v":0},{"$f":"IFERROR(VLOOKUP($A37,FILTRO!$A31:$AY656,26,FALSE),0)","v":0},{"$f":"IFERROR(VLOOKUP($A37,FILTRO!$A31:$AY656,27,FALSE),0)","v":0},{"$f":"IFERROR(VLOOKUP($A37,FILTRO!$A31:$AY656,28,FALSE),0)","v":0},{"$f":"IFERROR(VLOOKUP($A37,FILTRO!$A31:$AY656,29,FALSE),0)","v":0},{"$f":"IFERROR(VLOOKUP($A37,FILTRO!$A31:$AY656,30,FALSE),0)","v":0},{"$f":"IFERROR(VLOOKUP($A37,FILTRO!$A31:$AY656,31,FALSE),0)","v":1260},{"$f":"IFERROR(VLOOKUP($A37,FILTRO!$A31:$AY656,32,FALSE),0)","v":2012},{"$f":"IFERROR(VLOOKUP($A37,FILTRO!$A31:$AY656,33,FALSE),0)","v":12},{"$f":"IFERROR(VLOOKUP($A37,FILTRO!$A31:$AY656,34,FALSE),0)","v":27},{"$f":"IFERROR(VLOOKUP($A37,FILTRO!$A31:$AY656,35,FALSE),0)","v":3},{"$f":"IFERROR(VLOOKUP($A37,FILTRO!$A31:$AY656,36,FALSE),0)","v":8},{"$f":" BE37 & BF37 & BG37 & BH37 & BC37 & BD37","v":""},{"$nulls":15},"","",{"$f":"IF($E$37>=$AI$37,\"\",\"* Pueblos Originarios-Hombres no debe ser mayor al Total de personas Hombres. \")","v":""},{"$f":"IF($F$37>=$AJ$37,\"\",\"* Pueblos Originarios-Mujeres no debe ser mayor al Total de personas Mujeres. \")","v":""},"","",{"$nulls":30},0,0,{"$f":"IF($E$37>=$AI$37,0,1)","v":0},{"$f":"IF($F$37>=$AJ$37,0,1)","v":0},{"$f":"IF($E37>=$AK37,0,1)","v":0},{"$f":"IF($F37>=$AL37,0,1)","v":0}]
["P4190920",null,"HbA1C<7% - PA < 140/90mmHg y Colesterol LDL < 100 mg/dl",{"$f":"IFERROR(VLOOKUP($A38,FILTRO!$A32:$AY657,2,FALSE),0)","v":7870},{"$f":"IFERROR(VLOOKUP($A38,FILTRO!$A32:$AY657,3,FALSE),0)","v":3028},{"$f":"IFERROR(VLOOKUP($A38,FILTRO!$A32:$AY657,4,FALSE),0)","v":4842},{"$f":"IFERROR(VLOOKUP($A38,FILTRO!$A32:$AY657,5,FALSE),0)","v":1},{"$f":"IFERROR(VLOOKUP($A38,FILTRO!$A32:$AY657,6,FALSE),0)","v":0},{"$f":"IFERROR(VLOOKUP($A38,FILTRO!$A32:$AY657,7,FALSE),0)","v":6},{"$f":"IFERROR(VLOOKUP($A38,FILTRO!$A32:$AY657,8,FALSE),0)","v":7},{"$f":"IFERROR(VLOOKUP($A38,FILTRO!$A32:$AY657,9,FALSE),0)","v":8},{"$f":"IFERROR(VLOOKUP($A38,FILTRO!$A32:$AY657,10,FALSE),0)","v":31},{"$f":"IFERROR(VLOOKUP($A38,FILTRO!$A32:$AY657,11,FALSE),0)","v":20},{"$f":"IFERROR(VLOOKUP($A38,FILTRO!$A32:$AY657,12,FALSE),0)","v":51},{"$f":"IFERROR(VLOOKUP($A38,FILTRO!$A32:$AY657,13,FALSE),0)","v":38},{"$f":"IFERROR(VLOOKUP($A38,FILTRO!$A32:$AY657,14,FALSE),0)","v":88},{"$f":"IFERROR(VLOOKUP($A38,FILTRO!$A32:$AY657,15,FALSE),0)","v":60},{"$f":"IFERROR(VLOOKUP($A38,FILTRO!$A32:$AY657,16,FALSE),0)","v":144},{"$f":"IFERROR(VLOOKUP($A38,FILTRO!$A32:$AY657,17,FALSE),0)","v":117},{"$f":"IFERROR(VLOOKUP($A38,FILTRO!$A32:$AY657,18,FALSE),0)","v":251},{"$f":"IFERROR(VLOOKUP($A38,FILTRO!$A32:$AY657,19,FALSE),0)","v":177},{"$f":"IFERROR(VLOOKUP($A38,FILTRO!$A32:$AY657,20,FALSE),0)","v":377},{"$f":"IFERROR(VLOOKUP($A38,FILTRO!$A32:$AY657,21,FALSE),0)","v":273},{"$f":"IFERROR(VLOOKUP($A38,FILTRO!$A32:$AY657,22,FALSE),0)","v":516},{"$f":"IFERROR(VLOOKUP($A38,FILTRO!$A32:$AY657,23,FALSE),0)","v":375},{"$f":"IFERROR(VLOOKUP($A38,FILTRO!$A32:$AY657,24,FALSE),0)","v":661},{"$f":"IFERROR(VLOOKUP($A38,FILTRO!$A32:$AY657,25,FALSE),0)","v":505},{"$f":"IFERROR(VLOOKUP($A38,FILTRO!$A32:$AY657,26,FALSE),0)","v":766},{"$f":"IFERROR(VLOOKUP($A38,FILTRO!$A32:$AY657,27,FALSE),0)","v":474},{"$f":"IFERROR(VLOOKUP($A38,FILTRO!$A32:$AY657,28,FALSE),0)","v":644},{"$f":"IFERROR(VLOOKUP($A38,FILTRO!$A32:$AY657,29,FALSE),0)","v":457},{"$f":"IFERROR(VLOOKUP($A38,FILTRO!$A32:$AY657,30,FALSE),0)","v":594},{"$f":"IFERROR(VLOOKUP($A38,FILTRO!$A32:$AY657,31,FALSE),0)","v":517},{"$f":"IFERROR(VLOOKUP($A38,FILTRO!$A32:$AY657,32,FALSE),0)","v":712},{"$f":"IFERROR(VLOOKUP($A38,FILTRO!$A32:$AY657,33,FALSE),0)","v":24},{"$f":"IFERROR(VLOOKUP($A38,FILTRO!$A32:$AY657,34,FALSE),0)","v":38},{"$f":"IFERROR(VLOOKUP($A38,FILTRO!$A32:$AY657,35,FALSE),0)","v":7},{"$f":"IFERROR(VLOOKUP($A38,FILTRO!$A32:$AY657,36,FALSE),0)","v":17},{"$f":" BE38 & BF38 & BI38 & BJ38 & BK38 & BL38 & BM38 & BN38 & BO38 & BP38 & BQ38 & BR38 & BS38 & BT38 & BU38 & BV38 & BW38 & BX38 & BY38 & BZ38 & CA38 & CB38 & CC38 & CD38 & CE38 & CF38 & CG38 & CI38 & CJ38 & CH38 & BG38 & BH38 & BC38 & BD38","v":""},{"$nulls":15},"","",{"$f":"IF($E$38>=$AI$38,\"\",\"* Pueblos Originarios-Hombres no debe ser mayor al Total de personas Hombres. \")","v":""},{"$f":"IF($F$38>=$AJ$38,\"\",\"* Pueblos Originarios-Mujeres no debe ser mayor al Total de personas Mujeres. \")","v":""},"","",{"$f":"IF($G$38<=$G$36,\"\",\"* Pacientes 15 a 19 años (Hombres) con HbA1C<7% - PA<140/90mmHg debe ser menor o igual a los con HbA1C<7%. \")","v":""},{"$f":"IF($H$38<=$H$36,\"\",\"* Pacientes 15 a 19 años (Mujeres) con HbA1C<7% - PA<140/90mmHg debe ser menor o igual a los con HbA1C<7%. \")","v":""},{"$f":"IF($I$38<=$I$36,\"\",\"* Pacientes 20 a 24 años (Hombres) con HbA1C<7% - PA<140/90mmHg debe ser menor o igual a los con HbA1C<7%. \")","v":""},{"$f":"IF($J$38<=$J$36,\"\",\"* Pacientes 20 a 24 años (Mujeres) con HbA1C<7% - PA<140/90mmHg debe ser menor o igual a los con HbA1C<7%. \")","v":""},{"$f":"IF($K$38<=$K$36,\"\",\"* Pacientes 25 a 29 años (Hombres) con HbA1C<7% - PA<140/90mmHg debe ser menor o igual a los con HbA1C<7%. \")","v":""},{"$f":"IF($L$38<=$L$36,\"\",\"* Pacientes 25 a 29 años (Mujeres) con HbA1C<7% - PA<140/90mmHg debe ser menor o igual a los con HbA1C<7%. \")","v":""},{"$f":"IF($M$38<=$M$36,\"\",\"* Pacientes 30 a 34 años (Hombres) con HbA1C<7% - PA<140/90mmHg debe ser menor o igual a los con HbA1C<7%. \")","v":""},{"$f":"IF($N$38<=$N$36,\"\",\"* Pacientes 30 a 34 años (Mujeres) con HbA1C<7% - PA<140/90mmHg debe ser menor o igual a los con HbA1C<7%. \")","v":""},{"$f":"IF($O$38<=$O$36,\"\",\"* Pacientes 35 a 39 años (Hombres) con HbA1C<7% - PA<140/90mmHg debe ser menor o igual a los con HbA1C<7%. \")","v":""},{"$f":"IF($P$38<=$P$36,\"\",\"* Pacientes 35 a 39 años (Mujeres) con HbA1C<7% - PA<140/90mmHg debe ser menor o igual a los con HbA1C<7%. \")","v":""},{"$f":"IF($Q$38<=$Q$36,\"\",\"* Pacientes 40 a 44 años (Hombres) con HbA1C<7% - PA<140/90mmHg debe ser menor o igual a los con HbA1C<7%. \")","v":""},{"$f":"IF($R$38<=$R$36,\"\",\"* Pacientes 40 a 44 años (Mujeres) con HbA1C<7% - PA<140/90mmHg debe ser menor o igual a los con HbA1C<7%. \")","v":""},{"$f":"IF($S$38<=$S$36,\"\",\"* Pacientes 45 a 49 años (Hombres) con HbA1C<7% - PA<140/90mmHg debe ser menor o igual a los con HbA1C<7%. \")","v":""},{"$f":"IF($T$38<=$T$36,\"\",\"* Pacientes 45 a 49 años (Mujeres) con HbA1C<7% - PA<140/90mmHg debe ser menor o igual a los con HbA1C<7%. \")","v":""},{"$f":"IF($U$38<=$U$36,\"\",\"* Pacientes 50 a 54 años (Hombres) con HbA1C<7% - PA<140/90mmHg debe ser menor o igual a los con HbA1C<7%. \")","v":""},{"$f":"IF($V$38<=$V$36,\"\",\"* Pacientes 50 a 54 años (Mujeres) con HbA1C<7% - PA<140/90mmHg debe ser menor o igual a los con HbA1C<7%. \")","v":""},{"$f":"IF($W$38<=$W$36,\"\",\"* Pacientes 55 a 59 años (Hombres) con HbA1C<7% - PA<140/90mmHg debe ser menor o igual a los con HbA1C<7%. \")","v":""},{"$f":"IF($X$38<=$X$36,\"\",\"* Pacientes 55 a 59 años (Mujeres) con HbA1C<7% - PA<140/90mmHg debe ser menor o igual a los con HbA1C<7%. \")","v":""},{"$f":"IF($Y$38<=$Y$36,\"\",\"* Pacientes 60 a 64 años (Hombres) con HbA1C<7% - PA<140/90mmHg debe ser menor o igual a los con HbA1C<7%. \")","v":""},{"$f":"IF($Z$38<=$Z$36,\"\",\"* Pacientes 60 a 64 años (Mujeres) con HbA1C<7% - PA<140/90mmHg debe ser menor o igual a los con HbA1C<7%. \")","v":""},{"$f":"IF($AA$38<=$AA$36,\"\",\"* Pacientes 65 a 69 años (Hombres) con HbA1C<7% - PA<140/90mmHg debe ser menor o igual a los con HbA1C<7%. \")","v":""},{"$f":"IF($AB$38<=$AB$36,\"\",\"* Pacientes 65 a 69 años (Mujeres) con HbA1C<7% - PA<140/90mmHg debe ser menor o igual a los con HbA1C<7%. \")","v":""},{"$f":"IF($AC$38<=$AC$36,\"\",\"* Pacientes 70 a 74 años (Hombres) con HbA1C<7% - PA<140/90mmHg debe ser menor o igual a los con HbA1C<7%. \")","v":""},{"$f":"IF($AD$38<=$AD$36,\"\",\"* Pacientes 70 a 74 años (Mujeres) con HbA1C<7% - PA<140/90mmHg debe ser menor o igual a los con HbA1C<7%. \")","v":""},{"$f":"IF($AE$38<=$AE$36,\"\",\"* Pacientes 75 a 79 años (Hombres) con HbA1C<7% - PA<140/90mmHg debe ser menor o igual a los con HbA1C<7%. \")","v":""},{"$f":"IF($AF$38<=$AF$36,\"\",\"* Pacientes 75 a 79 años (Mujeres) con HbA1C<7% - PA<140/70mmHg debe ser menor o igual a los con HbA1C<7%. \")","v":""},{"$nulls":4},0,0,{"$f":"IF($E$38>=$AI$38,0,1)","v":0},{"$f":"IF($F$38>=$AJ$38,0,1)","v":0},0,{"$f":"IF($F38>=$AL38,0,1)","v":0},{"$f":"IF(G$38<=G$36,0,1)","v":0},0,0,0,0,0,0,0,0,0,0,0,0,0,0,0,0,0,0,0,0,0,0,0,0,0]
["P4180500","PERSONAS CON RCV ALTO","COLESTEROL LDL < 100 mg/dL",{"$f":"IFERROR(VLOOKUP($A39,FILTRO!$A33:$AY658,2,FALSE),0)","v":22495},{"$f":"IFERROR(VLOOKUP($A39,FILTRO!$A33:$AY658,3,FALSE),0)","v":9160},{"$f":"IFERROR(VLOOKUP($A39,FILTRO!$A33:$AY658,4,FALSE),0)","v":13335},{"$f":"IFERROR(VLOOKUP($A39,FILTRO!$A33:$AY658,5,FALSE),0)","v":5},{"$f":"IFERROR(VLOOKUP($A39,FILTRO!$A33:$AY658,6,FALSE),0)","v":5},{"$f":"IFERROR(VLOOKUP($A39,FILTRO!$A33:$AY658,7,FALSE),0)","v":11},{"$f":"IFERROR(VLOOKUP($A39,FILTRO!$A33:$AY658,8,FALSE),0)","v":19},{"$f":"IFERROR(VLOOKUP($A39,FILTRO!$A33:$AY658,9,FALSE),0)","v":19},{"$f":"IFERROR(VLOOKUP($A39,FILTRO!$A33:$AY658,10,FALSE),0)","v":58},{"$f":"IFERROR(VLOOKUP($A39,FILTRO!$A33:$AY658,11,FALSE),0)","v":53},{"$f":"IFERROR(VLOOKUP($A39,FILTRO!$A33:$AY658,12,FALSE),0)","v":115},{"$f":"IFERROR(VLOOKUP($A39,FILTRO!$A33:$AY658,13,FALSE),0)","v":93},{"$f":"IFERROR(VLOOKUP($A39,FILTRO!$A33:$AY658,14,FALSE),0)","v":226},{"$f":"IFERROR(VLOOKUP($A39,FILTRO!$A33:$AY658,15,FALSE),0)","v":156},{"$f":"IFERROR(VLOOKUP($A39,FILTRO!$A33:$AY658,16,FALSE),0)","v":362},{"$f":"IFERROR(VLOOKUP($A39,FILTRO!$A33:$AY658,17,FALSE),0)","v":306},{"$f":"IFERROR(VLOOKUP($A39,FILTRO!$A33:$AY658,18,FALSE),0)","v":618},{"$f":"IFERROR(VLOOKUP($A39,FILTRO!$A33:$AY658,19,FALSE),0)","v":535},{"$f":"IFERROR(VLOOKUP($A39,FILTRO!$A33:$AY658,20,FALSE),0)","v":919},{"$f":"IFERROR(VLOOKUP($A39,FILTRO!$A33:$AY658,21,FALSE),0)","v":820},{"$f":"IFERROR(VLOOKUP($A39,FILTRO!$A33:$AY658,22,FALSE),0)","v":1465},{"$f":"IFERROR(VLOOKUP($A39,FILTRO!$A33:$AY658,23,FALSE),0)","v":1110},{"$f":"IFERROR(VLOOKUP($A39,FILTRO!$A33:$AY658,24,FALSE),0)","v":1763},{"$f":"IFERROR(VLOOKUP($A39,FILTRO!$A33:$AY658,25,FALSE),0)","v":1472},{"$f":"IFERROR(VLOOKUP($A39,FILTRO!$A33:$AY658,26,FALSE),0)","v":1914},{"$f":"IFERROR(VLOOKUP($A39,FILTRO!$A33:$AY658,27,FALSE),0)","v":1460},{"$f":"IFERROR(VLOOKUP($A39,FILTRO!$A33:$AY658,28,FALSE),0)","v":1783},{"$f":"IFERROR(VLOOKUP($A39,FILTRO!$A33:$AY658,29,FALSE),0)","v":1272},{"$f":"IFERROR(VLOOKUP($A39,FILTRO!$A33:$AY658,30,FALSE),0)","v":1599},{"$f":"IFERROR(VLOOKUP($A39,FILTRO!$A33:$AY658,31,FALSE),0)","v":1848},{"$f":"IFERROR(VLOOKUP($A39,FILTRO!$A33:$AY658,32,FALSE),0)","v":2489},{"$f":"IFERROR(VLOOKUP($A39,FILTRO!$A33:$AY658,33,FALSE),0)","v":41},{"$f":"IFERROR(VLOOKUP($A39,FILTRO!$A33:$AY658,34,FALSE),0)","v":69},{"$f":"IFERROR(VLOOKUP($A39,FILTRO!$A33:$AY658,35,FALSE),0)","v":27},{"$f":"IFERROR(VLOOKUP($A39,FILTRO!$A33:$AY658,36,FALSE),0)","v":61},{"$f":" BE39 & BF39 & BI39 & BJ39 & BK39 & BL39 & BM39 & BN39 & BO39 & BP39 & BQ39 & BR39 & BS39 & BT39 & BU39 & BV39 & BW39 & BX39 & BY39 & BZ39 & CA39 & CB39 & CC39 & CD39 & CE39 & CF39 & CG39 & CI39 & CJ39 & CH39 & BG39 & BH39 & BC39 & BD39","v":""},{"$nulls":15},"","",{"$f":"IF($E$39>=$AI$39,\"\",\"* Pueblos Originarios-Hombres no debe ser mayor al Total de personas Hombres. \")","v":""},{"$f":"IF($F$39>=$AJ$39,\"\",\"* Pueblos Originarios-Mujeres no debe ser mayor al Total de personas Mujeres. \")","v":""},"","",{"$f":"IF($G$39<=$G$15,\"\",\"* Pacientes 15 a 19 años (Hombres) con RCV Alto con Colesterol LDL <100 mg/dl no debe ser mayor al Total RCV Alto de Sección A. \")","v":""},{"$f":"IF($H$39<=$H$15,\"\",\"* Pacientes 15 a 19 años (Mujeres) con RCV Alto con Colesterol LDL <100 mg/dl no debe ser mayor al Total RCV Alto de Sección A. \")","v":""},{"$f":"IF($I$39<=+$I$15,\"\",\"* Pacientes 20 a 24 años (Hombres) con RCV Alto con Colesterol LDL <100 mg/dl no debe ser mayor al Total RCV Alto de Sección A. \")","v":""},{"$f":"IF($J$39<=+$J$15,\"\",\"* Pacientes 20 a 24 años (Mujeres) con RCV Alto con Colesterol LDL <100 mg/dl no debe ser mayor al Total RCV Alto de Sección A. \")","v":""},{"$f":"IF($K$39<=+$K$15,\"\",\"* Pacientes 25 a 29 años (Hombres) con RCV Alto con Colesterol LDL <100 mg/dl no debe ser mayor al Total RCV Alto de Sección A. \")","v":""},{"$f":"IF($L$39<=+$L$15,\"\",\"* Pacientes 25 a 29 años (Mujeres) con RCV Alto con Colesterol LDL <100 mg/dl no debe ser mayor al Total RCV Alto de Sección A. \")","v":""},{"$f":"IF($M$39<=+$M$15,\"\",\"* Pacientes 30 a 34 años (Hombres) con RCV Alto con Colesterol LDL <100 mg/dl no debe ser mayor al Total RCV Alto de Sección A. \")","v":""},{"$f":"IF($N$39<=+$N$15,\"\",\"* Pacientes 30 a 34 años (Mujeres) con RCV Alto con Colesterol LDL <100 mg/dl no debe ser mayor al Total RCV Alto de Sección A. \")","v":""},{"$f":"IF($O$39<=+$O$15,\"\",\"* Pacientes 35 a 39 años (Hombres) con RCV Alto con Colesterol LDL <100 mg/dl no debe ser mayor al Total RCV Alto de Sección A. \")","v":""},{"$f":"IF($P$39<=+$P$15,\"\",\"* Pacientes 35 a 39 años (Mujeres) con RCV Alto con Colesterol LDL <100 mg/dl no debe ser mayor al Total RCV Alto de Sección A. \")","v":""},{"$f":"IF($Q$39<=+$Q$15,\"\",\"* Pacientes 40 a 44 años (Hombres) con RCV Alto con Colesterol LDL <100 mg/dl no debe ser mayor al Total RCV Alto de Sección A. \")","v":""},{"$f":"IF($R$39<=+$R$15,\"\",\"* Pacientes 40 a 44 años (Mujeres) con RCV Alto con Colesterol LDL <100 mg/dl no debe ser mayor al Total RCV Alto de Sección A. \")","v":""},{"$f":"IF($S$39<=+$S$15,\"\",\"* Pacientes 45 a 49 años (Hombres) con RCV Alto con Colesterol LDL <100 mg/dl no debe ser mayor al Total RCV Alto de Sección A. \")","v":""},{"$f":"IF($T$39<=+$T$15,\"\",\"* Pacientes 45 a 49 años (Mujeres) con RCV Alto con Colesterol LDL <100 mg/dl no debe ser mayor al Total RCV Alto de Sección A. \")","v":""},{"$f":"IF($U$39<=+$U$15,\"\",\"* Pacientes 50 a 54 años (Hombres) con RCV Alto con Colesterol LDL <100 mg/dl no debe ser mayor al Total RCV Alto de Sección A. \")","v":""},{"$f":"IF($V$39<=+$V$15,\"\",\"* Pacientes 50 a 54 años (Mujeres) con RCV Alto con Colesterol LDL <100 mg/dl no debe ser mayor al Total RCV Alto de Sección A. \")","v":""},{"$f":"IF($W$39<=+$W$15,\"\",\"* Pacientes 55 a 59 años (Hombres) con RCV Alto con Colesterol LDL <100 mg/dl no debe ser mayor al Total RCV Alto de Sección A. \")","v":""},{"$f":"IF($X$39<=+$X$15,\"\",\"* Pacientes 55 a 59 años (Mujeres) con RCV Alto con Colesterol LDL <100 mg/dl no debe ser mayor al Total RCV Alto de Sección A. \")","v":""},{"$f":"IF($Y$39<=+$Y$15,\"\",\"* Pacientes 60 a 64 años (Hombres) con RCV Alto con Colesterol LDL <100 mg/dl no debe ser mayor al Total RCV Alto de Sección A. \")","v":""},{"$f":"IF($Z$39<=+$Z$15,\"\",\"* Pacientes 60 a 64 años (Mujeres) con RCV Alto con Colesterol LDL <100 mg/dl no debe ser mayor al Total RCV Alto de Sección A. \")","v":""},{"$f":"IF($AA$39<=+$AA$15,\"\",\"* Pacientes 65 a 69 años (Hombres) con RCV Alto con Colesterol LDL <100 mg/dl no debe ser mayor al Total RCV Alto de Sección A. \")","v":""},{"$f":"IF($AB$39<=+$AB$15,\"\",\"* Pacientes 65 a 69 años (Mujeres) con RCV Alto con Colesterol LDL <100 mg/dl no debe ser mayor al Total RCV Alto de Sección A. \")","v":""},{"$f":"IF($AC$39<=+$AC$15,\"\",\"* Pacientes 70 a 74 años (Hombres) con RCV Alto con Colesterol LDL <100 mg/dl no debe ser mayor al Total RCV Alto de Sección A. \")","v":""},{"$f":"IF($AD$39<=+$AD$15,\"\",\"* Pacientes 70 a 74 años (Mujeres) con RCV Alto con Colesterol LDL <100 mg/dl no debe ser mayor al Total RCV Alto de Sección A. \")","v":""},{"$f":"IF($AE$39<=+$AE$15,\"\",\"* Pacientes 75 a 79 años (Hombres) con RCV Alto con Colesterol LDL <100 mg/dl no debe ser mayor al Total RCV Alto de Sección A. \")","v":""},{"$f":"IF($AF$39<=+$AF$15,\"\",\"* Pacientes 75 a 79 años (Mujeres) con RCV Alto con Colesterol LDL <100 mg/dl no debe ser mayor al Total RCV Alto de Sección A. \")","v":""},{"$f":"IF($AG$39<=+$AG$15,\"\",\"* Pacientes 80 y más años (Hombres) con RCV Alto con Colesterol LDL <100 mg/dl no debe ser mayor al Total RCV Alto de Sección A. \")","v":""},{"$f":"IF($AH$39<=+$AH$15,\"\",\"* Pacientes 80 y más años (Mujeres) con RCV Alto con Colesterol LDL <100 mg/dl no debe ser mayor al Total RCV Alto de Sección A. \")","v":""},null,null,0,0,{"$f":"IF($E$39>=$AI$39,0,1)","v":0},{"$f":"IF($F$39>=$AJ$39,0,1)","v":0},0,{"$f":"IF($F39>=$AK39,0,1)","v":0},{"$f":"IF(G$39<=+G$15,0,1)","v":0},0,0,0,0,0,0,0,0,0,0,0,0,0,0,0,0,0,0,0,0,0,0,0,0,0,0,0]
["P4190930","PERSONAS BAJO CONTROL con antecedentes Enfermedad Cardiovascular (ECV)","En tratamiento con Antiagregantes plaquetarios",{"$f":"IFERROR(VLOOKUP($A40,FILTRO!$A34:$AY659,2,FALSE),0)","v":3472},{"$f":"IFERROR(VLOOKUP($A40,FILTRO!$A34:$AY659,3,FALSE),0)","v":1884},{"$f":"IFERROR(VLOOKUP($A40,FILTRO!$A34:$AY659,4,FALSE),0)","v":1588},{"$f":"IFERROR(VLOOKUP($A40,FILTRO!$A34:$AY659,5,FALSE),0)","v":0},{"$f":"IFERROR(VLOOKUP($A40,FILTRO!$A34:$AY659,6,FALSE),0)","v":0},{"$f":"IFERROR(VLOOKUP($A40,FILTRO!$A34:$AY659,7,FALSE),0)","v":0},{"$f":"IFERROR(VLOOKUP($A40,FILTRO!$A34:$AY659,8,FALSE),0)","v":0},{"$f":"IFERROR(VLOOKUP($A40,FILTRO!$A34:$AY659,9,FALSE),0)","v":4},{"$f":"IFERROR(VLOOKUP($A40,FILTRO!$A34:$AY659,10,FALSE),0)","v":0},{"$f":"IFERROR(VLOOKUP($A40,FILTRO!$A34:$AY659,11,FALSE),0)","v":3},{"$f":"IFERROR(VLOOKUP($A40,FILTRO!$A34:$AY659,12,FALSE),0)","v":3},{"$f":"IFERROR(VLOOKUP($A40,FILTRO!$A34:$AY659,13,FALSE),0)","v":2},{"$f":"IFERROR(VLOOKUP($A40,FILTRO!$A34:$AY659,14,FALSE),0)","v":7},{"$f":"IFERROR(VLOOKUP($A40,FILTRO!$A34:$AY659,15,FALSE),0)","v":16},{"$f":"IFERROR(VLOOKUP($A40,FILTRO!$A34:$AY659,16,FALSE),0)","v":23},{"$f":"IFERROR(VLOOKUP($A40,FILTRO!$A34:$AY659,17,FALSE),0)","v":40},{"$f":"IFERROR(VLOOKUP($A40,FILTRO!$A34:$AY659,18,FALSE),0)","v":31},{"$f":"IFERROR(VLOOKUP($A40,FILTRO!$A34:$AY659,19,FALSE),0)","v":90},{"$f":"IFERROR(VLOOKUP($A40,FILTRO!$A34:$AY659,20,FALSE),0)","v":96},{"$f":"IFERROR(VLOOKUP($A40,FILTRO!$A34:$AY659,21,FALSE),0)","v":133},{"$f":"IFERROR(VLOOKUP($A40,FILTRO!$A34:$AY659,22,FALSE),0)","v":135},{"$f":"IFERROR(VLOOKUP($A40,FILTRO!$A34:$AY659,23,FALSE),0)","v":264},{"$f":"IFERROR(VLOOKUP($A40,FILTRO!$A34:$AY659,24,FALSE),0)","v":222},{"$f":"IFERROR(VLOOKUP($A40,FILTRO!$A34:$AY659,25,FALSE),0)","v":321},{"$f":"IFERROR(VLOOKUP($A40,FILTRO!$A34:$AY659,26,FALSE),0)","v":227},{"$f":"IFERROR(VLOOKUP($A40,FILTRO!$A34:$AY659,27,FALSE),0)","v":350},{"$f":"IFERROR(VLOOKUP($A40,FILTRO!$A34:$AY659,28,FALSE),0)","v":236},{"$f":"IFERROR(VLOOKUP($A40,FILTRO!$A34:$AY659,29,FALSE),0)","v":272},{"$f":"IFERROR(VLOOKUP($A40,FILTRO!$A34:$AY659,30,FALSE),0)","v":244},{"$f":"IFERROR(VLOOKUP($A40,FILTRO!$A34:$AY659,31,FALSE),0)","v":389},{"$f":"IFERROR(VLOOKUP($A40,FILTRO!$A34:$AY659,32,FALSE),0)","v":364},{"$f":"IFERROR(VLOOKUP($A40,FILTRO!$A34:$AY659,33,FALSE),0)","v":7},{"$f":"IFERROR(VLOOKUP($A40,FILTRO!$A34:$AY659,34,FALSE),0)","v":8},{"$f":"IFERROR(VLOOKUP($A40,FILTRO!$A34:$AY659,35,FALSE),0)","v":7},{"$f":"IFERROR(VLOOKUP($A40,FILTRO!$A34:$AY659,36,FALSE),0)","v":2},{"$f":" BE40 & BF40 & BI40 & BJ40 & BK40 & BL40 & BM40 & BN40 & BO40 & BP40 & BQ40 & BR40 & BS40 & BT40 & BU40 & BV40 & BW40 & BX40 & BY40 & BZ40 & CA40 & CB40 & CC40 & CD40 & CE40 & CF40 & CG40 & CI40 & CJ40 & CH40 & BG40 & BH40 & BC40 & BD40","v":""},{"$nulls":15},"","",{"$f":"IF($E$40>=$AI$40,\"\",\"* Pueblos Originarios-Hombres no debe ser mayor al Total de personas Hombres. \")","v":""},{"$f":"IF($F$40>=$AJ$40,\"\",\"* Pueblos Originarios-Mujeres no debe ser mayor al Total de personas Mujeres. \")","v":""},"","",{"$f":"IF($G$40<=$G$20+$G$21,\"\",\"* Pacientes 15 a 19 años (Hombres) con con antecedentes ECV con tto. Antiagregante plaquetario no debe ser mayor al Total Población con Antecedentes de IAM y ECV de Sección A. \")","v":""},{"$f":"IF($H$40<=$H$20+$H$21,\"\",\"* Pacientes 15 a 19 años (Mujeres) con con antecedentes ECV con tto. Antiagregante plaquetario no debe ser mayor al Total Población con Antecedentes de IAM y ECV de Sección A. \")","v":""},{"$f":"IF($I$40<=$I$20+$I$21,\"\",\"* Pacientes 20 a 24 años (Hombres) con con antecedentes ECV con tto. Antiagregante plaquetario no debe ser mayor al Total Población con Antecedentes de IAM y ECV de Sección A. \")","v":""},{"$f":"IF($J$40<=$J$20+$J$21,\"\",\"* Pacientes 20 a 24 años (Mujeres) con con antecedentes ECV con tto. Antiagregante plaquetario no debe ser mayor al Total Población con Antecedentes de IAM y ECV de Sección A. \")","v":""},{"$f":"IF($K$40<=$K$20+$K$21,\"\",\"* Pacientes 25 a 29 años (Hombres) con con antecedentes ECV con tto. Antiagregante plaquetario no debe ser mayor al Total Población con Antecedentes de IAM y ECV de Sección A. \")","v":""},{"$f":"IF($L$40<=$L$20+$L$21,\"\",\"* Pacientes 25 a 29 años (Mujeres) con con antecedentes ECV con tto. Antiagregante plaquetario no debe ser mayor al Total Población con Antecedentes de IAM y ECV de Sección A. \")","v":""},{"$f":"IF($M$40<=$M$20+$M$21,\"\",\"* Pacientes 30 a 34 años (Hombres) con con antecedentes ECV con tto. Antiagregante plaquetario no debe ser mayor al Total Población con Antecedentes de IAM y ECV de Sección A. \")","v":""},{"$f":"IF($N$40<=$N$20+$N$21,\"\",\"* Pacientes 30 a 34 años (Mujeres) con con antecedentes ECV con tto. Antiagregante plaquetario no debe ser mayor al Total Población con Antecedentes de IAM y ECV de Sección A. \")","v":""},{"$f":"IF($O$40<=$O$20+$O$21,\"\",\"* Pacientes 35 a 39 años (Hombres) con con antecedentes ECV con tto. Antiagregante plaquetario no debe ser mayor al Total Población con Antecedentes de IAM y ECV de Sección A. \")","v":""},{"$f":"IF($P$40<=$P$20+$P$21,\"\",\"* Pacientes 35 a 39 años (Mujeres) con con antecedentes ECV con tto. Antiagregante plaquetario no debe ser mayor al Total Población con Antecedentes de IAM y ECV de Sección A. \")","v":""},{"$f":"IF($Q$40<=$Q$20+$Q$21,\"\",\"* Pacientes 40 a 44 años (Hombres) con con antecedentes ECV con tto.Antiagregante plaquetario no debe ser mayor al Total Población con Antecedentes de IAM y ECV de Sección A. \")","v":""},{"$f":"IF($R$40<=$R$20+$R$21,\"\",\"* Pacientes 40 a 44 años (Mujeres) con con antecedentes ECV con tto. Antiagregante plaquetario no debe ser mayor al Total Población con Antecedentes de IAM y ECV de Sección A. \")","v":""},{"$f":"IF($S$40<=$S$20+$S$21,\"\",\"* Pacientes 45 a 49 años (Hombres) con con antecedentes ECV con tto.Antiagregante plaquetario no debe ser mayor al Total Población con Antecedentes de IAM y ECV de Sección A. \")","v":""},{"$f":"IF($T$40<=$T$20+$T$21,\"\",\"* Pacientes 45 a 49 años (Mujeres) con con antecedentes ECV con tto. Antiagregante plaquetario no debe ser mayor al Total Población con Antecedentes de IAM y ECV de Sección A. \")","v":""},{"$f":"IF($U$40<=$U$20+$U$21,\"\",\"* Pacientes 50 a 54 años (Hombres) con con antecedentes ECV con tto. Antiagregante plaquetario no debe ser mayor al Total Población con Antecedentes de IAM y ECV de Sección A. \")","v":""},{"$f":"IF($V$40<=$V$20+$V$21,\"\",\"* Pacientes 50 a 54 años (Mujeres) con con antecedentes ECV con tto. Antiagregante plaquetario no debe ser mayor al Total Población con Antecedentes de IAM y ECV de Sección A. \")","v":""},{"$f":"IF($W$40<=$W$20+$W$21,\"\",\"* Pacientes 55 a 59 años (Hombres) con con antecedentes ECV con tto. Antiagregante plaquetario no debe ser mayor al Total Población con Antecedentes de IAM y ECV de Sección A. \")","v":""},{"$f":"IF($X$40<=$X$20+$X$21,\"\",\"* Pacientes 55 a 59 años (Mujeres) con con antecedentes ECV con tto. Antiagregante plaquetario no debe ser mayor al Total Población con Antecedentes de IAM y ECV de Sección A. \")","v":""},{"$f":"IF($Y$40<=$Y$20+$Y$21,\"\",\"* Pacientes 60 a 64 años (Hombres) con con antecedentes ECV con tto. Antiagregante plaquetario no debe ser mayor al Total Población con Antecedentes de IAM y ECV de Sección A. \")","v":""},{"$f":"IF($Z$40<=$Z$20+$Z$21,\"\",\"* Pacientes 60 a 64 años (Mujeres) con con antecedentes ECV con tto. Antiagregante plaquetario no debe ser mayor al Total Población con Antecedentes de IAM y ECV de Sección A. \")","v":""},{"$f":"IF($AA$40<=$AA$20+$AA$21,\"\",\"* Pacientes 65 a 69 años (Hombres) con con antecedentes ECV con tto. Antiagregante plaquetario no debe ser mayor al Total Población con Antecedentes de IAM y ECV de Sección A. \")","v":""},{"$f":"IF($AB$40<=$AB$20+$AB$21,\"\",\"* Pacientes 65 a 69 años (Mujeres) con con antecedentes ECV con tto. Antiagregante plaquetario no debe ser mayor al Total Población con Antecedentes de IAM y ECV de Sección A. \")","v":""},{"$f":"IF($AC$40<=$AC$20+$AC$21,\"\",\"* Pacientes 70 a 74 años (Hombres) con con antecedentes ECV con tto. Antiagregante plaquetario no debe ser mayor al Total Población con Antecedentes de IAM y ECV de Sección A. \")","v":""},{"$f":"IF($AD$40<=$AD$20+$AD$21,\"\",\"* Pacientes 70 a 74 años (Mujeres) con con antecedentes ECV con tto. Antiagregante plaquetario no debe ser mayor al Total Población con Antecedentes de IAM y ECV de Sección A. \")","v":""},{"$f":"IF($AE$40<=$AE$20+$AE$21,\"\",\"* Pacientes 75 a 79 años (Hombres) con con antecedentes ECV con tto. Antiagregante plaquetario no debe ser mayor al Total Población con Antecedentes de IAM y ECV de Sección A. \")","v":""},{"$f":"IF($AF$40<=$AF$20+$AF$21,\"\",\"* Pacientes 75 a 79 años (Mujeres) con con antecedentes ECV con tto. Antiagregante plaquetario no debe ser mayor al Total Población con Antecedentes de IAM y ECV de Sección A. \")","v":""},{"$f":"IF($AG$40<=$AG$20+$AG$21,\"\",\"* Pacientes 80 y más años (Hombres) con con antecedentes ECV con tto. Antiagregante plaquetario no debe ser mayor al Total Población con Antecedentes de IAM y ECV de Sección A. \")","v":""},{"$f":"IF($AH$40<=$AH$20+$AH$21,\"\",\"* Pacientes 80 y más años (Mujeres) con con antecedentes ECV con tto. Antiagregante plaquetario no debe ser mayor al Total Población con Antecedentes de IAM y ECV de Sección A. \")","v":""},null,null,0,0,{"$f":"IF($E$40>=$AI$40,0,1)","v":0},{"$f":"IF($F$40>=$AJ$40,0,1)","v":0},0,{"$f":"IF($F40>=$AK40,0,1)","v":0},{"$f":"IF(G$40<=G$20+G$21,0,1)","v":0},0,0,0,0,0,0,0,0,0,0,0,0,0,0,0,0,0,0,0,0,0,0,0,0,0,0,0]
["P4190940",null,"En tratamiento con Estatina",{"$f":"IFERROR(VLOOKUP($A41,FILTRO!$A35:$AY660,2,FALSE),0)","v":3695},{"$f":"IFERROR(VLOOKUP($A41,FILTRO!$A35:$AY660,3,FALSE),0)","v":1977},{"$f":"IFERROR(VLOOKUP($A41,FILTRO!$A35:$AY660,4,FALSE),0)","v":1718},{"$f":"IFERROR(VLOOKUP($A41,FILTRO!$A35:$AY660,5,FALSE),0)","v":0},{"$f":"IFERROR(VLOOKUP($A41,FILTRO!$A35:$AY660,6,FALSE),0)","v":0},{"$f":"IFERROR(VLOOKUP($A41,FILTRO!$A35:$AY660,7,FALSE),0)","v":0},{"$f":"IFERROR(VLOOKUP($A41,FILTRO!$A35:$AY660,8,FALSE),0)","v":0},{"$f":"IFERROR(VLOOKUP($A41,FILTRO!$A35:$AY660,9,FALSE),0)","v":3},{"$f":"IFERROR(VLOOKUP($A41,FILTRO!$A35:$AY660,10,FALSE),0)","v":0},{"$f":"IFERROR(VLOOKUP($A41,FILTRO!$A35:$AY660,11,FALSE),0)","v":3},{"$f":"IFERROR(VLOOKUP($A41,FILTRO!$A35:$AY660,12,FALSE),0)","v":3},{"$f":"IFERROR(VLOOKUP($A41,FILTRO!$A35:$AY660,13,FALSE),0)","v":6},{"$f":"IFERROR(VLOOKUP($A41,FILTRO!$A35:$AY660,14,FALSE),0)","v":7},{"$f":"IFERROR(VLOOKUP($A41,FILTRO!$A35:$AY660,15,FALSE),0)","v":20},{"$f":"IFERROR(VLOOKUP($A41,FILTRO!$A35:$AY660,16,FALSE),0)","v":23},{"$f":"IFERROR(VLOOKUP($A41,FILTRO!$A35:$AY660,17,FALSE),0)","v":44},{"$f":"IFERROR(VLOOKUP($A41,FILTRO!$A35:$AY660,18,FALSE),0)","v":33},{"$f":"IFERROR(VLOOKUP($A41,FILTRO!$A35:$AY660,19,FALSE),0)","v":80},{"$f":"IFERROR(VLOOKUP($A41,FILTRO!$A35:$AY660,20,FALSE),0)","v":98},{"$f":"IFERROR(VLOOKUP($A41,FILTRO!$A35:$AY660,21,FALSE),0)","v":131},{"$f":"IFERROR(VLOOKUP($A41,FILTRO!$A35:$AY660,22,FALSE),0)","v":136},{"$f":"IFERROR(VLOOKUP($A41,FILTRO!$A35:$AY660,23,FALSE),0)","v":259},{"$f":"IFERROR(VLOOKUP($A41,FILTRO!$A35:$AY660,24,FALSE),0)","v":217},{"$f":"IFERROR(VLOOKUP($A41,FILTRO!$A35:$AY660,25,FALSE),0)","v":327},{"$f":"IFERROR(VLOOKUP($A41,FILTRO!$A35:$AY660,26,FALSE),0)","v":238},{"$f":"IFERROR(VLOOKUP($A41,FILTRO!$A35:$AY660,27,FALSE),0)","v":359},{"$f":"IFERROR(VLOOKUP($A41,FILTRO!$A35:$AY660,28,FALSE),0)","v":246},{"$f":"IFERROR(VLOOKUP($A41,FILTRO!$A35:$AY660,29,FALSE),0)","v":319},{"$f":"IFERROR(VLOOKUP($A41,FILTRO!$A35:$AY660,30,FALSE),0)","v":315},{"$f":"IFERROR(VLOOKUP($A41,FILTRO!$A35:$AY660,31,FALSE),0)","v":426},{"$f":"IFERROR(VLOOKUP($A41,FILTRO!$A35:$AY660,32,FALSE),0)","v":402},{"$f":"IFERROR(VLOOKUP($A41,FILTRO!$A35:$AY660,33,FALSE),0)","v":13},{"$f":"IFERROR(VLOOKUP($A41,FILTRO!$A35:$AY660,34,FALSE),0)","v":20},{"$f":"IFERROR(VLOOKUP($A41,FILTRO!$A35:$AY660,35,FALSE),0)","v":10},{"$f":"IFERROR(VLOOKUP($A41,FILTRO!$A35:$AY660,36,FALSE),0)","v":2}]
["P4301030",null,"Fumador actual",{"$f":"IFERROR(VLOOKUP($A42,FILTRO!$A36:$AY661,2,FALSE),0)","v":1502},{"$f":"IFERROR(VLOOKUP($A42,FILTRO!$A36:$AY661,3,FALSE),0)","v":733},{"$f":"IFERROR(VLOOKUP($A42,FILTRO!$A36:$AY661,4,FALSE),0)","v":769},{"$f":"IFERROR(VLOOKUP($A42,FILTRO!$A36:$AY661,5,FALSE),0)","v":0},{"$f":"IFERROR(VLOOKUP($A42,FILTRO!$A36:$AY661,6,FALSE),0)","v":0},{"$f":"IFERROR(VLOOKUP($A42,FILTRO!$A36:$AY661,7,FALSE),0)","v":0},{"$f":"IFERROR(VLOOKUP($A42,FILTRO!$A36:$AY661,8,FALSE),0)","v":1},{"$f":"IFERROR(VLOOKUP($A42,FILTRO!$A36:$AY661,9,FALSE),0)","v":3},{"$f":"IFERROR(VLOOKUP($A42,FILTRO!$A36:$AY661,10,FALSE),0)","v":5},{"$f":"IFERROR(VLOOKUP($A42,FILTRO!$A36:$AY661,11,FALSE),0)","v":8},{"$f":"IFERROR(VLOOKUP($A42,FILTRO!$A36:$AY661,12,FALSE),0)","v":13},{"$f":"IFERROR(VLOOKUP($A42,FILTRO!$A36:$AY661,13,FALSE),0)","v":10},{"$f":"IFERROR(VLOOKUP($A42,FILTRO!$A36:$AY661,14,FALSE),0)","v":14},{"$f":"IFERROR(VLOOKUP($A42,FILTRO!$A36:$AY661,15,FALSE),0)","v":28},{"$f":"IFERROR(VLOOKUP($A42,FILTRO!$A36:$AY661,16,FALSE),0)","v":43},{"$f":"IFERROR(VLOOKUP($A42,FILTRO!$A36:$AY661,17,FALSE),0)","v":40},{"$f":"IFERROR(VLOOKUP($A42,FILTRO!$A36:$AY661,18,FALSE),0)","v":41},{"$f":"IFERROR(VLOOKUP($A42,FILTRO!$A36:$AY661,19,FALSE),0)","v":67},{"$f":"IFERROR(VLOOKUP($A42,FILTRO!$A36:$AY661,20,FALSE),0)","v":77},{"$f":"IFERROR(VLOOKUP($A42,FILTRO!$A36:$AY661,21,FALSE),0)","v":95},{"$f":"IFERROR(VLOOKUP($A42,FILTRO!$A36:$AY661,22,FALSE),0)","v":133},{"$f":"IFERROR(VLOOKUP($A42,FILTRO!$A36:$AY661,23,FALSE),0)","v":142},{"$f":"IFERROR(VLOOKUP($A42,FILTRO!$A36:$AY661,24,FALSE),0)","v":157},{"$f":"IFERROR(VLOOKUP($A42,FILTRO!$A36:$AY661,25,FALSE),0)","v":116},{"$f":"IFERROR(VLOOKUP($A42,FILTRO!$A36:$AY661,26,FALSE),0)","v":114},{"$f":"IFERROR(VLOOKUP($A42,FILTRO!$A36:$AY661,27,FALSE),0)","v":103},{"$f":"IFERROR(VLOOKUP($A42,FILTRO!$A36:$AY661,28,FALSE),0)","v":87},{"$f":"IFERROR(VLOOKUP($A42,FILTRO!$A36:$AY661,29,FALSE),0)","v":63},{"$f":"IFERROR(VLOOKUP($A42,FILTRO!$A36:$AY661,30,FALSE),0)","v":56},{"$f":"IFERROR(VLOOKUP($A42,FILTRO!$A36:$AY661,31,FALSE),0)","v":58},{"$f":"IFERROR(VLOOKUP($A42,FILTRO!$A36:$AY661,32,FALSE),0)","v":28},{"$f":"IFERROR(VLOOKUP($A42,FILTRO!$A36:$AY661,33,FALSE),0)","v":8},{"$f":"IFERROR(VLOOKUP($A42,FILTRO!$A36:$AY661,34,FALSE),0)","v":3},{"$f":"IFERROR(VLOOKUP($A42,FILTRO!$A36:$AY661,35,FALSE),0)","v":2},{"$f":"IFERROR(VLOOKUP($A42,FILTRO!$A36:$AY661,36,FALSE),0)","v":0},{"$f":" BE42 & BF42 & BI42 & BJ42 & BK42 & BL42 & BM42 & BN42 & BO42 & BP42 & BQ42 & BR42 & BS42 & BT42 & BU42 & BV42 & BW42 & BX42 & BY42 & BZ42 & CA42 & CB42 & CC42 & CD42 & CE42 & CF42 & CG42 & CI42 & CJ42 & CH42 & BH42 & BG42 & BC42 & BD42","v":"* Pacientes 20 a 24 años (Mujeres) con con antecedentes ECV con Estatina no debe ser mayor al Total Población con Antecedentes de IAM y ECV de Sección A. * Pacientes 25 a 29 años (Mujeres) con con antecedentes ECV con Estatina no debe ser mayor al Total Población con Antecedentes de IAM y ECV de Sección A. * Pacientes 30 a 34 años (Hombres) con con antecedentes ECV con Estatina no debe ser mayor al Total Población con Antecedentes de IAM y ECV de Sección A. * Pacientes 30 a 34 años (Mujeres) con con antecedentes ECV con Estatina no debe ser mayor al Total Población con Antecedentes de IAM y ECV de Sección A. "},{"$nulls":15},"","",{"$f":"IF($E$42>=$AI$42,\"\",\"* Pueblos Originarios-Hombres no debe ser mayor al Total de personas Hombres. \")","v":""},{"$f":"IF($F$42>=$AJ$42,\"\",\"* Pueblos Originarios-Mujeres no debe ser mayor al Total de personas Mujeres. \")","v":""},"","",{"$f":"IF($G$42<=$G$20+$G$21,\"\",\"* Pacientes 15 a 19 años (Hombres) con con antecedentes ECV con Estatina no debe ser mayor al Total Población con Antecedentes de IAM y ECV de Sección A. \")","v":""},{"$f":"IF($H$42<=$H$20+$H$21,\"\",\"* Pacientes 15 a 19 años (Mujeres) con con antecedentes ECV con Estatina no debe ser mayor al Total Población con Antecedentes de IAM y ECV de Sección A. \")","v":""},{"$f":"IF($I$42<=$I$20+$I$21,\"\",\"* Pacientes 20 a 24 años (Hombres) con con antecedentes ECV con Estatina no debe ser mayor al Total Población con Antecedentes de IAM y ECV de Sección A. \")","v":""},{"$f":"IF($J$42<=$J$20+$J$21,\"\",\"* Pacientes 20 a 24 años (Mujeres) con con antecedentes ECV con Estatina no debe ser mayor al Total Población con Antecedentes de IAM y ECV de Sección A. \")","v":"* Pacientes 20 a 24 años (Mujeres) con con antecedentes ECV con Estatina no debe ser mayor al Total Población con Antecedentes de IAM y ECV de Sección A. "},{"$f":"IF($K$42<=$K$20+$K$21,\"\",\"* Pacientes 25 a 29 años (Hombres) con con antecedentes ECV con Estatina no debe ser mayor al Total Población con Antecedentes de IAM y ECV de Sección A. \")","v":""},{"$f":"IF($L$42<=$L$20+$L$21,\"\",\"* Pacientes 25 a 29 años (Mujeres) con con antecedentes ECV con Estatina no debe ser mayor al Total Población con Antecedentes de IAM y ECV de Sección A. \")","v":"* Pacientes 25 a 29 años (Mujeres) con con antecedentes ECV con Estatina no debe ser mayor al Total Población con Antecedentes de IAM y ECV de Sección A. "},{"$f":"IF($M$42<=$M$20+$M$21,\"\",\"* Pacientes 30 a 34 años (Hombres) con con antecedentes ECV con Estatina no debe ser mayor al Total Población con Antecedentes de IAM y ECV de Sección A. \")","v":"* Pacientes 30 a 34 años (Hombres) con con antecedentes ECV con Estatina no debe ser mayor al Total Población con Antecedentes de IAM y ECV de Sección A. "},{"$f":"IF($N$42<=$N$20+$N$21,\"\",\"* Pacientes 30 a 34 años (Mujeres) con con antecedentes ECV con Estatina no debe ser mayor al Total Población con Antecedentes de IAM y ECV de Sección A. \")","v":"* Pacientes 30 a 34 años (Mujeres) con con antecedentes ECV con Estatina no debe ser mayor al Total Población con Antecedentes de IAM y ECV de Sección A. "},{"$f":"IF($O$42<=$O$20+$O$21,\"\",\"* Pacientes 35 a 39 años (Hombres) con con antecedentes ECV con Estatina no debe ser mayor al Total Población con Antecedentes de IAM y ECV de Sección A. \")","v":""},{"$f":"IF($P$42<=$P$20+$P$21,\"\",\"* Pacientes 35 a 39 años (Mujeres) con con antecedentes ECV con Estatina no debe ser mayor al Total Población con Antecedentes de IAM y ECV de Sección A. \")","v":""},{"$f":"IF($Q$42<=$Q$20+$Q$21,\"\",\"* Pacientes 40 a 44 años (Hombres) con con antecedentes ECV con Estatina no debe ser mayor al Total Población con Antecedentes de IAM y ECV de Sección A. \")","v":""},{"$f":"IF($R$42<=$R$20+$R$21,\"\",\"* Pacientes 40 a 44 años (Mujeres) con con antecedentes ECV con Estatina no debe ser mayor al Total Población con Antecedentes de IAM y ECV de Sección A. \")","v":""},{"$f":"IF($S$42<=$S$20+$S$21,\"\",\"* Pacientes 45 a 49 años (Hombres) con con antecedentes ECV con Estatina no debe ser mayor al Total Población con Antecedentes de IAM y ECV de Sección A. \")","v":""},{"$f":"IF($T$42<=$T$20+$T$21,\"\",\"* Pacientes 45 a 49 años (Mujeres) con con antecedentes ECV con Estatina no debe ser mayor al Total Población con Antecedentes de IAM y ECV de Sección A. \")","v":""},{"$f":"IF($U$42<=$U$20+$U$21,\"\",\"* Pacientes 50 a 54 años (Hombres) con con antecedentes ECV con Estatina no debe ser mayor al Total Población con Antecedentes de IAM y ECV de Sección A. \")","v":""},{"$f":"IF($V$42<=$V$20+$V$21,\"\",\"* Pacientes 50 a 54 años (Mujeres) con con antecedentes ECV con Estatina no debe ser mayor al Total Población con Antecedentes de IAM y ECV de Sección A. \")","v":""},{"$f":"IF($W$42<=$W$20+$W$21,\"\",\"* Pacientes 55 a 59 años (Hombres) con con antecedentes ECV con Estatina no debe ser mayor al Total Población con Antecedentes de IAM y ECV de Sección A. \")","v":""},{"$f":"IF($X$42<=$X$20+$X$21,\"\",\"* Pacientes 55 a 59 años (Mujeres) con con antecedentes ECV con Estatina no debe ser mayor al Total Población con Antecedentes de IAM y ECV de Sección A. \")","v":""},{"$f":"IF($Y$42<=$Y$20+$Y$21,\"\",\"* Pacientes 60 a 64 años (Hombres) con con antecedentes ECV con Estatina no debe ser mayor al Total Población con Antecedentes de IAM y ECV de Sección A. \")","v":""},{"$f":"IF($Z$42<=$Z$20+$Z$21,\"\",\"* Pacientes 60 a 64 años (Mujeres) con con antecedentes ECV con Estatina no debe ser mayor al Total Población con Antecedentes de IAM y ECV de Sección A. \")","v":""},{"$f":"IF($AA$42<=$AA$20+$AA$21,\"\",\"* Pacientes 65 a 69 años (Hombres) con con antecedentes ECV con Estatina no debe ser mayor al Total Población con Antecedentes de IAM y ECV de Sección A. \")","v":""},{"$f":"IF($AB$42<=$AB$20+$AB$21,\"\",\"* Pacientes 65 a 69 años (Mujeres) con con antecedentes ECV con Estatina no debe ser mayor al Total Población con Antecedentes de IAM y ECV de Sección A. \")","v":""},{"$f":"IF($AC$42<=$AC$20+$AC$21,\"\",\"* Pacientes 70 a 74 años (Hombres) con con antecedentes ECV con Estatina no debe ser mayor al Total Población con Antecedentes de IAM y ECV de Sección A. \")","v":""},{"$f":"IF($AD$42<=$AD$20+$AD$21,\"\",\"* Pacientes 70 a 74 años (Mujeres) con con antecedentes ECV con Estatina no debe ser mayor al Total Población con Antecedentes de IAM y ECV de Sección A. \")","v":""},{"$f":"IF($AE$42<=$AE$20+$AE$21,\"\",\"* Pacientes 75 a 79 años (Hombres) con con antecedentes ECV con Estatina no debe ser mayor al Total Población con Antecedentes de IAM y ECV de Sección A. \")","v":""},{"$f":"IF($AF$42<=$AF$20+$AF$21,\"\",\"* Pacientes 75 a 79 años (Mujeres) con con antecedentes ECV con Estatina no debe ser mayor al Total Población con Antecedentes de IAM y ECV de Sección A. \")","v":""},{"$f":"IF($AG$42<=$AG$20+$AG$21,\"\",\"* Pacientes 80 y más años (Hombres) con con antecedentes ECV con Estatina no debe ser mayor al Total Población con Antecedentes de IAM y ECV de Sección A. \")","v":""},{"$f":"IF($AH$42<=$AH$20+$AH$21,\"\",\"* Pacientes 80 y más años (Mujeres) con con antecedentes ECV con Estatina no debe ser mayor al Total Población con Antecedentes de IAM y ECV de Sección A. \")","v":""},null,null,0,0,{"$f":"IF($E$42>=$AI$42,0,1)","v":0},{"$f":"IF($F$42>=$AJ$42,0,1)","v":0},0,{"$f":"IF($F42>=$AK42,0,1)","v":0},{"$f":"IF(G$42<=G$20+G$21,0,1)","v":0},0,0,1,0,1,1,1,0,0,0,0,0,0,0,0,0,0,0,0,0,0,0,0,0,0,0,0]
[null,"SECCIÓN C: VARIABLES DE SEGUIMIENTO DEL PSCV AL CORTE"]
[null,"VARIABLES",null,"TOTAL ",null,null,"GRUPOS DE EDAD (en años) Y SEXO",{"$nulls":27},"Pueblos Originarios",null,"Población Migrantes",{"$nulls":19},"Pueblos Originarios",null,"Población Migrantes",{"$nulls":3},"Pueblos Originarios","Población Migrantes",{"$nulls":28},"Pueblos Originarios",null,"Población Migrantes",{"$nulls":5},"Pueblos Originarios","Población Migrantes"]
[{"$nulls":6},"15 a 19 años",null,"20 a 24 años",null,"25 a 29 años",null,"30 a 34 años",null,"35 a 39 años",null,"40 a 44 años",null,"45 a 49 años",null,"50 a 54 años",null,"55 a 59 años",null,"60 a 64 años",null,"65 a 69 años",null,"70 a 74 años",null,"75 a 79 años",null,"80 y más años"]
[{"$nulls":3},"Ambos\nsexos","Hombres","Mujeres","Hombres","Mujeres","Hombres","Mujeres","Hombres","Mujeres","Hombres","Mujeres","Hombres","Mujeres","Hombres","Mujeres","Hombres","Mujeres","Hombres","Mujeres","Hombres","Mujeres","Hombres","Mujeres","Hombres ","Mujeres","Hombres ","Mujeres","Hombres ","Mujeres","Hombres ","Mujeres","Hombres","Mujeres","Hombres","Mujeres",{"$nulls":18},"Hombres","Mujeres","Hombres","Mujeres",null,null,"No Olvide","No Olvide",{"$nulls":28},"Hombres","Mujeres","Hombres","Mujeres",{"$nulls":4},"No Olvide","No Olvide"]
[null,"PERSONAS CON DIABETES  EN PSCV"]
["P4190805","CON RAZON ALBÚMINA CREATININA (RAC),VIGENTE",null,{"$f":"IFERROR(VLOOKUP($A48,FILTRO!$A42:$AY667,2,FALSE),0)","v":23655},{"$f":"IFERROR(VLOOKUP($A48,FILTRO!$A42:$AY667,3,FALSE),0)","v":8739},{"$f":"IFERROR(VLOOKUP($A48,FILTRO!$A42:$AY667,4,FALSE),0)","v":14916},{"$f":"IFERROR(VLOOKUP($A48,FILTRO!$A42:$AY667,5,FALSE),0)","v":5},{"$f":"IFERROR(VLOOKUP($A48,FILTRO!$A42:$AY667,6,FALSE),0)","v":4},{"$f":"IFERROR(VLOOKUP($A48,FILTRO!$A42:$AY667,7,FALSE),0)","v":16},{"$f":"IFERROR(VLOOKUP($A48,FILTRO!$A42:$AY667,8,FALSE),0)","v":22},{"$f":"IFERROR(VLOOKUP($A48,FILTRO!$A42:$AY667,9,FALSE),0)","v":27},{"$f":"IFERROR(VLOOKUP($A48,FILTRO!$A42:$AY667,10,FALSE),0)","v":62},{"$f":"IFERROR(VLOOKUP($A48,FILTRO!$A42:$AY667,11,FALSE),0)","v":57},{"$f":"IFERROR(VLOOKUP($A48,FILTRO!$A42:$AY667,12,FALSE),0)","v":148},{"$f":"IFERROR(VLOOKUP($A48,FILTRO!$A42:$AY667,13,FALSE),0)","v":128},{"$f":"IFERROR(VLOOKUP($A48,FILTRO!$A42:$AY667,14,FALSE),0)","v":276},{"$f":"IFERROR(VLOOKUP($A48,FILTRO!$A42:$AY667,15,FALSE),0)","v":204},{"$f":"IFERROR(VLOOKUP($A48,FILTRO!$A42:$AY667,16,FALSE),0)","v":459},{"$f":"IFERROR(VLOOKUP($A48,FILTRO!$A42:$AY667,17,FALSE),0)","v":352},{"$f":"IFERROR(VLOOKUP($A48,FILTRO!$A42:$AY667,18,FALSE),0)","v":749},{"$f":"IFERROR(VLOOKUP($A48,FILTRO!$A42:$AY667,19,FALSE),0)","v":586},{"$f":"IFERROR(VLOOKUP($A48,FILTRO!$A42:$AY667,20,FALSE),0)","v":1181},{"$f":"IFERROR(VLOOKUP($A48,FILTRO!$A42:$AY667,21,FALSE),0)","v":947},{"$f":"IFERROR(VLOOKUP($A48,FILTRO!$A42:$AY667,22,FALSE),0)","v":1893},{"$f":"IFERROR(VLOOKUP($A48,FILTRO!$A42:$AY667,23,FALSE),0)","v":1261},{"$f":"IFERROR(VLOOKUP($A48,FILTRO!$A42:$AY667,24,FALSE),0)","v":2233},{"$f":"IFERROR(VLOOKUP($A48,FILTRO!$A42:$AY667,25,FALSE),0)","v":1470},{"$f":"IFERROR(VLOOKUP($A48,FILTRO!$A42:$AY667,26,FALSE),0)","v":2325},{"$f":"IFERROR(VLOOKUP($A48,FILTRO!$A42:$AY667,27,FALSE),0)","v":1403},{"$f":"IFERROR(VLOOKUP($A48,FILTRO!$A42:$AY667,28,FALSE),0)","v":2039},{"$f":"IFERROR(VLOOKUP($A48,FILTRO!$A42:$AY667,29,FALSE),0)","v":1081},{"$f":"IFERROR(VLOOKUP($A48,FILTRO!$A42:$AY667,30,FALSE),0)","v":1632},{"$f":"IFERROR(VLOOKUP($A48,FILTRO!$A42:$AY667,31,FALSE),0)","v":1202},{"$f":"IFERROR(VLOOKUP($A48,FILTRO!$A42:$AY667,32,FALSE),0)","v":1893},{"$f":"IFERROR(VLOOKUP($A48,FILTRO!$A42:$AY667,33,FALSE),0)","v":46},{"$f":"IFERROR(VLOOKUP($A48,FILTRO!$A42:$AY667,34,FALSE),0)","v":90},{"$f":"IFERROR(VLOOKUP($A48,FILTRO!$A42:$AY667,35,FALSE),0)","v":44},{"$f":"IFERROR(VLOOKUP($A48,FILTRO!$A42:$AY667,36,FALSE),0)","v":83},{"$f":"BE48&BF48&BG48&BH48&BK48&BL48","v":""},{"$nulls":17},{"$f":"IF($E48>=$AI48,\"\",CONCATENATE(\"* Pueblos Originarios-Hombres no debe ser mayor al Total de personas \",B48,\".\"))","v":""},{"$f":"IF($F48>=$AJ48,\"\",CONCATENATE(\"* Pueblos Originarios-Mujeres no debe ser mayor al Total de personas \",B48,\".\"))","v":""},{"$f":"IF($E48>=$AK48,\"\",CONCATENATE(\"* Población Migrante-Hombres no debe ser mayor al Total de personas \",B48,\".\"))","v":""},{"$f":"IF($F48>=$AL48,\"\",CONCATENATE(\"* Población Migrante - Mujeres no debe ser mayor al Total de personas \",B48,\".\"))","v":""},null,null,{"$f":"IF(AND(E48<>0,AI48=\"\"),\"* No olvide escribir en la celda de 'Pueblos Originarios' (Digite CERO si no tiene). \",IF(AND(F48<>0,AJ48=\"\"),\"* No olvide escribir en la celda de 'Pueblos Originarios' (Digite CERO si no tiene). \",\"\"))","v":""},{"$f":"IF(AND(E48<>0,AK48=\"\"),\"* No olvide escribir en la celda de 'Población Migrantes' (Digite CERO si no tiene). \",IF(AND(F48<>0,AL48=\"\"),\"* No olvide escribir en la celda de 'Población Migrantes' (Digite CERO si no tiene). \",\"\"))","v":""},{"$nulls":28},{"$f":"IF($E48>=$AI48,0,1)","v":0},{"$f":"IF($F48>=$AJ48,0,1)","v":0},{"$f":"IF($E48>=$AK48,0,1)","v":0},{"$f":"IF($F48>=$AL48,0,1)","v":0},{"$nulls":4},{"$f":"IF(AND(E51<>0,AI51=\"\"),1,IF(AND(F51<>0,AJ51=\"\"),1,0))","v":0},{"$f":"IF(AND(E51<>0,AK51=\"\"),1,IF(AND(F51<>0,AL51=\"\"),1,0))","v":0}]
["P4190806","CON VELOCIDAD DE FILTRACIÓN GLOMERULAR ESTIMADA (VFG), VIGENTE",null,{"$f":"IFERROR(VLOOKUP($A49,FILTRO!$A43:$AY668,2,FALSE),0)","v":27086},{"$f":"IFERROR(VLOOKUP($A49,FILTRO!$A43:$AY668,3,FALSE),0)","v":10021},{"$f":"IFERROR(VLOOKUP($A49,FILTRO!$A43:$AY668,4,FALSE),0)","v":17065},{"$f":"IFERROR(VLOOKUP($A49,FILTRO!$A43:$AY668,5,FALSE),0)","v":12},{"$f":"IFERROR(VLOOKUP($A49,FILTRO!$A43:$AY668,6,FALSE),0)","v":11},{"$f":"IFERROR(VLOOKUP($A49,FILTRO!$A43:$AY668,7,FALSE),0)","v":19},{"$f":"IFERROR(VLOOKUP($A49,FILTRO!$A43:$AY668,8,FALSE),0)","v":40},{"$f":"IFERROR(VLOOKUP($A49,FILTRO!$A43:$AY668,9,FALSE),0)","v":29},{"$f":"IFERROR(VLOOKUP($A49,FILTRO!$A43:$AY668,10,FALSE),0)","v":93},{"$f":"IFERROR(VLOOKUP($A49,FILTRO!$A43:$AY668,11,FALSE),0)","v":76},{"$f":"IFERROR(VLOOKUP($A49,FILTRO!$A43:$AY668,12,FALSE),0)","v":194},{"$f":"IFERROR(VLOOKUP($A49,FILTRO!$A43:$AY668,13,FALSE),0)","v":146},{"$f":"IFERROR(VLOOKUP($A49,FILTRO!$A43:$AY668,14,FALSE),0)","v":334},{"$f":"IFERROR(VLOOKUP($A49,FILTRO!$A43:$AY668,15,FALSE),0)","v":250},{"$f":"IFERROR(VLOOKUP($A49,FILTRO!$A43:$AY668,16,FALSE),0)","v":561},{"$f":"IFERROR(VLOOKUP($A49,FILTRO!$A43:$AY668,17,FALSE),0)","v":420},{"$f":"IFERROR(VLOOKUP($A49,FILTRO!$A43:$AY668,18,FALSE),0)","v":881},{"$f":"IFERROR(VLOOKUP($A49,FILTRO!$A43:$AY668,19,FALSE),0)","v":711},{"$f":"IFERROR(VLOOKUP($A49,FILTRO!$A43:$AY668,20,FALSE),0)","v":1396},{"$f":"IFERROR(VLOOKUP($A49,FILTRO!$A43:$AY668,21,FALSE),0)","v":1103},{"$f":"IFERROR(VLOOKUP($A49,FILTRO!$A43:$AY668,22,FALSE),0)","v":2202},{"$f":"IFERROR(VLOOKUP($A49,FILTRO!$A43:$AY668,23,FALSE),0)","v":1415},{"$f":"IFERROR(VLOOKUP($A49,FILTRO!$A43:$AY668,24,FALSE),0)","v":2532},{"$f":"IFERROR(VLOOKUP($A49,FILTRO!$A43:$AY668,25,FALSE),0)","v":1705},{"$f":"IFERROR(VLOOKUP($A49,FILTRO!$A43:$AY668,26,FALSE),0)","v":2613},{"$f":"IFERROR(VLOOKUP($A49,FILTRO!$A43:$AY668,27,FALSE),0)","v":1569},{"$f":"IFERROR(VLOOKUP($A49,FILTRO!$A43:$AY668,28,FALSE),0)","v":2238},{"$f":"IFERROR(VLOOKUP($A49,FILTRO!$A43:$AY668,29,FALSE),0)","v":1249},{"$f":"IFERROR(VLOOKUP($A49,FILTRO!$A43:$AY668,30,FALSE),0)","v":1832},{"$f":"IFERROR(VLOOKUP($A49,FILTRO!$A43:$AY668,31,FALSE),0)","v":1317},{"$f":"IFERROR(VLOOKUP($A49,FILTRO!$A43:$AY668,32,FALSE),0)","v":2138},{"$f":"IFERROR(VLOOKUP($A49,FILTRO!$A43:$AY668,33,FALSE),0)","v":55},{"$f":"IFERROR(VLOOKUP($A49,FILTRO!$A43:$AY668,34,FALSE),0)","v":102},{"$f":"IFERROR(VLOOKUP($A49,FILTRO!$A43:$AY668,35,FALSE),0)","v":50},{"$f":"IFERROR(VLOOKUP($A49,FILTRO!$A43:$AY668,36,FALSE),0)","v":94},{"$f":"BE49&BF49&BG49&BH49&BK49&BL49","v":""},{"$nulls":17},{"$f":"IF($E49>=$AI49,\"\",CONCATENATE(\"* Pueblos Originarios-Hombres no debe ser mayor al Total de personas \",B49,\".\"))","v":""},{"$f":"IF($F49>=$AJ49,\"\",CONCATENATE(\"* Pueblos Originarios-Mujeres no debe ser mayor al Total de personas \",B49,\".\"))","v":""},{"$f":"IF($E49>=$AK49,\"\",CONCATENATE(\"* Población Migrante-Hombres no debe ser mayor al Total de personas \",B49,\".\"))","v":""},{"$f":"IF($F49>=$AL49,\"\",CONCATENATE(\"* Población Migrante - Mujeres no debe ser mayor al Total de personas \",B49,\".\"))","v":""},null,null,{"$f":"IF(AND(E49<>0,AI49=\"\"),\"* No olvide escribir en la celda de 'Pueblos Originarios' (Digite CERO si no tiene). \",IF(AND(F49<>0,AJ49=\"\"),\"* No olvide escribir en la celda de 'Pueblos Originarios' (Digite CERO si no tiene). \",\"\"))","v":""},{"$f":"IF(AND(E49<>0,AK49=\"\"),\"* No olvide escribir en la celda de 'Población Migrantes' (Digite CERO si no tiene). \",IF(AND(F49<>0,AL49=\"\"),\"* No olvide escribir en la celda de 'Población Migrantes' (Digite CERO si no tiene). \",\"\"))","v":""},{"$nulls":28},{"$f":"IF($E49>=$AI49,0,1)","v":0},{"$f":"IF($F49>=$AJ49,0,1)","v":0},{"$f":"IF($E49>=$AK49,0,1)","v":0},{"$f":"IF($F49>=$AL49,0,1)","v":0},{"$nulls":4},{"$f":"IF(AND(E52<>0,AI52=\"\"),1,IF(AND(F52<>0,AJ52=\"\"),1,0))","v":0},{"$f":"IF(AND(E52<>0,AK52=\"\"),1,IF(AND(F52<>0,AL52=\"\"),1,0))","v":0}]
["P4301040","CON VELOCIDAD DE FILTRACIÓN GLOMERULAR ESTIMADA (VFGe) Y CON RAZON ALBÚMINA CREATININA (RAC) VIGENTE",null,{"$f":"IFERROR(VLOOKUP($A50,FILTRO!$A44:$AY669,2,FALSE),0)","v":20916},{"$f":"IFERROR(VLOOKUP($A50,FILTRO!$A44:$AY669,3,FALSE),0)","v":7757},{"$f":"IFERROR(VLOOKUP($A50,FILTRO!$A44:$AY669,4,FALSE),0)","v":13159},{"$f":"IFERROR(VLOOKUP($A50,FILTRO!$A44:$AY669,5,FALSE),0)","v":5},{"$f":"IFERROR(VLOOKUP($A50,FILTRO!$A44:$AY669,6,FALSE),0)","v":4},{"$f":"IFERROR(VLOOKUP($A50,FILTRO!$A44:$AY669,7,FALSE),0)","v":13},{"$f":"IFERROR(VLOOKUP($A50,FILTRO!$A44:$AY669,8,FALSE),0)","v":23},{"$f":"IFERROR(VLOOKUP($A50,FILTRO!$A44:$AY669,9,FALSE),0)","v":20},{"$f":"IFERROR(VLOOKUP($A50,FILTRO!$A44:$AY669,10,FALSE),0)","v":59},{"$f":"IFERROR(VLOOKUP($A50,FILTRO!$A44:$AY669,11,FALSE),0)","v":52},{"$f":"IFERROR(VLOOKUP($A50,FILTRO!$A44:$AY669,12,FALSE),0)","v":144},{"$f":"IFERROR(VLOOKUP($A50,FILTRO!$A44:$AY669,13,FALSE),0)","v":115},{"$f":"IFERROR(VLOOKUP($A50,FILTRO!$A44:$AY669,14,FALSE),0)","v":262},{"$f":"IFERROR(VLOOKUP($A50,FILTRO!$A44:$AY669,15,FALSE),0)","v":186},{"$f":"IFERROR(VLOOKUP($A50,FILTRO!$A44:$AY669,16,FALSE),0)","v":424},{"$f":"IFERROR(VLOOKUP($A50,FILTRO!$A44:$AY669,17,FALSE),0)","v":319},{"$f":"IFERROR(VLOOKUP($A50,FILTRO!$A44:$AY669,18,FALSE),0)","v":671},{"$f":"IFERROR(VLOOKUP($A50,FILTRO!$A44:$AY669,19,FALSE),0)","v":564},{"$f":"IFERROR(VLOOKUP($A50,FILTRO!$A44:$AY669,20,FALSE),0)","v":1090},{"$f":"IFERROR(VLOOKUP($A50,FILTRO!$A44:$AY669,21,FALSE),0)","v":853},{"$f":"IFERROR(VLOOKUP($A50,FILTRO!$A44:$AY669,22,FALSE),0)","v":1736},{"$f":"IFERROR(VLOOKUP($A50,FILTRO!$A44:$AY669,23,FALSE),0)","v":1111},{"$f":"IFERROR(VLOOKUP($A50,FILTRO!$A44:$AY669,24,FALSE),0)","v":1960},{"$f":"IFERROR(VLOOKUP($A50,FILTRO!$A44:$AY669,25,FALSE),0)","v":1315},{"$f":"IFERROR(VLOOKUP($A50,FILTRO!$A44:$AY669,26,FALSE),0)","v":2031},{"$f":"IFERROR(VLOOKUP($A50,FILTRO!$A44:$AY669,27,FALSE),0)","v":1230},{"$f":"IFERROR(VLOOKUP($A50,FILTRO!$A44:$AY669,28,FALSE),0)","v":1763},{"$f":"IFERROR(VLOOKUP($A50,FILTRO!$A44:$AY669,29,FALSE),0)","v":938},{"$f":"IFERROR(VLOOKUP($A50,FILTRO!$A44:$AY669,30,FALSE),0)","v":1412},{"$f":"IFERROR(VLOOKUP($A50,FILTRO!$A44:$AY669,31,FALSE),0)","v":1036},{"$f":"IFERROR(VLOOKUP($A50,FILTRO!$A44:$AY669,32,FALSE),0)","v":1580},{"$f":"IFERROR(VLOOKUP($A50,FILTRO!$A44:$AY669,33,FALSE),0)","v":32},{"$f":"IFERROR(VLOOKUP($A50,FILTRO!$A44:$AY669,34,FALSE),0)","v":73},{"$f":"IFERROR(VLOOKUP($A50,FILTRO!$A44:$AY669,35,FALSE),0)","v":38},{"$f":"IFERROR(VLOOKUP($A50,FILTRO!$A44:$AY669,36,FALSE),0)","v":68}]
["P4190950","CON FONDO DE OJO, VIGENTE",null,{"$f":"IFERROR(VLOOKUP($A51,FILTRO!$A45:$AY670,2,FALSE),0)","v":17974},{"$f":"IFERROR(VLOOKUP($A51,FILTRO!$A45:$AY670,3,FALSE),0)","v":6555},{"$f":"IFERROR(VLOOKUP($A51,FILTRO!$A45:$AY670,4,FALSE),0)","v":11419},{"$f":"IFERROR(VLOOKUP($A51,FILTRO!$A45:$AY670,5,FALSE),0)","v":11},{"$f":"IFERROR(VLOOKUP($A51,FILTRO!$A45:$AY670,6,FALSE),0)","v":12},{"$f":"IFERROR(VLOOKUP($A51,FILTRO!$A45:$AY670,7,FALSE),0)","v":13},{"$f":"IFERROR(VLOOKUP($A51,FILTRO!$A45:$AY670,8,FALSE),0)","v":22},{"$f":"IFERROR(VLOOKUP($A51,FILTRO!$A45:$AY670,9,FALSE),0)","v":26},{"$f":"IFERROR(VLOOKUP($A51,FILTRO!$A45:$AY670,10,FALSE),0)","v":59},{"$f":"IFERROR(VLOOKUP($A51,FILTRO!$A45:$AY670,11,FALSE),0)","v":49},{"$f":"IFERROR(VLOOKUP($A51,FILTRO!$A45:$AY670,12,FALSE),0)","v":143},{"$f":"IFERROR(VLOOKUP($A51,FILTRO!$A45:$AY670,13,FALSE),0)","v":107},{"$f":"IFERROR(VLOOKUP($A51,FILTRO!$A45:$AY670,14,FALSE),0)","v":248},{"$f":"IFERROR(VLOOKUP($A51,FILTRO!$A45:$AY670,15,FALSE),0)","v":157},{"$f":"IFERROR(VLOOKUP($A51,FILTRO!$A45:$AY670,16,FALSE),0)","v":375},{"$f":"IFERROR(VLOOKUP($A51,FILTRO!$A45:$AY670,17,FALSE),0)","v":276},{"$f":"IFERROR(VLOOKUP($A51,FILTRO!$A45:$AY670,18,FALSE),0)","v":624},{"$f":"IFERROR(VLOOKUP($A51,FILTRO!$A45:$AY670,19,FALSE),0)","v":462},{"$f":"IFERROR(VLOOKUP($A51,FILTRO!$A45:$AY670,20,FALSE),0)","v":1004},{"$f":"IFERROR(VLOOKUP($A51,FILTRO!$A45:$AY670,21,FALSE),0)","v":742},{"$f":"IFERROR(VLOOKUP($A51,FILTRO!$A45:$AY670,22,FALSE),0)","v":1547},{"$f":"IFERROR(VLOOKUP($A51,FILTRO!$A45:$AY670,23,FALSE),0)","v":1012},{"$f":"IFERROR(VLOOKUP($A51,FILTRO!$A45:$AY670,24,FALSE),0)","v":1845},{"$f":"IFERROR(VLOOKUP($A51,FILTRO!$A45:$AY670,25,FALSE),0)","v":1156},{"$f":"IFERROR(VLOOKUP($A51,FILTRO!$A45:$AY670,26,FALSE),0)","v":1888},{"$f":"IFERROR(VLOOKUP($A51,FILTRO!$A45:$AY670,27,FALSE),0)","v":1056},{"$f":"IFERROR(VLOOKUP($A51,FILTRO!$A45:$AY670,28,FALSE),0)","v":1480},{"$f":"IFERROR(VLOOKUP($A51,FILTRO!$A45:$AY670,29,FALSE),0)","v":783},{"$f":"IFERROR(VLOOKUP($A51,FILTRO!$A45:$AY670,30,FALSE),0)","v":1128},{"$f":"IFERROR(VLOOKUP($A51,FILTRO!$A45:$AY670,31,FALSE),0)","v":705},{"$f":"IFERROR(VLOOKUP($A51,FILTRO!$A45:$AY670,32,FALSE),0)","v":1044},{"$f":"IFERROR(VLOOKUP($A51,FILTRO!$A45:$AY670,33,FALSE),0)","v":20},{"$f":"IFERROR(VLOOKUP($A51,FILTRO!$A45:$AY670,34,FALSE),0)","v":31},{"$f":"IFERROR(VLOOKUP($A51,FILTRO!$A45:$AY670,35,FALSE),0)","v":8},{"$f":"IFERROR(VLOOKUP($A51,FILTRO!$A45:$AY670,36,FALSE),0)","v":23},"",{"$nulls":17},"","","","",null,null,"","",{"$nulls":28},0,0,0,0,{"$nulls":4},{"$f":"IF(AND(E53<>0,AI53=\"\"),1,IF(AND(F53<>0,AJ53=\"\"),1,0))","v":0},{"$f":"IF(AND(E53<>0,AK53=\"\"),1,IF(AND(F53<>0,AL53=\"\"),1,0))","v":0}]
["P4200600","CON ATENCIÓN PODOLÓGICA VIGENTE",null,{"$f":"IFERROR(VLOOKUP($A52,FILTRO!$A46:$AY671,2,FALSE),0)","v":18223},{"$f":"IFERROR(VLOOKUP($A52,FILTRO!$A46:$AY671,3,FALSE),0)","v":6547},{"$f":"IFERROR(VLOOKUP($A52,FILTRO!$A46:$AY671,4,FALSE),0)","v":11676},{"$f":"IFERROR(VLOOKUP($A52,FILTRO!$A46:$AY671,5,FALSE),0)","v":7},{"$f":"IFERROR(VLOOKUP($A52,FILTRO!$A46:$AY671,6,FALSE),0)","v":11},{"$f":"IFERROR(VLOOKUP($A52,FILTRO!$A46:$AY671,7,FALSE),0)","v":11},{"$f":"IFERROR(VLOOKUP($A52,FILTRO!$A46:$AY671,8,FALSE),0)","v":16},{"$f":"IFERROR(VLOOKUP($A52,FILTRO!$A46:$AY671,9,FALSE),0)","v":27},{"$f":"IFERROR(VLOOKUP($A52,FILTRO!$A46:$AY671,10,FALSE),0)","v":66},{"$f":"IFERROR(VLOOKUP($A52,FILTRO!$A46:$AY671,11,FALSE),0)","v":44},{"$f":"IFERROR(VLOOKUP($A52,FILTRO!$A46:$AY671,12,FALSE),0)","v":104},{"$f":"IFERROR(VLOOKUP($A52,FILTRO!$A46:$AY671,13,FALSE),0)","v":80},{"$f":"IFERROR(VLOOKUP($A52,FILTRO!$A46:$AY671,14,FALSE),0)","v":205},{"$f":"IFERROR(VLOOKUP($A52,FILTRO!$A46:$AY671,15,FALSE),0)","v":112},{"$f":"IFERROR(VLOOKUP($A52,FILTRO!$A46:$AY671,16,FALSE),0)","v":328},{"$f":"IFERROR(VLOOKUP($A52,FILTRO!$A46:$AY671,17,FALSE),0)","v":226},{"$f":"IFERROR(VLOOKUP($A52,FILTRO!$A46:$AY671,18,FALSE),0)","v":533},{"$f":"IFERROR(VLOOKUP($A52,FILTRO!$A46:$AY671,19,FALSE),0)","v":406},{"$f":"IFERROR(VLOOKUP($A52,FILTRO!$A46:$AY671,20,FALSE),0)","v":882},{"$f":"IFERROR(VLOOKUP($A52,FILTRO!$A46:$AY671,21,FALSE),0)","v":595},{"$f":"IFERROR(VLOOKUP($A52,FILTRO!$A46:$AY671,22,FALSE),0)","v":1430},{"$f":"IFERROR(VLOOKUP($A52,FILTRO!$A46:$AY671,23,FALSE),0)","v":861},{"$f":"IFERROR(VLOOKUP($A52,FILTRO!$A46:$AY671,24,FALSE),0)","v":1632},{"$f":"IFERROR(VLOOKUP($A52,FILTRO!$A46:$AY671,25,FALSE),0)","v":1131},{"$f":"IFERROR(VLOOKUP($A52,FILTRO!$A46:$AY671,26,FALSE),0)","v":1853},{"$f":"IFERROR(VLOOKUP($A52,FILTRO!$A46:$AY671,27,FALSE),0)","v":1099},{"$f":"IFERROR(VLOOKUP($A52,FILTRO!$A46:$AY671,28,FALSE),0)","v":1636},{"$f":"IFERROR(VLOOKUP($A52,FILTRO!$A46:$AY671,29,FALSE),0)","v":909},{"$f":"IFERROR(VLOOKUP($A52,FILTRO!$A46:$AY671,30,FALSE),0)","v":1293},{"$f":"IFERROR(VLOOKUP($A52,FILTRO!$A46:$AY671,31,FALSE),0)","v":1039},{"$f":"IFERROR(VLOOKUP($A52,FILTRO!$A46:$AY671,32,FALSE),0)","v":1687},{"$f":"IFERROR(VLOOKUP($A52,FILTRO!$A46:$AY671,33,FALSE),0)","v":25},{"$f":"IFERROR(VLOOKUP($A52,FILTRO!$A46:$AY671,34,FALSE),0)","v":42},{"$f":"IFERROR(VLOOKUP($A52,FILTRO!$A46:$AY671,35,FALSE),0)","v":17},{"$f":"IFERROR(VLOOKUP($A52,FILTRO!$A46:$AY671,36,FALSE),0)","v":37},"",{"$nulls":17},"","","","",null,null,"","",{"$nulls":28},0,0,0,0,{"$nulls":4},0,0]
["P4200300","CON ECG VIGENTE",null,{"$f":"IFERROR(VLOOKUP($A53,FILTRO!$A47:$AY672,2,FALSE),0)","v":22916},{"$f":"IFERROR(VLOOKUP($A53,FILTRO!$A47:$AY672,3,FALSE),0)","v":8601},{"$f":"IFERROR(VLOOKUP($A53,FILTRO!$A47:$AY672,4,FALSE),0)","v":14315},{"$f":"IFERROR(VLOOKUP($A53,FILTRO!$A47:$AY672,5,FALSE),0)","v":41},{"$f":"IFERROR(VLOOKUP($A53,FILTRO!$A47:$AY672,6,FALSE),0)","v":43},{"$f":"IFERROR(VLOOKUP($A53,FILTRO!$A47:$AY672,7,FALSE),0)","v":30},{"$f":"IFERROR(VLOOKUP($A53,FILTRO!$A47:$AY672,8,FALSE),0)","v":42},{"$f":"IFERROR(VLOOKUP($A53,FILTRO!$A47:$AY672,9,FALSE),0)","v":29},{"$f":"IFERROR(VLOOKUP($A53,FILTRO!$A47:$AY672,10,FALSE),0)","v":96},{"$f":"IFERROR(VLOOKUP($A53,FILTRO!$A47:$AY672,11,FALSE),0)","v":79},{"$f":"IFERROR(VLOOKUP($A53,FILTRO!$A47:$AY672,12,FALSE),0)","v":170},{"$f":"IFERROR(VLOOKUP($A53,FILTRO!$A47:$AY672,13,FALSE),0)","v":180},{"$f":"IFERROR(VLOOKUP($A53,FILTRO!$A47:$AY672,14,FALSE),0)","v":343},{"$f":"IFERROR(VLOOKUP($A53,FILTRO!$A47:$AY672,15,FALSE),0)","v":211},{"$f":"IFERROR(VLOOKUP($A53,FILTRO!$A47:$AY672,16,FALSE),0)","v":442},{"$f":"IFERROR(VLOOKUP($A53,FILTRO!$A47:$AY672,17,FALSE),0)","v":392},{"$f":"IFERROR(VLOOKUP($A53,FILTRO!$A47:$AY672,18,FALSE),0)","v":679},{"$f":"IFERROR(VLOOKUP($A53,FILTRO!$A47:$AY672,19,FALSE),0)","v":557},{"$f":"IFERROR(VLOOKUP($A53,FILTRO!$A47:$AY672,20,FALSE),0)","v":1131},{"$f":"IFERROR(VLOOKUP($A53,FILTRO!$A47:$AY672,21,FALSE),0)","v":814},{"$f":"IFERROR(VLOOKUP($A53,FILTRO!$A47:$AY672,22,FALSE),0)","v":1742},{"$f":"IFERROR(VLOOKUP($A53,FILTRO!$A47:$AY672,23,FALSE),0)","v":1148},{"$f":"IFERROR(VLOOKUP($A53,FILTRO!$A47:$AY672,24,FALSE),0)","v":2078},{"$f":"IFERROR(VLOOKUP($A53,FILTRO!$A47:$AY672,25,FALSE),0)","v":1428},{"$f":"IFERROR(VLOOKUP($A53,FILTRO!$A47:$AY672,26,FALSE),0)","v":2285},{"$f":"IFERROR(VLOOKUP($A53,FILTRO!$A47:$AY672,27,FALSE),0)","v":1447},{"$f":"IFERROR(VLOOKUP($A53,FILTRO!$A47:$AY672,28,FALSE),0)","v":1924},{"$f":"IFERROR(VLOOKUP($A53,FILTRO!$A47:$AY672,29,FALSE),0)","v":1083},{"$f":"IFERROR(VLOOKUP($A53,FILTRO!$A47:$AY672,30,FALSE),0)","v":1559},{"$f":"IFERROR(VLOOKUP($A53,FILTRO!$A47:$AY672,31,FALSE),0)","v":1162},{"$f":"IFERROR(VLOOKUP($A53,FILTRO!$A47:$AY672,32,FALSE),0)","v":1781},{"$f":"IFERROR(VLOOKUP($A53,FILTRO!$A47:$AY672,33,FALSE),0)","v":28},{"$f":"IFERROR(VLOOKUP($A53,FILTRO!$A47:$AY672,34,FALSE),0)","v":65},{"$f":"IFERROR(VLOOKUP($A53,FILTRO!$A47:$AY672,35,FALSE),0)","v":29},{"$f":"IFERROR(VLOOKUP($A53,FILTRO!$A47:$AY672,36,FALSE),0)","v":66},"",{"$nulls":17},"","","","",null,null,"","",{"$nulls":28},0,0,0,0,{"$nulls":4},0,0]
["P4180800","EN TRATAMIENTO CON INSULINA",null,{"$f":"IFERROR(VLOOKUP($A54,FILTRO!$A48:$AY673,2,FALSE),0)","v":11035},{"$f":"IFERROR(VLOOKUP($A54,FILTRO!$A48:$AY673,3,FALSE),0)","v":4310},{"$f":"IFERROR(VLOOKUP($A54,FILTRO!$A48:$AY673,4,FALSE),0)","v":6725},{"$f":"IFERROR(VLOOKUP($A54,FILTRO!$A48:$AY673,5,FALSE),0)","v":13},{"$f":"IFERROR(VLOOKUP($A54,FILTRO!$A48:$AY673,6,FALSE),0)","v":9},{"$f":"IFERROR(VLOOKUP($A54,FILTRO!$A48:$AY673,7,FALSE),0)","v":13},{"$f":"IFERROR(VLOOKUP($A54,FILTRO!$A48:$AY673,8,FALSE),0)","v":24},{"$f":"IFERROR(VLOOKUP($A54,FILTRO!$A48:$AY673,9,FALSE),0)","v":30},{"$f":"IFERROR(VLOOKUP($A54,FILTRO!$A48:$AY673,10,FALSE),0)","v":40},{"$f":"IFERROR(VLOOKUP($A54,FILTRO!$A48:$AY673,11,FALSE),0)","v":33},{"$f":"IFERROR(VLOOKUP($A54,FILTRO!$A48:$AY673,12,FALSE),0)","v":86},{"$f":"IFERROR(VLOOKUP($A54,FILTRO!$A48:$AY673,13,FALSE),0)","v":88},{"$f":"IFERROR(VLOOKUP($A54,FILTRO!$A48:$AY673,14,FALSE),0)","v":128},{"$f":"IFERROR(VLOOKUP($A54,FILTRO!$A48:$AY673,15,FALSE),0)","v":126},{"$f":"IFERROR(VLOOKUP($A54,FILTRO!$A48:$AY673,16,FALSE),0)","v":211},{"$f":"IFERROR(VLOOKUP($A54,FILTRO!$A48:$AY673,17,FALSE),0)","v":221},{"$f":"IFERROR(VLOOKUP($A54,FILTRO!$A48:$AY673,18,FALSE),0)","v":362},{"$f":"IFERROR(VLOOKUP($A54,FILTRO!$A48:$AY673,19,FALSE),0)","v":341},{"$f":"IFERROR(VLOOKUP($A54,FILTRO!$A48:$AY673,20,FALSE),0)","v":575},{"$f":"IFERROR(VLOOKUP($A54,FILTRO!$A48:$AY673,21,FALSE),0)","v":525},{"$f":"IFERROR(VLOOKUP($A54,FILTRO!$A48:$AY673,22,FALSE),0)","v":915},{"$f":"IFERROR(VLOOKUP($A54,FILTRO!$A48:$AY673,23,FALSE),0)","v":659},{"$f":"IFERROR(VLOOKUP($A54,FILTRO!$A48:$AY673,24,FALSE),0)","v":1086},{"$f":"IFERROR(VLOOKUP($A54,FILTRO!$A48:$AY673,25,FALSE),0)","v":725},{"$f":"IFERROR(VLOOKUP($A54,FILTRO!$A48:$AY673,26,FALSE),0)","v":1060},{"$f":"IFERROR(VLOOKUP($A54,FILTRO!$A48:$AY673,27,FALSE),0)","v":635},{"$f":"IFERROR(VLOOKUP($A54,FILTRO!$A48:$AY673,28,FALSE),0)","v":906},{"$f":"IFERROR(VLOOKUP($A54,FILTRO!$A48:$AY673,29,FALSE),0)","v":438},{"$f":"IFERROR(VLOOKUP($A54,FILTRO!$A48:$AY673,30,FALSE),0)","v":632},{"$f":"IFERROR(VLOOKUP($A54,FILTRO!$A48:$AY673,31,FALSE),0)","v":463},{"$f":"IFERROR(VLOOKUP($A54,FILTRO!$A48:$AY673,32,FALSE),0)","v":691},{"$f":"IFERROR(VLOOKUP($A54,FILTRO!$A48:$AY673,33,FALSE),0)","v":28},{"$f":"IFERROR(VLOOKUP($A54,FILTRO!$A48:$AY673,34,FALSE),0)","v":38},{"$f":"IFERROR(VLOOKUP($A54,FILTRO!$A48:$AY673,35,FALSE),0)","v":17},{"$f":"IFERROR(VLOOKUP($A54,FILTRO!$A48:$AY673,36,FALSE),0)","v":29},"",{"$nulls":17},"","","","",null,null,"","",{"$nulls":28},0,0,0,0,{"$nulls":4},{"$f":"IF(AND(E56<>0,AI56=\"\"),1,IF(AND(F56<>0,AJ56=\"\"),1,0))","v":0},{"$f":"IF(AND(E56<>0,AK56=\"\"),1,IF(AND(F56<>0,AL56=\"\"),1,0))","v":0}]
["P4200700","EN  TRATAMIENTO CON INSULINA QUE LOGRA META CON  HbA1C SEGÚN EDAD",null,{"$f":"IFERROR(VLOOKUP($A55,FILTRO!$A49:$AY674,2,FALSE),0)","v":3388},{"$f":"IFERROR(VLOOKUP($A55,FILTRO!$A49:$AY674,3,FALSE),0)","v":1408},{"$f":"IFERROR(VLOOKUP($A55,FILTRO!$A49:$AY674,4,FALSE),0)","v":1980},{"$f":"IFERROR(VLOOKUP($A55,FILTRO!$A49:$AY674,5,FALSE),0)","v":7},{"$f":"IFERROR(VLOOKUP($A55,FILTRO!$A49:$AY674,6,FALSE),0)","v":3},{"$f":"IFERROR(VLOOKUP($A55,FILTRO!$A49:$AY674,7,FALSE),0)","v":4},{"$f":"IFERROR(VLOOKUP($A55,FILTRO!$A49:$AY674,8,FALSE),0)","v":9},{"$f":"IFERROR(VLOOKUP($A55,FILTRO!$A49:$AY674,9,FALSE),0)","v":10},{"$f":"IFERROR(VLOOKUP($A55,FILTRO!$A49:$AY674,10,FALSE),0)","v":14},{"$f":"IFERROR(VLOOKUP($A55,FILTRO!$A49:$AY674,11,FALSE),0)","v":15},{"$f":"IFERROR(VLOOKUP($A55,FILTRO!$A49:$AY674,12,FALSE),0)","v":19},{"$f":"IFERROR(VLOOKUP($A55,FILTRO!$A49:$AY674,13,FALSE),0)","v":31},{"$f":"IFERROR(VLOOKUP($A55,FILTRO!$A49:$AY674,14,FALSE),0)","v":31},{"$f":"IFERROR(VLOOKUP($A55,FILTRO!$A49:$AY674,15,FALSE),0)","v":36},{"$f":"IFERROR(VLOOKUP($A55,FILTRO!$A49:$AY674,16,FALSE),0)","v":66},{"$f":"IFERROR(VLOOKUP($A55,FILTRO!$A49:$AY674,17,FALSE),0)","v":56},{"$f":"IFERROR(VLOOKUP($A55,FILTRO!$A49:$AY674,18,FALSE),0)","v":79},{"$f":"IFERROR(VLOOKUP($A55,FILTRO!$A49:$AY674,19,FALSE),0)","v":95},{"$f":"IFERROR(VLOOKUP($A55,FILTRO!$A49:$AY674,20,FALSE),0)","v":147},{"$f":"IFERROR(VLOOKUP($A55,FILTRO!$A49:$AY674,21,FALSE),0)","v":122},{"$f":"IFERROR(VLOOKUP($A55,FILTRO!$A49:$AY674,22,FALSE),0)","v":205},{"$f":"IFERROR(VLOOKUP($A55,FILTRO!$A49:$AY674,23,FALSE),0)","v":195},{"$f":"IFERROR(VLOOKUP($A55,FILTRO!$A49:$AY674,24,FALSE),0)","v":262},{"$f":"IFERROR(VLOOKUP($A55,FILTRO!$A49:$AY674,25,FALSE),0)","v":212},{"$f":"IFERROR(VLOOKUP($A55,FILTRO!$A49:$AY674,26,FALSE),0)","v":306},{"$f":"IFERROR(VLOOKUP($A55,FILTRO!$A49:$AY674,27,FALSE),0)","v":224},{"$f":"IFERROR(VLOOKUP($A55,FILTRO!$A49:$AY674,28,FALSE),0)","v":286},{"$f":"IFERROR(VLOOKUP($A55,FILTRO!$A49:$AY674,29,FALSE),0)","v":171},{"$f":"IFERROR(VLOOKUP($A55,FILTRO!$A49:$AY674,30,FALSE),0)","v":230},{"$f":"IFERROR(VLOOKUP($A55,FILTRO!$A49:$AY674,31,FALSE),0)","v":230},{"$f":"IFERROR(VLOOKUP($A55,FILTRO!$A49:$AY674,32,FALSE),0)","v":323},{"$f":"IFERROR(VLOOKUP($A55,FILTRO!$A49:$AY674,33,FALSE),0)","v":14},{"$f":"IFERROR(VLOOKUP($A55,FILTRO!$A49:$AY674,34,FALSE),0)","v":19},{"$f":"IFERROR(VLOOKUP($A55,FILTRO!$A49:$AY674,35,FALSE),0)","v":6},{"$f":"IFERROR(VLOOKUP($A55,FILTRO!$A49:$AY674,36,FALSE),0)","v":5},"",{"$nulls":17},"","","","",null,null,"","",{"$nulls":28},0,0,0,0,{"$nulls":4},{"$f":"IF(AND(E58<>0,AI58=\"\"),1,IF(AND(F58<>0,AJ58=\"\"),1,0))","v":0},{"$f":"IF(AND(E58<>0,AK58=\"\"),1,IF(AND(F58<>0,AL58=\"\"),1,0))","v":0}]
["P4190960","CON HbA1C>= 9 %",null,{"$f":"IFERROR(VLOOKUP($A56,FILTRO!$A50:$AY675,2,FALSE),0)","v":7205},{"$f":"IFERROR(VLOOKUP($A56,FILTRO!$A50:$AY675,3,FALSE),0)","v":2764},{"$f":"IFERROR(VLOOKUP($A56,FILTRO!$A50:$AY675,4,FALSE),0)","v":4441},{"$f":"IFERROR(VLOOKUP($A56,FILTRO!$A50:$AY675,5,FALSE),0)","v":8},{"$f":"IFERROR(VLOOKUP($A56,FILTRO!$A50:$AY675,6,FALSE),0)","v":6},{"$f":"IFERROR(VLOOKUP($A56,FILTRO!$A50:$AY675,7,FALSE),0)","v":11},{"$f":"IFERROR(VLOOKUP($A56,FILTRO!$A50:$AY675,8,FALSE),0)","v":22},{"$f":"IFERROR(VLOOKUP($A56,FILTRO!$A50:$AY675,9,FALSE),0)","v":13},{"$f":"IFERROR(VLOOKUP($A56,FILTRO!$A50:$AY675,10,FALSE),0)","v":42},{"$f":"IFERROR(VLOOKUP($A56,FILTRO!$A50:$AY675,11,FALSE),0)","v":37},{"$f":"IFERROR(VLOOKUP($A56,FILTRO!$A50:$AY675,12,FALSE),0)","v":72},{"$f":"IFERROR(VLOOKUP($A56,FILTRO!$A50:$AY675,13,FALSE),0)","v":71},{"$f":"IFERROR(VLOOKUP($A56,FILTRO!$A50:$AY675,14,FALSE),0)","v":118},{"$f":"IFERROR(VLOOKUP($A56,FILTRO!$A50:$AY675,15,FALSE),0)","v":110},{"$f":"IFERROR(VLOOKUP($A56,FILTRO!$A50:$AY675,16,FALSE),0)","v":199},{"$f":"IFERROR(VLOOKUP($A56,FILTRO!$A50:$AY675,17,FALSE),0)","v":178},{"$f":"IFERROR(VLOOKUP($A56,FILTRO!$A50:$AY675,18,FALSE),0)","v":317},{"$f":"IFERROR(VLOOKUP($A56,FILTRO!$A50:$AY675,19,FALSE),0)","v":240},{"$f":"IFERROR(VLOOKUP($A56,FILTRO!$A50:$AY675,20,FALSE),0)","v":476},{"$f":"IFERROR(VLOOKUP($A56,FILTRO!$A50:$AY675,21,FALSE),0)","v":362},{"$f":"IFERROR(VLOOKUP($A56,FILTRO!$A50:$AY675,22,FALSE),0)","v":720},{"$f":"IFERROR(VLOOKUP($A56,FILTRO!$A50:$AY675,23,FALSE),0)","v":479},{"$f":"IFERROR(VLOOKUP($A56,FILTRO!$A50:$AY675,24,FALSE),0)","v":757},{"$f":"IFERROR(VLOOKUP($A56,FILTRO!$A50:$AY675,25,FALSE),0)","v":452},{"$f":"IFERROR(VLOOKUP($A56,FILTRO!$A50:$AY675,26,FALSE),0)","v":618},{"$f":"IFERROR(VLOOKUP($A56,FILTRO!$A50:$AY675,27,FALSE),0)","v":340},{"$f":"IFERROR(VLOOKUP($A56,FILTRO!$A50:$AY675,28,FALSE),0)","v":490},{"$f":"IFERROR(VLOOKUP($A56,FILTRO!$A50:$AY675,29,FALSE),0)","v":239},{"$f":"IFERROR(VLOOKUP($A56,FILTRO!$A50:$AY675,30,FALSE),0)","v":306},{"$f":"IFERROR(VLOOKUP($A56,FILTRO!$A50:$AY675,31,FALSE),0)","v":224},{"$f":"IFERROR(VLOOKUP($A56,FILTRO!$A50:$AY675,32,FALSE),0)","v":298},{"$f":"IFERROR(VLOOKUP($A56,FILTRO!$A50:$AY675,33,FALSE),0)","v":18},{"$f":"IFERROR(VLOOKUP($A56,FILTRO!$A50:$AY675,34,FALSE),0)","v":28},{"$f":"IFERROR(VLOOKUP($A56,FILTRO!$A50:$AY675,35,FALSE),0)","v":17},{"$f":"IFERROR(VLOOKUP($A56,FILTRO!$A50:$AY675,36,FALSE),0)","v":31},"",{"$nulls":17},{"$f":"IF($E56>=$AI56,\"\",CONCATENATE(\"* Pueblos Originarios-Hombres no debe ser mayor al Total de personas \",B56,\".\"))","v":""},{"$f":"IF($F56>=$AJ56,\"\",CONCATENATE(\"* Pueblos Originarios-Mujeres no debe ser mayor al Total de personas \",B56,\".\"))","v":""},{"$f":"IF($E56>=$AK56,\"\",CONCATENATE(\"* Población Migrante-Hombres no debe ser mayor al Total de personas \",B56,\".\"))","v":""},{"$f":"IF($F56>=$AL56,\"\",CONCATENATE(\"* Población Migrante - Mujeres no debe ser mayor al Total de personas \",B56,\".\"))","v":""},null,null,"","",{"$nulls":28},0,0,0,0,{"$nulls":4},{"$f":"IF(AND(E59<>0,AI59=\"\"),1,IF(AND(F59<>0,AJ59=\"\"),1,0))","v":0},{"$f":"IF(AND(E59<>0,AK59=\"\"),1,IF(AND(F59<>0,AL59=\"\"),1,0))","v":0}]
["P4301050","FUMADOR ACTUAL",null,{"$f":"IFERROR(VLOOKUP($A57,FILTRO!$A51:$AY676,2,FALSE),0)","v":4699},{"$f":"IFERROR(VLOOKUP($A57,FILTRO!$A51:$AY676,3,FALSE),0)","v":1944},{"$f":"IFERROR(VLOOKUP($A57,FILTRO!$A51:$AY676,4,FALSE),0)","v":2755},{"$f":"IFERROR(VLOOKUP($A57,FILTRO!$A51:$AY676,5,FALSE),0)","v":2},{"$f":"IFERROR(VLOOKUP($A57,FILTRO!$A51:$AY676,6,FALSE),0)","v":5},{"$f":"IFERROR(VLOOKUP($A57,FILTRO!$A51:$AY676,7,FALSE),0)","v":2},{"$f":"IFERROR(VLOOKUP($A57,FILTRO!$A51:$AY676,8,FALSE),0)","v":4},{"$f":"IFERROR(VLOOKUP($A57,FILTRO!$A51:$AY676,9,FALSE),0)","v":12},{"$f":"IFERROR(VLOOKUP($A57,FILTRO!$A51:$AY676,10,FALSE),0)","v":28},{"$f":"IFERROR(VLOOKUP($A57,FILTRO!$A51:$AY676,11,FALSE),0)","v":18},{"$f":"IFERROR(VLOOKUP($A57,FILTRO!$A51:$AY676,12,FALSE),0)","v":46},{"$f":"IFERROR(VLOOKUP($A57,FILTRO!$A51:$AY676,13,FALSE),0)","v":63},{"$f":"IFERROR(VLOOKUP($A57,FILTRO!$A51:$AY676,14,FALSE),0)","v":79},{"$f":"IFERROR(VLOOKUP($A57,FILTRO!$A51:$AY676,15,FALSE),0)","v":95},{"$f":"IFERROR(VLOOKUP($A57,FILTRO!$A51:$AY676,16,FALSE),0)","v":164},{"$f":"IFERROR(VLOOKUP($A57,FILTRO!$A51:$AY676,17,FALSE),0)","v":125},{"$f":"IFERROR(VLOOKUP($A57,FILTRO!$A51:$AY676,18,FALSE),0)","v":208},{"$f":"IFERROR(VLOOKUP($A57,FILTRO!$A51:$AY676,19,FALSE),0)","v":213},{"$f":"IFERROR(VLOOKUP($A57,FILTRO!$A51:$AY676,20,FALSE),0)","v":309},{"$f":"IFERROR(VLOOKUP($A57,FILTRO!$A51:$AY676,21,FALSE),0)","v":275},{"$f":"IFERROR(VLOOKUP($A57,FILTRO!$A51:$AY676,22,FALSE),0)","v":476},{"$f":"IFERROR(VLOOKUP($A57,FILTRO!$A51:$AY676,23,FALSE),0)","v":379},{"$f":"IFERROR(VLOOKUP($A57,FILTRO!$A51:$AY676,24,FALSE),0)","v":549},{"$f":"IFERROR(VLOOKUP($A57,FILTRO!$A51:$AY676,25,FALSE),0)","v":326},{"$f":"IFERROR(VLOOKUP($A57,FILTRO!$A51:$AY676,26,FALSE),0)","v":432},{"$f":"IFERROR(VLOOKUP($A57,FILTRO!$A51:$AY676,27,FALSE),0)","v":215},{"$f":"IFERROR(VLOOKUP($A57,FILTRO!$A51:$AY676,28,FALSE),0)","v":254},{"$f":"IFERROR(VLOOKUP($A57,FILTRO!$A51:$AY676,29,FALSE),0)","v":133},{"$f":"IFERROR(VLOOKUP($A57,FILTRO!$A51:$AY676,30,FALSE),0)","v":128},{"$f":"IFERROR(VLOOKUP($A57,FILTRO!$A51:$AY676,31,FALSE),0)","v":86},{"$f":"IFERROR(VLOOKUP($A57,FILTRO!$A51:$AY676,32,FALSE),0)","v":73},{"$f":"IFERROR(VLOOKUP($A57,FILTRO!$A51:$AY676,33,FALSE),0)","v":13},{"$f":"IFERROR(VLOOKUP($A57,FILTRO!$A51:$AY676,34,FALSE),0)","v":19},{"$f":"IFERROR(VLOOKUP($A57,FILTRO!$A51:$AY676,35,FALSE),0)","v":11},{"$f":"IFERROR(VLOOKUP($A57,FILTRO!$A51:$AY676,36,FALSE),0)","v":12}]
["P4190807","CON ERC ETAPA 3B O SUPERIOR Y EN TRATAMIENTO CON IECA O ARA II",null,{"$f":"IFERROR(VLOOKUP($A58,FILTRO!$A52:$AY677,2,FALSE),0)","v":3957},{"$f":"IFERROR(VLOOKUP($A58,FILTRO!$A52:$AY677,3,FALSE),0)","v":1534},{"$f":"IFERROR(VLOOKUP($A58,FILTRO!$A52:$AY677,4,FALSE),0)","v":2423},{"$f":"IFERROR(VLOOKUP($A58,FILTRO!$A52:$AY677,5,FALSE),0)","v":0},{"$f":"IFERROR(VLOOKUP($A58,FILTRO!$A52:$AY677,6,FALSE),0)","v":0},{"$f":"IFERROR(VLOOKUP($A58,FILTRO!$A52:$AY677,7,FALSE),0)","v":0},{"$f":"IFERROR(VLOOKUP($A58,FILTRO!$A52:$AY677,8,FALSE),0)","v":1},{"$f":"IFERROR(VLOOKUP($A58,FILTRO!$A52:$AY677,9,FALSE),0)","v":1},{"$f":"IFERROR(VLOOKUP($A58,FILTRO!$A52:$AY677,10,FALSE),0)","v":6},{"$f":"IFERROR(VLOOKUP($A58,FILTRO!$A52:$AY677,11,FALSE),0)","v":9},{"$f":"IFERROR(VLOOKUP($A58,FILTRO!$A52:$AY677,12,FALSE),0)","v":7},{"$f":"IFERROR(VLOOKUP($A58,FILTRO!$A52:$AY677,13,FALSE),0)","v":5},{"$f":"IFERROR(VLOOKUP($A58,FILTRO!$A52:$AY677,14,FALSE),0)","v":14},{"$f":"IFERROR(VLOOKUP($A58,FILTRO!$A52:$AY677,15,FALSE),0)","v":15},{"$f":"IFERROR(VLOOKUP($A58,FILTRO!$A52:$AY677,16,FALSE),0)","v":39},{"$f":"IFERROR(VLOOKUP($A58,FILTRO!$A52:$AY677,17,FALSE),0)","v":46},{"$f":"IFERROR(VLOOKUP($A58,FILTRO!$A52:$AY677,18,FALSE),0)","v":48},{"$f":"IFERROR(VLOOKUP($A58,FILTRO!$A52:$AY677,19,FALSE),0)","v":62},{"$f":"IFERROR(VLOOKUP($A58,FILTRO!$A52:$AY677,20,FALSE),0)","v":138},{"$f":"IFERROR(VLOOKUP($A58,FILTRO!$A52:$AY677,21,FALSE),0)","v":109},{"$f":"IFERROR(VLOOKUP($A58,FILTRO!$A52:$AY677,22,FALSE),0)","v":187},{"$f":"IFERROR(VLOOKUP($A58,FILTRO!$A52:$AY677,23,FALSE),0)","v":204},{"$f":"IFERROR(VLOOKUP($A58,FILTRO!$A52:$AY677,24,FALSE),0)","v":294},{"$f":"IFERROR(VLOOKUP($A58,FILTRO!$A52:$AY677,25,FALSE),0)","v":272},{"$f":"IFERROR(VLOOKUP($A58,FILTRO!$A52:$AY677,26,FALSE),0)","v":385},{"$f":"IFERROR(VLOOKUP($A58,FILTRO!$A52:$AY677,27,FALSE),0)","v":261},{"$f":"IFERROR(VLOOKUP($A58,FILTRO!$A52:$AY677,28,FALSE),0)","v":385},{"$f":"IFERROR(VLOOKUP($A58,FILTRO!$A52:$AY677,29,FALSE),0)","v":251},{"$f":"IFERROR(VLOOKUP($A58,FILTRO!$A52:$AY677,30,FALSE),0)","v":365},{"$f":"IFERROR(VLOOKUP($A58,FILTRO!$A52:$AY677,31,FALSE),0)","v":299},{"$f":"IFERROR(VLOOKUP($A58,FILTRO!$A52:$AY677,32,FALSE),0)","v":554},{"$f":"IFERROR(VLOOKUP($A58,FILTRO!$A52:$AY677,33,FALSE),0)","v":3},{"$f":"IFERROR(VLOOKUP($A58,FILTRO!$A52:$AY677,34,FALSE),0)","v":2},{"$f":"IFERROR(VLOOKUP($A58,FILTRO!$A52:$AY677,35,FALSE),0)","v":3},{"$f":"IFERROR(VLOOKUP($A58,FILTRO!$A52:$AY677,36,FALSE),0)","v":5},"",{"$nulls":17},{"$f":"IF($E58>=$AI58,\"\",CONCATENATE(\"* Pueblos Originarios-Hombres no debe ser mayor al Total de personas \",B58,\".\"))","v":""},{"$f":"IF($F58>=$AJ58,\"\",CONCATENATE(\"* Pueblos Originarios-Mujeres no debe ser mayor al Total de personas \",B58,\".\"))","v":""},{"$f":"IF($E58>=$AK58,\"\",CONCATENATE(\"* Población Migrante-Hombres no debe ser mayor al Total de personas \",B58,\".\"))","v":""},{"$f":"IF($F58>=$AL58,\"\",CONCATENATE(\"* Población Migrante - Mujeres no debe ser mayor al Total de personas \",B58,\".\"))","v":""},null,null,"","",{"$nulls":28},0,0,0,0,{"$nulls":4},{"$f":"IF(AND(E61<>0,AI61=\"\"),1,IF(AND(F61<>0,AJ61=\"\"),1,0))","v":0},{"$f":"IF(AND(E61<>0,AK61=\"\"),1,IF(AND(F61<>0,AL61=\"\"),1,0))","v":0}]
["P4190808","CON UN EXÁMEN DE COLESTEROL LDL VIGENTE",null,{"$f":"IFERROR(VLOOKUP($A59,FILTRO!$A53:$AY678,2,FALSE),0)","v":28205},{"$f":"IFERROR(VLOOKUP($A59,FILTRO!$A53:$AY678,3,FALSE),0)","v":10576},{"$f":"IFERROR(VLOOKUP($A59,FILTRO!$A53:$AY678,4,FALSE),0)","v":17629},{"$f":"IFERROR(VLOOKUP($A59,FILTRO!$A53:$AY678,5,FALSE),0)","v":14},{"$f":"IFERROR(VLOOKUP($A59,FILTRO!$A53:$AY678,6,FALSE),0)","v":6},{"$f":"IFERROR(VLOOKUP($A59,FILTRO!$A53:$AY678,7,FALSE),0)","v":19},{"$f":"IFERROR(VLOOKUP($A59,FILTRO!$A53:$AY678,8,FALSE),0)","v":44},{"$f":"IFERROR(VLOOKUP($A59,FILTRO!$A53:$AY678,9,FALSE),0)","v":29},{"$f":"IFERROR(VLOOKUP($A59,FILTRO!$A53:$AY678,10,FALSE),0)","v":88},{"$f":"IFERROR(VLOOKUP($A59,FILTRO!$A53:$AY678,11,FALSE),0)","v":70},{"$f":"IFERROR(VLOOKUP($A59,FILTRO!$A53:$AY678,12,FALSE),0)","v":194},{"$f":"IFERROR(VLOOKUP($A59,FILTRO!$A53:$AY678,13,FALSE),0)","v":153},{"$f":"IFERROR(VLOOKUP($A59,FILTRO!$A53:$AY678,14,FALSE),0)","v":367},{"$f":"IFERROR(VLOOKUP($A59,FILTRO!$A53:$AY678,15,FALSE),0)","v":255},{"$f":"IFERROR(VLOOKUP($A59,FILTRO!$A53:$AY678,16,FALSE),0)","v":543},{"$f":"IFERROR(VLOOKUP($A59,FILTRO!$A53:$AY678,17,FALSE),0)","v":434},{"$f":"IFERROR(VLOOKUP($A59,FILTRO!$A53:$AY678,18,FALSE),0)","v":930},{"$f":"IFERROR(VLOOKUP($A59,FILTRO!$A53:$AY678,19,FALSE),0)","v":727},{"$f":"IFERROR(VLOOKUP($A59,FILTRO!$A53:$AY678,20,FALSE),0)","v":1521},{"$f":"IFERROR(VLOOKUP($A59,FILTRO!$A53:$AY678,21,FALSE),0)","v":1111},{"$f":"IFERROR(VLOOKUP($A59,FILTRO!$A53:$AY678,22,FALSE),0)","v":2337},{"$f":"IFERROR(VLOOKUP($A59,FILTRO!$A53:$AY678,23,FALSE),0)","v":1520},{"$f":"IFERROR(VLOOKUP($A59,FILTRO!$A53:$AY678,24,FALSE),0)","v":2472},{"$f":"IFERROR(VLOOKUP($A59,FILTRO!$A53:$AY678,25,FALSE),0)","v":1815},{"$f":"IFERROR(VLOOKUP($A59,FILTRO!$A53:$AY678,26,FALSE),0)","v":2738},{"$f":"IFERROR(VLOOKUP($A59,FILTRO!$A53:$AY678,27,FALSE),0)","v":1709},{"$f":"IFERROR(VLOOKUP($A59,FILTRO!$A53:$AY678,28,FALSE),0)","v":2338},{"$f":"IFERROR(VLOOKUP($A59,FILTRO!$A53:$AY678,29,FALSE),0)","v":1323},{"$f":"IFERROR(VLOOKUP($A59,FILTRO!$A53:$AY678,30,FALSE),0)","v":1909},{"$f":"IFERROR(VLOOKUP($A59,FILTRO!$A53:$AY678,31,FALSE),0)","v":1397},{"$f":"IFERROR(VLOOKUP($A59,FILTRO!$A53:$AY678,32,FALSE),0)","v":2142},{"$f":"IFERROR(VLOOKUP($A59,FILTRO!$A53:$AY678,33,FALSE),0)","v":46},{"$f":"IFERROR(VLOOKUP($A59,FILTRO!$A53:$AY678,34,FALSE),0)","v":109},{"$f":"IFERROR(VLOOKUP($A59,FILTRO!$A53:$AY678,35,FALSE),0)","v":39},{"$f":"IFERROR(VLOOKUP($A59,FILTRO!$A53:$AY678,36,FALSE),0)","v":97},"",{"$nulls":17},{"$f":"IF($E59>=$AI59,\"\",CONCATENATE(\"* Pueblos Originarios-Hombres no debe ser mayor al Total de personas \",B59,\".\"))","v":""},{"$f":"IF($F59>=$AJ59,\"\",CONCATENATE(\"* Pueblos Originarios-Mujeres no debe ser mayor al Total de personas \",B59,\".\"))","v":""},{"$f":"IF($E59>=$AK59,\"\",CONCATENATE(\"* Población Migrante-Hombres no debe ser mayor al Total de personas \",B59,\".\"))","v":""},{"$f":"IF($F59>=$AL59,\"\",CONCATENATE(\"* Población Migrante - Mujeres no debe ser mayor al Total de personas \",B59,\".\"))","v":""},null,null,"","",{"$nulls":28},0,0,0,0,{"$nulls":4},{"$f":"IF(AND(E62<>0,AI62=\"\"),1,IF(AND(F62<>0,AJ62=\"\"),1,0))","v":0},{"$f":"IF(AND(E62<>0,AK62=\"\"),1,IF(AND(F62<>0,AL62=\"\"),1,0))","v":0}]
["P4302100","CON HIPOGLICEMIAS RECURRENTES",null,{"$f":"IFERROR(VLOOKUP($A60,FILTRO!$A54:$AY679,2,FALSE),0)","v":227},{"$f":"IFERROR(VLOOKUP($A60,FILTRO!$A54:$AY679,3,FALSE),0)","v":95},{"$f":"IFERROR(VLOOKUP($A60,FILTRO!$A54:$AY679,4,FALSE),0)","v":132},{"$f":"IFERROR(VLOOKUP($A60,FILTRO!$A54:$AY679,5,FALSE),0)","v":3},{"$f":"IFERROR(VLOOKUP($A60,FILTRO!$A54:$AY679,6,FALSE),0)","v":4},{"$f":"IFERROR(VLOOKUP($A60,FILTRO!$A54:$AY679,7,FALSE),0)","v":5},{"$f":"IFERROR(VLOOKUP($A60,FILTRO!$A54:$AY679,8,FALSE),0)","v":5},{"$f":"IFERROR(VLOOKUP($A60,FILTRO!$A54:$AY679,9,FALSE),0)","v":3},{"$f":"IFERROR(VLOOKUP($A60,FILTRO!$A54:$AY679,10,FALSE),0)","v":2},{"$f":"IFERROR(VLOOKUP($A60,FILTRO!$A54:$AY679,11,FALSE),0)","v":4},{"$f":"IFERROR(VLOOKUP($A60,FILTRO!$A54:$AY679,12,FALSE),0)","v":3},{"$f":"IFERROR(VLOOKUP($A60,FILTRO!$A54:$AY679,13,FALSE),0)","v":5},{"$f":"IFERROR(VLOOKUP($A60,FILTRO!$A54:$AY679,14,FALSE),0)","v":6},{"$f":"IFERROR(VLOOKUP($A60,FILTRO!$A54:$AY679,15,FALSE),0)","v":5},{"$f":"IFERROR(VLOOKUP($A60,FILTRO!$A54:$AY679,16,FALSE),0)","v":7},{"$f":"IFERROR(VLOOKUP($A60,FILTRO!$A54:$AY679,17,FALSE),0)","v":6},{"$f":"IFERROR(VLOOKUP($A60,FILTRO!$A54:$AY679,18,FALSE),0)","v":6},{"$f":"IFERROR(VLOOKUP($A60,FILTRO!$A54:$AY679,19,FALSE),0)","v":6},{"$f":"IFERROR(VLOOKUP($A60,FILTRO!$A54:$AY679,20,FALSE),0)","v":10},{"$f":"IFERROR(VLOOKUP($A60,FILTRO!$A54:$AY679,21,FALSE),0)","v":9},{"$f":"IFERROR(VLOOKUP($A60,FILTRO!$A54:$AY679,22,FALSE),0)","v":10},{"$f":"IFERROR(VLOOKUP($A60,FILTRO!$A54:$AY679,23,FALSE),0)","v":15},{"$f":"IFERROR(VLOOKUP($A60,FILTRO!$A54:$AY679,24,FALSE),0)","v":18},{"$f":"IFERROR(VLOOKUP($A60,FILTRO!$A54:$AY679,25,FALSE),0)","v":6},{"$f":"IFERROR(VLOOKUP($A60,FILTRO!$A54:$AY679,26,FALSE),0)","v":15},{"$f":"IFERROR(VLOOKUP($A60,FILTRO!$A54:$AY679,27,FALSE),0)","v":10},{"$f":"IFERROR(VLOOKUP($A60,FILTRO!$A54:$AY679,28,FALSE),0)","v":18},{"$f":"IFERROR(VLOOKUP($A60,FILTRO!$A54:$AY679,29,FALSE),0)","v":10},{"$f":"IFERROR(VLOOKUP($A60,FILTRO!$A54:$AY679,30,FALSE),0)","v":14},{"$f":"IFERROR(VLOOKUP($A60,FILTRO!$A54:$AY679,31,FALSE),0)","v":8},{"$f":"IFERROR(VLOOKUP($A60,FILTRO!$A54:$AY679,32,FALSE),0)","v":14},{"$f":"IFERROR(VLOOKUP($A60,FILTRO!$A54:$AY679,33,FALSE),0)","v":0},{"$f":"IFERROR(VLOOKUP($A60,FILTRO!$A54:$AY679,34,FALSE),0)","v":0},{"$f":"IFERROR(VLOOKUP($A60,FILTRO!$A54:$AY679,35,FALSE),0)","v":0},{"$f":"IFERROR(VLOOKUP($A60,FILTRO!$A54:$AY679,36,FALSE),0)","v":0}]
["P4190809","CON *EVALUACIÓN VIGENTE DEL PIE SEGÚN PAUTA DE ESTIMACION DEL RIESGO DE ULCERACION EN PERSONAS CON DIABETES","Riesgo bajo",{"$f":"IFERROR(VLOOKUP($A61,FILTRO!$A55:$AY680,2,FALSE),0)","v":20176},{"$f":"IFERROR(VLOOKUP($A61,FILTRO!$A55:$AY680,3,FALSE),0)","v":7107},{"$f":"IFERROR(VLOOKUP($A61,FILTRO!$A55:$AY680,4,FALSE),0)","v":13069},{"$f":"IFERROR(VLOOKUP($A61,FILTRO!$A55:$AY680,5,FALSE),0)","v":11},{"$f":"IFERROR(VLOOKUP($A61,FILTRO!$A55:$AY680,6,FALSE),0)","v":7},{"$f":"IFERROR(VLOOKUP($A61,FILTRO!$A55:$AY680,7,FALSE),0)","v":19},{"$f":"IFERROR(VLOOKUP($A61,FILTRO!$A55:$AY680,8,FALSE),0)","v":27},{"$f":"IFERROR(VLOOKUP($A61,FILTRO!$A55:$AY680,9,FALSE),0)","v":31},{"$f":"IFERROR(VLOOKUP($A61,FILTRO!$A55:$AY680,10,FALSE),0)","v":72},{"$f":"IFERROR(VLOOKUP($A61,FILTRO!$A55:$AY680,11,FALSE),0)","v":64},{"$f":"IFERROR(VLOOKUP($A61,FILTRO!$A55:$AY680,12,FALSE),0)","v":171},{"$f":"IFERROR(VLOOKUP($A61,FILTRO!$A55:$AY680,13,FALSE),0)","v":120},{"$f":"IFERROR(VLOOKUP($A61,FILTRO!$A55:$AY680,14,FALSE),0)","v":282},{"$f":"IFERROR(VLOOKUP($A61,FILTRO!$A55:$AY680,15,FALSE),0)","v":179},{"$f":"IFERROR(VLOOKUP($A61,FILTRO!$A55:$AY680,16,FALSE),0)","v":495},{"$f":"IFERROR(VLOOKUP($A61,FILTRO!$A55:$AY680,17,FALSE),0)","v":348},{"$f":"IFERROR(VLOOKUP($A61,FILTRO!$A55:$AY680,18,FALSE),0)","v":756},{"$f":"IFERROR(VLOOKUP($A61,FILTRO!$A55:$AY680,19,FALSE),0)","v":556},{"$f":"IFERROR(VLOOKUP($A61,FILTRO!$A55:$AY680,20,FALSE),0)","v":1187},{"$f":"IFERROR(VLOOKUP($A61,FILTRO!$A55:$AY680,21,FALSE),0)","v":774},{"$f":"IFERROR(VLOOKUP($A61,FILTRO!$A55:$AY680,22,FALSE),0)","v":1822},{"$f":"IFERROR(VLOOKUP($A61,FILTRO!$A55:$AY680,23,FALSE),0)","v":984},{"$f":"IFERROR(VLOOKUP($A61,FILTRO!$A55:$AY680,24,FALSE),0)","v":2028},{"$f":"IFERROR(VLOOKUP($A61,FILTRO!$A55:$AY680,25,FALSE),0)","v":1207},{"$f":"IFERROR(VLOOKUP($A61,FILTRO!$A55:$AY680,26,FALSE),0)","v":2128},{"$f":"IFERROR(VLOOKUP($A61,FILTRO!$A55:$AY680,27,FALSE),0)","v":1273},{"$f":"IFERROR(VLOOKUP($A61,FILTRO!$A55:$AY680,28,FALSE),0)","v":1697},{"$f":"IFERROR(VLOOKUP($A61,FILTRO!$A55:$AY680,29,FALSE),0)","v":864},{"$f":"IFERROR(VLOOKUP($A61,FILTRO!$A55:$AY680,30,FALSE),0)","v":1314},{"$f":"IFERROR(VLOOKUP($A61,FILTRO!$A55:$AY680,31,FALSE),0)","v":677},{"$f":"IFERROR(VLOOKUP($A61,FILTRO!$A55:$AY680,32,FALSE),0)","v":1083},{"$f":"IFERROR(VLOOKUP($A61,FILTRO!$A55:$AY680,33,FALSE),0)","v":39},{"$f":"IFERROR(VLOOKUP($A61,FILTRO!$A55:$AY680,34,FALSE),0)","v":81},{"$f":"IFERROR(VLOOKUP($A61,FILTRO!$A55:$AY680,35,FALSE),0)","v":35},{"$f":"IFERROR(VLOOKUP($A61,FILTRO!$A55:$AY680,36,FALSE),0)","v":61},"",{"$nulls":17},{"$f":"IF($E61>=$AI61,\"\",CONCATENATE(\"* Pueblos Originarios-Hombres no debe ser mayor al Total de personas \",CONCATENATE($B$61,\"-\",C61),\".\"))","v":""},{"$f":"IF($F61>=$AJ61,\"\",CONCATENATE(\"* Pueblos Originarios-Mujeres no debe ser mayor al Total de personas \",CONCATENATE($B$61,\"-\",C61),\".\"))","v":""},{"$f":"IF($E61>=$AK61,\"\",CONCATENATE(\"* Población Migrante-Hombres no debe ser mayor al Total de personas \",CONCATENATE($B$61,\"-\",C61),\".\"))","v":""},{"$f":"IF($F61>=$AL61,\"\",CONCATENATE(\"* Población Migrante - Mujeres no debe ser mayor al Total de personas \",CONCATENATE($B$61,\"-\",C61),\".\"))","v":""},null,null,"","",{"$nulls":28},0,0,0,0,{"$nulls":4},0,0]
["P4170300",null,"Riesgo moderado ",{"$f":"IFERROR(VLOOKUP($A62,FILTRO!$A56:$AY681,2,FALSE),0)","v":2155},{"$f":"IFERROR(VLOOKUP($A62,FILTRO!$A56:$AY681,3,FALSE),0)","v":799},{"$f":"IFERROR(VLOOKUP($A62,FILTRO!$A56:$AY681,4,FALSE),0)","v":1356},{"$f":"IFERROR(VLOOKUP($A62,FILTRO!$A56:$AY681,5,FALSE),0)","v":0},{"$f":"IFERROR(VLOOKUP($A62,FILTRO!$A56:$AY681,6,FALSE),0)","v":1},{"$f":"IFERROR(VLOOKUP($A62,FILTRO!$A56:$AY681,7,FALSE),0)","v":1},{"$f":"IFERROR(VLOOKUP($A62,FILTRO!$A56:$AY681,8,FALSE),0)","v":2},{"$f":"IFERROR(VLOOKUP($A62,FILTRO!$A56:$AY681,9,FALSE),0)","v":0},{"$f":"IFERROR(VLOOKUP($A62,FILTRO!$A56:$AY681,10,FALSE),0)","v":3},{"$f":"IFERROR(VLOOKUP($A62,FILTRO!$A56:$AY681,11,FALSE),0)","v":7},{"$f":"IFERROR(VLOOKUP($A62,FILTRO!$A56:$AY681,12,FALSE),0)","v":9},{"$f":"IFERROR(VLOOKUP($A62,FILTRO!$A56:$AY681,13,FALSE),0)","v":12},{"$f":"IFERROR(VLOOKUP($A62,FILTRO!$A56:$AY681,14,FALSE),0)","v":12},{"$f":"IFERROR(VLOOKUP($A62,FILTRO!$A56:$AY681,15,FALSE),0)","v":14},{"$f":"IFERROR(VLOOKUP($A62,FILTRO!$A56:$AY681,16,FALSE),0)","v":22},{"$f":"IFERROR(VLOOKUP($A62,FILTRO!$A56:$AY681,17,FALSE),0)","v":24},{"$f":"IFERROR(VLOOKUP($A62,FILTRO!$A56:$AY681,18,FALSE),0)","v":50},{"$f":"IFERROR(VLOOKUP($A62,FILTRO!$A56:$AY681,19,FALSE),0)","v":49},{"$f":"IFERROR(VLOOKUP($A62,FILTRO!$A56:$AY681,20,FALSE),0)","v":86},{"$f":"IFERROR(VLOOKUP($A62,FILTRO!$A56:$AY681,21,FALSE),0)","v":69},{"$f":"IFERROR(VLOOKUP($A62,FILTRO!$A56:$AY681,22,FALSE),0)","v":145},{"$f":"IFERROR(VLOOKUP($A62,FILTRO!$A56:$AY681,23,FALSE),0)","v":111},{"$f":"IFERROR(VLOOKUP($A62,FILTRO!$A56:$AY681,24,FALSE),0)","v":199},{"$f":"IFERROR(VLOOKUP($A62,FILTRO!$A56:$AY681,25,FALSE),0)","v":133},{"$f":"IFERROR(VLOOKUP($A62,FILTRO!$A56:$AY681,26,FALSE),0)","v":191},{"$f":"IFERROR(VLOOKUP($A62,FILTRO!$A56:$AY681,27,FALSE),0)","v":115},{"$f":"IFERROR(VLOOKUP($A62,FILTRO!$A56:$AY681,28,FALSE),0)","v":195},{"$f":"IFERROR(VLOOKUP($A62,FILTRO!$A56:$AY681,29,FALSE),0)","v":135},{"$f":"IFERROR(VLOOKUP($A62,FILTRO!$A56:$AY681,30,FALSE),0)","v":214},{"$f":"IFERROR(VLOOKUP($A62,FILTRO!$A56:$AY681,31,FALSE),0)","v":129},{"$f":"IFERROR(VLOOKUP($A62,FILTRO!$A56:$AY681,32,FALSE),0)","v":227},{"$f":"IFERROR(VLOOKUP($A62,FILTRO!$A56:$AY681,33,FALSE),0)","v":1},{"$f":"IFERROR(VLOOKUP($A62,FILTRO!$A56:$AY681,34,FALSE),0)","v":8},{"$f":"IFERROR(VLOOKUP($A62,FILTRO!$A56:$AY681,35,FALSE),0)","v":4},{"$f":"IFERROR(VLOOKUP($A62,FILTRO!$A56:$AY681,36,FALSE),0)","v":6},"",{"$nulls":17},{"$f":"IF($E62>=$AI62,\"\",CONCATENATE(\"* Pueblos Originarios-Hombres no debe ser mayor al Total de personas \",CONCATENATE($B$61,\"-\",C62),\".\"))","v":""},{"$f":"IF($F62>=$AJ62,\"\",CONCATENATE(\"* Pueblos Originarios-Mujeres no debe ser mayor al Total de personas \",CONCATENATE($B$61,\"-\",C62),\".\"))","v":""},{"$f":"IF($E62>=$AK62,\"\",CONCATENATE(\"* Población Migrante-Hombres no debe ser mayor al Total de personas \",CONCATENATE($B$61,\"-\",C62),\".\"))","v":""},{"$f":"IF($F62>=$AL62,\"\",CONCATENATE(\"* Población Migrante - Mujeres no debe ser mayor al Total de personas \",CONCATENATE($B$61,\"-\",C62),\".\"))","v":""},null,null,"","",{"$nulls":28},0,0,0,0,{"$nulls":4},0,0]
["P4190500",null,"Riesgo alto",{"$f":"IFERROR(VLOOKUP($A63,FILTRO!$A57:$AY682,2,FALSE),0)","v":4464},{"$f":"IFERROR(VLOOKUP($A63,FILTRO!$A57:$AY682,3,FALSE),0)","v":1711},{"$f":"IFERROR(VLOOKUP($A63,FILTRO!$A57:$AY682,4,FALSE),0)","v":2753},{"$f":"IFERROR(VLOOKUP($A63,FILTRO!$A57:$AY682,5,FALSE),0)","v":1},{"$f":"IFERROR(VLOOKUP($A63,FILTRO!$A57:$AY682,6,FALSE),0)","v":0},{"$f":"IFERROR(VLOOKUP($A63,FILTRO!$A57:$AY682,7,FALSE),0)","v":0},{"$f":"IFERROR(VLOOKUP($A63,FILTRO!$A57:$AY682,8,FALSE),0)","v":2},{"$f":"IFERROR(VLOOKUP($A63,FILTRO!$A57:$AY682,9,FALSE),0)","v":2},{"$f":"IFERROR(VLOOKUP($A63,FILTRO!$A57:$AY682,10,FALSE),0)","v":6},{"$f":"IFERROR(VLOOKUP($A63,FILTRO!$A57:$AY682,11,FALSE),0)","v":5},{"$f":"IFERROR(VLOOKUP($A63,FILTRO!$A57:$AY682,12,FALSE),0)","v":15},{"$f":"IFERROR(VLOOKUP($A63,FILTRO!$A57:$AY682,13,FALSE),0)","v":12},{"$f":"IFERROR(VLOOKUP($A63,FILTRO!$A57:$AY682,14,FALSE),0)","v":22},{"$f":"IFERROR(VLOOKUP($A63,FILTRO!$A57:$AY682,15,FALSE),0)","v":32},{"$f":"IFERROR(VLOOKUP($A63,FILTRO!$A57:$AY682,16,FALSE),0)","v":43},{"$f":"IFERROR(VLOOKUP($A63,FILTRO!$A57:$AY682,17,FALSE),0)","v":37},{"$f":"IFERROR(VLOOKUP($A63,FILTRO!$A57:$AY682,18,FALSE),0)","v":68},{"$f":"IFERROR(VLOOKUP($A63,FILTRO!$A57:$AY682,19,FALSE),0)","v":64},{"$f":"IFERROR(VLOOKUP($A63,FILTRO!$A57:$AY682,20,FALSE),0)","v":155},{"$f":"IFERROR(VLOOKUP($A63,FILTRO!$A57:$AY682,21,FALSE),0)","v":121},{"$f":"IFERROR(VLOOKUP($A63,FILTRO!$A57:$AY682,22,FALSE),0)","v":237},{"$f":"IFERROR(VLOOKUP($A63,FILTRO!$A57:$AY682,23,FALSE),0)","v":170},{"$f":"IFERROR(VLOOKUP($A63,FILTRO!$A57:$AY682,24,FALSE),0)","v":309},{"$f":"IFERROR(VLOOKUP($A63,FILTRO!$A57:$AY682,25,FALSE),0)","v":269},{"$f":"IFERROR(VLOOKUP($A63,FILTRO!$A57:$AY682,26,FALSE),0)","v":405},{"$f":"IFERROR(VLOOKUP($A63,FILTRO!$A57:$AY682,27,FALSE),0)","v":282},{"$f":"IFERROR(VLOOKUP($A63,FILTRO!$A57:$AY682,28,FALSE),0)","v":421},{"$f":"IFERROR(VLOOKUP($A63,FILTRO!$A57:$AY682,29,FALSE),0)","v":300},{"$f":"IFERROR(VLOOKUP($A63,FILTRO!$A57:$AY682,30,FALSE),0)","v":400},{"$f":"IFERROR(VLOOKUP($A63,FILTRO!$A57:$AY682,31,FALSE),0)","v":416},{"$f":"IFERROR(VLOOKUP($A63,FILTRO!$A57:$AY682,32,FALSE),0)","v":670},{"$f":"IFERROR(VLOOKUP($A63,FILTRO!$A57:$AY682,33,FALSE),0)","v":6},{"$f":"IFERROR(VLOOKUP($A63,FILTRO!$A57:$AY682,34,FALSE),0)","v":7},{"$f":"IFERROR(VLOOKUP($A63,FILTRO!$A57:$AY682,35,FALSE),0)","v":5},{"$f":"IFERROR(VLOOKUP($A63,FILTRO!$A57:$AY682,36,FALSE),0)","v":6},"",{"$nulls":17},{"$f":"IF($E63>=$AI63,\"\",CONCATENATE(\"* Pueblos Originarios-Hombres no debe ser mayor al Total de personas \",CONCATENATE($B$61,\"-\",C63),\".\"))","v":""},{"$f":"IF($F63>=$AJ63,\"\",CONCATENATE(\"* Pueblos Originarios-Mujeres no debe ser mayor al Total de personas \",CONCATENATE($B$61,\"-\",C63),\".\"))","v":""},{"$f":"IF($E63>=$AK63,\"\",CONCATENATE(\"* Población Migrante-Hombres no debe ser mayor al Total de personas \",CONCATENATE($B$61,\"-\",C63),\".\"))","v":""},{"$f":"IF($F63>=$AL63,\"\",CONCATENATE(\"* Población Migrante - Mujeres no debe ser mayor al Total de personas \",CONCATENATE($B$61,\"-\",C63),\".\"))","v":""},null,null,"","",{"$nulls":28},0,0,0,0,{"$nulls":4},0,0]
["P4190600",null,"Riesgo máximo ",{"$f":"IFERROR(VLOOKUP($A64,FILTRO!$A58:$AY683,2,FALSE),0)","v":1607},{"$f":"IFERROR(VLOOKUP($A64,FILTRO!$A58:$AY683,3,FALSE),0)","v":898},{"$f":"IFERROR(VLOOKUP($A64,FILTRO!$A58:$AY683,4,FALSE),0)","v":709},{"$f":"IFERROR(VLOOKUP($A64,FILTRO!$A58:$AY683,5,FALSE),0)","v":0},{"$f":"IFERROR(VLOOKUP($A64,FILTRO!$A58:$AY683,6,FALSE),0)","v":2},{"$f":"IFERROR(VLOOKUP($A64,FILTRO!$A58:$AY683,7,FALSE),0)","v":0},{"$f":"IFERROR(VLOOKUP($A64,FILTRO!$A58:$AY683,8,FALSE),0)","v":0},{"$f":"IFERROR(VLOOKUP($A64,FILTRO!$A58:$AY683,9,FALSE),0)","v":0},{"$f":"IFERROR(VLOOKUP($A64,FILTRO!$A58:$AY683,10,FALSE),0)","v":1},{"$f":"IFERROR(VLOOKUP($A64,FILTRO!$A58:$AY683,11,FALSE),0)","v":3},{"$f":"IFERROR(VLOOKUP($A64,FILTRO!$A58:$AY683,12,FALSE),0)","v":7},{"$f":"IFERROR(VLOOKUP($A64,FILTRO!$A58:$AY683,13,FALSE),0)","v":6},{"$f":"IFERROR(VLOOKUP($A64,FILTRO!$A58:$AY683,14,FALSE),0)","v":9},{"$f":"IFERROR(VLOOKUP($A64,FILTRO!$A58:$AY683,15,FALSE),0)","v":15},{"$f":"IFERROR(VLOOKUP($A64,FILTRO!$A58:$AY683,16,FALSE),0)","v":21},{"$f":"IFERROR(VLOOKUP($A64,FILTRO!$A58:$AY683,17,FALSE),0)","v":42},{"$f":"IFERROR(VLOOKUP($A64,FILTRO!$A58:$AY683,18,FALSE),0)","v":25},{"$f":"IFERROR(VLOOKUP($A64,FILTRO!$A58:$AY683,19,FALSE),0)","v":46},{"$f":"IFERROR(VLOOKUP($A64,FILTRO!$A58:$AY683,20,FALSE),0)","v":43},{"$f":"IFERROR(VLOOKUP($A64,FILTRO!$A58:$AY683,21,FALSE),0)","v":103},{"$f":"IFERROR(VLOOKUP($A64,FILTRO!$A58:$AY683,22,FALSE),0)","v":80},{"$f":"IFERROR(VLOOKUP($A64,FILTRO!$A58:$AY683,23,FALSE),0)","v":136},{"$f":"IFERROR(VLOOKUP($A64,FILTRO!$A58:$AY683,24,FALSE),0)","v":101},{"$f":"IFERROR(VLOOKUP($A64,FILTRO!$A58:$AY683,25,FALSE),0)","v":175},{"$f":"IFERROR(VLOOKUP($A64,FILTRO!$A58:$AY683,26,FALSE),0)","v":116},{"$f":"IFERROR(VLOOKUP($A64,FILTRO!$A58:$AY683,27,FALSE),0)","v":148},{"$f":"IFERROR(VLOOKUP($A64,FILTRO!$A58:$AY683,28,FALSE),0)","v":102},{"$f":"IFERROR(VLOOKUP($A64,FILTRO!$A58:$AY683,29,FALSE),0)","v":115},{"$f":"IFERROR(VLOOKUP($A64,FILTRO!$A58:$AY683,30,FALSE),0)","v":86},{"$f":"IFERROR(VLOOKUP($A64,FILTRO!$A58:$AY683,31,FALSE),0)","v":109},{"$f":"IFERROR(VLOOKUP($A64,FILTRO!$A58:$AY683,32,FALSE),0)","v":116},{"$f":"IFERROR(VLOOKUP($A64,FILTRO!$A58:$AY683,33,FALSE),0)","v":5},{"$f":"IFERROR(VLOOKUP($A64,FILTRO!$A58:$AY683,34,FALSE),0)","v":1},{"$f":"IFERROR(VLOOKUP($A64,FILTRO!$A58:$AY683,35,FALSE),0)","v":2},{"$f":"IFERROR(VLOOKUP($A64,FILTRO!$A58:$AY683,36,FALSE),0)","v":2},"",{"$nulls":17},{"$f":"IF($E64>=$AI64,\"\",CONCATENATE(\"* Pueblos Originarios-Hombres no debe ser mayor al Total de personas \",CONCATENATE($B$61,\"-\",C64),\".\"))","v":""},{"$f":"IF($F64>=$AJ64,\"\",CONCATENATE(\"* Pueblos Originarios-Mujeres no debe ser mayor al Total de personas \",CONCATENATE($B$61,\"-\",C64),\".\"))","v":""},{"$f":"IF($E64>=$AK64,\"\",CONCATENATE(\"* Población Migrante-Hombres no debe ser mayor al Total de personas \",CONCATENATE($B$61,\"-\",C64),\".\"))","v":""},{"$f":"IF($F64>=$AL64,\"\",CONCATENATE(\"* Población Migrante - Mujeres no debe ser mayor al Total de personas \",CONCATENATE($B$61,\"-\",C64),\".\"))","v":""},null,null,"","",{"$nulls":28},0,0,0,0,{"$nulls":4},{"$f":"IF(AND(E67<>0,AI67=\"\"),1,IF(AND(F67<>0,AJ67=\"\"),1,0))","v":0},{"$f":"IF(AND(E67<>0,AK67=\"\"),1,IF(AND(F67<>0,AL67=\"\"),1,0))","v":0}]
["P4190970","CON ÚLCERAS ACTIVAS DE PIE TRATADAS CON CURACIÓN ","Curación Convencional",{"$f":"IFERROR(VLOOKUP($A65,FILTRO!$A59:$AY684,2,FALSE),0)","v":127},{"$f":"IFERROR(VLOOKUP($A65,FILTRO!$A59:$AY684,3,FALSE),0)","v":64},{"$f":"IFERROR(VLOOKUP($A65,FILTRO!$A59:$AY684,4,FALSE),0)","v":63},{"$f":"IFERROR(VLOOKUP($A65,FILTRO!$A59:$AY684,5,FALSE),0)","v":0},{"$f":"IFERROR(VLOOKUP($A65,FILTRO!$A59:$AY684,6,FALSE),0)","v":0},{"$f":"IFERROR(VLOOKUP($A65,FILTRO!$A59:$AY684,7,FALSE),0)","v":0},{"$f":"IFERROR(VLOOKUP($A65,FILTRO!$A59:$AY684,8,FALSE),0)","v":0},{"$f":"IFERROR(VLOOKUP($A65,FILTRO!$A59:$AY684,9,FALSE),0)","v":0},{"$f":"IFERROR(VLOOKUP($A65,FILTRO!$A59:$AY684,10,FALSE),0)","v":0},{"$f":"IFERROR(VLOOKUP($A65,FILTRO!$A59:$AY684,11,FALSE),0)","v":0},{"$f":"IFERROR(VLOOKUP($A65,FILTRO!$A59:$AY684,12,FALSE),0)","v":1},{"$f":"IFERROR(VLOOKUP($A65,FILTRO!$A59:$AY684,13,FALSE),0)","v":1},{"$f":"IFERROR(VLOOKUP($A65,FILTRO!$A59:$AY684,14,FALSE),0)","v":4},{"$f":"IFERROR(VLOOKUP($A65,FILTRO!$A59:$AY684,15,FALSE),0)","v":2},{"$f":"IFERROR(VLOOKUP($A65,FILTRO!$A59:$AY684,16,FALSE),0)","v":3},{"$f":"IFERROR(VLOOKUP($A65,FILTRO!$A59:$AY684,17,FALSE),0)","v":4},{"$f":"IFERROR(VLOOKUP($A65,FILTRO!$A59:$AY684,18,FALSE),0)","v":8},{"$f":"IFERROR(VLOOKUP($A65,FILTRO!$A59:$AY684,19,FALSE),0)","v":1},{"$f":"IFERROR(VLOOKUP($A65,FILTRO!$A59:$AY684,20,FALSE),0)","v":8},{"$f":"IFERROR(VLOOKUP($A65,FILTRO!$A59:$AY684,21,FALSE),0)","v":13},{"$f":"IFERROR(VLOOKUP($A65,FILTRO!$A59:$AY684,22,FALSE),0)","v":9},{"$f":"IFERROR(VLOOKUP($A65,FILTRO!$A59:$AY684,23,FALSE),0)","v":13},{"$f":"IFERROR(VLOOKUP($A65,FILTRO!$A59:$AY684,24,FALSE),0)","v":18},{"$f":"IFERROR(VLOOKUP($A65,FILTRO!$A59:$AY684,25,FALSE),0)","v":6},{"$f":"IFERROR(VLOOKUP($A65,FILTRO!$A59:$AY684,26,FALSE),0)","v":4},{"$f":"IFERROR(VLOOKUP($A65,FILTRO!$A59:$AY684,27,FALSE),0)","v":9},{"$f":"IFERROR(VLOOKUP($A65,FILTRO!$A59:$AY684,28,FALSE),0)","v":3},{"$f":"IFERROR(VLOOKUP($A65,FILTRO!$A59:$AY684,29,FALSE),0)","v":4},{"$f":"IFERROR(VLOOKUP($A65,FILTRO!$A59:$AY684,30,FALSE),0)","v":1},{"$f":"IFERROR(VLOOKUP($A65,FILTRO!$A59:$AY684,31,FALSE),0)","v":11},{"$f":"IFERROR(VLOOKUP($A65,FILTRO!$A59:$AY684,32,FALSE),0)","v":4},{"$f":"IFERROR(VLOOKUP($A65,FILTRO!$A59:$AY684,33,FALSE),0)","v":0},{"$f":"IFERROR(VLOOKUP($A65,FILTRO!$A59:$AY684,34,FALSE),0)","v":0},{"$f":"IFERROR(VLOOKUP($A65,FILTRO!$A59:$AY684,35,FALSE),0)","v":0},{"$f":"IFERROR(VLOOKUP($A65,FILTRO!$A59:$AY684,36,FALSE),0)","v":0},"",{"$nulls":17},{"$f":"IF($E65>=$AI65,\"\",CONCATENATE(\"* Pueblos Originarios-Hombres no debe ser mayor al Total de personas \",CONCATENATE($B$65,\"-\",C65),\".\"))","v":""},{"$f":"IF($F65>=$AJ65,\"\",CONCATENATE(\"* Pueblos Originarios-Mujeres no debe ser mayor al Total de personas \",CONCATENATE($B$65,\"-\",C65),\".\"))","v":""},{"$f":"IF($E65>=$AK65,\"\",CONCATENATE(\"* Población Migrante-Hombres no debe ser mayor al Total de personas \",CONCATENATE($B$65,\"-\",C65),\".\"))","v":""},{"$f":"IF($F65>=$AL65,\"\",CONCATENATE(\"* Población Migrante - Mujeres no debe ser mayor al Total de personas \",CONCATENATE($B$65,\"-\",C65),\".\"))","v":""},null,null,"","",{"$nulls":28},0,0,0,0,{"$nulls":4},{"$f":"IF(AND(E69<>0,AI69=\"\"),1,IF(AND(F69<>0,AJ69=\"\"),1,0))","v":0},{"$f":"IF(AND(E69<>0,AK69=\"\"),1,IF(AND(F69<>0,AL69=\"\"),1,0))","v":0}]
["P4170500",null,"Curación Avanzada",{"$f":"IFERROR(VLOOKUP($A66,FILTRO!$A60:$AY685,2,FALSE),0)","v":1627},{"$f":"IFERROR(VLOOKUP($A66,FILTRO!$A60:$AY685,3,FALSE),0)","v":1128},{"$f":"IFERROR(VLOOKUP($A66,FILTRO!$A60:$AY685,4,FALSE),0)","v":499},{"$f":"IFERROR(VLOOKUP($A66,FILTRO!$A60:$AY685,5,FALSE),0)","v":0},{"$f":"IFERROR(VLOOKUP($A66,FILTRO!$A60:$AY685,6,FALSE),0)","v":1},{"$f":"IFERROR(VLOOKUP($A66,FILTRO!$A60:$AY685,7,FALSE),0)","v":0},{"$f":"IFERROR(VLOOKUP($A66,FILTRO!$A60:$AY685,8,FALSE),0)","v":1},{"$f":"IFERROR(VLOOKUP($A66,FILTRO!$A60:$AY685,9,FALSE),0)","v":0},{"$f":"IFERROR(VLOOKUP($A66,FILTRO!$A60:$AY685,10,FALSE),0)","v":2},{"$f":"IFERROR(VLOOKUP($A66,FILTRO!$A60:$AY685,11,FALSE),0)","v":4},{"$f":"IFERROR(VLOOKUP($A66,FILTRO!$A60:$AY685,12,FALSE),0)","v":4},{"$f":"IFERROR(VLOOKUP($A66,FILTRO!$A60:$AY685,13,FALSE),0)","v":30},{"$f":"IFERROR(VLOOKUP($A66,FILTRO!$A60:$AY685,14,FALSE),0)","v":20},{"$f":"IFERROR(VLOOKUP($A66,FILTRO!$A60:$AY685,15,FALSE),0)","v":18},{"$f":"IFERROR(VLOOKUP($A66,FILTRO!$A60:$AY685,16,FALSE),0)","v":37},{"$f":"IFERROR(VLOOKUP($A66,FILTRO!$A60:$AY685,17,FALSE),0)","v":104},{"$f":"IFERROR(VLOOKUP($A66,FILTRO!$A60:$AY685,18,FALSE),0)","v":26},{"$f":"IFERROR(VLOOKUP($A66,FILTRO!$A60:$AY685,19,FALSE),0)","v":115},{"$f":"IFERROR(VLOOKUP($A66,FILTRO!$A60:$AY685,20,FALSE),0)","v":37},{"$f":"IFERROR(VLOOKUP($A66,FILTRO!$A60:$AY685,21,FALSE),0)","v":147},{"$f":"IFERROR(VLOOKUP($A66,FILTRO!$A60:$AY685,22,FALSE),0)","v":74},{"$f":"IFERROR(VLOOKUP($A66,FILTRO!$A60:$AY685,23,FALSE),0)","v":194},{"$f":"IFERROR(VLOOKUP($A66,FILTRO!$A60:$AY685,24,FALSE),0)","v":100},{"$f":"IFERROR(VLOOKUP($A66,FILTRO!$A60:$AY685,25,FALSE),0)","v":155},{"$f":"IFERROR(VLOOKUP($A66,FILTRO!$A60:$AY685,26,FALSE),0)","v":42},{"$f":"IFERROR(VLOOKUP($A66,FILTRO!$A60:$AY685,27,FALSE),0)","v":208},{"$f":"IFERROR(VLOOKUP($A66,FILTRO!$A60:$AY685,28,FALSE),0)","v":73},{"$f":"IFERROR(VLOOKUP($A66,FILTRO!$A60:$AY685,29,FALSE),0)","v":82},{"$f":"IFERROR(VLOOKUP($A66,FILTRO!$A60:$AY685,30,FALSE),0)","v":28},{"$f":"IFERROR(VLOOKUP($A66,FILTRO!$A60:$AY685,31,FALSE),0)","v":71},{"$f":"IFERROR(VLOOKUP($A66,FILTRO!$A60:$AY685,32,FALSE),0)","v":54},{"$f":"IFERROR(VLOOKUP($A66,FILTRO!$A60:$AY685,33,FALSE),0)","v":1},{"$f":"IFERROR(VLOOKUP($A66,FILTRO!$A60:$AY685,34,FALSE),0)","v":0},{"$f":"IFERROR(VLOOKUP($A66,FILTRO!$A60:$AY685,35,FALSE),0)","v":3},{"$f":"IFERROR(VLOOKUP($A66,FILTRO!$A60:$AY685,36,FALSE),0)","v":2}]
["P4301060",null,"Con ayuda técnica de descarga",{"$f":"IFERROR(VLOOKUP($A67,FILTRO!$A61:$AY686,2,FALSE),0)","v":167},{"$f":"IFERROR(VLOOKUP($A67,FILTRO!$A61:$AY686,3,FALSE),0)","v":132},{"$f":"IFERROR(VLOOKUP($A67,FILTRO!$A61:$AY686,4,FALSE),0)","v":35},{"$f":"IFERROR(VLOOKUP($A67,FILTRO!$A61:$AY686,5,FALSE),0)","v":0},{"$f":"IFERROR(VLOOKUP($A67,FILTRO!$A61:$AY686,6,FALSE),0)","v":0},{"$f":"IFERROR(VLOOKUP($A67,FILTRO!$A61:$AY686,7,FALSE),0)","v":0},{"$f":"IFERROR(VLOOKUP($A67,FILTRO!$A61:$AY686,8,FALSE),0)","v":0},{"$f":"IFERROR(VLOOKUP($A67,FILTRO!$A61:$AY686,9,FALSE),0)","v":0},{"$f":"IFERROR(VLOOKUP($A67,FILTRO!$A61:$AY686,10,FALSE),0)","v":0},{"$f":"IFERROR(VLOOKUP($A67,FILTRO!$A61:$AY686,11,FALSE),0)","v":2},{"$f":"IFERROR(VLOOKUP($A67,FILTRO!$A61:$AY686,12,FALSE),0)","v":1},{"$f":"IFERROR(VLOOKUP($A67,FILTRO!$A61:$AY686,13,FALSE),0)","v":26},{"$f":"IFERROR(VLOOKUP($A67,FILTRO!$A61:$AY686,14,FALSE),0)","v":1},{"$f":"IFERROR(VLOOKUP($A67,FILTRO!$A61:$AY686,15,FALSE),0)","v":2},{"$f":"IFERROR(VLOOKUP($A67,FILTRO!$A61:$AY686,16,FALSE),0)","v":1},{"$f":"IFERROR(VLOOKUP($A67,FILTRO!$A61:$AY686,17,FALSE),0)","v":6},{"$f":"IFERROR(VLOOKUP($A67,FILTRO!$A61:$AY686,18,FALSE),0)","v":4},{"$f":"IFERROR(VLOOKUP($A67,FILTRO!$A61:$AY686,19,FALSE),0)","v":3},{"$f":"IFERROR(VLOOKUP($A67,FILTRO!$A61:$AY686,20,FALSE),0)","v":2},{"$f":"IFERROR(VLOOKUP($A67,FILTRO!$A61:$AY686,21,FALSE),0)","v":13},{"$f":"IFERROR(VLOOKUP($A67,FILTRO!$A61:$AY686,22,FALSE),0)","v":5},{"$f":"IFERROR(VLOOKUP($A67,FILTRO!$A61:$AY686,23,FALSE),0)","v":6},{"$f":"IFERROR(VLOOKUP($A67,FILTRO!$A61:$AY686,24,FALSE),0)","v":5},{"$f":"IFERROR(VLOOKUP($A67,FILTRO!$A61:$AY686,25,FALSE),0)","v":11},{"$f":"IFERROR(VLOOKUP($A67,FILTRO!$A61:$AY686,26,FALSE),0)","v":2},{"$f":"IFERROR(VLOOKUP($A67,FILTRO!$A61:$AY686,27,FALSE),0)","v":49},{"$f":"IFERROR(VLOOKUP($A67,FILTRO!$A61:$AY686,28,FALSE),0)","v":6},{"$f":"IFERROR(VLOOKUP($A67,FILTRO!$A61:$AY686,29,FALSE),0)","v":5},{"$f":"IFERROR(VLOOKUP($A67,FILTRO!$A61:$AY686,30,FALSE),0)","v":4},{"$f":"IFERROR(VLOOKUP($A67,FILTRO!$A61:$AY686,31,FALSE),0)","v":9},{"$f":"IFERROR(VLOOKUP($A67,FILTRO!$A61:$AY686,32,FALSE),0)","v":4},{"$f":"IFERROR(VLOOKUP($A67,FILTRO!$A61:$AY686,33,FALSE),0)","v":0},{"$f":"IFERROR(VLOOKUP($A67,FILTRO!$A61:$AY686,34,FALSE),0)","v":0},{"$f":"IFERROR(VLOOKUP($A67,FILTRO!$A61:$AY686,35,FALSE),0)","v":0},{"$f":"IFERROR(VLOOKUP($A67,FILTRO!$A61:$AY686,36,FALSE),0)","v":0},"",{"$nulls":17},{"$f":"IF($E67>=$AI67,\"\",CONCATENATE(\"* Pueblos Originarios-Hombres no debe ser mayor al Total de personas \",CONCATENATE($B$65,\"-\",C66),\".\"))","v":""},{"$f":"IF($F67>=$AJ67,\"\",CONCATENATE(\"* Pueblos Originarios-Mujeres no debe ser mayor al Total de personas \",CONCATENATE($B$65,\"-\",C66),\".\"))","v":""},{"$f":"IF($E67>=$AK67,\"\",CONCATENATE(\"* Población Migrante-Hombres no debe ser mayor al Total de personas \",CONCATENATE($B$65,\"-\",C66),\".\"))","v":""},{"$f":"IF($F67>=$AL67,\"\",CONCATENATE(\"* Población Migrante - Mujeres no debe ser mayor al Total de personas \",CONCATENATE($B$65,\"-\",C66),\".\"))","v":""},null,null,"","",{"$nulls":28},0,0,0,0,{"$nulls":4},{"$f":"IF(AND(E70<>0,AI70=\"\"),1,IF(AND(F70<>0,AJ70=\"\"),1,0))","v":0},{"$f":"IF(AND(E70<>0,AK70=\"\"),1,IF(AND(F70<>0,AL70=\"\"),1,0))","v":0}]
["P4302101","CURACIÓN AVANZADA EN ULCERA VENOSA",null,{"$f":"IFERROR(VLOOKUP($A68,FILTRO!$A62:$AY687,2,FALSE),0)","v":1188},{"$f":"IFERROR(VLOOKUP($A68,FILTRO!$A62:$AY687,3,FALSE),0)","v":607},{"$f":"IFERROR(VLOOKUP($A68,FILTRO!$A62:$AY687,4,FALSE),0)","v":581},{"$f":"IFERROR(VLOOKUP($A68,FILTRO!$A62:$AY687,5,FALSE),0)","v":0},{"$f":"IFERROR(VLOOKUP($A68,FILTRO!$A62:$AY687,6,FALSE),0)","v":0},{"$f":"IFERROR(VLOOKUP($A68,FILTRO!$A62:$AY687,7,FALSE),0)","v":0},{"$f":"IFERROR(VLOOKUP($A68,FILTRO!$A62:$AY687,8,FALSE),0)","v":0},{"$f":"IFERROR(VLOOKUP($A68,FILTRO!$A62:$AY687,9,FALSE),0)","v":4},{"$f":"IFERROR(VLOOKUP($A68,FILTRO!$A62:$AY687,10,FALSE),0)","v":0},{"$f":"IFERROR(VLOOKUP($A68,FILTRO!$A62:$AY687,11,FALSE),0)","v":5},{"$f":"IFERROR(VLOOKUP($A68,FILTRO!$A62:$AY687,12,FALSE),0)","v":2},{"$f":"IFERROR(VLOOKUP($A68,FILTRO!$A62:$AY687,13,FALSE),0)","v":1},{"$f":"IFERROR(VLOOKUP($A68,FILTRO!$A62:$AY687,14,FALSE),0)","v":3},{"$f":"IFERROR(VLOOKUP($A68,FILTRO!$A62:$AY687,15,FALSE),0)","v":7},{"$f":"IFERROR(VLOOKUP($A68,FILTRO!$A62:$AY687,16,FALSE),0)","v":9},{"$f":"IFERROR(VLOOKUP($A68,FILTRO!$A62:$AY687,17,FALSE),0)","v":9},{"$f":"IFERROR(VLOOKUP($A68,FILTRO!$A62:$AY687,18,FALSE),0)","v":6},{"$f":"IFERROR(VLOOKUP($A68,FILTRO!$A62:$AY687,19,FALSE),0)","v":17},{"$f":"IFERROR(VLOOKUP($A68,FILTRO!$A62:$AY687,20,FALSE),0)","v":25},{"$f":"IFERROR(VLOOKUP($A68,FILTRO!$A62:$AY687,21,FALSE),0)","v":11},{"$f":"IFERROR(VLOOKUP($A68,FILTRO!$A62:$AY687,22,FALSE),0)","v":85},{"$f":"IFERROR(VLOOKUP($A68,FILTRO!$A62:$AY687,23,FALSE),0)","v":115},{"$f":"IFERROR(VLOOKUP($A68,FILTRO!$A62:$AY687,24,FALSE),0)","v":53},{"$f":"IFERROR(VLOOKUP($A68,FILTRO!$A62:$AY687,25,FALSE),0)","v":95},{"$f":"IFERROR(VLOOKUP($A68,FILTRO!$A62:$AY687,26,FALSE),0)","v":118},{"$f":"IFERROR(VLOOKUP($A68,FILTRO!$A62:$AY687,27,FALSE),0)","v":112},{"$f":"IFERROR(VLOOKUP($A68,FILTRO!$A62:$AY687,28,FALSE),0)","v":124},{"$f":"IFERROR(VLOOKUP($A68,FILTRO!$A62:$AY687,29,FALSE),0)","v":85},{"$f":"IFERROR(VLOOKUP($A68,FILTRO!$A62:$AY687,30,FALSE),0)","v":67},{"$f":"IFERROR(VLOOKUP($A68,FILTRO!$A62:$AY687,31,FALSE),0)","v":146},{"$f":"IFERROR(VLOOKUP($A68,FILTRO!$A62:$AY687,32,FALSE),0)","v":89},{"$f":"IFERROR(VLOOKUP($A68,FILTRO!$A62:$AY687,33,FALSE),0)","v":0},{"$f":"IFERROR(VLOOKUP($A68,FILTRO!$A62:$AY687,34,FALSE),0)","v":0},{"$f":"IFERROR(VLOOKUP($A68,FILTRO!$A62:$AY687,35,FALSE),0)","v":0},{"$f":"IFERROR(VLOOKUP($A68,FILTRO!$A62:$AY687,36,FALSE),0)","v":0}]
["P4200800","CON AMPUTACIÓN POR PIE DIABÉTICO",null,{"$f":"IFERROR(VLOOKUP($A69,FILTRO!$A63:$AY688,2,FALSE),0)","v":599},{"$f":"IFERROR(VLOOKUP($A69,FILTRO!$A63:$AY688,3,FALSE),0)","v":360},{"$f":"IFERROR(VLOOKUP($A69,FILTRO!$A63:$AY688,4,FALSE),0)","v":239},{"$f":"IFERROR(VLOOKUP($A69,FILTRO!$A63:$AY688,5,FALSE),0)","v":0},{"$f":"IFERROR(VLOOKUP($A69,FILTRO!$A63:$AY688,6,FALSE),0)","v":0},{"$f":"IFERROR(VLOOKUP($A69,FILTRO!$A63:$AY688,7,FALSE),0)","v":0},{"$f":"IFERROR(VLOOKUP($A69,FILTRO!$A63:$AY688,8,FALSE),0)","v":0},{"$f":"IFERROR(VLOOKUP($A69,FILTRO!$A63:$AY688,9,FALSE),0)","v":0},{"$f":"IFERROR(VLOOKUP($A69,FILTRO!$A63:$AY688,10,FALSE),0)","v":2},{"$f":"IFERROR(VLOOKUP($A69,FILTRO!$A63:$AY688,11,FALSE),0)","v":3},{"$f":"IFERROR(VLOOKUP($A69,FILTRO!$A63:$AY688,12,FALSE),0)","v":5},{"$f":"IFERROR(VLOOKUP($A69,FILTRO!$A63:$AY688,13,FALSE),0)","v":5},{"$f":"IFERROR(VLOOKUP($A69,FILTRO!$A63:$AY688,14,FALSE),0)","v":5},{"$f":"IFERROR(VLOOKUP($A69,FILTRO!$A63:$AY688,15,FALSE),0)","v":8},{"$f":"IFERROR(VLOOKUP($A69,FILTRO!$A63:$AY688,16,FALSE),0)","v":11},{"$f":"IFERROR(VLOOKUP($A69,FILTRO!$A63:$AY688,17,FALSE),0)","v":20},{"$f":"IFERROR(VLOOKUP($A69,FILTRO!$A63:$AY688,18,FALSE),0)","v":14},{"$f":"IFERROR(VLOOKUP($A69,FILTRO!$A63:$AY688,19,FALSE),0)","v":35},{"$f":"IFERROR(VLOOKUP($A69,FILTRO!$A63:$AY688,20,FALSE),0)","v":25},{"$f":"IFERROR(VLOOKUP($A69,FILTRO!$A63:$AY688,21,FALSE),0)","v":52},{"$f":"IFERROR(VLOOKUP($A69,FILTRO!$A63:$AY688,22,FALSE),0)","v":33},{"$f":"IFERROR(VLOOKUP($A69,FILTRO!$A63:$AY688,23,FALSE),0)","v":54},{"$f":"IFERROR(VLOOKUP($A69,FILTRO!$A63:$AY688,24,FALSE),0)","v":48},{"$f":"IFERROR(VLOOKUP($A69,FILTRO!$A63:$AY688,25,FALSE),0)","v":67},{"$f":"IFERROR(VLOOKUP($A69,FILTRO!$A63:$AY688,26,FALSE),0)","v":33},{"$f":"IFERROR(VLOOKUP($A69,FILTRO!$A63:$AY688,27,FALSE),0)","v":58},{"$f":"IFERROR(VLOOKUP($A69,FILTRO!$A63:$AY688,28,FALSE),0)","v":21},{"$f":"IFERROR(VLOOKUP($A69,FILTRO!$A63:$AY688,29,FALSE),0)","v":31},{"$f":"IFERROR(VLOOKUP($A69,FILTRO!$A63:$AY688,30,FALSE),0)","v":20},{"$f":"IFERROR(VLOOKUP($A69,FILTRO!$A63:$AY688,31,FALSE),0)","v":27},{"$f":"IFERROR(VLOOKUP($A69,FILTRO!$A63:$AY688,32,FALSE),0)","v":22},{"$f":"IFERROR(VLOOKUP($A69,FILTRO!$A63:$AY688,33,FALSE),0)","v":2},{"$f":"IFERROR(VLOOKUP($A69,FILTRO!$A63:$AY688,34,FALSE),0)","v":0},{"$f":"IFERROR(VLOOKUP($A69,FILTRO!$A63:$AY688,35,FALSE),0)","v":0},{"$f":"IFERROR(VLOOKUP($A69,FILTRO!$A63:$AY688,36,FALSE),0)","v":0},"",{"$nulls":17},{"$f":"IF($E69>=$AI69,\"\",CONCATENATE(\"* Pueblos Originarios-Hombres no debe ser mayor al Total de personas \",B69,\".\"))","v":""},{"$f":"IF($F69>=$AJ69,\"\",CONCATENATE(\"* Pueblos Originarios-Mujeres no debe ser mayor al Total de personas \",B69,\".\"))","v":""},{"$f":"IF($E69>=$AK69,\"\",CONCATENATE(\"* Población Migrante-Hombres no debe ser mayor al Total de personas \",B69,\".\"))","v":""},{"$f":"IF($F69>=$AL69,\"\",CONCATENATE(\"* Población Migrante - Mujeres no debe ser mayor al Total de personas \",B69,\".\"))","v":""},null,null,"","",{"$nulls":28},0,0,0,0,{"$nulls":4},{"$f":"IF(AND(E72<>0,AI72=\"\"),1,IF(AND(F72<>0,AJ72=\"\"),1,0))","v":0},{"$f":"IF(AND(E72<>0,AK72=\"\"),1,IF(AND(F72<>0,AL72=\"\"),1,0))","v":0}]
["P4200900","CON DIAGNÓSTICO ASOCIADO DE HIPERTENSIÓN ARTERIAL",null,{"$f":"IFERROR(VLOOKUP($A70,FILTRO!$A64:$AY689,2,FALSE),0)","v":29741},{"$f":"IFERROR(VLOOKUP($A70,FILTRO!$A64:$AY689,3,FALSE),0)","v":11078},{"$f":"IFERROR(VLOOKUP($A70,FILTRO!$A64:$AY689,4,FALSE),0)","v":18663},{"$f":"IFERROR(VLOOKUP($A70,FILTRO!$A64:$AY689,5,FALSE),0)","v":0},{"$f":"IFERROR(VLOOKUP($A70,FILTRO!$A64:$AY689,6,FALSE),0)","v":0},{"$f":"IFERROR(VLOOKUP($A70,FILTRO!$A64:$AY689,7,FALSE),0)","v":8},{"$f":"IFERROR(VLOOKUP($A70,FILTRO!$A64:$AY689,8,FALSE),0)","v":6},{"$f":"IFERROR(VLOOKUP($A70,FILTRO!$A64:$AY689,9,FALSE),0)","v":8},{"$f":"IFERROR(VLOOKUP($A70,FILTRO!$A64:$AY689,10,FALSE),0)","v":30},{"$f":"IFERROR(VLOOKUP($A70,FILTRO!$A64:$AY689,11,FALSE),0)","v":39},{"$f":"IFERROR(VLOOKUP($A70,FILTRO!$A64:$AY689,12,FALSE),0)","v":70},{"$f":"IFERROR(VLOOKUP($A70,FILTRO!$A64:$AY689,13,FALSE),0)","v":88},{"$f":"IFERROR(VLOOKUP($A70,FILTRO!$A64:$AY689,14,FALSE),0)","v":157},{"$f":"IFERROR(VLOOKUP($A70,FILTRO!$A64:$AY689,15,FALSE),0)","v":144},{"$f":"IFERROR(VLOOKUP($A70,FILTRO!$A64:$AY689,16,FALSE),0)","v":337},{"$f":"IFERROR(VLOOKUP($A70,FILTRO!$A64:$AY689,17,FALSE),0)","v":344},{"$f":"IFERROR(VLOOKUP($A70,FILTRO!$A64:$AY689,18,FALSE),0)","v":620},{"$f":"IFERROR(VLOOKUP($A70,FILTRO!$A64:$AY689,19,FALSE),0)","v":587},{"$f":"IFERROR(VLOOKUP($A70,FILTRO!$A64:$AY689,20,FALSE),0)","v":1228},{"$f":"IFERROR(VLOOKUP($A70,FILTRO!$A64:$AY689,21,FALSE),0)","v":1194},{"$f":"IFERROR(VLOOKUP($A70,FILTRO!$A64:$AY689,22,FALSE),0)","v":2281},{"$f":"IFERROR(VLOOKUP($A70,FILTRO!$A64:$AY689,23,FALSE),0)","v":1539},{"$f":"IFERROR(VLOOKUP($A70,FILTRO!$A64:$AY689,24,FALSE),0)","v":2670},{"$f":"IFERROR(VLOOKUP($A70,FILTRO!$A64:$AY689,25,FALSE),0)","v":1956},{"$f":"IFERROR(VLOOKUP($A70,FILTRO!$A64:$AY689,26,FALSE),0)","v":2985},{"$f":"IFERROR(VLOOKUP($A70,FILTRO!$A64:$AY689,27,FALSE),0)","v":1896},{"$f":"IFERROR(VLOOKUP($A70,FILTRO!$A64:$AY689,28,FALSE),0)","v":2865},{"$f":"IFERROR(VLOOKUP($A70,FILTRO!$A64:$AY689,29,FALSE),0)","v":1551},{"$f":"IFERROR(VLOOKUP($A70,FILTRO!$A64:$AY689,30,FALSE),0)","v":2350},{"$f":"IFERROR(VLOOKUP($A70,FILTRO!$A64:$AY689,31,FALSE),0)","v":1724},{"$f":"IFERROR(VLOOKUP($A70,FILTRO!$A64:$AY689,32,FALSE),0)","v":3064},{"$f":"IFERROR(VLOOKUP($A70,FILTRO!$A64:$AY689,33,FALSE),0)","v":57},{"$f":"IFERROR(VLOOKUP($A70,FILTRO!$A64:$AY689,34,FALSE),0)","v":103},{"$f":"IFERROR(VLOOKUP($A70,FILTRO!$A64:$AY689,35,FALSE),0)","v":31},{"$f":"IFERROR(VLOOKUP($A70,FILTRO!$A64:$AY689,36,FALSE),0)","v":65},"",{"$nulls":17},{"$f":"IF($E70>=$AI70,\"\",CONCATENATE(\"* Pueblos Originarios-Hombres no debe ser mayor al Total de personas \",B70,\".\"))","v":""},{"$f":"IF($F70>=$AJ70,\"\",CONCATENATE(\"* Pueblos Originarios-Mujeres no debe ser mayor al Total de personas \",B70,\".\"))","v":""},{"$f":"IF($E70>=$AK70,\"\",CONCATENATE(\"* Población Migrante-Hombres no debe ser mayor al Total de personas \",B70,\".\"))","v":""},{"$f":"IF($F70>=$AL70,\"\",CONCATENATE(\"* Población Migrante - Mujeres no debe ser mayor al Total de personas \",B70,\".\"))","v":""},null,null,"","",{"$nulls":28},0,0,0,0,{"$nulls":4},{"$f":"IF(AND(E73<>0,AI73=\"\"),1,IF(AND(F73<>0,AJ73=\"\"),1,0))","v":0},{"$f":"IF(AND(E73<>0,AK73=\"\"),1,IF(AND(F73<>0,AL73=\"\"),1,0))","v":0}]
["P4301070","CON DIAGNÓSTICO DE ENFERMEDAD RENAL CRÓNICA",null,{"$f":"IFERROR(VLOOKUP($A71,FILTRO!$A65:$AY690,2,FALSE),0)","v":9347},{"$f":"IFERROR(VLOOKUP($A71,FILTRO!$A65:$AY690,3,FALSE),0)","v":3480},{"$f":"IFERROR(VLOOKUP($A71,FILTRO!$A65:$AY690,4,FALSE),0)","v":5867},{"$f":"IFERROR(VLOOKUP($A71,FILTRO!$A65:$AY690,5,FALSE),0)","v":1},{"$f":"IFERROR(VLOOKUP($A71,FILTRO!$A65:$AY690,6,FALSE),0)","v":0},{"$f":"IFERROR(VLOOKUP($A71,FILTRO!$A65:$AY690,7,FALSE),0)","v":1},{"$f":"IFERROR(VLOOKUP($A71,FILTRO!$A65:$AY690,8,FALSE),0)","v":4},{"$f":"IFERROR(VLOOKUP($A71,FILTRO!$A65:$AY690,9,FALSE),0)","v":4},{"$f":"IFERROR(VLOOKUP($A71,FILTRO!$A65:$AY690,10,FALSE),0)","v":17},{"$f":"IFERROR(VLOOKUP($A71,FILTRO!$A65:$AY690,11,FALSE),0)","v":10},{"$f":"IFERROR(VLOOKUP($A71,FILTRO!$A65:$AY690,12,FALSE),0)","v":26},{"$f":"IFERROR(VLOOKUP($A71,FILTRO!$A65:$AY690,13,FALSE),0)","v":28},{"$f":"IFERROR(VLOOKUP($A71,FILTRO!$A65:$AY690,14,FALSE),0)","v":56},{"$f":"IFERROR(VLOOKUP($A71,FILTRO!$A65:$AY690,15,FALSE),0)","v":43},{"$f":"IFERROR(VLOOKUP($A71,FILTRO!$A65:$AY690,16,FALSE),0)","v":82},{"$f":"IFERROR(VLOOKUP($A71,FILTRO!$A65:$AY690,17,FALSE),0)","v":93},{"$f":"IFERROR(VLOOKUP($A71,FILTRO!$A65:$AY690,18,FALSE),0)","v":201},{"$f":"IFERROR(VLOOKUP($A71,FILTRO!$A65:$AY690,19,FALSE),0)","v":203},{"$f":"IFERROR(VLOOKUP($A71,FILTRO!$A65:$AY690,20,FALSE),0)","v":353},{"$f":"IFERROR(VLOOKUP($A71,FILTRO!$A65:$AY690,21,FALSE),0)","v":271},{"$f":"IFERROR(VLOOKUP($A71,FILTRO!$A65:$AY690,22,FALSE),0)","v":584},{"$f":"IFERROR(VLOOKUP($A71,FILTRO!$A65:$AY690,23,FALSE),0)","v":433},{"$f":"IFERROR(VLOOKUP($A71,FILTRO!$A65:$AY690,24,FALSE),0)","v":763},{"$f":"IFERROR(VLOOKUP($A71,FILTRO!$A65:$AY690,25,FALSE),0)","v":615},{"$f":"IFERROR(VLOOKUP($A71,FILTRO!$A65:$AY690,26,FALSE),0)","v":912},{"$f":"IFERROR(VLOOKUP($A71,FILTRO!$A65:$AY690,27,FALSE),0)","v":627},{"$f":"IFERROR(VLOOKUP($A71,FILTRO!$A65:$AY690,28,FALSE),0)","v":894},{"$f":"IFERROR(VLOOKUP($A71,FILTRO!$A65:$AY690,29,FALSE),0)","v":502},{"$f":"IFERROR(VLOOKUP($A71,FILTRO!$A65:$AY690,30,FALSE),0)","v":821},{"$f":"IFERROR(VLOOKUP($A71,FILTRO!$A65:$AY690,31,FALSE),0)","v":649},{"$f":"IFERROR(VLOOKUP($A71,FILTRO!$A65:$AY690,32,FALSE),0)","v":1154},{"$f":"IFERROR(VLOOKUP($A71,FILTRO!$A65:$AY690,33,FALSE),0)","v":10},{"$f":"IFERROR(VLOOKUP($A71,FILTRO!$A65:$AY690,34,FALSE),0)","v":19},{"$f":"IFERROR(VLOOKUP($A71,FILTRO!$A65:$AY690,35,FALSE),0)","v":11},{"$f":"IFERROR(VLOOKUP($A71,FILTRO!$A65:$AY690,36,FALSE),0)","v":22}]
["P4201100","ANTECEDENTE DE ATAQUE CEREBRO VASCULAR",null,{"$f":"IFERROR(VLOOKUP($A72,FILTRO!$A66:$AY691,2,FALSE),0)","v":1629},{"$f":"IFERROR(VLOOKUP($A72,FILTRO!$A66:$AY691,3,FALSE),0)","v":768},{"$f":"IFERROR(VLOOKUP($A72,FILTRO!$A66:$AY691,4,FALSE),0)","v":861},{"$f":"IFERROR(VLOOKUP($A72,FILTRO!$A66:$AY691,5,FALSE),0)","v":0},{"$f":"IFERROR(VLOOKUP($A72,FILTRO!$A66:$AY691,6,FALSE),0)","v":0},{"$f":"IFERROR(VLOOKUP($A72,FILTRO!$A66:$AY691,7,FALSE),0)","v":0},{"$f":"IFERROR(VLOOKUP($A72,FILTRO!$A66:$AY691,8,FALSE),0)","v":0},{"$f":"IFERROR(VLOOKUP($A72,FILTRO!$A66:$AY691,9,FALSE),0)","v":1},{"$f":"IFERROR(VLOOKUP($A72,FILTRO!$A66:$AY691,10,FALSE),0)","v":0},{"$f":"IFERROR(VLOOKUP($A72,FILTRO!$A66:$AY691,11,FALSE),0)","v":0},{"$f":"IFERROR(VLOOKUP($A72,FILTRO!$A66:$AY691,12,FALSE),0)","v":0},{"$f":"IFERROR(VLOOKUP($A72,FILTRO!$A66:$AY691,13,FALSE),0)","v":3},{"$f":"IFERROR(VLOOKUP($A72,FILTRO!$A66:$AY691,14,FALSE),0)","v":1},{"$f":"IFERROR(VLOOKUP($A72,FILTRO!$A66:$AY691,15,FALSE),0)","v":2},{"$f":"IFERROR(VLOOKUP($A72,FILTRO!$A66:$AY691,16,FALSE),0)","v":9},{"$f":"IFERROR(VLOOKUP($A72,FILTRO!$A66:$AY691,17,FALSE),0)","v":17},{"$f":"IFERROR(VLOOKUP($A72,FILTRO!$A66:$AY691,18,FALSE),0)","v":21},{"$f":"IFERROR(VLOOKUP($A72,FILTRO!$A66:$AY691,19,FALSE),0)","v":32},{"$f":"IFERROR(VLOOKUP($A72,FILTRO!$A66:$AY691,20,FALSE),0)","v":37},{"$f":"IFERROR(VLOOKUP($A72,FILTRO!$A66:$AY691,21,FALSE),0)","v":52},{"$f":"IFERROR(VLOOKUP($A72,FILTRO!$A66:$AY691,22,FALSE),0)","v":52},{"$f":"IFERROR(VLOOKUP($A72,FILTRO!$A66:$AY691,23,FALSE),0)","v":98},{"$f":"IFERROR(VLOOKUP($A72,FILTRO!$A66:$AY691,24,FALSE),0)","v":108},{"$f":"IFERROR(VLOOKUP($A72,FILTRO!$A66:$AY691,25,FALSE),0)","v":149},{"$f":"IFERROR(VLOOKUP($A72,FILTRO!$A66:$AY691,26,FALSE),0)","v":121},{"$f":"IFERROR(VLOOKUP($A72,FILTRO!$A66:$AY691,27,FALSE),0)","v":142},{"$f":"IFERROR(VLOOKUP($A72,FILTRO!$A66:$AY691,28,FALSE),0)","v":163},{"$f":"IFERROR(VLOOKUP($A72,FILTRO!$A66:$AY691,29,FALSE),0)","v":130},{"$f":"IFERROR(VLOOKUP($A72,FILTRO!$A66:$AY691,30,FALSE),0)","v":135},{"$f":"IFERROR(VLOOKUP($A72,FILTRO!$A66:$AY691,31,FALSE),0)","v":142},{"$f":"IFERROR(VLOOKUP($A72,FILTRO!$A66:$AY691,32,FALSE),0)","v":214},{"$f":"IFERROR(VLOOKUP($A72,FILTRO!$A66:$AY691,33,FALSE),0)","v":6},{"$f":"IFERROR(VLOOKUP($A72,FILTRO!$A66:$AY691,34,FALSE),0)","v":10},{"$f":"IFERROR(VLOOKUP($A72,FILTRO!$A66:$AY691,35,FALSE),0)","v":5},{"$f":"IFERROR(VLOOKUP($A72,FILTRO!$A66:$AY691,36,FALSE),0)","v":5},"",{"$nulls":17},{"$f":"IF($E72>=$AI72,\"\",CONCATENATE(\"* Pueblos Originarios-Hombres no debe ser mayor al Total de personas \",B72,\".\"))","v":""},{"$f":"IF($F72>=$AJ72,\"\",CONCATENATE(\"* Pueblos Originarios-Mujeres no debe ser mayor al Total de personas \",B72,\".\"))","v":""},{"$f":"IF($E72>=$AK72,\"\",CONCATENATE(\"* Población Migrante-Hombres no debe ser mayor al Total de personas \",B72,\".\"))","v":""},{"$f":"IF($F72>=$AL72,\"\",CONCATENATE(\"* Población Migrante - Mujeres no debe ser mayor al Total de personas \",B72,\".\"))","v":""},null,null,"","",{"$nulls":28},0,0,0,0,{"$nulls":4},{"$f":"IF(AND(E75<>0,AI75=\"\"),1,IF(AND(F75<>0,AJ75=\"\"),1,0))","v":0},{"$f":"IF(AND(E75<>0,AK75=\"\"),1,IF(AND(F75<>0,AL75=\"\"),1,0))","v":0}]
["P4201200","ANTECEDENTES DE INFARTO AGUDO AL MIOCARDIO",null,{"$f":"IFERROR(VLOOKUP($A73,FILTRO!$A67:$AY692,2,FALSE),0)","v":1762},{"$f":"IFERROR(VLOOKUP($A73,FILTRO!$A67:$AY692,3,FALSE),0)","v":935},{"$f":"IFERROR(VLOOKUP($A73,FILTRO!$A67:$AY692,4,FALSE),0)","v":827},{"$f":"IFERROR(VLOOKUP($A73,FILTRO!$A67:$AY692,5,FALSE),0)","v":0},{"$f":"IFERROR(VLOOKUP($A73,FILTRO!$A67:$AY692,6,FALSE),0)","v":0},{"$f":"IFERROR(VLOOKUP($A73,FILTRO!$A67:$AY692,7,FALSE),0)","v":0},{"$f":"IFERROR(VLOOKUP($A73,FILTRO!$A67:$AY692,8,FALSE),0)","v":0},{"$f":"IFERROR(VLOOKUP($A73,FILTRO!$A67:$AY692,9,FALSE),0)","v":0},{"$f":"IFERROR(VLOOKUP($A73,FILTRO!$A67:$AY692,10,FALSE),0)","v":0},{"$f":"IFERROR(VLOOKUP($A73,FILTRO!$A67:$AY692,11,FALSE),0)","v":2},{"$f":"IFERROR(VLOOKUP($A73,FILTRO!$A67:$AY692,12,FALSE),0)","v":1},{"$f":"IFERROR(VLOOKUP($A73,FILTRO!$A67:$AY692,13,FALSE),0)","v":3},{"$f":"IFERROR(VLOOKUP($A73,FILTRO!$A67:$AY692,14,FALSE),0)","v":4},{"$f":"IFERROR(VLOOKUP($A73,FILTRO!$A67:$AY692,15,FALSE),0)","v":3},{"$f":"IFERROR(VLOOKUP($A73,FILTRO!$A67:$AY692,16,FALSE),0)","v":5},{"$f":"IFERROR(VLOOKUP($A73,FILTRO!$A67:$AY692,17,FALSE),0)","v":16},{"$f":"IFERROR(VLOOKUP($A73,FILTRO!$A67:$AY692,18,FALSE),0)","v":14},{"$f":"IFERROR(VLOOKUP($A73,FILTRO!$A67:$AY692,19,FALSE),0)","v":39},{"$f":"IFERROR(VLOOKUP($A73,FILTRO!$A67:$AY692,20,FALSE),0)","v":48},{"$f":"IFERROR(VLOOKUP($A73,FILTRO!$A67:$AY692,21,FALSE),0)","v":58},{"$f":"IFERROR(VLOOKUP($A73,FILTRO!$A67:$AY692,22,FALSE),0)","v":74},{"$f":"IFERROR(VLOOKUP($A73,FILTRO!$A67:$AY692,23,FALSE),0)","v":119},{"$f":"IFERROR(VLOOKUP($A73,FILTRO!$A67:$AY692,24,FALSE),0)","v":107},{"$f":"IFERROR(VLOOKUP($A73,FILTRO!$A67:$AY692,25,FALSE),0)","v":181},{"$f":"IFERROR(VLOOKUP($A73,FILTRO!$A67:$AY692,26,FALSE),0)","v":114},{"$f":"IFERROR(VLOOKUP($A73,FILTRO!$A67:$AY692,27,FALSE),0)","v":185},{"$f":"IFERROR(VLOOKUP($A73,FILTRO!$A67:$AY692,28,FALSE),0)","v":131},{"$f":"IFERROR(VLOOKUP($A73,FILTRO!$A67:$AY692,29,FALSE),0)","v":179},{"$f":"IFERROR(VLOOKUP($A73,FILTRO!$A67:$AY692,30,FALSE),0)","v":144},{"$f":"IFERROR(VLOOKUP($A73,FILTRO!$A67:$AY692,31,FALSE),0)","v":150},{"$f":"IFERROR(VLOOKUP($A73,FILTRO!$A67:$AY692,32,FALSE),0)","v":185},{"$f":"IFERROR(VLOOKUP($A73,FILTRO!$A67:$AY692,33,FALSE),0)","v":4},{"$f":"IFERROR(VLOOKUP($A73,FILTRO!$A67:$AY692,34,FALSE),0)","v":10},{"$f":"IFERROR(VLOOKUP($A73,FILTRO!$A67:$AY692,35,FALSE),0)","v":4},{"$f":"IFERROR(VLOOKUP($A73,FILTRO!$A67:$AY692,36,FALSE),0)","v":4},"",{"$nulls":17},{"$f":"IF($E73>=$AI73,\"\",CONCATENATE(\"* Pueblos Originarios-Hombres no debe ser mayor al Total de personas \",B73,\".\"))","v":""},{"$f":"IF($F73>=$AJ73,\"\",CONCATENATE(\"* Pueblos Originarios-Mujeres no debe ser mayor al Total de personas \",B73,\".\"))","v":""},{"$f":"IF($E73>=$AK73,\"\",CONCATENATE(\"* Población Migrante-Hombres no debe ser mayor al Total de personas \",B73,\".\"))","v":""},{"$f":"IF($F73>=$AL73,\"\",CONCATENATE(\"* Población Migrante - Mujeres no debe ser mayor al Total de personas \",B73,\".\"))","v":""},null,null,{"$f":"IF(AND(E73<>0,AI73=\"\"),\"* No olvide escribir en la celda de 'Pueblos Originarios' (Digite CERO si no tiene). \",IF(AND(F73<>0,AJ73=\"\"),\"* No olvide escribir en la celda de 'Pueblos Originarios' (Digite CERO si no tiene). \",\"\"))","v":""},{"$f":"IF(AND(E73<>0,AK73=\"\"),\"* No olvide escribir en la celda de 'Población Migrantes' (Digite CERO si no tiene). \",IF(AND(F73<>0,AL73=\"\"),\"* No olvide escribir en la celda de 'Población Migrantes' (Digite CERO si no tiene). \",\"\"))","v":""},{"$nulls":28},0,0,0,0,{"$nulls":4},{"$f":"IF(AND(E76<>0,AI76=\"\"),1,IF(AND(F76<>0,AJ76=\"\"),1,0))","v":0},{"$f":"IF(AND(E76<>0,AK76=\"\"),1,IF(AND(F76<>0,AL76=\"\"),1,0))","v":0}]
["P4302102","RETINOPATÍA DIABETICA",null,{"$f":"IFERROR(VLOOKUP($A74,FILTRO!$A68:$AY693,2,FALSE),0)","v":1550},{"$f":"IFERROR(VLOOKUP($A74,FILTRO!$A68:$AY693,3,FALSE),0)","v":675},{"$f":"IFERROR(VLOOKUP($A74,FILTRO!$A68:$AY693,4,FALSE),0)","v":875},{"$f":"IFERROR(VLOOKUP($A74,FILTRO!$A68:$AY693,5,FALSE),0)","v":0},{"$f":"IFERROR(VLOOKUP($A74,FILTRO!$A68:$AY693,6,FALSE),0)","v":0},{"$f":"IFERROR(VLOOKUP($A74,FILTRO!$A68:$AY693,7,FALSE),0)","v":1},{"$f":"IFERROR(VLOOKUP($A74,FILTRO!$A68:$AY693,8,FALSE),0)","v":2},{"$f":"IFERROR(VLOOKUP($A74,FILTRO!$A68:$AY693,9,FALSE),0)","v":1},{"$f":"IFERROR(VLOOKUP($A74,FILTRO!$A68:$AY693,10,FALSE),0)","v":6},{"$f":"IFERROR(VLOOKUP($A74,FILTRO!$A68:$AY693,11,FALSE),0)","v":4},{"$f":"IFERROR(VLOOKUP($A74,FILTRO!$A68:$AY693,12,FALSE),0)","v":9},{"$f":"IFERROR(VLOOKUP($A74,FILTRO!$A68:$AY693,13,FALSE),0)","v":9},{"$f":"IFERROR(VLOOKUP($A74,FILTRO!$A68:$AY693,14,FALSE),0)","v":11},{"$f":"IFERROR(VLOOKUP($A74,FILTRO!$A68:$AY693,15,FALSE),0)","v":13},{"$f":"IFERROR(VLOOKUP($A74,FILTRO!$A68:$AY693,16,FALSE),0)","v":30},{"$f":"IFERROR(VLOOKUP($A74,FILTRO!$A68:$AY693,17,FALSE),0)","v":29},{"$f":"IFERROR(VLOOKUP($A74,FILTRO!$A68:$AY693,18,FALSE),0)","v":49},{"$f":"IFERROR(VLOOKUP($A74,FILTRO!$A68:$AY693,19,FALSE),0)","v":45},{"$f":"IFERROR(VLOOKUP($A74,FILTRO!$A68:$AY693,20,FALSE),0)","v":67},{"$f":"IFERROR(VLOOKUP($A74,FILTRO!$A68:$AY693,21,FALSE),0)","v":99},{"$f":"IFERROR(VLOOKUP($A74,FILTRO!$A68:$AY693,22,FALSE),0)","v":126},{"$f":"IFERROR(VLOOKUP($A74,FILTRO!$A68:$AY693,23,FALSE),0)","v":116},{"$f":"IFERROR(VLOOKUP($A74,FILTRO!$A68:$AY693,24,FALSE),0)","v":124},{"$f":"IFERROR(VLOOKUP($A74,FILTRO!$A68:$AY693,25,FALSE),0)","v":123},{"$f":"IFERROR(VLOOKUP($A74,FILTRO!$A68:$AY693,26,FALSE),0)","v":141},{"$f":"IFERROR(VLOOKUP($A74,FILTRO!$A68:$AY693,27,FALSE),0)","v":89},{"$f":"IFERROR(VLOOKUP($A74,FILTRO!$A68:$AY693,28,FALSE),0)","v":136},{"$f":"IFERROR(VLOOKUP($A74,FILTRO!$A68:$AY693,29,FALSE),0)","v":80},{"$f":"IFERROR(VLOOKUP($A74,FILTRO!$A68:$AY693,30,FALSE),0)","v":98},{"$f":"IFERROR(VLOOKUP($A74,FILTRO!$A68:$AY693,31,FALSE),0)","v":66},{"$f":"IFERROR(VLOOKUP($A74,FILTRO!$A68:$AY693,32,FALSE),0)","v":76},{"$f":"IFERROR(VLOOKUP($A74,FILTRO!$A68:$AY693,33,FALSE),0)","v":0},{"$f":"IFERROR(VLOOKUP($A74,FILTRO!$A68:$AY693,34,FALSE),0)","v":3},{"$f":"IFERROR(VLOOKUP($A74,FILTRO!$A68:$AY693,35,FALSE),0)","v":2},{"$f":"IFERROR(VLOOKUP($A74,FILTRO!$A68:$AY693,36,FALSE),0)","v":3}]
[null,"PERSONAS CON HIPERTENSION EN PSCV"]
["P4190812","CON RAZON ALBÚMINA CREATININA (RAC),VIGENTE",null,{"$f":"IFERROR(VLOOKUP($A76,FILTRO!$A70:$AY695,2,FALSE),0)","v":38377},{"$f":"IFERROR(VLOOKUP($A76,FILTRO!$A70:$AY695,3,FALSE),0)","v":13847},{"$f":"IFERROR(VLOOKUP($A76,FILTRO!$A70:$AY695,4,FALSE),0)","v":24530},{"$f":"IFERROR(VLOOKUP($A76,FILTRO!$A70:$AY695,5,FALSE),0)","v":6},{"$f":"IFERROR(VLOOKUP($A76,FILTRO!$A70:$AY695,6,FALSE),0)","v":5},{"$f":"IFERROR(VLOOKUP($A76,FILTRO!$A70:$AY695,7,FALSE),0)","v":16},{"$f":"IFERROR(VLOOKUP($A76,FILTRO!$A70:$AY695,8,FALSE),0)","v":24},{"$f":"IFERROR(VLOOKUP($A76,FILTRO!$A70:$AY695,9,FALSE),0)","v":41},{"$f":"IFERROR(VLOOKUP($A76,FILTRO!$A70:$AY695,10,FALSE),0)","v":71},{"$f":"IFERROR(VLOOKUP($A76,FILTRO!$A70:$AY695,11,FALSE),0)","v":80},{"$f":"IFERROR(VLOOKUP($A76,FILTRO!$A70:$AY695,12,FALSE),0)","v":150},{"$f":"IFERROR(VLOOKUP($A76,FILTRO!$A70:$AY695,13,FALSE),0)","v":136},{"$f":"IFERROR(VLOOKUP($A76,FILTRO!$A70:$AY695,14,FALSE),0)","v":291},{"$f":"IFERROR(VLOOKUP($A76,FILTRO!$A70:$AY695,15,FALSE),0)","v":262},{"$f":"IFERROR(VLOOKUP($A76,FILTRO!$A70:$AY695,16,FALSE),0)","v":593},{"$f":"IFERROR(VLOOKUP($A76,FILTRO!$A70:$AY695,17,FALSE),0)","v":422},{"$f":"IFERROR(VLOOKUP($A76,FILTRO!$A70:$AY695,18,FALSE),0)","v":1075},{"$f":"IFERROR(VLOOKUP($A76,FILTRO!$A70:$AY695,19,FALSE),0)","v":784},{"$f":"IFERROR(VLOOKUP($A76,FILTRO!$A70:$AY695,20,FALSE),0)","v":1794},{"$f":"IFERROR(VLOOKUP($A76,FILTRO!$A70:$AY695,21,FALSE),0)","v":1262},{"$f":"IFERROR(VLOOKUP($A76,FILTRO!$A70:$AY695,22,FALSE),0)","v":2750},{"$f":"IFERROR(VLOOKUP($A76,FILTRO!$A70:$AY695,23,FALSE),0)","v":1754},{"$f":"IFERROR(VLOOKUP($A76,FILTRO!$A70:$AY695,24,FALSE),0)","v":3280},{"$f":"IFERROR(VLOOKUP($A76,FILTRO!$A70:$AY695,25,FALSE),0)","v":2153},{"$f":"IFERROR(VLOOKUP($A76,FILTRO!$A70:$AY695,26,FALSE),0)","v":3610},{"$f":"IFERROR(VLOOKUP($A76,FILTRO!$A70:$AY695,27,FALSE),0)","v":2316},{"$f":"IFERROR(VLOOKUP($A76,FILTRO!$A70:$AY695,28,FALSE),0)","v":3543},{"$f":"IFERROR(VLOOKUP($A76,FILTRO!$A70:$AY695,29,FALSE),0)","v":2018},{"$f":"IFERROR(VLOOKUP($A76,FILTRO!$A70:$AY695,30,FALSE),0)","v":3044},{"$f":"IFERROR(VLOOKUP($A76,FILTRO!$A70:$AY695,31,FALSE),0)","v":2597},{"$f":"IFERROR(VLOOKUP($A76,FILTRO!$A70:$AY695,32,FALSE),0)","v":4300},{"$f":"IFERROR(VLOOKUP($A76,FILTRO!$A70:$AY695,33,FALSE),0)","v":52},{"$f":"IFERROR(VLOOKUP($A76,FILTRO!$A70:$AY695,34,FALSE),0)","v":106},{"$f":"IFERROR(VLOOKUP($A76,FILTRO!$A70:$AY695,35,FALSE),0)","v":61},{"$f":"IFERROR(VLOOKUP($A76,FILTRO!$A70:$AY695,36,FALSE),0)","v":138},"",{"$nulls":17},{"$f":"IF($E76>=$AI76,\"\",CONCATENATE(\"* Pueblos Originarios-Hombres no debe ser mayor al Total de personas \",B76,\".\"))","v":""},{"$f":"IF($F76>=$AJ76,\"\",CONCATENATE(\"* Pueblos Originarios-Mujeres no debe ser mayor al Total de personas \",B76,\".\"))","v":""},{"$f":"IF($E76>=$AK76,\"\",CONCATENATE(\"* Población Migrante-Hombres no debe ser mayor al Total de personas \",B76,\".\"))","v":""},{"$f":"IF($F76>=$AL76,\"\",CONCATENATE(\"* Población Migrante - Mujeres no debe ser mayor al Total de personas \",B76,\".\"))","v":""},null,null,{"$f":"IF(AND(E76<>0,AI76=\"\"),\"* No olvide escribir en la celda de 'Pueblos Originarios' (Digite CERO si no tiene). \",IF(AND(F76<>0,AJ76=\"\"),\"* No olvide escribir en la celda de 'Pueblos Originarios' (Digite CERO si no tiene). \",\"\"))","v":""},{"$f":"IF(AND(E76<>0,AK76=\"\"),\"* No olvide escribir en la celda de 'Población Migrantes' (Digite CERO si no tiene). \",IF(AND(F76<>0,AL76=\"\"),\"* No olvide escribir en la celda de 'Población Migrantes' (Digite CERO si no tiene). \",\"\"))","v":""},{"$nulls":28},0,0,0,0,{"$nulls":4},{"$f":"IF(AND(E79<>0,AI79=\"\"),1,IF(AND(F79<>0,AJ79=\"\"),1,0))","v":0},{"$f":"IF(AND(E79<>0,AK79=\"\"),1,IF(AND(F79<>0,AL79=\"\"),1,0))","v":0}]
["P4301080","CON VELOCIDAD DE FILTRACIÓN GLOMERULAR ESTIMADA (VFGe) Y CON RAZON ALBÚMINA CREATININA  (RAC) VIGENTE",null,{"$f":"IFERROR(VLOOKUP($A77,FILTRO!$A71:$AY696,2,FALSE),0)","v":37136},{"$f":"IFERROR(VLOOKUP($A77,FILTRO!$A71:$AY696,3,FALSE),0)","v":13456},{"$f":"IFERROR(VLOOKUP($A77,FILTRO!$A71:$AY696,4,FALSE),0)","v":23680},{"$f":"IFERROR(VLOOKUP($A77,FILTRO!$A71:$AY696,5,FALSE),0)","v":4},{"$f":"IFERROR(VLOOKUP($A77,FILTRO!$A71:$AY696,6,FALSE),0)","v":5},{"$f":"IFERROR(VLOOKUP($A77,FILTRO!$A71:$AY696,7,FALSE),0)","v":16},{"$f":"IFERROR(VLOOKUP($A77,FILTRO!$A71:$AY696,8,FALSE),0)","v":21},{"$f":"IFERROR(VLOOKUP($A77,FILTRO!$A71:$AY696,9,FALSE),0)","v":37},{"$f":"IFERROR(VLOOKUP($A77,FILTRO!$A71:$AY696,10,FALSE),0)","v":67},{"$f":"IFERROR(VLOOKUP($A77,FILTRO!$A71:$AY696,11,FALSE),0)","v":75},{"$f":"IFERROR(VLOOKUP($A77,FILTRO!$A71:$AY696,12,FALSE),0)","v":139},{"$f":"IFERROR(VLOOKUP($A77,FILTRO!$A71:$AY696,13,FALSE),0)","v":132},{"$f":"IFERROR(VLOOKUP($A77,FILTRO!$A71:$AY696,14,FALSE),0)","v":283},{"$f":"IFERROR(VLOOKUP($A77,FILTRO!$A71:$AY696,15,FALSE),0)","v":261},{"$f":"IFERROR(VLOOKUP($A77,FILTRO!$A71:$AY696,16,FALSE),0)","v":585},{"$f":"IFERROR(VLOOKUP($A77,FILTRO!$A71:$AY696,17,FALSE),0)","v":409},{"$f":"IFERROR(VLOOKUP($A77,FILTRO!$A71:$AY696,18,FALSE),0)","v":1045},{"$f":"IFERROR(VLOOKUP($A77,FILTRO!$A71:$AY696,19,FALSE),0)","v":773},{"$f":"IFERROR(VLOOKUP($A77,FILTRO!$A71:$AY696,20,FALSE),0)","v":1761},{"$f":"IFERROR(VLOOKUP($A77,FILTRO!$A71:$AY696,21,FALSE),0)","v":1226},{"$f":"IFERROR(VLOOKUP($A77,FILTRO!$A71:$AY696,22,FALSE),0)","v":2713},{"$f":"IFERROR(VLOOKUP($A77,FILTRO!$A71:$AY696,23,FALSE),0)","v":1743},{"$f":"IFERROR(VLOOKUP($A77,FILTRO!$A71:$AY696,24,FALSE),0)","v":3155},{"$f":"IFERROR(VLOOKUP($A77,FILTRO!$A71:$AY696,25,FALSE),0)","v":2078},{"$f":"IFERROR(VLOOKUP($A77,FILTRO!$A71:$AY696,26,FALSE),0)","v":3424},{"$f":"IFERROR(VLOOKUP($A77,FILTRO!$A71:$AY696,27,FALSE),0)","v":2228},{"$f":"IFERROR(VLOOKUP($A77,FILTRO!$A71:$AY696,28,FALSE),0)","v":3489},{"$f":"IFERROR(VLOOKUP($A77,FILTRO!$A71:$AY696,29,FALSE),0)","v":1955},{"$f":"IFERROR(VLOOKUP($A77,FILTRO!$A71:$AY696,30,FALSE),0)","v":2953},{"$f":"IFERROR(VLOOKUP($A77,FILTRO!$A71:$AY696,31,FALSE),0)","v":2519},{"$f":"IFERROR(VLOOKUP($A77,FILTRO!$A71:$AY696,32,FALSE),0)","v":4040},{"$f":"IFERROR(VLOOKUP($A77,FILTRO!$A71:$AY696,33,FALSE),0)","v":53},{"$f":"IFERROR(VLOOKUP($A77,FILTRO!$A71:$AY696,34,FALSE),0)","v":114},{"$f":"IFERROR(VLOOKUP($A77,FILTRO!$A71:$AY696,35,FALSE),0)","v":62},{"$f":"IFERROR(VLOOKUP($A77,FILTRO!$A71:$AY696,36,FALSE),0)","v":137}]
["P4200400","CON PRESIÓN ARTERIAL igual o Mayor 160/100 mmHg",null,{"$f":"IFERROR(VLOOKUP($A78,FILTRO!$A72:$AY697,2,FALSE),0)","v":8763},{"$f":"IFERROR(VLOOKUP($A78,FILTRO!$A72:$AY697,3,FALSE),0)","v":3301},{"$f":"IFERROR(VLOOKUP($A78,FILTRO!$A72:$AY697,4,FALSE),0)","v":5462},{"$f":"IFERROR(VLOOKUP($A78,FILTRO!$A72:$AY697,5,FALSE),0)","v":1},{"$f":"IFERROR(VLOOKUP($A78,FILTRO!$A72:$AY697,6,FALSE),0)","v":1},{"$f":"IFERROR(VLOOKUP($A78,FILTRO!$A72:$AY697,7,FALSE),0)","v":2},{"$f":"IFERROR(VLOOKUP($A78,FILTRO!$A72:$AY697,8,FALSE),0)","v":5},{"$f":"IFERROR(VLOOKUP($A78,FILTRO!$A72:$AY697,9,FALSE),0)","v":8},{"$f":"IFERROR(VLOOKUP($A78,FILTRO!$A72:$AY697,10,FALSE),0)","v":19},{"$f":"IFERROR(VLOOKUP($A78,FILTRO!$A72:$AY697,11,FALSE),0)","v":23},{"$f":"IFERROR(VLOOKUP($A78,FILTRO!$A72:$AY697,12,FALSE),0)","v":36},{"$f":"IFERROR(VLOOKUP($A78,FILTRO!$A72:$AY697,13,FALSE),0)","v":35},{"$f":"IFERROR(VLOOKUP($A78,FILTRO!$A72:$AY697,14,FALSE),0)","v":79},{"$f":"IFERROR(VLOOKUP($A78,FILTRO!$A72:$AY697,15,FALSE),0)","v":61},{"$f":"IFERROR(VLOOKUP($A78,FILTRO!$A72:$AY697,16,FALSE),0)","v":151},{"$f":"IFERROR(VLOOKUP($A78,FILTRO!$A72:$AY697,17,FALSE),0)","v":133},{"$f":"IFERROR(VLOOKUP($A78,FILTRO!$A72:$AY697,18,FALSE),0)","v":238},{"$f":"IFERROR(VLOOKUP($A78,FILTRO!$A72:$AY697,19,FALSE),0)","v":209},{"$f":"IFERROR(VLOOKUP($A78,FILTRO!$A72:$AY697,20,FALSE),0)","v":412},{"$f":"IFERROR(VLOOKUP($A78,FILTRO!$A72:$AY697,21,FALSE),0)","v":353},{"$f":"IFERROR(VLOOKUP($A78,FILTRO!$A72:$AY697,22,FALSE),0)","v":585},{"$f":"IFERROR(VLOOKUP($A78,FILTRO!$A72:$AY697,23,FALSE),0)","v":493},{"$f":"IFERROR(VLOOKUP($A78,FILTRO!$A72:$AY697,24,FALSE),0)","v":723},{"$f":"IFERROR(VLOOKUP($A78,FILTRO!$A72:$AY697,25,FALSE),0)","v":549},{"$f":"IFERROR(VLOOKUP($A78,FILTRO!$A72:$AY697,26,FALSE),0)","v":772},{"$f":"IFERROR(VLOOKUP($A78,FILTRO!$A72:$AY697,27,FALSE),0)","v":539},{"$f":"IFERROR(VLOOKUP($A78,FILTRO!$A72:$AY697,28,FALSE),0)","v":795},{"$f":"IFERROR(VLOOKUP($A78,FILTRO!$A72:$AY697,29,FALSE),0)","v":417},{"$f":"IFERROR(VLOOKUP($A78,FILTRO!$A72:$AY697,30,FALSE),0)","v":631},{"$f":"IFERROR(VLOOKUP($A78,FILTRO!$A72:$AY697,31,FALSE),0)","v":478},{"$f":"IFERROR(VLOOKUP($A78,FILTRO!$A72:$AY697,32,FALSE),0)","v":1015},{"$f":"IFERROR(VLOOKUP($A78,FILTRO!$A72:$AY697,33,FALSE),0)","v":19},{"$f":"IFERROR(VLOOKUP($A78,FILTRO!$A72:$AY697,34,FALSE),0)","v":40},{"$f":"IFERROR(VLOOKUP($A78,FILTRO!$A72:$AY697,35,FALSE),0)","v":31},{"$f":"IFERROR(VLOOKUP($A78,FILTRO!$A72:$AY697,36,FALSE),0)","v":72},"",{"$nulls":17},{"$f":"IF($E78>=$AI78,\"\",CONCATENATE(\"* Pueblos Originarios-Hombres no debe ser mayor al Total de personas \",B78,\".\"))","v":""},{"$f":"IF($F78>=$AJ78,\"\",CONCATENATE(\"* Pueblos Originarios-Mujeres no debe ser mayor al Total de personas \",B78,\".\"))","v":""},{"$f":"IF($E78>=$AK78,\"\",CONCATENATE(\"* Población Migrante-Hombres no debe ser mayor al Total de personas \",B78,\".\"))","v":""},{"$f":"IF($F78>=$AL78,\"\",CONCATENATE(\"* Población Migrante - Mujeres no debe ser mayor al Total de personas \",B78,\".\"))","v":""},null,null,"","",{"$nulls":28},0,0,0,0,{"$nulls":4},{"$f":"IF(AND(E81<>0,AI81=\"\"),1,IF(AND(F81<>0,AJ81=\"\"),1,0))","v":0},{"$f":"IF(AND(E81<>0,AK81=\"\"),1,IF(AND(F81<>0,AL81=\"\"),1,0))","v":0}]
["P4301010","CON VELOCIDAD DE FILTRACION GLOMERULAR  ESTIMADA  (VFGe) VIGENTE",null,{"$f":"IFERROR(VLOOKUP($A79,FILTRO!$A73:$AY698,2,FALSE),0)","v":46535},{"$f":"IFERROR(VLOOKUP($A79,FILTRO!$A73:$AY698,3,FALSE),0)","v":16990},{"$f":"IFERROR(VLOOKUP($A79,FILTRO!$A73:$AY698,4,FALSE),0)","v":29545},{"$f":"IFERROR(VLOOKUP($A79,FILTRO!$A73:$AY698,5,FALSE),0)","v":6},{"$f":"IFERROR(VLOOKUP($A79,FILTRO!$A73:$AY698,6,FALSE),0)","v":9},{"$f":"IFERROR(VLOOKUP($A79,FILTRO!$A73:$AY698,7,FALSE),0)","v":22},{"$f":"IFERROR(VLOOKUP($A79,FILTRO!$A73:$AY698,8,FALSE),0)","v":29},{"$f":"IFERROR(VLOOKUP($A79,FILTRO!$A73:$AY698,9,FALSE),0)","v":53},{"$f":"IFERROR(VLOOKUP($A79,FILTRO!$A73:$AY698,10,FALSE),0)","v":89},{"$f":"IFERROR(VLOOKUP($A79,FILTRO!$A73:$AY698,11,FALSE),0)","v":96},{"$f":"IFERROR(VLOOKUP($A79,FILTRO!$A73:$AY698,12,FALSE),0)","v":203},{"$f":"IFERROR(VLOOKUP($A79,FILTRO!$A73:$AY698,13,FALSE),0)","v":170},{"$f":"IFERROR(VLOOKUP($A79,FILTRO!$A73:$AY698,14,FALSE),0)","v":394},{"$f":"IFERROR(VLOOKUP($A79,FILTRO!$A73:$AY698,15,FALSE),0)","v":335},{"$f":"IFERROR(VLOOKUP($A79,FILTRO!$A73:$AY698,16,FALSE),0)","v":780},{"$f":"IFERROR(VLOOKUP($A79,FILTRO!$A73:$AY698,17,FALSE),0)","v":540},{"$f":"IFERROR(VLOOKUP($A79,FILTRO!$A73:$AY698,18,FALSE),0)","v":1372},{"$f":"IFERROR(VLOOKUP($A79,FILTRO!$A73:$AY698,19,FALSE),0)","v":976},{"$f":"IFERROR(VLOOKUP($A79,FILTRO!$A73:$AY698,20,FALSE),0)","v":2221},{"$f":"IFERROR(VLOOKUP($A79,FILTRO!$A73:$AY698,21,FALSE),0)","v":1566},{"$f":"IFERROR(VLOOKUP($A79,FILTRO!$A73:$AY698,22,FALSE),0)","v":3444},{"$f":"IFERROR(VLOOKUP($A79,FILTRO!$A73:$AY698,23,FALSE),0)","v":2237},{"$f":"IFERROR(VLOOKUP($A79,FILTRO!$A73:$AY698,24,FALSE),0)","v":4033},{"$f":"IFERROR(VLOOKUP($A79,FILTRO!$A73:$AY698,25,FALSE),0)","v":2718},{"$f":"IFERROR(VLOOKUP($A79,FILTRO!$A73:$AY698,26,FALSE),0)","v":4197},{"$f":"IFERROR(VLOOKUP($A79,FILTRO!$A73:$AY698,27,FALSE),0)","v":2756},{"$f":"IFERROR(VLOOKUP($A79,FILTRO!$A73:$AY698,28,FALSE),0)","v":4180},{"$f":"IFERROR(VLOOKUP($A79,FILTRO!$A73:$AY698,29,FALSE),0)","v":2465},{"$f":"IFERROR(VLOOKUP($A79,FILTRO!$A73:$AY698,30,FALSE),0)","v":3680},{"$f":"IFERROR(VLOOKUP($A79,FILTRO!$A73:$AY698,31,FALSE),0)","v":3050},{"$f":"IFERROR(VLOOKUP($A79,FILTRO!$A73:$AY698,32,FALSE),0)","v":4914},{"$f":"IFERROR(VLOOKUP($A79,FILTRO!$A73:$AY698,33,FALSE),0)","v":70},{"$f":"IFERROR(VLOOKUP($A79,FILTRO!$A73:$AY698,34,FALSE),0)","v":134},{"$f":"IFERROR(VLOOKUP($A79,FILTRO!$A73:$AY698,35,FALSE),0)","v":83},{"$f":"IFERROR(VLOOKUP($A79,FILTRO!$A73:$AY698,36,FALSE),0)","v":185},"",{"$nulls":17},{"$f":"IF($E79>=$AI79,\"\",CONCATENATE(\"* Pueblos Originarios-Hombres no debe ser mayor al Total de personas \",B79,\".\"))","v":""},{"$f":"IF($F79>=$AJ79,\"\",CONCATENATE(\"* Pueblos Originarios-Mujeres no debe ser mayor al Total de personas \",B79,\".\"))","v":""},{"$f":"IF($E79>=$AK79,\"\",CONCATENATE(\"* Población Migrante-Hombres no debe ser mayor al Total de personas \",B79,\".\"))","v":""},{"$f":"IF($F79>=$AL79,\"\",CONCATENATE(\"* Población Migrante - Mujeres no debe ser mayor al Total de personas \",B79,\".\"))","v":""},null,null,"","",{"$nulls":28},0,0,0,0,{"$nulls":4},0,0]
["P4302103","PROTOCOLO HEARTS",null,{"$f":"IFERROR(VLOOKUP($A80,FILTRO!$A74:$AY699,2,FALSE),0)","v":9900},{"$f":"IFERROR(VLOOKUP($A80,FILTRO!$A74:$AY699,3,FALSE),0)","v":3577},{"$f":"IFERROR(VLOOKUP($A80,FILTRO!$A74:$AY699,4,FALSE),0)","v":6323},{"$f":"IFERROR(VLOOKUP($A80,FILTRO!$A74:$AY699,5,FALSE),0)","v":2},{"$f":"IFERROR(VLOOKUP($A80,FILTRO!$A74:$AY699,6,FALSE),0)","v":1},{"$f":"IFERROR(VLOOKUP($A80,FILTRO!$A74:$AY699,7,FALSE),0)","v":8},{"$f":"IFERROR(VLOOKUP($A80,FILTRO!$A74:$AY699,8,FALSE),0)","v":9},{"$f":"IFERROR(VLOOKUP($A80,FILTRO!$A74:$AY699,9,FALSE),0)","v":15},{"$f":"IFERROR(VLOOKUP($A80,FILTRO!$A74:$AY699,10,FALSE),0)","v":24},{"$f":"IFERROR(VLOOKUP($A80,FILTRO!$A74:$AY699,11,FALSE),0)","v":32},{"$f":"IFERROR(VLOOKUP($A80,FILTRO!$A74:$AY699,12,FALSE),0)","v":49},{"$f":"IFERROR(VLOOKUP($A80,FILTRO!$A74:$AY699,13,FALSE),0)","v":105},{"$f":"IFERROR(VLOOKUP($A80,FILTRO!$A74:$AY699,14,FALSE),0)","v":82},{"$f":"IFERROR(VLOOKUP($A80,FILTRO!$A74:$AY699,15,FALSE),0)","v":74},{"$f":"IFERROR(VLOOKUP($A80,FILTRO!$A74:$AY699,16,FALSE),0)","v":180},{"$f":"IFERROR(VLOOKUP($A80,FILTRO!$A74:$AY699,17,FALSE),0)","v":133},{"$f":"IFERROR(VLOOKUP($A80,FILTRO!$A74:$AY699,18,FALSE),0)","v":305},{"$f":"IFERROR(VLOOKUP($A80,FILTRO!$A74:$AY699,19,FALSE),0)","v":210},{"$f":"IFERROR(VLOOKUP($A80,FILTRO!$A74:$AY699,20,FALSE),0)","v":493},{"$f":"IFERROR(VLOOKUP($A80,FILTRO!$A74:$AY699,21,FALSE),0)","v":374},{"$f":"IFERROR(VLOOKUP($A80,FILTRO!$A74:$AY699,22,FALSE),0)","v":740},{"$f":"IFERROR(VLOOKUP($A80,FILTRO!$A74:$AY699,23,FALSE),0)","v":536},{"$f":"IFERROR(VLOOKUP($A80,FILTRO!$A74:$AY699,24,FALSE),0)","v":890},{"$f":"IFERROR(VLOOKUP($A80,FILTRO!$A74:$AY699,25,FALSE),0)","v":609},{"$f":"IFERROR(VLOOKUP($A80,FILTRO!$A74:$AY699,26,FALSE),0)","v":920},{"$f":"IFERROR(VLOOKUP($A80,FILTRO!$A74:$AY699,27,FALSE),0)","v":570},{"$f":"IFERROR(VLOOKUP($A80,FILTRO!$A74:$AY699,28,FALSE),0)","v":993},{"$f":"IFERROR(VLOOKUP($A80,FILTRO!$A74:$AY699,29,FALSE),0)","v":473},{"$f":"IFERROR(VLOOKUP($A80,FILTRO!$A74:$AY699,30,FALSE),0)","v":783},{"$f":"IFERROR(VLOOKUP($A80,FILTRO!$A74:$AY699,31,FALSE),0)","v":436},{"$f":"IFERROR(VLOOKUP($A80,FILTRO!$A74:$AY699,32,FALSE),0)","v":854},{"$f":"IFERROR(VLOOKUP($A80,FILTRO!$A74:$AY699,33,FALSE),0)","v":3},{"$f":"IFERROR(VLOOKUP($A80,FILTRO!$A74:$AY699,34,FALSE),0)","v":3},{"$f":"IFERROR(VLOOKUP($A80,FILTRO!$A74:$AY699,35,FALSE),0)","v":2},{"$f":"IFERROR(VLOOKUP($A80,FILTRO!$A74:$AY699,36,FALSE),0)","v":8}]
[null,"TODAS LAS PERSONAS EN PSCV"]
["P4201500","SOBREPESO: IMC entre 25 y 29.9 <65",null,{"$f":"IFERROR(VLOOKUP($A82,FILTRO!$A76:$AY701,2,FALSE),0)","v":14574},{"$f":"IFERROR(VLOOKUP($A82,FILTRO!$A76:$AY701,3,FALSE),0)","v":5360},{"$f":"IFERROR(VLOOKUP($A82,FILTRO!$A76:$AY701,4,FALSE),0)","v":9214},{"$f":"IFERROR(VLOOKUP($A82,FILTRO!$A76:$AY701,5,FALSE),0)","v":17},{"$f":"IFERROR(VLOOKUP($A82,FILTRO!$A76:$AY701,6,FALSE),0)","v":32},{"$f":"IFERROR(VLOOKUP($A82,FILTRO!$A76:$AY701,7,FALSE),0)","v":25},{"$f":"IFERROR(VLOOKUP($A82,FILTRO!$A76:$AY701,8,FALSE),0)","v":57},{"$f":"IFERROR(VLOOKUP($A82,FILTRO!$A76:$AY701,9,FALSE),0)","v":42},{"$f":"IFERROR(VLOOKUP($A82,FILTRO!$A76:$AY701,10,FALSE),0)","v":120},{"$f":"IFERROR(VLOOKUP($A82,FILTRO!$A76:$AY701,11,FALSE),0)","v":99},{"$f":"IFERROR(VLOOKUP($A82,FILTRO!$A76:$AY701,12,FALSE),0)","v":195},{"$f":"IFERROR(VLOOKUP($A82,FILTRO!$A76:$AY701,13,FALSE),0)","v":186},{"$f":"IFERROR(VLOOKUP($A82,FILTRO!$A76:$AY701,14,FALSE),0)","v":326},{"$f":"IFERROR(VLOOKUP($A82,FILTRO!$A76:$AY701,15,FALSE),0)","v":299},{"$f":"IFERROR(VLOOKUP($A82,FILTRO!$A76:$AY701,16,FALSE),0)","v":618},{"$f":"IFERROR(VLOOKUP($A82,FILTRO!$A76:$AY701,17,FALSE),0)","v":515},{"$f":"IFERROR(VLOOKUP($A82,FILTRO!$A76:$AY701,18,FALSE),0)","v":1015},{"$f":"IFERROR(VLOOKUP($A82,FILTRO!$A76:$AY701,19,FALSE),0)","v":915},{"$f":"IFERROR(VLOOKUP($A82,FILTRO!$A76:$AY701,20,FALSE),0)","v":1584},{"$f":"IFERROR(VLOOKUP($A82,FILTRO!$A76:$AY701,21,FALSE),0)","v":1360},{"$f":"IFERROR(VLOOKUP($A82,FILTRO!$A76:$AY701,22,FALSE),0)","v":2451},{"$f":"IFERROR(VLOOKUP($A82,FILTRO!$A76:$AY701,23,FALSE),0)","v":1902},{"$f":"IFERROR(VLOOKUP($A82,FILTRO!$A76:$AY701,24,FALSE),0)","v":2816},{"$f":"IFERROR(VLOOKUP($A82,FILTRO!$A76:$AY701,25,FALSE),0)","v":0},{"$f":"IFERROR(VLOOKUP($A82,FILTRO!$A76:$AY701,26,FALSE),0)","v":0},{"$f":"IFERROR(VLOOKUP($A82,FILTRO!$A76:$AY701,27,FALSE),0)","v":0},{"$f":"IFERROR(VLOOKUP($A82,FILTRO!$A76:$AY701,28,FALSE),0)","v":0},{"$f":"IFERROR(VLOOKUP($A82,FILTRO!$A76:$AY701,29,FALSE),0)","v":0},{"$f":"IFERROR(VLOOKUP($A82,FILTRO!$A76:$AY701,30,FALSE),0)","v":0},{"$f":"IFERROR(VLOOKUP($A82,FILTRO!$A76:$AY701,31,FALSE),0)","v":0},{"$f":"IFERROR(VLOOKUP($A82,FILTRO!$A76:$AY701,32,FALSE),0)","v":0},{"$f":"IFERROR(VLOOKUP($A82,FILTRO!$A76:$AY701,33,FALSE),0)","v":32},{"$f":"IFERROR(VLOOKUP($A82,FILTRO!$A76:$AY701,34,FALSE),0)","v":41},{"$f":"IFERROR(VLOOKUP($A82,FILTRO!$A76:$AY701,35,FALSE),0)","v":37},{"$f":"IFERROR(VLOOKUP($A82,FILTRO!$A76:$AY701,36,FALSE),0)","v":78},"",{"$nulls":17},{"$f":"IF($E82>=$AI82,\"\",CONCATENATE(\"* Pueblos Originarios-Hombres no debe ser mayor al Total de personas \",B82,\".\"))","v":""},{"$f":"IF($F82>=$AJ82,\"\",CONCATENATE(\"* Pueblos Originarios-Mujeres no debe ser mayor al Total de personas \",B82,\".\"))","v":""},{"$f":"IF($E82>=$AK82,\"\",CONCATENATE(\"* Población Migrante-Hombres no debe ser mayor al Total de personas \",B82,\".\"))","v":""},{"$f":"IF($F82>=$AL82,\"\",CONCATENATE(\"* Población Migrante - Mujeres no debe ser mayor al Total de personas \",B82,\".\"))","v":""},null,null,{"$f":"IF(AND(E82<>0,AI82=\"\"),\"* No olvide escribir en la celda de 'Pueblos Originarios' (Digite CERO si no tiene). \",IF(AND(F82<>0,AJ82=\"\"),\"* No olvide escribir en la celda de 'Pueblos Originarios' (Digite CERO si no tiene). \",\"\"))","v":""},{"$f":"IF(AND(E82<>0,AK82=\"\"),\"* No olvide escribir en la celda de 'Población Migrantes' (Digite CERO si no tiene). \",IF(AND(F82<>0,AL82=\"\"),\"* No olvide escribir en la celda de 'Población Migrantes' (Digite CERO si no tiene). \",\"\"))","v":""},{"$nulls":28},0,0,0,0,{"$nulls":4},{"$f":"IF(AND(E84<>0,AI84=\"\"),1,IF(AND(F84<>0,AJ84=\"\"),1,0))","v":0},{"$f":"IF(AND(E84<>0,AK84=\"\"),1,IF(AND(F84<>0,AL84=\"\"),1,0))","v":0}]
["P4201600","SOBREPESO: IMC entre 28 y 31.9 >65",null,{"$f":"IFERROR(VLOOKUP($A83,FILTRO!$A77:$AY702,2,FALSE),0)","v":16216},{"$f":"IFERROR(VLOOKUP($A83,FILTRO!$A77:$AY702,3,FALSE),0)","v":6776},{"$f":"IFERROR(VLOOKUP($A83,FILTRO!$A77:$AY702,4,FALSE),0)","v":9440},{"$f":"IFERROR(VLOOKUP($A83,FILTRO!$A77:$AY702,5,FALSE),0)","v":0},{"$f":"IFERROR(VLOOKUP($A83,FILTRO!$A77:$AY702,6,FALSE),0)","v":0},{"$f":"IFERROR(VLOOKUP($A83,FILTRO!$A77:$AY702,7,FALSE),0)","v":0},{"$f":"IFERROR(VLOOKUP($A83,FILTRO!$A77:$AY702,8,FALSE),0)","v":0},{"$f":"IFERROR(VLOOKUP($A83,FILTRO!$A77:$AY702,9,FALSE),0)","v":0},{"$f":"IFERROR(VLOOKUP($A83,FILTRO!$A77:$AY702,10,FALSE),0)","v":0},{"$f":"IFERROR(VLOOKUP($A83,FILTRO!$A77:$AY702,11,FALSE),0)","v":0},{"$f":"IFERROR(VLOOKUP($A83,FILTRO!$A77:$AY702,12,FALSE),0)","v":0},{"$f":"IFERROR(VLOOKUP($A83,FILTRO!$A77:$AY702,13,FALSE),0)","v":0},{"$f":"IFERROR(VLOOKUP($A83,FILTRO!$A77:$AY702,14,FALSE),0)","v":0},{"$f":"IFERROR(VLOOKUP($A83,FILTRO!$A77:$AY702,15,FALSE),0)","v":0},{"$f":"IFERROR(VLOOKUP($A83,FILTRO!$A77:$AY702,16,FALSE),0)","v":0},{"$f":"IFERROR(VLOOKUP($A83,FILTRO!$A77:$AY702,17,FALSE),0)","v":0},{"$f":"IFERROR(VLOOKUP($A83,FILTRO!$A77:$AY702,18,FALSE),0)","v":0},{"$f":"IFERROR(VLOOKUP($A83,FILTRO!$A77:$AY702,19,FALSE),0)","v":0},{"$f":"IFERROR(VLOOKUP($A83,FILTRO!$A77:$AY702,20,FALSE),0)","v":0},{"$f":"IFERROR(VLOOKUP($A83,FILTRO!$A77:$AY702,21,FALSE),0)","v":0},{"$f":"IFERROR(VLOOKUP($A83,FILTRO!$A77:$AY702,22,FALSE),0)","v":0},{"$f":"IFERROR(VLOOKUP($A83,FILTRO!$A77:$AY702,23,FALSE),0)","v":0},{"$f":"IFERROR(VLOOKUP($A83,FILTRO!$A77:$AY702,24,FALSE),0)","v":0},{"$f":"IFERROR(VLOOKUP($A83,FILTRO!$A77:$AY702,25,FALSE),0)","v":1893},{"$f":"IFERROR(VLOOKUP($A83,FILTRO!$A77:$AY702,26,FALSE),0)","v":2595},{"$f":"IFERROR(VLOOKUP($A83,FILTRO!$A77:$AY702,27,FALSE),0)","v":1804},{"$f":"IFERROR(VLOOKUP($A83,FILTRO!$A77:$AY702,28,FALSE),0)","v":2391},{"$f":"IFERROR(VLOOKUP($A83,FILTRO!$A77:$AY702,29,FALSE),0)","v":1492},{"$f":"IFERROR(VLOOKUP($A83,FILTRO!$A77:$AY702,30,FALSE),0)","v":2028},{"$f":"IFERROR(VLOOKUP($A83,FILTRO!$A77:$AY702,31,FALSE),0)","v":1587},{"$f":"IFERROR(VLOOKUP($A83,FILTRO!$A77:$AY702,32,FALSE),0)","v":2426},{"$f":"IFERROR(VLOOKUP($A83,FILTRO!$A77:$AY702,33,FALSE),0)","v":13},{"$f":"IFERROR(VLOOKUP($A83,FILTRO!$A77:$AY702,34,FALSE),0)","v":40},{"$f":"IFERROR(VLOOKUP($A83,FILTRO!$A77:$AY702,35,FALSE),0)","v":15},{"$f":"IFERROR(VLOOKUP($A83,FILTRO!$A77:$AY702,36,FALSE),0)","v":15},"",{"$nulls":17},{"$f":"IF($E83>=$AI83,\"\",CONCATENATE(\"* Pueblos Originarios-Hombres no debe ser mayor al Total de personas \",B83,\".\"))","v":""},{"$f":"IF($F83>=$AJ83,\"\",CONCATENATE(\"* Pueblos Originarios-Mujeres no debe ser mayor al Total de personas \",B83,\".\"))","v":""},{"$f":"IF($E83>=$AK83,\"\",CONCATENATE(\"* Población Migrante-Hombres no debe ser mayor al Total de personas \",B83,\".\"))","v":""},{"$f":"IF($F83>=$AL83,\"\",CONCATENATE(\"* Población Migrante - Mujeres no debe ser mayor al Total de personas \",B83,\".\"))","v":""},null,null,"","",{"$nulls":28},0,0,0,0,{"$nulls":4},0,0]
["P4200500","OBESIDAD: IMC igual o Mayor a 30KG/M2 <65",null,{"$f":"IFERROR(VLOOKUP($A84,FILTRO!$A78:$AY703,2,FALSE),0)","v":23432},{"$f":"IFERROR(VLOOKUP($A84,FILTRO!$A78:$AY703,3,FALSE),0)","v":6484},{"$f":"IFERROR(VLOOKUP($A84,FILTRO!$A78:$AY703,4,FALSE),0)","v":16948},{"$f":"IFERROR(VLOOKUP($A84,FILTRO!$A78:$AY703,5,FALSE),0)","v":26},{"$f":"IFERROR(VLOOKUP($A84,FILTRO!$A78:$AY703,6,FALSE),0)","v":29},{"$f":"IFERROR(VLOOKUP($A84,FILTRO!$A78:$AY703,7,FALSE),0)","v":57},{"$f":"IFERROR(VLOOKUP($A84,FILTRO!$A78:$AY703,8,FALSE),0)","v":99},{"$f":"IFERROR(VLOOKUP($A84,FILTRO!$A78:$AY703,9,FALSE),0)","v":89},{"$f":"IFERROR(VLOOKUP($A84,FILTRO!$A78:$AY703,10,FALSE),0)","v":243},{"$f":"IFERROR(VLOOKUP($A84,FILTRO!$A78:$AY703,11,FALSE),0)","v":200},{"$f":"IFERROR(VLOOKUP($A84,FILTRO!$A78:$AY703,12,FALSE),0)","v":481},{"$f":"IFERROR(VLOOKUP($A84,FILTRO!$A78:$AY703,13,FALSE),0)","v":293},{"$f":"IFERROR(VLOOKUP($A84,FILTRO!$A78:$AY703,14,FALSE),0)","v":865},{"$f":"IFERROR(VLOOKUP($A84,FILTRO!$A78:$AY703,15,FALSE),0)","v":492},{"$f":"IFERROR(VLOOKUP($A84,FILTRO!$A78:$AY703,16,FALSE),0)","v":1403},{"$f":"IFERROR(VLOOKUP($A84,FILTRO!$A78:$AY703,17,FALSE),0)","v":763},{"$f":"IFERROR(VLOOKUP($A84,FILTRO!$A78:$AY703,18,FALSE),0)","v":2092},{"$f":"IFERROR(VLOOKUP($A84,FILTRO!$A78:$AY703,19,FALSE),0)","v":1075},{"$f":"IFERROR(VLOOKUP($A84,FILTRO!$A78:$AY703,20,FALSE),0)","v":3037},{"$f":"IFERROR(VLOOKUP($A84,FILTRO!$A78:$AY703,21,FALSE),0)","v":1508},{"$f":"IFERROR(VLOOKUP($A84,FILTRO!$A78:$AY703,22,FALSE),0)","v":4296},{"$f":"IFERROR(VLOOKUP($A84,FILTRO!$A78:$AY703,23,FALSE),0)","v":1981},{"$f":"IFERROR(VLOOKUP($A84,FILTRO!$A78:$AY703,24,FALSE),0)","v":4403},{"$f":"IFERROR(VLOOKUP($A84,FILTRO!$A78:$AY703,25,FALSE),0)","v":0},{"$f":"IFERROR(VLOOKUP($A84,FILTRO!$A78:$AY703,26,FALSE),0)","v":0},{"$f":"IFERROR(VLOOKUP($A84,FILTRO!$A78:$AY703,27,FALSE),0)","v":0},{"$f":"IFERROR(VLOOKUP($A84,FILTRO!$A78:$AY703,28,FALSE),0)","v":0},{"$f":"IFERROR(VLOOKUP($A84,FILTRO!$A78:$AY703,29,FALSE),0)","v":0},{"$f":"IFERROR(VLOOKUP($A84,FILTRO!$A78:$AY703,30,FALSE),0)","v":0},{"$f":"IFERROR(VLOOKUP($A84,FILTRO!$A78:$AY703,31,FALSE),0)","v":0},{"$f":"IFERROR(VLOOKUP($A84,FILTRO!$A78:$AY703,32,FALSE),0)","v":0},{"$f":"IFERROR(VLOOKUP($A84,FILTRO!$A78:$AY703,33,FALSE),0)","v":41},{"$f":"IFERROR(VLOOKUP($A84,FILTRO!$A78:$AY703,34,FALSE),0)","v":100},{"$f":"IFERROR(VLOOKUP($A84,FILTRO!$A78:$AY703,35,FALSE),0)","v":45},{"$f":"IFERROR(VLOOKUP($A84,FILTRO!$A78:$AY703,36,FALSE),0)","v":116},"",{"$nulls":17},{"$f":"IF($E84>=$AI84,\"\",CONCATENATE(\"* Pueblos Originarios-Hombres no debe ser mayor al Total de personas \",B84,\".\"))","v":""},{"$f":"IF($F84>=$AJ84,\"\",CONCATENATE(\"* Pueblos Originarios-Mujeres no debe ser mayor al Total de personas \",B84,\".\"))","v":""},{"$f":"IF($E84>=$AK84,\"\",CONCATENATE(\"* Población Migrante-Hombres no debe ser mayor al Total de personas \",B84,\".\"))","v":""},{"$f":"IF($F84>=$AL84,\"\",CONCATENATE(\"* Población Migrante - Mujeres no debe ser mayor al Total de personas \",B84,\".\"))","v":""},null,null,"","",{"$nulls":28},0,0,0,0,{"$nulls":4},{"$f":"IF(AND(E86<>0,AI86=\"\"),1,IF(AND(F86<>0,AJ86=\"\"),1,0))","v":0},{"$f":"IF(AND(E86<>0,AK86=\"\"),1,IF(AND(F86<>0,AL86=\"\"),1,0))","v":0}]
["P4201700","OBESIDAD: IMC igual o Mayor a 32KG/M2 >65",null,{"$f":"IFERROR(VLOOKUP($A85,FILTRO!$A79:$AY704,2,FALSE),0)","v":13823},{"$f":"IFERROR(VLOOKUP($A85,FILTRO!$A79:$AY704,3,FALSE),0)","v":4103},{"$f":"IFERROR(VLOOKUP($A85,FILTRO!$A79:$AY704,4,FALSE),0)","v":9720},{"$f":"IFERROR(VLOOKUP($A85,FILTRO!$A79:$AY704,5,FALSE),0)","v":0},{"$f":"IFERROR(VLOOKUP($A85,FILTRO!$A79:$AY704,6,FALSE),0)","v":0},{"$f":"IFERROR(VLOOKUP($A85,FILTRO!$A79:$AY704,7,FALSE),0)","v":0},{"$f":"IFERROR(VLOOKUP($A85,FILTRO!$A79:$AY704,8,FALSE),0)","v":0},{"$f":"IFERROR(VLOOKUP($A85,FILTRO!$A79:$AY704,9,FALSE),0)","v":0},{"$f":"IFERROR(VLOOKUP($A85,FILTRO!$A79:$AY704,10,FALSE),0)","v":0},{"$f":"IFERROR(VLOOKUP($A85,FILTRO!$A79:$AY704,11,FALSE),0)","v":0},{"$f":"IFERROR(VLOOKUP($A85,FILTRO!$A79:$AY704,12,FALSE),0)","v":0},{"$f":"IFERROR(VLOOKUP($A85,FILTRO!$A79:$AY704,13,FALSE),0)","v":0},{"$f":"IFERROR(VLOOKUP($A85,FILTRO!$A79:$AY704,14,FALSE),0)","v":0},{"$f":"IFERROR(VLOOKUP($A85,FILTRO!$A79:$AY704,15,FALSE),0)","v":0},{"$f":"IFERROR(VLOOKUP($A85,FILTRO!$A79:$AY704,16,FALSE),0)","v":0},{"$f":"IFERROR(VLOOKUP($A85,FILTRO!$A79:$AY704,17,FALSE),0)","v":0},{"$f":"IFERROR(VLOOKUP($A85,FILTRO!$A79:$AY704,18,FALSE),0)","v":0},{"$f":"IFERROR(VLOOKUP($A85,FILTRO!$A79:$AY704,19,FALSE),0)","v":0},{"$f":"IFERROR(VLOOKUP($A85,FILTRO!$A79:$AY704,20,FALSE),0)","v":0},{"$f":"IFERROR(VLOOKUP($A85,FILTRO!$A79:$AY704,21,FALSE),0)","v":0},{"$f":"IFERROR(VLOOKUP($A85,FILTRO!$A79:$AY704,22,FALSE),0)","v":0},{"$f":"IFERROR(VLOOKUP($A85,FILTRO!$A79:$AY704,23,FALSE),0)","v":0},{"$f":"IFERROR(VLOOKUP($A85,FILTRO!$A79:$AY704,24,FALSE),0)","v":0},{"$f":"IFERROR(VLOOKUP($A85,FILTRO!$A79:$AY704,25,FALSE),0)","v":1336},{"$f":"IFERROR(VLOOKUP($A85,FILTRO!$A79:$AY704,26,FALSE),0)","v":3393},{"$f":"IFERROR(VLOOKUP($A85,FILTRO!$A79:$AY704,27,FALSE),0)","v":1225},{"$f":"IFERROR(VLOOKUP($A85,FILTRO!$A79:$AY704,28,FALSE),0)","v":2599},{"$f":"IFERROR(VLOOKUP($A85,FILTRO!$A79:$AY704,29,FALSE),0)","v":806},{"$f":"IFERROR(VLOOKUP($A85,FILTRO!$A79:$AY704,30,FALSE),0)","v":1880},{"$f":"IFERROR(VLOOKUP($A85,FILTRO!$A79:$AY704,31,FALSE),0)","v":736},{"$f":"IFERROR(VLOOKUP($A85,FILTRO!$A79:$AY704,32,FALSE),0)","v":1848},{"$f":"IFERROR(VLOOKUP($A85,FILTRO!$A79:$AY704,33,FALSE),0)","v":25},{"$f":"IFERROR(VLOOKUP($A85,FILTRO!$A79:$AY704,34,FALSE),0)","v":37},{"$f":"IFERROR(VLOOKUP($A85,FILTRO!$A79:$AY704,35,FALSE),0)","v":10},{"$f":"IFERROR(VLOOKUP($A85,FILTRO!$A79:$AY704,36,FALSE),0)","v":21},"",{"$nulls":17},{"$f":"IF($E85>=$AI85,\"\",CONCATENATE(\"* Pueblos Originarios-Hombres no debe ser mayor al Total de personas \",B85,\".\"))","v":""},{"$f":"IF($F85>=$AJ85,\"\",CONCATENATE(\"* Pueblos Originarios-Mujeres no debe ser mayor al Total de personas \",B85,\".\"))","v":""},{"$f":"IF($E85>=$AK85,\"\",CONCATENATE(\"* Población Migrante-Hombres no debe ser mayor al Total de personas \",B85,\".\"))","v":""},{"$f":"IF($F85>=$AL85,\"\",CONCATENATE(\"* Población Migrante - Mujeres no debe ser mayor al Total de personas \",B85,\".\"))","v":""},null,null,"","",{"$nulls":28},0,0,0,0,{"$nulls":4},{"$f":"IF(AND(E87<>0,AI87=\"\"),1,IF(AND(F87<>0,AJ87=\"\"),1,0))","v":0},{"$f":"IF(AND(E87<>0,AK87=\"\"),1,IF(AND(F87<>0,AL87=\"\"),1,0))","v":0}]
["P4302104","PERSONAS EN ACTIVIDAD FÍSICA SALUD CARDIOVASCULAR",null,{"$f":"IFERROR(VLOOKUP($A86,FILTRO!$A80:$AY705,2,FALSE),0)","v":4936},{"$f":"IFERROR(VLOOKUP($A86,FILTRO!$A80:$AY705,3,FALSE),0)","v":1860},{"$f":"IFERROR(VLOOKUP($A86,FILTRO!$A80:$AY705,4,FALSE),0)","v":3076},{"$f":"IFERROR(VLOOKUP($A86,FILTRO!$A80:$AY705,5,FALSE),0)","v":7},{"$f":"IFERROR(VLOOKUP($A86,FILTRO!$A80:$AY705,6,FALSE),0)","v":6},{"$f":"IFERROR(VLOOKUP($A86,FILTRO!$A80:$AY705,7,FALSE),0)","v":10},{"$f":"IFERROR(VLOOKUP($A86,FILTRO!$A80:$AY705,8,FALSE),0)","v":11},{"$f":"IFERROR(VLOOKUP($A86,FILTRO!$A80:$AY705,9,FALSE),0)","v":9},{"$f":"IFERROR(VLOOKUP($A86,FILTRO!$A80:$AY705,10,FALSE),0)","v":33},{"$f":"IFERROR(VLOOKUP($A86,FILTRO!$A80:$AY705,11,FALSE),0)","v":15},{"$f":"IFERROR(VLOOKUP($A86,FILTRO!$A80:$AY705,12,FALSE),0)","v":58},{"$f":"IFERROR(VLOOKUP($A86,FILTRO!$A80:$AY705,13,FALSE),0)","v":33},{"$f":"IFERROR(VLOOKUP($A86,FILTRO!$A80:$AY705,14,FALSE),0)","v":60},{"$f":"IFERROR(VLOOKUP($A86,FILTRO!$A80:$AY705,15,FALSE),0)","v":46},{"$f":"IFERROR(VLOOKUP($A86,FILTRO!$A80:$AY705,16,FALSE),0)","v":165},{"$f":"IFERROR(VLOOKUP($A86,FILTRO!$A80:$AY705,17,FALSE),0)","v":79},{"$f":"IFERROR(VLOOKUP($A86,FILTRO!$A80:$AY705,18,FALSE),0)","v":255},{"$f":"IFERROR(VLOOKUP($A86,FILTRO!$A80:$AY705,19,FALSE),0)","v":121},{"$f":"IFERROR(VLOOKUP($A86,FILTRO!$A80:$AY705,20,FALSE),0)","v":282},{"$f":"IFERROR(VLOOKUP($A86,FILTRO!$A80:$AY705,21,FALSE),0)","v":177},{"$f":"IFERROR(VLOOKUP($A86,FILTRO!$A80:$AY705,22,FALSE),0)","v":361},{"$f":"IFERROR(VLOOKUP($A86,FILTRO!$A80:$AY705,23,FALSE),0)","v":219},{"$f":"IFERROR(VLOOKUP($A86,FILTRO!$A80:$AY705,24,FALSE),0)","v":474},{"$f":"IFERROR(VLOOKUP($A86,FILTRO!$A80:$AY705,25,FALSE),0)","v":328},{"$f":"IFERROR(VLOOKUP($A86,FILTRO!$A80:$AY705,26,FALSE),0)","v":485},{"$f":"IFERROR(VLOOKUP($A86,FILTRO!$A80:$AY705,27,FALSE),0)","v":353},{"$f":"IFERROR(VLOOKUP($A86,FILTRO!$A80:$AY705,28,FALSE),0)","v":399},{"$f":"IFERROR(VLOOKUP($A86,FILTRO!$A80:$AY705,29,FALSE),0)","v":229},{"$f":"IFERROR(VLOOKUP($A86,FILTRO!$A80:$AY705,30,FALSE),0)","v":253},{"$f":"IFERROR(VLOOKUP($A86,FILTRO!$A80:$AY705,31,FALSE),0)","v":234},{"$f":"IFERROR(VLOOKUP($A86,FILTRO!$A80:$AY705,32,FALSE),0)","v":234},{"$f":"IFERROR(VLOOKUP($A86,FILTRO!$A80:$AY705,33,FALSE),0)","v":6},{"$f":"IFERROR(VLOOKUP($A86,FILTRO!$A80:$AY705,34,FALSE),0)","v":7},{"$f":"IFERROR(VLOOKUP($A86,FILTRO!$A80:$AY705,35,FALSE),0)","v":15},{"$f":"IFERROR(VLOOKUP($A86,FILTRO!$A80:$AY705,36,FALSE),0)","v":24}]
[null,"NOTA (*): La vigencia de la evaluación del pie diabético es de 12 meses."]
[]
[]
["CODIGOS NUEVOS"]
["P4302100"]
["P4302101"]
["P4302102"]
["P4302103"]
["P4302104"]
[]
[]
[]
[]
[null,{"$f":"SUM(D12:AM29,D34:AL42,D48:D73,D76:D79,D82:D85)","v":2601190},"datos"]
[null,{"$f":"SUM(CM13:DT94)","v":5},"errores"]

{"sheet":"P5","index":6,"n_rows":82,"n_cols":54,"rows_kept":82,"merged":[[6,5,6,18],[8,1,10,2],[8,3,9,5],[8,6,8,21],[8,22,9,23],[8,24,9,25],[8,26,9,27],[9,6,9,7],[9,8,9,9],[9,10,9,11],[9,12,9,13],[9,14,9,15],[9,16,9,17],[9,18,9,19],[9,20,9,21],[11,1,11,2],[12,1,12,2],[13,1,13,2],[14,1,14,2],[15,1,15,2],[16,1,16,2],[17,1,17,2],[18,1,18,2],[19,1,19,2],[20,1,20,2],[22,1,24,2],[22,3,23,5],[22,6,22,23],[22,24,23,25],[22,26,23,27],[22,35,23,36],[22,37,23,38],[22,39,23,39],[22,40,23,40],[22,42,23,43],[22,44,23,45],[22,46,23,46],[22,47,23,47],[23,6,23,7],[23,8,23,9],[23,10,23,11],[23,12,23,13],[23,14,23,15],[23,16,23,17],[23,18,23,19],[23,20,23,21],[23,22,23,23],[25,1,25,2],[26,1,26,2],[27,1,27,2],[28,1,28,2],[30,1,32,2],[30,3,31,5],[30,6,30,21],[30,22,31,23],[30,24,31,25],[30,26,31,27],[30,36,31,37],[30,38,31,39],[30,40,31,40],[30,41,31,41],[30,43,31,44],[30,45,31,46],[30,47,31,47],[30,48,31,48],[30,52,31,53],[31,6,31,7],[31,8,31,9],[31,10,31,11],[31,12,31,13],[31,14,31,15],[31,16,31,17],[31,18,31,19],[31,20,31,21],[33,1,33,2],[34,1,34,2],[35,1,35,2],[36,1,36,2],[37,1,37,2],[38,1,38,7],[39,1,41,2],[39,3,40,5],[39,6,39,21],[39,22,40,23],[39,24,40,25],[39,26,40,27],[40,6,40,7],[40,8,40,9],[40,10,40,11],[40,12,40,13],[40,14,40,15],[40,16,40,17],[40,18,40,19],[40,20,40,21],[42,1,42,2],[43,1,43,8],[44,1,46,2],[44,3,45,5],[44,6,44,21],[44,22,45,23],[44,24,45,25],[44,26,45,27],[45,6,45,7],[45,8,45,9],[45,10,45,11],[45,12,45,13],[45,14,45,15],[45,16,45,17],[45,18,45,19],[45,20,45,21],[47,1,47,2],[48,1,48,9],[49,1,51,1],[49,2,51,2],[49,3,50,5],[49,6,49,21],[49,22,50,23],[49,24,50,25],[49,26,50,27],[50,6,50,7],[50,8,50,9],[50,10,50,11],[50,12,50,13],[50,14,50,15],[50,16,50,17],[50,18,50,19],[50,20,50,21],[52,1,54,1],[55,1,56,1]]}
[null,"DATOS DEL ESTABLECIMIENTO"]
[null,{"$f":"CONCATENATE(\"COMUNA: \",NOMBRE!$B$2,\" - \",\"( \",NOMBRE!$C$2,NOMBRE!$D$2,NOMBRE!$E$2,NOMBRE!$F$2,NOMBRE!$G$2,\" )\")","v":"COMUNA:  - (  )"}]
[null,{"$f":"CONCATENATE(\"ESTABLECIMIENTO/ESTRATEGIA: \",NOMBRE!$B$3,\" - \",\"( \",NOMBRE!$C$3,NOMBRE!$D$3,NOMBRE!$E$3,NOMBRE!$F$3,NOMBRE!$G$3,NOMBRE!$H$3,\" )\")","v":"ESTABLECIMIENTO/ESTRATEGIA:  - (  )"}]
[null,{"$f":"CONCATENATE(\"MES: \",NOMBRE!$B$6,\" - \",\"( \",NOMBRE!$C$6,NOMBRE!$D$6,\" )\")","v":"MES:  - (  )"}]
[null,{"$f":"CONCATENATE(\"AÑO: \",NOMBRE!$B$7)","v":"AÑO: 2023"}]
[]
[{"$nulls":5},"REM-P5. POBLACIÓN EN CONTROL PROGRAMA NACIONAL DE SALUD INTEGRAL DE PERSONAS MAYORES "]
[null,"SECCION A: POBLACIÓN EN CONTROL POR CONDICIÓN DE FUNCIONALIDAD",{"$nulls":28},"Pueblos Originarios",null,"Población Migrantes",null,"Pueblos Originarios","Población Migrantes",null,"Pueblos Originarios",null,"Población Migrantes",null,"Pueblos Originarios","Población Migrantes"]
[null,"CONDICIÓN DE \nFUNCIONALIDAD",null,"TOTAL",null,null,"GRUPO DE EDAD (en años) Y SEXO",{"$nulls":15},"Pueblos Originarios",null," Migrantes",null,"Personas Mayores en ELEAM"]
[{"$nulls":6},"65 a 69 años",null,"70 a 74 años",null,"75 a 79 años",null,"80 a 84 años",null,"85 a 89 años",null,"90 a 94 años",null,"95 a 99 años",null,"100 y mas años",{"$nulls":16},"Hombres","Mujeres","Hombres","Mujeres","No Olvide","No Olvide",null,"Hombres","Mujeres","Hombres","Mujeres","No Olvide","No Olvide"]
[{"$nulls":3},"Ambos\nsexos","Hombres","Mujeres","Hombres ","Mujeres","Hombres ","Mujeres","Hombres ","Mujeres","Hombres ","Mujeres","Hombres ","Mujeres","Hombres ","Mujeres","Hombres ","Mujeres","Hombres ","Mujeres","Hombres","Mujeres","Hombres","Mujeres","Hombres","Mujeres"]
["P5180100","AUTOVALENTE SIN RIESGO",null,{"$f":"IFERROR(VLOOKUP($A12,FILTRO!$A6:$AY631,2,FALSE),0)","v":11061},{"$f":"IFERROR(VLOOKUP($A12,FILTRO!$A6:$AY631,3,FALSE),0)","v":4819},{"$f":"IFERROR(VLOOKUP($A12,FILTRO!$A6:$AY631,4,FALSE),0)","v":6242},{"$f":"IFERROR(VLOOKUP($A12,FILTRO!$A6:$AY631,5,FALSE),0)","v":1330},{"$f":"IFERROR(VLOOKUP($A12,FILTRO!$A6:$AY631,6,FALSE),0)","v":2121},{"$f":"IFERROR(VLOOKUP($A12,FILTRO!$A6:$AY631,7,FALSE),0)","v":1456},{"$f":"IFERROR(VLOOKUP($A12,FILTRO!$A6:$AY631,8,FALSE),0)","v":1818},{"$f":"IFERROR(VLOOKUP($A12,FILTRO!$A6:$AY631,9,FALSE),0)","v":1065},{"$f":"IFERROR(VLOOKUP($A12,FILTRO!$A6:$AY631,10,FALSE),0)","v":1224},{"$f":"IFERROR(VLOOKUP($A12,FILTRO!$A6:$AY631,11,FALSE),0)","v":660},{"$f":"IFERROR(VLOOKUP($A12,FILTRO!$A6:$AY631,12,FALSE),0)","v":767},{"$f":"IFERROR(VLOOKUP($A12,FILTRO!$A6:$AY631,13,FALSE),0)","v":239},{"$f":"IFERROR(VLOOKUP($A12,FILTRO!$A6:$AY631,14,FALSE),0)","v":245},{"$f":"IFERROR(VLOOKUP($A12,FILTRO!$A6:$AY631,15,FALSE),0)","v":58},{"$f":"IFERROR(VLOOKUP($A12,FILTRO!$A6:$AY631,16,FALSE),0)","v":59},{"$f":"IFERROR(VLOOKUP($A12,FILTRO!$A6:$AY631,17,FALSE),0)","v":10},{"$f":"IFERROR(VLOOKUP($A12,FILTRO!$A6:$AY631,18,FALSE),0)","v":8},{"$f":"IFERROR(VLOOKUP($A12,FILTRO!$A6:$AY631,19,FALSE),0)","v":1},{"$f":"IFERROR(VLOOKUP($A12,FILTRO!$A6:$AY631,20,FALSE),0)","v":0},{"$f":"IFERROR(VLOOKUP($A12,FILTRO!$A6:$AY631,21,FALSE),0)","v":27},{"$f":"IFERROR(VLOOKUP($A12,FILTRO!$A6:$AY631,22,FALSE),0)","v":23},{"$f":"IFERROR(VLOOKUP($A12,FILTRO!$A6:$AY631,23,FALSE),0)","v":7},{"$f":"IFERROR(VLOOKUP($A12,FILTRO!$A6:$AY631,24,FALSE),0)","v":8},{"$f":"IFERROR(VLOOKUP($A12,FILTRO!$A6:$AY631,25,FALSE),0)","v":12},{"$f":"IFERROR(VLOOKUP($A12,FILTRO!$A6:$AY631,26,FALSE),0)","v":8},{"$nulls":9},{"$f":"IF($E12>=$W12,\"\",\"* La celda 'Pueblos Originarios / Hombres' debe ser menor o igual al Total de Hombres en control. \")","v":""},{"$f":"IF($F12>=$X12,\"\",\"* La celda 'Pueblos Originarios / Mujeres' debe ser menor o igual al Total de Mujeres en control. \")","v":""},{"$f":"IF($E12>=$Y12,\"\",\"* La celda 'Población Migrantes / Hombres' debe ser menor o igual al Total de Hombres en control. \")","v":""},{"$f":"IF($F12>=$Z12,\"\",\"* La celda 'Población Migrantes / Mujeres' debe ser menor o igual al Total de Mujeres en control. \")","v":""},{"$f":"IF(AND($E12<>0,$W12=\"\"),\"* No olvide escribir en las celdas de 'Pueblos Originarios' (Digite CERO si no tiene). \",IF(AND(F12<>0,X12=\"\"),\"* No olvide escribir en las celdas de 'Pueblos Originarios' (Digite CERO si no tiene). \",\"\"))","v":""},{"$f":"IF(AND($E12<>0,$Y12=\"\"),\"* No olvide escribir en las celdas de 'Población Migrantes' (Digite CERO si no tiene). \",IF(AND(F12<>0,Z12=\"\"),\"* No olvide escribir en las celdas de 'Población Migrantes' (Digite CERO si no tiene). \",\"\"))","v":""},null,{"$f":"IF($E12>=$W12,0,1)","v":0},{"$f":"IF($F12>=$X12,0,1)","v":0},{"$f":"IF($E12>=$Y12,0,1)","v":0},{"$f":"IF($F12>=$Z12,0,1)","v":0},{"$f":"IF(AND(E12<>0,W12=\"\"),1,IF(AND(F12<>0,X12=\"\"),1,0))","v":0},{"$f":"IF(AND(E12<>0,Y12=\"\"),1,IF(AND(F12<>0,Z12=\"\"),1,0))","v":0}]
["P5180200","AUTOVALENTE CON RIESGO",null,{"$f":"IFERROR(VLOOKUP($A13,FILTRO!$A7:$AY632,2,FALSE),0)","v":9138},{"$f":"IFERROR(VLOOKUP($A13,FILTRO!$A7:$AY632,3,FALSE),0)","v":3644},{"$f":"IFERROR(VLOOKUP($A13,FILTRO!$A7:$AY632,4,FALSE),0)","v":5494},{"$f":"IFERROR(VLOOKUP($A13,FILTRO!$A7:$AY632,5,FALSE),0)","v":1047},{"$f":"IFERROR(VLOOKUP($A13,FILTRO!$A7:$AY632,6,FALSE),0)","v":1670},{"$f":"IFERROR(VLOOKUP($A13,FILTRO!$A7:$AY632,7,FALSE),0)","v":960},{"$f":"IFERROR(VLOOKUP($A13,FILTRO!$A7:$AY632,8,FALSE),0)","v":1462},{"$f":"IFERROR(VLOOKUP($A13,FILTRO!$A7:$AY632,9,FALSE),0)","v":792},{"$f":"IFERROR(VLOOKUP($A13,FILTRO!$A7:$AY632,10,FALSE),0)","v":1179},{"$f":"IFERROR(VLOOKUP($A13,FILTRO!$A7:$AY632,11,FALSE),0)","v":500},{"$f":"IFERROR(VLOOKUP($A13,FILTRO!$A7:$AY632,12,FALSE),0)","v":716},{"$f":"IFERROR(VLOOKUP($A13,FILTRO!$A7:$AY632,13,FALSE),0)","v":253},{"$f":"IFERROR(VLOOKUP($A13,FILTRO!$A7:$AY632,14,FALSE),0)","v":359},{"$f":"IFERROR(VLOOKUP($A13,FILTRO!$A7:$AY632,15,FALSE),0)","v":82},{"$f":"IFERROR(VLOOKUP($A13,FILTRO!$A7:$AY632,16,FALSE),0)","v":94},{"$f":"IFERROR(VLOOKUP($A13,FILTRO!$A7:$AY632,17,FALSE),0)","v":9},{"$f":"IFERROR(VLOOKUP($A13,FILTRO!$A7:$AY632,18,FALSE),0)","v":12},{"$f":"IFERROR(VLOOKUP($A13,FILTRO!$A7:$AY632,19,FALSE),0)","v":1},{"$f":"IFERROR(VLOOKUP($A13,FILTRO!$A7:$AY632,20,FALSE),0)","v":2},{"$f":"IFERROR(VLOOKUP($A13,FILTRO!$A7:$AY632,21,FALSE),0)","v":9},{"$f":"IFERROR(VLOOKUP($A13,FILTRO!$A7:$AY632,22,FALSE),0)","v":20},{"$f":"IFERROR(VLOOKUP($A13,FILTRO!$A7:$AY632,23,FALSE),0)","v":10},{"$f":"IFERROR(VLOOKUP($A13,FILTRO!$A7:$AY632,24,FALSE),0)","v":7},{"$f":"IFERROR(VLOOKUP($A13,FILTRO!$A7:$AY632,25,FALSE),0)","v":2},{"$f":"IFERROR(VLOOKUP($A13,FILTRO!$A7:$AY632,26,FALSE),0)","v":4},{"$nulls":9},{"$f":"IF($E13>=$W13,\"\",\"* La celda 'Pueblos Originarios / Hombres' debe ser menor o igual al Total de Hombres en control. \")","v":""},{"$f":"IF($F13>=$X13,\"\",\"* La celda 'Pueblos Originarios / Mujeres' debe ser menor o igual al Total de Mujeres en control. \")","v":""},{"$f":"IF($E13>=$Y13,\"\",\"* La celda 'Población Migrantes / Hombres' debe ser menor o igual al Total de Hombres en control. \")","v":""},{"$f":"IF($F13>=$Z13,\"\",\"* La celda 'Población Migrantes / Mujeres' debe ser menor o igual al Total de Mujeres en control. \")","v":""},{"$f":"IF(AND($E13<>0,$W13=\"\"),\"* No olvide escribir en las celdas de 'Pueblos Originarios' (Digite CERO si no tiene). \",IF(AND(F13<>0,X13=\"\"),\"* No olvide escribir en las celdas de 'Pueblos Originarios' (Digite CERO si no tiene). \",\"\"))","v":""},{"$f":"IF(AND($E13<>0,$Y13=\"\"),\"* No olvide escribir en las celdas de 'Población Migrantes' (Digite CERO si no tiene). \",IF(AND(F13<>0,Z13=\"\"),\"* No olvide escribir en las celdas de 'Población Migrantes' (Digite CERO si no tiene). \",\"\"))","v":""},null,{"$f":"IF($E13>=$W13,0,1)","v":0},{"$f":"IF($F13>=$X13,0,1)","v":0},{"$f":"IF($E13>=$Y13,0,1)","v":0},{"$f":"IF($F13>=$Z13,0,1)","v":0},{"$f":"IF(AND(E13<>0,W13=\"\"),1,IF(AND(F13<>0,X13=\"\"),1,0))","v":0},{"$f":"IF(AND(E13<>0,Y13=\"\"),1,IF(AND(F13<>0,Z13=\"\"),1,0))","v":0}]
["P5300510","RIESGO DE DEPENDENCIA ",null,{"$f":"IFERROR(VLOOKUP($A14,FILTRO!$A8:$AY633,2,FALSE),0)","v":4313},{"$f":"IFERROR(VLOOKUP($A14,FILTRO!$A8:$AY633,3,FALSE),0)","v":1537},{"$f":"IFERROR(VLOOKUP($A14,FILTRO!$A8:$AY633,4,FALSE),0)","v":2776},{"$f":"IFERROR(VLOOKUP($A14,FILTRO!$A8:$AY633,5,FALSE),0)","v":200},{"$f":"IFERROR(VLOOKUP($A14,FILTRO!$A8:$AY633,6,FALSE),0)","v":325},{"$f":"IFERROR(VLOOKUP($A14,FILTRO!$A8:$AY633,7,FALSE),0)","v":220},{"$f":"IFERROR(VLOOKUP($A14,FILTRO!$A8:$AY633,8,FALSE),0)","v":456},{"$f":"IFERROR(VLOOKUP($A14,FILTRO!$A8:$AY633,9,FALSE),0)","v":331},{"$f":"IFERROR(VLOOKUP($A14,FILTRO!$A8:$AY633,10,FALSE),0)","v":584},{"$f":"IFERROR(VLOOKUP($A14,FILTRO!$A8:$AY633,11,FALSE),0)","v":368},{"$f":"IFERROR(VLOOKUP($A14,FILTRO!$A8:$AY633,12,FALSE),0)","v":655},{"$f":"IFERROR(VLOOKUP($A14,FILTRO!$A8:$AY633,13,FALSE),0)","v":268},{"$f":"IFERROR(VLOOKUP($A14,FILTRO!$A8:$AY633,14,FALSE),0)","v":436},{"$f":"IFERROR(VLOOKUP($A14,FILTRO!$A8:$AY633,15,FALSE),0)","v":117},{"$f":"IFERROR(VLOOKUP($A14,FILTRO!$A8:$AY633,16,FALSE),0)","v":255},{"$f":"IFERROR(VLOOKUP($A14,FILTRO!$A8:$AY633,17,FALSE),0)","v":26},{"$f":"IFERROR(VLOOKUP($A14,FILTRO!$A8:$AY633,18,FALSE),0)","v":56},{"$f":"IFERROR(VLOOKUP($A14,FILTRO!$A8:$AY633,19,FALSE),0)","v":7},{"$f":"IFERROR(VLOOKUP($A14,FILTRO!$A8:$AY633,20,FALSE),0)","v":9},{"$f":"IFERROR(VLOOKUP($A14,FILTRO!$A8:$AY633,21,FALSE),0)","v":10},{"$f":"IFERROR(VLOOKUP($A14,FILTRO!$A8:$AY633,22,FALSE),0)","v":15},{"$f":"IFERROR(VLOOKUP($A14,FILTRO!$A8:$AY633,23,FALSE),0)","v":2},{"$f":"IFERROR(VLOOKUP($A14,FILTRO!$A8:$AY633,24,FALSE),0)","v":1},{"$f":"IFERROR(VLOOKUP($A14,FILTRO!$A8:$AY633,25,FALSE),0)","v":5},{"$f":"IFERROR(VLOOKUP($A14,FILTRO!$A8:$AY633,26,FALSE),0)","v":3},{"$nulls":9},{"$f":"IF($E14>=$W14,\"\",\"* La celda 'Pueblos Originarios / Hombres' debe ser menor o igual al Total de Hombres en control. \")","v":""},{"$f":"IF($F14>=$X14,\"\",\"* La celda 'Pueblos Originarios / Mujeres' debe ser menor o igual al Total de Mujeres en control. \")","v":""},{"$f":"IF($E14>=$Y14,\"\",\"* La celda 'Población Migrantes / Hombres' debe ser menor o igual al Total de Hombres en control. \")","v":""},{"$f":"IF($F14>=$Z14,\"\",\"* La celda 'Población Migrantes / Mujeres' debe ser menor o igual al Total de Mujeres en control. \")","v":""},{"$f":"IF(AND($E14<>0,$W14=\"\"),\"* No olvide escribir en las celdas de 'Pueblos Originarios' (Digite CERO si no tiene). \",IF(AND(F14<>0,X14=\"\"),\"* No olvide escribir en las celdas de 'Pueblos Originarios' (Digite CERO si no tiene). \",\"\"))","v":""},{"$f":"IF(AND($E14<>0,$Y14=\"\"),\"* No olvide escribir en las celdas de 'Población Migrantes' (Digite CERO si no tiene). \",IF(AND(F14<>0,Z14=\"\"),\"* No olvide escribir en las celdas de 'Población Migrantes' (Digite CERO si no tiene). \",\"\"))","v":""},null,{"$f":"IF($E14>=$W14,0,1)","v":0},{"$f":"IF($F14>=$X14,0,1)","v":0},{"$f":"IF($E14>=$Y14,0,1)","v":0},{"$f":"IF($F14>=$Z14,0,1)","v":0},{"$f":"IF(AND(E14<>0,W14=\"\"),1,IF(AND(F14<>0,X14=\"\"),1,0))","v":0},{"$f":"IF(AND(E14<>0,Y14=\"\"),1,IF(AND(F14<>0,Z14=\"\"),1,0))","v":0}]
[null,"SUBTOTAL (EFAM)",null,{"$f":"SUM(E15:F15)","v":24512},{"$f":"+G15+I15+K15+M15+O15+Q15+S15+U15","v":10000},{"$f":"+H15+J15+L15+N15+P15+R15+T15+V15","v":14512},{"$f":"SUM(G12:G14)","v":2577},{"$f":"SUM(H12:H14)","v":4116},2636,3736,2188,2987,1528,2138,760,1040,257,408,45,76,9,11,{"$f":"SUM(W12:W14)","v":46},{"$f":"SUM(X12:X14)","v":58},19,{"$f":"SUM(Z12:Z14)","v":16},{"$f":"SUM(AA12:AA14)","v":19},{"$f":"SUM(AB12:AB14)","v":15}]
["P5300100","DEPENDIENTE LEVE",null,{"$f":"IFERROR(VLOOKUP($A16,FILTRO!$A10:$AY635,2,FALSE),0)","v":3544},{"$f":"IFERROR(VLOOKUP($A16,FILTRO!$A10:$AY635,3,FALSE),0)","v":1193},{"$f":"IFERROR(VLOOKUP($A16,FILTRO!$A10:$AY635,4,FALSE),0)","v":2351},{"$f":"IFERROR(VLOOKUP($A16,FILTRO!$A10:$AY635,5,FALSE),0)","v":150},{"$f":"IFERROR(VLOOKUP($A16,FILTRO!$A10:$AY635,6,FALSE),0)","v":259},{"$f":"IFERROR(VLOOKUP($A16,FILTRO!$A10:$AY635,7,FALSE),0)","v":158},{"$f":"IFERROR(VLOOKUP($A16,FILTRO!$A10:$AY635,8,FALSE),0)","v":341},{"$f":"IFERROR(VLOOKUP($A16,FILTRO!$A10:$AY635,9,FALSE),0)","v":221},{"$f":"IFERROR(VLOOKUP($A16,FILTRO!$A10:$AY635,10,FALSE),0)","v":456},{"$f":"IFERROR(VLOOKUP($A16,FILTRO!$A10:$AY635,11,FALSE),0)","v":282},{"$f":"IFERROR(VLOOKUP($A16,FILTRO!$A10:$AY635,12,FALSE),0)","v":523},{"$f":"IFERROR(VLOOKUP($A16,FILTRO!$A10:$AY635,13,FALSE),0)","v":220},{"$f":"IFERROR(VLOOKUP($A16,FILTRO!$A10:$AY635,14,FALSE),0)","v":447},{"$f":"IFERROR(VLOOKUP($A16,FILTRO!$A10:$AY635,15,FALSE),0)","v":130},{"$f":"IFERROR(VLOOKUP($A16,FILTRO!$A10:$AY635,16,FALSE),0)","v":265},{"$f":"IFERROR(VLOOKUP($A16,FILTRO!$A10:$AY635,17,FALSE),0)","v":27},{"$f":"IFERROR(VLOOKUP($A16,FILTRO!$A10:$AY635,18,FALSE),0)","v":52},{"$f":"IFERROR(VLOOKUP($A16,FILTRO!$A10:$AY635,19,FALSE),0)","v":5},{"$f":"IFERROR(VLOOKUP($A16,FILTRO!$A10:$AY635,20,FALSE),0)","v":8},{"$f":"IFERROR(VLOOKUP($A16,FILTRO!$A10:$AY635,21,FALSE),0)","v":7},{"$f":"IFERROR(VLOOKUP($A16,FILTRO!$A10:$AY635,22,FALSE),0)","v":5},{"$f":"IFERROR(VLOOKUP($A16,FILTRO!$A10:$AY635,23,FALSE),0)","v":1},{"$f":"IFERROR(VLOOKUP($A16,FILTRO!$A10:$AY635,24,FALSE),0)","v":2},{"$f":"IFERROR(VLOOKUP($A16,FILTRO!$A10:$AY635,25,FALSE),0)","v":45},{"$f":"IFERROR(VLOOKUP($A16,FILTRO!$A10:$AY635,26,FALSE),0)","v":52},{"$nulls":9},{"$f":"IF($E16>=$W16,\"\",\"* La celda 'Pueblos Originarios / Hombres' debe ser menor o igual al Total de Hombres en control. \")","v":""},{"$f":"IF($F16>=$X16,\"\",\"* La celda 'Pueblos Originarios / Mujeres' debe ser menor o igual al Total de Mujeres en control. \")","v":""},{"$f":"IF($E16>=$Y16,\"\",\"* La celda 'Población Migrantes / Hombres' debe ser menor o igual al Total de Hombres en control. \")","v":""},{"$f":"IF($F16>=$Z16,\"\",\"* La celda 'Población Migrantes / Mujeres' debe ser menor o igual al Total de Mujeres en control. \")","v":""},{"$f":"IF(AND($E16<>0,$W16=\"\"),\"* No olvide escribir en las celdas de 'Pueblos Originarios' (Digite CERO si no tiene). \",IF(AND(F16<>0,X16=\"\"),\"* No olvide escribir en las celdas de 'Pueblos Originarios' (Digite CERO si no tiene). \",\"\"))","v":""},{"$f":"IF(AND($E16<>0,$Y16=\"\"),\"* No olvide escribir en las celdas de 'Población Migrantes' (Digite CERO si no tiene). \",IF(AND(F16<>0,Z16=\"\"),\"* No olvide escribir en las celdas de 'Población Migrantes' (Digite CERO si no tiene). \",\"\"))","v":""},null,{"$f":"IF($E16>=$W16,0,1)","v":0},{"$f":"IF($F16>=$X16,0,1)","v":0},{"$f":"IF($E16>=$Y16,0,1)","v":0},{"$f":"IF($F16>=$Z16,0,1)","v":0},{"$f":"IF(AND(E16<>0,W16=\"\"),1,IF(AND(F16<>0,X16=\"\"),1,0))","v":0},{"$f":"IF(AND(E16<>0,Y16=\"\"),1,IF(AND(F16<>0,Z16=\"\"),1,0))","v":0}]
["P5300200","DEPENDIENTE MODERADO ",null,{"$f":"IFERROR(VLOOKUP($A17,FILTRO!$A11:$AY636,2,FALSE),0)","v":750},{"$f":"IFERROR(VLOOKUP($A17,FILTRO!$A11:$AY636,3,FALSE),0)","v":248},{"$f":"IFERROR(VLOOKUP($A17,FILTRO!$A11:$AY636,4,FALSE),0)","v":502},{"$f":"IFERROR(VLOOKUP($A17,FILTRO!$A11:$AY636,5,FALSE),0)","v":29},{"$f":"IFERROR(VLOOKUP($A17,FILTRO!$A11:$AY636,6,FALSE),0)","v":31},{"$f":"IFERROR(VLOOKUP($A17,FILTRO!$A11:$AY636,7,FALSE),0)","v":24},{"$f":"IFERROR(VLOOKUP($A17,FILTRO!$A11:$AY636,8,FALSE),0)","v":37},{"$f":"IFERROR(VLOOKUP($A17,FILTRO!$A11:$AY636,9,FALSE),0)","v":45},{"$f":"IFERROR(VLOOKUP($A17,FILTRO!$A11:$AY636,10,FALSE),0)","v":69},{"$f":"IFERROR(VLOOKUP($A17,FILTRO!$A11:$AY636,11,FALSE),0)","v":49},{"$f":"IFERROR(VLOOKUP($A17,FILTRO!$A11:$AY636,12,FALSE),0)","v":129},{"$f":"IFERROR(VLOOKUP($A17,FILTRO!$A11:$AY636,13,FALSE),0)","v":46},{"$f":"IFERROR(VLOOKUP($A17,FILTRO!$A11:$AY636,14,FALSE),0)","v":115},{"$f":"IFERROR(VLOOKUP($A17,FILTRO!$A11:$AY636,15,FALSE),0)","v":43},{"$f":"IFERROR(VLOOKUP($A17,FILTRO!$A11:$AY636,16,FALSE),0)","v":91},{"$f":"IFERROR(VLOOKUP($A17,FILTRO!$A11:$AY636,17,FALSE),0)","v":7},{"$f":"IFERROR(VLOOKUP($A17,FILTRO!$A11:$AY636,18,FALSE),0)","v":28},{"$f":"IFERROR(VLOOKUP($A17,FILTRO!$A11:$AY636,19,FALSE),0)","v":5},{"$f":"IFERROR(VLOOKUP($A17,FILTRO!$A11:$AY636,20,FALSE),0)","v":2},{"$f":"IFERROR(VLOOKUP($A17,FILTRO!$A11:$AY636,21,FALSE),0)","v":2},{"$f":"IFERROR(VLOOKUP($A17,FILTRO!$A11:$AY636,22,FALSE),0)","v":4},{"$f":"IFERROR(VLOOKUP($A17,FILTRO!$A11:$AY636,23,FALSE),0)","v":0},{"$f":"IFERROR(VLOOKUP($A17,FILTRO!$A11:$AY636,24,FALSE),0)","v":0},{"$f":"IFERROR(VLOOKUP($A17,FILTRO!$A11:$AY636,25,FALSE),0)","v":22},{"$f":"IFERROR(VLOOKUP($A17,FILTRO!$A11:$AY636,26,FALSE),0)","v":20},{"$nulls":9},{"$f":"IF($E17>=$W17,\"\",\"* La celda 'Pueblos Originarios / Hombres' debe ser menor o igual al Total de Hombres en control. \")","v":""},{"$f":"IF($F17>=$X17,\"\",\"* La celda 'Pueblos Originarios / Mujeres' debe ser menor o igual al Total de Mujeres en control. \")","v":""},{"$f":"IF($E17>=$Y17,\"\",\"* La celda 'Población Migrantes / Hombres' debe ser menor o igual al Total de Hombres en control. \")","v":""},{"$f":"IF($F17>=$Z17,\"\",\"* La celda 'Población Migrantes / Mujeres' debe ser menor o igual al Total de Mujeres en control. \")","v":""},{"$f":"IF(AND($E17<>0,$W17=\"\"),\"* No olvide escribir en las celdas de 'Pueblos Originarios' (Digite CERO si no tiene). \",IF(AND(F17<>0,X17=\"\"),\"* No olvide escribir en las celdas de 'Pueblos Originarios' (Digite CERO si no tiene). \",\"\"))","v":""},{"$f":"IF(AND($E17<>0,$Y17=\"\"),\"* No olvide escribir en las celdas de 'Población Migrantes' (Digite CERO si no tiene). \",IF(AND(F17<>0,Z17=\"\"),\"* No olvide escribir en las celdas de 'Población Migrantes' (Digite CERO si no tiene). \",\"\"))","v":""},null,{"$f":"IF($E17>=$W17,0,1)","v":0},{"$f":"IF($F17>=$X17,0,1)","v":0},{"$f":"IF($E17>=$Y17,0,1)","v":0},{"$f":"IF($F17>=$Z17,0,1)","v":0},{"$f":"IF(AND(E17<>0,W17=\"\"),1,IF(AND(F17<>0,X17=\"\"),1,0))","v":0},{"$f":"IF(AND(E17<>0,Y17=\"\"),1,IF(AND(F17<>0,Z17=\"\"),1,0))","v":0}]
["P5300520","DEPENDIENTE GRAVE ",null,{"$f":"IFERROR(VLOOKUP($A18,FILTRO!$A12:$AY637,2,FALSE),0)","v":844},{"$f":"IFERROR(VLOOKUP($A18,FILTRO!$A12:$AY637,3,FALSE),0)","v":261},{"$f":"IFERROR(VLOOKUP($A18,FILTRO!$A12:$AY637,4,FALSE),0)","v":583},{"$f":"IFERROR(VLOOKUP($A18,FILTRO!$A12:$AY637,5,FALSE),0)","v":33},{"$f":"IFERROR(VLOOKUP($A18,FILTRO!$A12:$AY637,6,FALSE),0)","v":22},{"$f":"IFERROR(VLOOKUP($A18,FILTRO!$A12:$AY637,7,FALSE),0)","v":27},{"$f":"IFERROR(VLOOKUP($A18,FILTRO!$A12:$AY637,8,FALSE),0)","v":53},{"$f":"IFERROR(VLOOKUP($A18,FILTRO!$A12:$AY637,9,FALSE),0)","v":48},{"$f":"IFERROR(VLOOKUP($A18,FILTRO!$A12:$AY637,10,FALSE),0)","v":82},{"$f":"IFERROR(VLOOKUP($A18,FILTRO!$A12:$AY637,11,FALSE),0)","v":54},{"$f":"IFERROR(VLOOKUP($A18,FILTRO!$A12:$AY637,12,FALSE),0)","v":122},{"$f":"IFERROR(VLOOKUP($A18,FILTRO!$A12:$AY637,13,FALSE),0)","v":52},{"$f":"IFERROR(VLOOKUP($A18,FILTRO!$A12:$AY637,14,FALSE),0)","v":132},{"$f":"IFERROR(VLOOKUP($A18,FILTRO!$A12:$AY637,15,FALSE),0)","v":29},{"$f":"IFERROR(VLOOKUP($A18,FILTRO!$A12:$AY637,16,FALSE),0)","v":109},{"$f":"IFERROR(VLOOKUP($A18,FILTRO!$A12:$AY637,17,FALSE),0)","v":16},{"$f":"IFERROR(VLOOKUP($A18,FILTRO!$A12:$AY637,18,FALSE),0)","v":57},{"$f":"IFERROR(VLOOKUP($A18,FILTRO!$A12:$AY637,19,FALSE),0)","v":2},{"$f":"IFERROR(VLOOKUP($A18,FILTRO!$A12:$AY637,20,FALSE),0)","v":6},{"$f":"IFERROR(VLOOKUP($A18,FILTRO!$A12:$AY637,21,FALSE),0)","v":0},{"$f":"IFERROR(VLOOKUP($A18,FILTRO!$A12:$AY637,22,FALSE),0)","v":2},{"$f":"IFERROR(VLOOKUP($A18,FILTRO!$A12:$AY637,23,FALSE),0)","v":0},{"$f":"IFERROR(VLOOKUP($A18,FILTRO!$A12:$AY637,24,FALSE),0)","v":1},{"$f":"IFERROR(VLOOKUP($A18,FILTRO!$A12:$AY637,25,FALSE),0)","v":15},{"$f":"IFERROR(VLOOKUP($A18,FILTRO!$A12:$AY637,26,FALSE),0)","v":30},{"$nulls":9},{"$f":"IF($E18>=$W18,\"\",\"* La celda 'Pueblos Originarios / Hombres' debe ser menor o igual al Total de Hombres en control. \")","v":""},{"$f":"IF($F18>=$X18,\"\",\"* La celda 'Pueblos Originarios / Mujeres' debe ser menor o igual al Total de Mujeres en control. \")","v":""},{"$f":"IF($E18>=$Y18,\"\",\"* La celda 'Población Migrantes / Hombres' debe ser menor o igual al Total de Hombres en control. \")","v":""},{"$f":"IF($F18>=$Z18,\"\",\"* La celda 'Población Migrantes / Mujeres' debe ser menor o igual al Total de Mujeres en control. \")","v":""},{"$f":"IF(AND($E18<>0,$W18=\"\"),\"* No olvide escribir en las celdas de 'Pueblos Originarios' (Digite CERO si no tiene). \",IF(AND(F18<>0,X18=\"\"),\"* No olvide escribir en las celdas de 'Pueblos Originarios' (Digite CERO si no tiene). \",\"\"))","v":""},{"$f":"IF(AND($E18<>0,$Y18=\"\"),\"* No olvide escribir en las celdas de 'Población Migrantes' (Digite CERO si no tiene). \",IF(AND(F18<>0,Z18=\"\"),\"* No olvide escribir en las celdas de 'Población Migrantes' (Digite CERO si no tiene). \",\"\"))","v":""},null,{"$f":"IF($E18>=$W18,0,1)","v":0},{"$f":"IF($F18>=$X18,0,1)","v":0},{"$f":"IF($E18>=$Y18,0,1)","v":0},{"$f":"IF($F18>=$Z18,0,1)","v":0},{"$f":"IF(AND(E18<>0,W18=\"\"),1,IF(AND(F18<>0,X18=\"\"),1,0))","v":0},{"$f":"IF(AND(E18<>0,Y18=\"\"),1,IF(AND(F18<>0,Z18=\"\"),1,0))","v":0}]
["P5300530","DEPENDIENTE TOTAL",null,{"$f":"IFERROR(VLOOKUP($A19,FILTRO!$A13:$AY638,2,FALSE),0)","v":915},{"$f":"IFERROR(VLOOKUP($A19,FILTRO!$A13:$AY638,3,FALSE),0)","v":283},{"$f":"IFERROR(VLOOKUP($A19,FILTRO!$A13:$AY638,4,FALSE),0)","v":632},{"$f":"IFERROR(VLOOKUP($A19,FILTRO!$A13:$AY638,5,FALSE),0)","v":38},{"$f":"IFERROR(VLOOKUP($A19,FILTRO!$A13:$AY638,6,FALSE),0)","v":31},{"$f":"IFERROR(VLOOKUP($A19,FILTRO!$A13:$AY638,7,FALSE),0)","v":36},{"$f":"IFERROR(VLOOKUP($A19,FILTRO!$A13:$AY638,8,FALSE),0)","v":45},{"$f":"IFERROR(VLOOKUP($A19,FILTRO!$A13:$AY638,9,FALSE),0)","v":41},{"$f":"IFERROR(VLOOKUP($A19,FILTRO!$A13:$AY638,10,FALSE),0)","v":134},{"$f":"IFERROR(VLOOKUP($A19,FILTRO!$A13:$AY638,11,FALSE),0)","v":72},{"$f":"IFERROR(VLOOKUP($A19,FILTRO!$A13:$AY638,12,FALSE),0)","v":150},{"$f":"IFERROR(VLOOKUP($A19,FILTRO!$A13:$AY638,13,FALSE),0)","v":55},{"$f":"IFERROR(VLOOKUP($A19,FILTRO!$A13:$AY638,14,FALSE),0)","v":113},{"$f":"IFERROR(VLOOKUP($A19,FILTRO!$A13:$AY638,15,FALSE),0)","v":26},{"$f":"IFERROR(VLOOKUP($A19,FILTRO!$A13:$AY638,16,FALSE),0)","v":104},{"$f":"IFERROR(VLOOKUP($A19,FILTRO!$A13:$AY638,17,FALSE),0)","v":9},{"$f":"IFERROR(VLOOKUP($A19,FILTRO!$A13:$AY638,18,FALSE),0)","v":41},{"$f":"IFERROR(VLOOKUP($A19,FILTRO!$A13:$AY638,19,FALSE),0)","v":6},{"$f":"IFERROR(VLOOKUP($A19,FILTRO!$A13:$AY638,20,FALSE),0)","v":14},{"$f":"IFERROR(VLOOKUP($A19,FILTRO!$A13:$AY638,21,FALSE),0)","v":0},{"$f":"IFERROR(VLOOKUP($A19,FILTRO!$A13:$AY638,22,FALSE),0)","v":0},{"$f":"IFERROR(VLOOKUP($A19,FILTRO!$A13:$AY638,23,FALSE),0)","v":0},{"$f":"IFERROR(VLOOKUP($A19,FILTRO!$A13:$AY638,24,FALSE),0)","v":1},{"$f":"IFERROR(VLOOKUP($A19,FILTRO!$A13:$AY638,25,FALSE),0)","v":31},{"$f":"IFERROR(VLOOKUP($A19,FILTRO!$A13:$AY638,26,FALSE),0)","v":50},{"$nulls":9},{"$f":"IF($E19>=$W19,\"\",\"* La celda 'Pueblos Originarios / Hombres' debe ser menor o igual al Total de Hombres en control. \")","v":""},{"$f":"IF($F19>=$X19,\"\",\"* La celda 'Pueblos Originarios / Mujeres' debe ser menor o igual al Total de Mujeres en control. \")","v":""},{"$f":"IF($E19>=$Y19,\"\",\"* La celda 'Población Migrantes / Hombres' debe ser menor o igual al Total de Hombres en control. \")","v":""},{"$f":"IF($F19>=$Z19,\"\",\"* La celda 'Población Migrantes / Mujeres' debe ser menor o igual al Total de Mujeres en control. \")","v":""},{"$f":"IF(AND($E19<>0,$W19=\"\"),\"* No olvide escribir en las celdas de 'Pueblos Originarios' (Digite CERO si no tiene). \",IF(AND(F19<>0,X19=\"\"),\"* No olvide escribir en las celdas de 'Pueblos Originarios' (Digite CERO si no tiene). \",\"\"))","v":""},{"$f":"IF(AND($E19<>0,$Y19=\"\"),\"* No olvide escribir en las celdas de 'Población Migrantes' (Digite CERO si no tiene). \",IF(AND(F19<>0,Z19=\"\"),\"* No olvide escribir en las celdas de 'Población Migrantes' (Digite CERO si no tiene). \",\"\"))","v":""},null,{"$f":"IF($E19>=$W19,0,1)","v":0},{"$f":"IF($F19>=$X19,0,1)","v":0},{"$f":"IF($E19>=$Y19,0,1)","v":0},{"$f":"IF($F19>=$Z19,0,1)","v":0},{"$f":"IF(AND(E19<>0,W19=\"\"),1,IF(AND(F19<>0,X19=\"\"),1,0))","v":0},{"$f":"IF(AND(E19<>0,Y19=\"\"),1,IF(AND(F19<>0,Z19=\"\"),1,0))","v":0}]
[null,"SUBTOTAL (INDICE BARTHEL)",null,{"$f":"SUM(E20:F20)","v":6053},{"$f":"+G20+I20+K20+M20+O20+Q20+S20+U20","v":1985},{"$f":"+H20+J20+L20+N20+P20+R20+T20+V20","v":4068},{"$f":"SUM(G16:G19)","v":250},{"$f":"SUM(H16:H19)","v":343},245,476,355,741,457,924,{"$f":"SUM(O16:O19)","v":373},807,{"$f":"SUM(Q16:Q19)","v":228},569,{"$f":"SUM(S16:S19)","v":59},178,18,30,{"$f":"SUM(W16:W19)","v":9},{"$f":"SUM(X16:X19)","v":11},1,{"$f":"SUM(Z16:Z19)","v":4},{"$f":"SUM(AA16:AA19)","v":113},{"$f":"SUM(AB16:AB19)","v":152}]
[null,"TOTAL PERSONAS MAYORES EN CONTROL",null,{"$f":"SUM(E21:F21)","v":30565},{"$f":"+G21+I21+K21+M21+O21+Q21+S21+U21","v":11985},{"$f":"+H21+J21+L21+N21+P21+R21+T21+V21","v":18580},{"$f":"+G15+G20","v":2827},{"$f":"+H15+H20","v":4459},2881,4212,2543,3728,1985,3062,{"$f":"+O15+O20","v":1133},1847,{"$f":"+Q15+Q20","v":485},977,{"$f":"+S15+S20","v":104},254,27,41,{"$f":"+W15+W20","v":55},{"$f":"+X15+X20","v":69},20,{"$f":"+Z15+Z20","v":20},{"$f":"+AA15+AA20","v":132},{"$f":"+AB15+AB20","v":167}]
[null,"SECCION A.1: EXISTENCIA DE POBLACIÓN EN CONTROL EN PROGRAMA \"MÁS ADULTOS MAYORES AUTOVALENTES\" POR CONDICIÓN DE FUNCIONALIDAD"]
[null,"CONDICIÓN DE \nFUNCIONALIDAD",null,"TOTAL",null,null,"GRUPO DE EDAD (en años) Y SEXO",{"$nulls":17},"Pueblos Originarios",null," Migrantes",{"$nulls":8},"Pueblos Originarios",null,"Población Migrantes",null,"Pueblos Originarios","Población Migrantes",null,"Pueblos Originarios",null,"Población Migrantes",null,"Pueblos Originarios","Población Migrantes"]
[{"$nulls":6},"60 a 64 años",null,"65 a 69 años",null,"70 a 74 años",null,"75 a 79 años",null,"80 a 84 años",null,"85 a 89 años",null,"90 a 94 años",null,"95 a 99 años",null,"100 y mas años"]
[{"$nulls":3},"Ambos\nsexos","Hombres","Mujeres","Hombres ","Mujeres","Hombres ","Mujeres","Hombres ","Mujeres","Hombres ","Mujeres","Hombres ","Mujeres","Hombres ","Mujeres","Hombres ","Mujeres","Hombres ","Mujeres","Hombres ","Mujeres","Hombres","Mujeres","Hombres","Mujeres",{"$nulls":7},"Hombres","Mujeres","Hombres","Mujeres","No Olvide","No Olvide",null,"Hombres","Mujeres","Hombres","Mujeres","No Olvide","No Olvide"]
["P5300570","AUTOVALENTE SIN RIESGO",null,{"$f":"IFERROR(VLOOKUP($A26,FILTRO!$A20:$AY645,2,FALSE),0)","v":3197},{"$f":"IFERROR(VLOOKUP($A26,FILTRO!$A20:$AY645,3,FALSE),0)","v":619},{"$f":"IFERROR(VLOOKUP($A26,FILTRO!$A20:$AY645,4,FALSE),0)","v":2578},{"$f":"IFERROR(VLOOKUP($A26,FILTRO!$A20:$AY645,5,FALSE),0)","v":88},{"$f":"IFERROR(VLOOKUP($A26,FILTRO!$A20:$AY645,6,FALSE),0)","v":595},{"$f":"IFERROR(VLOOKUP($A26,FILTRO!$A20:$AY645,7,FALSE),0)","v":135},{"$f":"IFERROR(VLOOKUP($A26,FILTRO!$A20:$AY645,8,FALSE),0)","v":699},{"$f":"IFERROR(VLOOKUP($A26,FILTRO!$A20:$AY645,9,FALSE),0)","v":167},{"$f":"IFERROR(VLOOKUP($A26,FILTRO!$A20:$AY645,10,FALSE),0)","v":552},{"$f":"IFERROR(VLOOKUP($A26,FILTRO!$A20:$AY645,11,FALSE),0)","v":134},{"$f":"IFERROR(VLOOKUP($A26,FILTRO!$A20:$AY645,12,FALSE),0)","v":442},{"$f":"IFERROR(VLOOKUP($A26,FILTRO!$A20:$AY645,13,FALSE),0)","v":60},{"$f":"IFERROR(VLOOKUP($A26,FILTRO!$A20:$AY645,14,FALSE),0)","v":195},{"$f":"IFERROR(VLOOKUP($A26,FILTRO!$A20:$AY645,15,FALSE),0)","v":30},{"$f":"IFERROR(VLOOKUP($A26,FILTRO!$A20:$AY645,16,FALSE),0)","v":74},{"$f":"IFERROR(VLOOKUP($A26,FILTRO!$A20:$AY645,17,FALSE),0)","v":4},{"$f":"IFERROR(VLOOKUP($A26,FILTRO!$A20:$AY645,18,FALSE),0)","v":17},{"$f":"IFERROR(VLOOKUP($A26,FILTRO!$A20:$AY645,19,FALSE),0)","v":1},{"$f":"IFERROR(VLOOKUP($A26,FILTRO!$A20:$AY645,20,FALSE),0)","v":3},{"$f":"IFERROR(VLOOKUP($A26,FILTRO!$A20:$AY645,21,FALSE),0)","v":0},{"$f":"IFERROR(VLOOKUP($A26,FILTRO!$A20:$AY645,22,FALSE),0)","v":1},{"$f":"IFERROR(VLOOKUP($A26,FILTRO!$A20:$AY645,23,FALSE),0)","v":4},{"$f":"IFERROR(VLOOKUP($A26,FILTRO!$A20:$AY645,24,FALSE),0)","v":13},{"$f":"IFERROR(VLOOKUP($A26,FILTRO!$A20:$AY645,25,FALSE),0)","v":1},{"$f":"IFERROR(VLOOKUP($A26,FILTRO!$A20:$AY645,26,FALSE),0)","v":3},{"$nulls":7},{"$f":"IF($E26>=$Y26,\"\",\"* La celda 'Pueblos Originarios / Hombres' debe ser menor o igual al Total de Hombres en control. \")","v":""},{"$f":"IF($F26>=$Z26,\"\",\"* La celda 'Pueblos Originarios / Mujeres' debe ser menor o igual al Total de Mujeres en control. \")","v":""},{"$f":"IF($E26>=$AA26,\"\",\"* La celda 'Población Migrantes / Hombres' debe ser menor o igual al Total de Hombres en control. \")","v":""},{"$f":"IF($F26>=$AB26,\"\",\"* La celda 'Población Migrantes / Mujeres' debe ser menor o igual al Total de Mujeres en control. \")","v":""},{"$f":"IF(AND($E26<>0,$Y26=\"\"),\"* No olvide escribir en las celdas de 'Pueblos Originarios' (Digite CERO si no tiene). \",IF(AND(F26<>0,Z26=\"\"),\"* No olvide escribir en las celdas de 'Pueblos Originarios' (Digite CERO si no tiene). \",\"\"))","v":""},{"$f":"IF(AND($E26<>0,$AA26=\"\"),\"* No olvide escribir en las celdas de 'Población Migrantes' (Digite CERO si no tiene). \",IF(AND(F26<>0,AB26=\"\"),\"* No olvide escribir en las celdas de 'Población Migrantes' (Digite CERO si no tiene). \",\"\"))","v":""},null,{"$f":"IF($E26>=$Y26,0,1)","v":0},{"$f":"IF($F26>=$Z26,0,1)","v":0},{"$f":"IF($E26>=$AA26,0,1)","v":0},{"$f":"IF($F26>=$AB26,0,1)","v":0},{"$f":"IF(AND(E26<>0,Y26=\"\"),1,IF(AND(F26<>0,Z26=\"\"),1,0))","v":0},{"$f":"IF(AND(E26<>0,AA26=\"\"),1,IF(AND(F26<>0,AB26=\"\"),1,0))","v":0}]
["P5300580","AUTOVALENTE CON RIESGO",null,{"$f":"IFERROR(VLOOKUP($A27,FILTRO!$A21:$AY646,2,FALSE),0)","v":1350},{"$f":"IFERROR(VLOOKUP($A27,FILTRO!$A21:$AY646,3,FALSE),0)","v":284},{"$f":"IFERROR(VLOOKUP($A27,FILTRO!$A21:$AY646,4,FALSE),0)","v":1066},{"$f":"IFERROR(VLOOKUP($A27,FILTRO!$A21:$AY646,5,FALSE),0)","v":0},{"$f":"IFERROR(VLOOKUP($A27,FILTRO!$A21:$AY646,6,FALSE),0)","v":0},{"$f":"IFERROR(VLOOKUP($A27,FILTRO!$A21:$AY646,7,FALSE),0)","v":56},{"$f":"IFERROR(VLOOKUP($A27,FILTRO!$A21:$AY646,8,FALSE),0)","v":270},{"$f":"IFERROR(VLOOKUP($A27,FILTRO!$A21:$AY646,9,FALSE),0)","v":74},{"$f":"IFERROR(VLOOKUP($A27,FILTRO!$A21:$AY646,10,FALSE),0)","v":318},{"$f":"IFERROR(VLOOKUP($A27,FILTRO!$A21:$AY646,11,FALSE),0)","v":69},{"$f":"IFERROR(VLOOKUP($A27,FILTRO!$A21:$AY646,12,FALSE),0)","v":266},{"$f":"IFERROR(VLOOKUP($A27,FILTRO!$A21:$AY646,13,FALSE),0)","v":63},{"$f":"IFERROR(VLOOKUP($A27,FILTRO!$A21:$AY646,14,FALSE),0)","v":161},{"$f":"IFERROR(VLOOKUP($A27,FILTRO!$A21:$AY646,15,FALSE),0)","v":20},{"$f":"IFERROR(VLOOKUP($A27,FILTRO!$A21:$AY646,16,FALSE),0)","v":47},{"$f":"IFERROR(VLOOKUP($A27,FILTRO!$A21:$AY646,17,FALSE),0)","v":2},{"$f":"IFERROR(VLOOKUP($A27,FILTRO!$A21:$AY646,18,FALSE),0)","v":4},{"$f":"IFERROR(VLOOKUP($A27,FILTRO!$A21:$AY646,19,FALSE),0)","v":0},{"$f":"IFERROR(VLOOKUP($A27,FILTRO!$A21:$AY646,20,FALSE),0)","v":0},{"$f":"IFERROR(VLOOKUP($A27,FILTRO!$A21:$AY646,21,FALSE),0)","v":0},{"$f":"IFERROR(VLOOKUP($A27,FILTRO!$A21:$AY646,22,FALSE),0)","v":0},{"$f":"IFERROR(VLOOKUP($A27,FILTRO!$A21:$AY646,23,FALSE),0)","v":0},{"$f":"IFERROR(VLOOKUP($A27,FILTRO!$A21:$AY646,24,FALSE),0)","v":6},{"$f":"IFERROR(VLOOKUP($A27,FILTRO!$A21:$AY646,25,FALSE),0)","v":0},{"$f":"IFERROR(VLOOKUP($A27,FILTRO!$A21:$AY646,26,FALSE),0)","v":0},{"$nulls":7},{"$f":"IF($E27>=$Y27,\"\",\"* La celda 'Pueblos Originarios / Hombres' debe ser menor o igual al Total de Hombres en control. \")","v":""},{"$f":"IF($F27>=$Z27,\"\",\"* La celda 'Pueblos Originarios / Mujeres' debe ser menor o igual al Total de Mujeres en control. \")","v":""},{"$f":"IF($E27>=$AA27,\"\",\"* La celda 'Población Migrantes / Hombres' debe ser menor o igual al Total de Hombres en control. \")","v":""},{"$f":"IF($F27>=$AB27,\"\",\"* La celda 'Población Migrantes / Mujeres' debe ser menor o igual al Total de Mujeres en control. \")","v":""},{"$f":"IF(AND($E27<>0,$Y27=\"\"),\"* No olvide escribir en las celdas de 'Pueblos Originarios' (Digite CERO si no tiene). \",IF(AND(F27<>0,Z27=\"\"),\"* No olvide escribir en las celdas de 'Pueblos Originarios' (Digite CERO si no tiene). \",\"\"))","v":""},{"$f":"IF(AND($E27<>0,$AA27=\"\"),\"* No olvide escribir en las celdas de 'Población Migrantes' (Digite CERO si no tiene). \",IF(AND(F27<>0,AB27=\"\"),\"* No olvide escribir en las celdas de 'Población Migrantes' (Digite CERO si no tiene). \",\"\"))","v":""},null,{"$f":"IF($E27>=$Y27,0,1)","v":0},{"$f":"IF($F27>=$Z27,0,1)","v":0},{"$f":"IF($E27>=$AA27,0,1)","v":0},{"$f":"IF($F27>=$AB27,0,1)","v":0},{"$f":"IF(AND(E27<>0,Y27=\"\"),1,IF(AND(F27<>0,Z27=\"\"),1,0))","v":0},{"$f":"IF(AND(E27<>0,AA27=\"\"),1,IF(AND(F27<>0,AB27=\"\"),1,0))","v":0}]
["P5300590","RIESGO DE DEPENDENCIA ",null,{"$f":"IFERROR(VLOOKUP($A28,FILTRO!$A22:$AY647,2,FALSE),0)","v":374},{"$f":"IFERROR(VLOOKUP($A28,FILTRO!$A22:$AY647,3,FALSE),0)","v":85},{"$f":"IFERROR(VLOOKUP($A28,FILTRO!$A22:$AY647,4,FALSE),0)","v":289},{"$f":"IFERROR(VLOOKUP($A28,FILTRO!$A22:$AY647,5,FALSE),0)","v":0},{"$f":"IFERROR(VLOOKUP($A28,FILTRO!$A22:$AY647,6,FALSE),0)","v":0},{"$f":"IFERROR(VLOOKUP($A28,FILTRO!$A22:$AY647,7,FALSE),0)","v":9},{"$f":"IFERROR(VLOOKUP($A28,FILTRO!$A22:$AY647,8,FALSE),0)","v":27},{"$f":"IFERROR(VLOOKUP($A28,FILTRO!$A22:$AY647,9,FALSE),0)","v":12},{"$f":"IFERROR(VLOOKUP($A28,FILTRO!$A22:$AY647,10,FALSE),0)","v":58},{"$f":"IFERROR(VLOOKUP($A28,FILTRO!$A22:$AY647,11,FALSE),0)","v":17},{"$f":"IFERROR(VLOOKUP($A28,FILTRO!$A22:$AY647,12,FALSE),0)","v":65},{"$f":"IFERROR(VLOOKUP($A28,FILTRO!$A22:$AY647,13,FALSE),0)","v":24},{"$f":"IFERROR(VLOOKUP($A28,FILTRO!$A22:$AY647,14,FALSE),0)","v":84},{"$f":"IFERROR(VLOOKUP($A28,FILTRO!$A22:$AY647,15,FALSE),0)","v":14},{"$f":"IFERROR(VLOOKUP($A28,FILTRO!$A22:$AY647,16,FALSE),0)","v":39},{"$f":"IFERROR(VLOOKUP($A28,FILTRO!$A22:$AY647,17,FALSE),0)","v":8},{"$f":"IFERROR(VLOOKUP($A28,FILTRO!$A22:$AY647,18,FALSE),0)","v":12},{"$f":"IFERROR(VLOOKUP($A28,FILTRO!$A22:$AY647,19,FALSE),0)","v":1},{"$f":"IFERROR(VLOOKUP($A28,FILTRO!$A22:$AY647,20,FALSE),0)","v":2},{"$f":"IFERROR(VLOOKUP($A28,FILTRO!$A22:$AY647,21,FALSE),0)","v":0},{"$f":"IFERROR(VLOOKUP($A28,FILTRO!$A22:$AY647,22,FALSE),0)","v":2},{"$f":"IFERROR(VLOOKUP($A28,FILTRO!$A22:$AY647,23,FALSE),0)","v":0},{"$f":"IFERROR(VLOOKUP($A28,FILTRO!$A22:$AY647,24,FALSE),0)","v":1},{"$f":"IFERROR(VLOOKUP($A28,FILTRO!$A22:$AY647,25,FALSE),0)","v":0},{"$f":"IFERROR(VLOOKUP($A28,FILTRO!$A22:$AY647,26,FALSE),0)","v":1},{"$nulls":7},{"$f":"IF($E28>=$Y28,\"\",\"* La celda 'Pueblos Originarios / Hombres' debe ser menor o igual al Total de Hombres en control. \")","v":""},{"$f":"IF($F28>=$Z28,\"\",\"* La celda 'Pueblos Originarios / Mujeres' debe ser menor o igual al Total de Mujeres en control. \")","v":""},{"$f":"IF($E28>=$AA28,\"\",\"* La celda 'Población Migrantes / Hombres' debe ser menor o igual al Total de Hombres en control. \")","v":""},{"$f":"IF($F28>=$AB28,\"\",\"* La celda 'Población Migrantes / Mujeres' debe ser menor o igual al Total de Mujeres en control. \")","v":""},{"$f":"IF(AND($E28<>0,$Y28=\"\"),\"* No olvide escribir en las celdas de 'Pueblos Originarios' (Digite CERO si no tiene). \",IF(AND(F28<>0,Z28=\"\"),\"* No olvide escribir en las celdas de 'Pueblos Originarios' (Digite CERO si no tiene). \",\"\"))","v":""},{"$f":"IF(AND($E28<>0,$AA28=\"\"),\"* No olvide escribir en las celdas de 'Población Migrantes' (Digite CERO si no tiene). \",IF(AND(F28<>0,AB28=\"\"),\"* No olvide escribir en las celdas de 'Población Migrantes' (Digite CERO si no tiene). \",\"\"))","v":""},null,{"$f":"IF($E28>=$Y28,0,1)","v":0},{"$f":"IF($F28>=$Z28,0,1)","v":0},{"$f":"IF($E28>=$AA28,0,1)","v":0},{"$f":"IF($F28>=$AB28,0,1)","v":0},{"$f":"IF(AND(E28<>0,Y28=\"\"),1,IF(AND(F28<>0,Z28=\"\"),1,0))","v":0},{"$f":"IF(AND(E28<>0,AA28=\"\"),1,IF(AND(F28<>0,AB28=\"\"),1,0))","v":0}]
[null,"TOTAL (EFAM)",null,{"$f":"SUM(E29:F29)","v":4921},{"$f":"+G29+I29+K29+M29+O29+Q29+S29+U29+W29","v":988},{"$f":"+H29+J29+L29+N29+P29+R29+T29+V29+X29","v":3933},{"$f":"SUM(G26)","v":88},{"$f":"SUM(H26)","v":595},{"$f":"SUM(I26:I28)","v":200},{"$f":"SUM(J26:J28)","v":996},253,928,220,773,147,440,{"$f":"SUM(Q26:Q28)","v":64},160,14,33,2,5,{"$f":"SUM(W26:W28)","v":0},3,{"$f":"SUM(Y26:Y28)","v":4},{"$f":"SUM(Z26:Z28)","v":20},{"$f":"SUM(AA26:AA28)","v":1},{"$f":"SUM(AB26:AB28)","v":4}]
[null,"SECCION B: POBLACIÓN BAJO CONTROL POR ESTADO NUTRICIONAL"]
[null,"ESTADO NUTRICIONAL",null,"TOTAL",null,null,"GRUPO DE EDAD (en años) Y SEXO",{"$nulls":15},"Pueblos Originarios",null,"Migrantes",null,"Personas Mayores en ELEAM",{"$nulls":9},"Pueblos Originarios",null,"Población Migrantes",null,"Pueblos Originarios","Población Migrantes",null,"Pueblos Originarios",null,"Población Migrantes",null,"Pueblos Originarios","Población Migrantes",{"$nulls":3},"Personas Mayores en ELEAM"]
[{"$nulls":6},"65 a 69 años",null,"70 a 74 años",null,"75 a 79 años",null,"80 a 84 años",null,"85 a 89 años",null,"90 a 94 años",null,"95 a 99 años",null,"100 y mas años"]
[{"$nulls":3},"Ambos\nsexos","Hombres","Mujeres","Hombres ","Mujeres","Hombres ","Mujeres","Hombres ","Mujeres","Hombres","Mujeres","Hombres ","Mujeres","Hombres ","Mujeres","Hombres","Mujeres","Hombres","Mujeres","Hombres","Mujeres","Hombres","Mujeres","Hombres","Mujeres",{"$nulls":8},"Hombres","Mujeres","Hombres","Mujeres","No Olvide","No Olvide",null,"Hombres","Mujeres","Hombres","Mujeres","No Olvide","No Olvide",{"$nulls":3},"Hombres","Mujeres"]
["P5190200","BAJO PESO",null,{"$f":"IFERROR(VLOOKUP($A34,FILTRO!$A28:$AY653,2,FALSE),0)","v":2965},{"$f":"IFERROR(VLOOKUP($A34,FILTRO!$A28:$AY653,3,FALSE),0)","v":1191},{"$f":"IFERROR(VLOOKUP($A34,FILTRO!$A28:$AY653,4,FALSE),0)","v":1774},{"$f":"IFERROR(VLOOKUP($A34,FILTRO!$A28:$AY653,5,FALSE),0)","v":200},{"$f":"IFERROR(VLOOKUP($A34,FILTRO!$A28:$AY653,6,FALSE),0)","v":260},{"$f":"IFERROR(VLOOKUP($A34,FILTRO!$A28:$AY653,7,FALSE),0)","v":237},{"$f":"IFERROR(VLOOKUP($A34,FILTRO!$A28:$AY653,8,FALSE),0)","v":313},{"$f":"IFERROR(VLOOKUP($A34,FILTRO!$A28:$AY653,9,FALSE),0)","v":245},{"$f":"IFERROR(VLOOKUP($A34,FILTRO!$A28:$AY653,10,FALSE),0)","v":296},{"$f":"IFERROR(VLOOKUP($A34,FILTRO!$A28:$AY653,11,FALSE),0)","v":247},{"$f":"IFERROR(VLOOKUP($A34,FILTRO!$A28:$AY653,12,FALSE),0)","v":374},{"$f":"IFERROR(VLOOKUP($A34,FILTRO!$A28:$AY653,13,FALSE),0)","v":160},{"$f":"IFERROR(VLOOKUP($A34,FILTRO!$A28:$AY653,14,FALSE),0)","v":276},{"$f":"IFERROR(VLOOKUP($A34,FILTRO!$A28:$AY653,15,FALSE),0)","v":76},{"$f":"IFERROR(VLOOKUP($A34,FILTRO!$A28:$AY653,16,FALSE),0)","v":175},{"$f":"IFERROR(VLOOKUP($A34,FILTRO!$A28:$AY653,17,FALSE),0)","v":21},{"$f":"IFERROR(VLOOKUP($A34,FILTRO!$A28:$AY653,18,FALSE),0)","v":64},{"$f":"IFERROR(VLOOKUP($A34,FILTRO!$A28:$AY653,19,FALSE),0)","v":5},{"$f":"IFERROR(VLOOKUP($A34,FILTRO!$A28:$AY653,20,FALSE),0)","v":16},{"$f":"IFERROR(VLOOKUP($A34,FILTRO!$A28:$AY653,21,FALSE),0)","v":0},{"$f":"IFERROR(VLOOKUP($A34,FILTRO!$A28:$AY653,22,FALSE),0)","v":3},{"$f":"IFERROR(VLOOKUP($A34,FILTRO!$A28:$AY653,23,FALSE),0)","v":2},{"$f":"IFERROR(VLOOKUP($A34,FILTRO!$A28:$AY653,24,FALSE),0)","v":0},{"$f":"IFERROR(VLOOKUP($A34,FILTRO!$A28:$AY653,25,FALSE),0)","v":26},{"$f":"IFERROR(VLOOKUP($A34,FILTRO!$A28:$AY653,26,FALSE),0)","v":57},{"$nulls":8},{"$f":"IF($E34>=$W34,\"\",\"* El Nº de hombres bajo peso de 'Pueblos Originarios' no debe ser mayor al Total hombres bajo peso en control. \")","v":""},{"$f":"IF($F34>=$X34,\"\",\"* El Nº de mujeres bajo peso de 'Pueblos Originarios' no debe ser mayor al Total mujeres bajo peso en control. \")","v":""},{"$f":"IF($E34>=$Y34,\"\",\"* El Nº de hombres bajo peso de Pueblos Migrantes no debe ser mayor al Total hombres bajo peso en control. \")","v":""},{"$f":"IF($F34>=$Z34,\"\",\"* El Nº de mujeres bajo peso de Pueblos Migrantes no debe ser mayor al Total mujeres bajo peso en control. \")","v":""},{"$f":"IF(AND(F34<>0,W34=\"\"),\"* No olvide escribir en la celda de 'Pueblos Originarios' (Digite CERO si no tiene). \",IF(AND(G34<>0,X34=\"\"),\"* No olvide escribir en la celda de 'Pueblos Originarios' (Digite CERO si no tiene). \",\"\"))","v":""},{"$f":"IF(AND(F34<>0,Y34=\"\"),\"* No olvide escribir en la celda de 'Población Migrantes' (Digite CERO si no tiene). \",IF(AND(G34<>0,Z34=\"\"),\"* No olvide escribir en la celda de 'Población Migrantes' (Digite CERO si no tiene). \",\"\"))","v":""},null,{"$f":"IF($E34>=$W34,0,1)","v":0},{"$f":"IF($F34>=$X34,0,1)","v":0},{"$f":"IF($E34>=$Y34,0,1)","v":0},{"$f":"IF($F34>=$Z34,0,1)","v":0},{"$f":"IF(AND(F34<>0,W34=\"\"),1,IF(AND(G34<>0,X34=\"\"),1,0))","v":0},{"$f":"IF(AND(F34<>0,Y34=\"\"),1,IF(AND(G34<>0,Z34=\"\"),1,0))","v":0}]
["P5190300","NORMAL",null,{"$f":"IFERROR(VLOOKUP($A35,FILTRO!$A29:$AY654,2,FALSE),0)","v":11175},{"$f":"IFERROR(VLOOKUP($A35,FILTRO!$A29:$AY654,3,FALSE),0)","v":5043},{"$f":"IFERROR(VLOOKUP($A35,FILTRO!$A29:$AY654,4,FALSE),0)","v":6132},{"$f":"IFERROR(VLOOKUP($A35,FILTRO!$A29:$AY654,5,FALSE),0)","v":1130},{"$f":"IFERROR(VLOOKUP($A35,FILTRO!$A29:$AY654,6,FALSE),0)","v":1515},{"$f":"IFERROR(VLOOKUP($A35,FILTRO!$A29:$AY654,7,FALSE),0)","v":1229},{"$f":"IFERROR(VLOOKUP($A35,FILTRO!$A29:$AY654,8,FALSE),0)","v":1284},{"$f":"IFERROR(VLOOKUP($A35,FILTRO!$A29:$AY654,9,FALSE),0)","v":1098},{"$f":"IFERROR(VLOOKUP($A35,FILTRO!$A29:$AY654,10,FALSE),0)","v":1235},{"$f":"IFERROR(VLOOKUP($A35,FILTRO!$A29:$AY654,11,FALSE),0)","v":837},{"$f":"IFERROR(VLOOKUP($A35,FILTRO!$A29:$AY654,12,FALSE),0)","v":983},{"$f":"IFERROR(VLOOKUP($A35,FILTRO!$A29:$AY654,13,FALSE),0)","v":469},{"$f":"IFERROR(VLOOKUP($A35,FILTRO!$A29:$AY654,14,FALSE),0)","v":660},{"$f":"IFERROR(VLOOKUP($A35,FILTRO!$A29:$AY654,15,FALSE),0)","v":225},{"$f":"IFERROR(VLOOKUP($A35,FILTRO!$A29:$AY654,16,FALSE),0)","v":347},{"$f":"IFERROR(VLOOKUP($A35,FILTRO!$A29:$AY654,17,FALSE),0)","v":47},{"$f":"IFERROR(VLOOKUP($A35,FILTRO!$A29:$AY654,18,FALSE),0)","v":95},{"$f":"IFERROR(VLOOKUP($A35,FILTRO!$A29:$AY654,19,FALSE),0)","v":8},{"$f":"IFERROR(VLOOKUP($A35,FILTRO!$A29:$AY654,20,FALSE),0)","v":13},{"$f":"IFERROR(VLOOKUP($A35,FILTRO!$A29:$AY654,21,FALSE),0)","v":23},{"$f":"IFERROR(VLOOKUP($A35,FILTRO!$A29:$AY654,22,FALSE),0)","v":16},{"$f":"IFERROR(VLOOKUP($A35,FILTRO!$A29:$AY654,23,FALSE),0)","v":8},{"$f":"IFERROR(VLOOKUP($A35,FILTRO!$A29:$AY654,24,FALSE),0)","v":8},{"$f":"IFERROR(VLOOKUP($A35,FILTRO!$A29:$AY654,25,FALSE),0)","v":51},{"$f":"IFERROR(VLOOKUP($A35,FILTRO!$A29:$AY654,26,FALSE),0)","v":51},{"$nulls":8},{"$f":"IF($E35>=$W35,\"\",\"* El Nº de hombres normal de 'Pueblos Originarios' no debe ser mayor al Total hombres normal en control. \")","v":""},{"$f":"IF($F35>=$X35,\"\",\"* El Nº de mujeres normal de 'Pueblos Originarios' no debe ser mayor al Total mujeres normal en control. \")","v":""},{"$f":"IF($E35>=$Y35,\"\",\"* El Nº de hombres normal de Pueblos Migrantes no debe ser mayor al Total hombres normal en control. \")","v":""},{"$f":"IF($F35>=$Z35,\"\",\"* El Nº de mujeres normal de Pueblos Migrantes no debe ser mayor al Total mujeres normal en control. \")","v":""},{"$f":"IF(AND(F35<>0,W35=\"\"),\"* No olvide escribir en la celda de 'Pueblos Originarios' (Digite CERO si no tiene). \",IF(AND(G35<>0,X35=\"\"),\"* No olvide escribir en la celda de 'Pueblos Originarios' (Digite CERO si no tiene). \",\"\"))","v":""},{"$f":"IF(AND(F35<>0,Y35=\"\"),\"* No olvide escribir en la celda de 'Población Migrantes' (Digite CERO si no tiene). \",IF(AND(G35<>0,Z35=\"\"),\"* No olvide escribir en la celda de 'Población Migrantes' (Digite CERO si no tiene). \",\"\"))","v":""},null,{"$f":"IF($E35>=$W35,0,1)","v":0},{"$f":"IF($F35>=$X35,0,1)","v":0},{"$f":"IF($E35>=$Y35,0,1)","v":0},{"$f":"IF($F35>=$Z35,0,1)","v":0},{"$f":"IF(AND(F35<>0,W35=\"\"),1,IF(AND(G35<>0,X35=\"\"),1,0))","v":0},{"$f":"IF(AND(F35<>0,Y35=\"\"),1,IF(AND(G35<>0,Z35=\"\"),1,0))","v":0}]
["P5190400","SOBREPESO",null,{"$f":"IFERROR(VLOOKUP($A36,FILTRO!$A30:$AY655,2,FALSE),0)","v":9611},{"$f":"IFERROR(VLOOKUP($A36,FILTRO!$A30:$AY655,3,FALSE),0)","v":3884},{"$f":"IFERROR(VLOOKUP($A36,FILTRO!$A30:$AY655,4,FALSE),0)","v":5727},{"$f":"IFERROR(VLOOKUP($A36,FILTRO!$A30:$AY655,5,FALSE),0)","v":1099},{"$f":"IFERROR(VLOOKUP($A36,FILTRO!$A30:$AY655,6,FALSE),0)","v":1546},{"$f":"IFERROR(VLOOKUP($A36,FILTRO!$A30:$AY655,7,FALSE),0)","v":992},{"$f":"IFERROR(VLOOKUP($A36,FILTRO!$A30:$AY655,8,FALSE),0)","v":1447},{"$f":"IFERROR(VLOOKUP($A36,FILTRO!$A30:$AY655,9,FALSE),0)","v":813},{"$f":"IFERROR(VLOOKUP($A36,FILTRO!$A30:$AY655,10,FALSE),0)","v":1199},{"$f":"IFERROR(VLOOKUP($A36,FILTRO!$A30:$AY655,11,FALSE),0)","v":551},{"$f":"IFERROR(VLOOKUP($A36,FILTRO!$A30:$AY655,12,FALSE),0)","v":816},{"$f":"IFERROR(VLOOKUP($A36,FILTRO!$A30:$AY655,13,FALSE),0)","v":299},{"$f":"IFERROR(VLOOKUP($A36,FILTRO!$A30:$AY655,14,FALSE),0)","v":472},{"$f":"IFERROR(VLOOKUP($A36,FILTRO!$A30:$AY655,15,FALSE),0)","v":102},{"$f":"IFERROR(VLOOKUP($A36,FILTRO!$A30:$AY655,16,FALSE),0)","v":198},{"$f":"IFERROR(VLOOKUP($A36,FILTRO!$A30:$AY655,17,FALSE),0)","v":20},{"$f":"IFERROR(VLOOKUP($A36,FILTRO!$A30:$AY655,18,FALSE),0)","v":44},{"$f":"IFERROR(VLOOKUP($A36,FILTRO!$A30:$AY655,19,FALSE),0)","v":8},{"$f":"IFERROR(VLOOKUP($A36,FILTRO!$A30:$AY655,20,FALSE),0)","v":5},{"$f":"IFERROR(VLOOKUP($A36,FILTRO!$A30:$AY655,21,FALSE),0)","v":14},{"$f":"IFERROR(VLOOKUP($A36,FILTRO!$A30:$AY655,22,FALSE),0)","v":22},{"$f":"IFERROR(VLOOKUP($A36,FILTRO!$A30:$AY655,23,FALSE),0)","v":4},{"$f":"IFERROR(VLOOKUP($A36,FILTRO!$A30:$AY655,24,FALSE),0)","v":5},{"$f":"IFERROR(VLOOKUP($A36,FILTRO!$A30:$AY655,25,FALSE),0)","v":23},{"$f":"IFERROR(VLOOKUP($A36,FILTRO!$A30:$AY655,26,FALSE),0)","v":18},{"$nulls":8},{"$f":"IF($E36>=$W36,\"\",\"* El Nº de hombres sobrepeso de 'Pueblos Originarios' no debe ser mayor al Total hombres sobrepeso en control. \")","v":""},{"$f":"IF($F36>=$X36,\"\",\"* El Nº de mujeres sobrepeso de 'Pueblos Originarios' no debe ser mayor al Total mujeres sobrepeso en control. \")","v":""},{"$f":"IF($E36>=$Y36,\"\",\"* El Nº de hombres sobrepeso de Pueblos Migrantes no debe ser mayor al Total hombres sobrepeso en control. \")","v":""},{"$f":"IF($F36>=$Z36,\"\",\"* El Nº de mujeres sobrepeso de Pueblos Migrantes no debe ser mayor al Total mujeres sobrepeso en control. \")","v":""},{"$f":"IF(AND(F36<>0,W36=\"\"),\"* No olvide escribir en la celda de 'Pueblos Originarios' (Digite CERO si no tiene). \",IF(AND(G36<>0,X36=\"\"),\"* No olvide escribir en la celda de 'Pueblos Originarios' (Digite CERO si no tiene). \",\"\"))","v":""},{"$f":"IF(AND(F36<>0,Y36=\"\"),\"* No olvide escribir en la celda de 'Población Migrantes' (Digite CERO si no tiene). \",IF(AND(G36<>0,Z36=\"\"),\"* No olvide escribir en la celda de 'Población Migrantes' (Digite CERO si no tiene). \",\"\"))","v":""},null,{"$f":"IF($E36>=$W36,0,1)","v":0},{"$f":"IF($F36>=$X36,0,1)","v":0},{"$f":"IF($E36>=$Y36,0,1)","v":0},{"$f":"IF($F36>=$Z36,0,1)","v":0},{"$f":"IF(AND(F36<>0,W36=\"\"),1,IF(AND(G36<>0,X36=\"\"),1,0))","v":0},{"$f":"IF(AND(F36<>0,Y36=\"\"),1,IF(AND(G36<>0,Z36=\"\"),1,0))","v":0}]
["P5200100","OBESO",null,{"$f":"IFERROR(VLOOKUP($A37,FILTRO!$A31:$AY656,2,FALSE),0)","v":7233},{"$f":"IFERROR(VLOOKUP($A37,FILTRO!$A31:$AY656,3,FALSE),0)","v":2127},{"$f":"IFERROR(VLOOKUP($A37,FILTRO!$A31:$AY656,4,FALSE),0)","v":5106},{"$f":"IFERROR(VLOOKUP($A37,FILTRO!$A31:$AY656,5,FALSE),0)","v":651},{"$f":"IFERROR(VLOOKUP($A37,FILTRO!$A31:$AY656,6,FALSE),0)","v":1629},{"$f":"IFERROR(VLOOKUP($A37,FILTRO!$A31:$AY656,7,FALSE),0)","v":550},{"$f":"IFERROR(VLOOKUP($A37,FILTRO!$A31:$AY656,8,FALSE),0)","v":1356},{"$f":"IFERROR(VLOOKUP($A37,FILTRO!$A31:$AY656,9,FALSE),0)","v":434},{"$f":"IFERROR(VLOOKUP($A37,FILTRO!$A31:$AY656,10,FALSE),0)","v":976},{"$f":"IFERROR(VLOOKUP($A37,FILTRO!$A31:$AY656,11,FALSE),0)","v":276},{"$f":"IFERROR(VLOOKUP($A37,FILTRO!$A31:$AY656,12,FALSE),0)","v":653},{"$f":"IFERROR(VLOOKUP($A37,FILTRO!$A31:$AY656,13,FALSE),0)","v":156},{"$f":"IFERROR(VLOOKUP($A37,FILTRO!$A31:$AY656,14,FALSE),0)","v":343},{"$f":"IFERROR(VLOOKUP($A37,FILTRO!$A31:$AY656,15,FALSE),0)","v":50},{"$f":"IFERROR(VLOOKUP($A37,FILTRO!$A31:$AY656,16,FALSE),0)","v":116},{"$f":"IFERROR(VLOOKUP($A37,FILTRO!$A31:$AY656,17,FALSE),0)","v":8},{"$f":"IFERROR(VLOOKUP($A37,FILTRO!$A31:$AY656,18,FALSE),0)","v":31},{"$f":"IFERROR(VLOOKUP($A37,FILTRO!$A31:$AY656,19,FALSE),0)","v":2},{"$f":"IFERROR(VLOOKUP($A37,FILTRO!$A31:$AY656,20,FALSE),0)","v":2},{"$f":"IFERROR(VLOOKUP($A37,FILTRO!$A31:$AY656,21,FALSE),0)","v":12},{"$f":"IFERROR(VLOOKUP($A37,FILTRO!$A31:$AY656,22,FALSE),0)","v":20},{"$f":"IFERROR(VLOOKUP($A37,FILTRO!$A31:$AY656,23,FALSE),0)","v":3},{"$f":"IFERROR(VLOOKUP($A37,FILTRO!$A31:$AY656,24,FALSE),0)","v":6},{"$f":"IFERROR(VLOOKUP($A37,FILTRO!$A31:$AY656,25,FALSE),0)","v":7},{"$f":"IFERROR(VLOOKUP($A37,FILTRO!$A31:$AY656,26,FALSE),0)","v":16},{"$nulls":8},{"$f":"IF($E37>=$W37,\"\",\"* El Nº de hombres obeso de 'Pueblos Originarios' no debe ser mayor al Total hombres obesos en control. \")","v":""},{"$f":"IF($F37>=$X37,\"\",\"* El Nº de mujeres obesas de 'Pueblos Originarios' no debe ser mayor al Total mujeres obesas en control. \")","v":""},{"$f":"IF($E37>=$Y37,\"\",\"* El Nº de hombres obeso de Pueblos Migrantes no debe ser mayor al Total hombres obeso en control. \")","v":""},{"$f":"IF($F37>=$Z37,\"\",\"* El Nº de mujeres obesas de Pueblos Migrantes no debe ser mayor al Total mujeres obesas en control. \")","v":""},{"$f":"IF(AND(F37<>0,W37=\"\"),\"* No olvide escribir en la celda de 'Pueblos Originarios' (Digite CERO si no tiene). \",IF(AND(G37<>0,X37=\"\"),\"* No olvide escribir en la celda de 'Pueblos Originarios' (Digite CERO si no tiene). \",\"\"))","v":""},{"$f":"IF(AND(F37<>0,Y37=\"\"),\"* No olvide escribir en la celda de 'Población Migrantes' (Digite CERO si no tiene). \",IF(AND(G37<>0,Z37=\"\"),\"* No olvide escribir en la celda de 'Población Migrantes' (Digite CERO si no tiene). \",\"\"))","v":""},null,{"$f":"IF($E37>=$W37,0,1)","v":0},{"$f":"IF($F37>=$X37,0,1)","v":0},{"$f":"IF($E37>=$Y37,0,1)","v":0},{"$f":"IF($F37>=$Z37,0,1)","v":0},{"$f":"IF(AND(F37<>0,W37=\"\"),1,IF(AND(G37<>0,X37=\"\"),1,0))","v":0},{"$f":"IF(AND(F37<>0,Y37=\"\"),1,IF(AND(G37<>0,Z37=\"\"),1,0))","v":0}]
[null,"TOTAL ",null,{"$f":"SUM(E38:F38)","v":30984},{"$f":"+G38+I38+K38+M38+O38+Q38+S38+U38","v":12245},{"$f":"+H38+J38+L38+N38+P38+R38+T38+V38","v":18739},{"$f":"SUM(G34:G37)","v":3080},{"$f":"SUM(H34:H37)","v":4950},3008,4400,{"$f":"SUM(K34:K37)","v":2590},3706,1911,2826,1084,1751,{"$f":"SUM(Q34:Q37)","v":453},836,96,234,23,36,{"$f":"SUM(W34:W37)","v":49},{"$f":"SUM(X34:X37)","v":61},17,19,{"$f":"SUM(AA34:AA37)","v":107},142,{"$nulls":24},{"$f":"SUM(BA34:BA37)","v":0},0]
[null,"SECCION C: PERSONAS MAYORES CON SOSPECHA DE MALTRATO"]
[null,"CONCEPTO",null,"TOTAL",null,null,"GRUPO DE EDAD (en años) Y SEXO",{"$nulls":15},"Pueblos Originarios",null,"Migrantes",null,"Personas Mayores en ELEAM"]
[{"$nulls":6},"65 a 69 años",null,"70 a 74 años",null,"75 a 79 años",null,"80 a 84 años",null,"85 a 89 años",null,"90 a 94 años",null,"95 a 99 años",null,"100 y mas años"]
[{"$nulls":3},"Ambos\nsexos","Hombres","Mujeres","Hombres ","Mujeres","Hombres ","Mujeres","Hombres ","Mujeres","Hombres","Mujeres","Hombres","Mujeres","Hombres","Mujeres","Hombres","Mujeres","Hombres","Mujeres","Hombres","Mujeres","Hombres","Mujeres","Hombres","Mujeres"]
["P5300400","PERSONAS CON SOSPECHA DE MALTRATO",null,{"$f":"IFERROR(VLOOKUP($A43,FILTRO!$A37:$AY662,2,FALSE),0)","v":181},{"$f":"IFERROR(VLOOKUP($A43,FILTRO!$A37:$AY662,3,FALSE),0)","v":64},{"$f":"IFERROR(VLOOKUP($A43,FILTRO!$A37:$AY662,4,FALSE),0)","v":117},{"$f":"IFERROR(VLOOKUP($A43,FILTRO!$A37:$AY662,5,FALSE),0)","v":10},{"$f":"IFERROR(VLOOKUP($A43,FILTRO!$A37:$AY662,6,FALSE),0)","v":30},{"$f":"IFERROR(VLOOKUP($A43,FILTRO!$A37:$AY662,7,FALSE),0)","v":19},{"$f":"IFERROR(VLOOKUP($A43,FILTRO!$A37:$AY662,8,FALSE),0)","v":33},{"$f":"IFERROR(VLOOKUP($A43,FILTRO!$A37:$AY662,9,FALSE),0)","v":19},{"$f":"IFERROR(VLOOKUP($A43,FILTRO!$A37:$AY662,10,FALSE),0)","v":27},{"$f":"IFERROR(VLOOKUP($A43,FILTRO!$A37:$AY662,11,FALSE),0)","v":7},{"$f":"IFERROR(VLOOKUP($A43,FILTRO!$A37:$AY662,12,FALSE),0)","v":14},{"$f":"IFERROR(VLOOKUP($A43,FILTRO!$A37:$AY662,13,FALSE),0)","v":6},{"$f":"IFERROR(VLOOKUP($A43,FILTRO!$A37:$AY662,14,FALSE),0)","v":7},{"$f":"IFERROR(VLOOKUP($A43,FILTRO!$A37:$AY662,15,FALSE),0)","v":2},{"$f":"IFERROR(VLOOKUP($A43,FILTRO!$A37:$AY662,16,FALSE),0)","v":4},{"$f":"IFERROR(VLOOKUP($A43,FILTRO!$A37:$AY662,17,FALSE),0)","v":1},{"$f":"IFERROR(VLOOKUP($A43,FILTRO!$A37:$AY662,18,FALSE),0)","v":2},{"$f":"IFERROR(VLOOKUP($A43,FILTRO!$A37:$AY662,19,FALSE),0)","v":0},{"$f":"IFERROR(VLOOKUP($A43,FILTRO!$A37:$AY662,20,FALSE),0)","v":0},{"$f":"IFERROR(VLOOKUP($A43,FILTRO!$A37:$AY662,21,FALSE),0)","v":0},{"$f":"IFERROR(VLOOKUP($A43,FILTRO!$A37:$AY662,22,FALSE),0)","v":0},{"$f":"IFERROR(VLOOKUP($A43,FILTRO!$A37:$AY662,23,FALSE),0)","v":0},{"$f":"IFERROR(VLOOKUP($A43,FILTRO!$A37:$AY662,24,FALSE),0)","v":0},{"$f":"IFERROR(VLOOKUP($A43,FILTRO!$A37:$AY662,25,FALSE),0)","v":0},{"$f":"IFERROR(VLOOKUP($A43,FILTRO!$A37:$AY662,26,FALSE),0)","v":0},{"$f":"IF($I$21>=$I$43,\"\",\"* Los pacientes con sospecha de maltrato no pueden ser mayor que el total de Adultos Mayores en Control (70 - 74 años - Hombres). \")","v":""},{"$f":"IF($J$21>=$J$43,\"\",\"* Los pacientes con sospecha de maltrato no pueden ser mayor que el total de Adultos Mayores en Control (70 - 74 años - Mujeres). \")","v":""},{"$f":"IF($K$21>=$K$43,\"\",\"* Los pacientes con sospecha de maltrato no pueden ser mayor que el total de Adultos Mayores en Control (75 - 79 años - Hombres). \")","v":""},{"$f":"IF($L$21>=$L$43,\"\",\"* Los pacientes con sospecha de maltrato no pueden ser mayor que el total de Adultos Mayores en Control (75 - 79 años - Mujeres). \")","v":""},{"$f":"IF($U$21>=$M$43,\"\",\"* Los pacientes con sospecha de maltrato no pueden ser mayor que el total de Adultos Mayores en Control (80 y más años - Hombres). \")","v":""},{"$f":"IF($V$21>=$N$43,\"\",\"* Los pacientes con sospecha de maltrato no pueden ser mayor que el total de Adultos Mayores en Control (80 y más años - Mujeres). \")","v":""},null,{"$f":"IF($G$21>=$G$43,0,1)","v":0},{"$f":"IF($H$21>=$H$43,0,1)","v":0},{"$f":"IF($I$21>=$I$43,0,1)","v":0},{"$f":"IF($J$21>=$J$43,0,1)","v":0},{"$f":"IF($K$21>=$K$43,0,1)","v":0},{"$f":"IF($L$21>=$L$43,0,1)","v":0},{"$f":"IF($U$21>=$M$43,0,1)","v":0},{"$f":"IF($V$21>=$N$43,0,1)","v":0}]
[null,"SECCION D: PERSONAS MAYORES EN ACTIVIDAD FÍSICA "]
[null,"CONCEPTO",null,"TOTAL",null,null,"GRUPO DE EDAD (en años) Y SEXO",{"$nulls":15},"Pueblos Originarios",null,"Migrantes",null,"Personas Mayores en ELEAM"]
[{"$nulls":6},"65 a 69 años",null,"70 a 74 años",null,"75 a 79 años",null,"80 a 84 años",null,"85 a 89 años",null,"90 a 94 años",null,"95 a 99 años",null,"100 y mas años"]
[{"$nulls":3},"Ambos\nsexos","Hombres","Mujeres","Hombres ","Mujeres","Hombres ","Mujeres","Hombres ","Mujeres","Hombres","Mujeres","Hombres","Mujeres","Hombres","Mujeres","Hombres","Mujeres","Hombres","Mujeres","Hombres","Mujeres","Hombres","Mujeres","Hombres","Mujeres"]
["P5300500","PERSONAS EN ACTIVIDAD FÍSICA ",null,{"$f":"IFERROR(VLOOKUP($A48,FILTRO!$A42:$AY667,2,FALSE),0)","v":5117},{"$f":"IFERROR(VLOOKUP($A48,FILTRO!$A42:$AY667,3,FALSE),0)","v":2151},{"$f":"IFERROR(VLOOKUP($A48,FILTRO!$A42:$AY667,4,FALSE),0)","v":2966},{"$f":"IFERROR(VLOOKUP($A48,FILTRO!$A42:$AY667,5,FALSE),0)","v":627},{"$f":"IFERROR(VLOOKUP($A48,FILTRO!$A42:$AY667,6,FALSE),0)","v":1038},{"$f":"IFERROR(VLOOKUP($A48,FILTRO!$A42:$AY667,7,FALSE),0)","v":617},{"$f":"IFERROR(VLOOKUP($A48,FILTRO!$A42:$AY667,8,FALSE),0)","v":863},{"$f":"IFERROR(VLOOKUP($A48,FILTRO!$A42:$AY667,9,FALSE),0)","v":522},{"$f":"IFERROR(VLOOKUP($A48,FILTRO!$A42:$AY667,10,FALSE),0)","v":622},{"$f":"IFERROR(VLOOKUP($A48,FILTRO!$A42:$AY667,11,FALSE),0)","v":265},{"$f":"IFERROR(VLOOKUP($A48,FILTRO!$A42:$AY667,12,FALSE),0)","v":320},{"$f":"IFERROR(VLOOKUP($A48,FILTRO!$A42:$AY667,13,FALSE),0)","v":96},{"$f":"IFERROR(VLOOKUP($A48,FILTRO!$A42:$AY667,14,FALSE),0)","v":99},{"$f":"IFERROR(VLOOKUP($A48,FILTRO!$A42:$AY667,15,FALSE),0)","v":23},{"$f":"IFERROR(VLOOKUP($A48,FILTRO!$A42:$AY667,16,FALSE),0)","v":19},{"$f":"IFERROR(VLOOKUP($A48,FILTRO!$A42:$AY667,17,FALSE),0)","v":1},{"$f":"IFERROR(VLOOKUP($A48,FILTRO!$A42:$AY667,18,FALSE),0)","v":5},{"$f":"IFERROR(VLOOKUP($A48,FILTRO!$A42:$AY667,19,FALSE),0)","v":0},{"$f":"IFERROR(VLOOKUP($A48,FILTRO!$A42:$AY667,20,FALSE),0)","v":0},{"$f":"IFERROR(VLOOKUP($A48,FILTRO!$A42:$AY667,21,FALSE),0)","v":5},{"$f":"IFERROR(VLOOKUP($A48,FILTRO!$A42:$AY667,22,FALSE),0)","v":11},{"$f":"IFERROR(VLOOKUP($A48,FILTRO!$A42:$AY667,23,FALSE),0)","v":8},{"$f":"IFERROR(VLOOKUP($A48,FILTRO!$A42:$AY667,24,FALSE),0)","v":4},{"$f":"IFERROR(VLOOKUP($A48,FILTRO!$A42:$AY667,25,FALSE),0)","v":2},{"$f":"IFERROR(VLOOKUP($A48,FILTRO!$A42:$AY667,26,FALSE),0)","v":0},{"$nulls":7},{"$f":"IF($D$48<=$D$15,\"\",\"* Los Adultos Mayores en actividad física no pueden ser mayor que los clasificados como Autovalentes sin/con riesgo y los riesgo de Dependencia. \")","v":""},null,{"$f":"IF($D$48<=$D$15,0,1)","v":0}]
[null,"SECCION E: PERSONAS MAYORES CON RIESGO DE CAÍDAS"]
[null,"INSTRUMENTO DE EVALUACIÓN","TIPO DE RIESGO","TOTAL",null,null,"GRUPO DE EDAD (en años) Y SEXO",{"$nulls":15},"Pueblos Originarios",null,"Migrantes",null,"Personas Mayores en ELEAM"]
[{"$nulls":6},"65 a 69 años",null,"70 a 74 años",null,"75 a 79 años",null,"80 a 84 años",null,"85 a 89 años",null,"90 a 94 años",null,"95 a 99 años",null,"100 y mas años"]
[{"$nulls":3},"Ambos\nsexos","Hombres","Mujeres","Hombres ","Mujeres","Hombres ","Mujeres","Hombres ","Mujeres","Hombres","Mujeres","Hombres","Mujeres","Hombres","Mujeres","Hombres","Mujeres","Hombres","Mujeres","Hombres","Mujeres","Hombres","Mujeres","Hombres","Mujeres"]
["P5300540","TIMED UP AND GO","Normal",{"$f":"IFERROR(VLOOKUP($A53,FILTRO!$A47:$AY672,2,FALSE),0)","v":10211},{"$f":"IFERROR(VLOOKUP($A53,FILTRO!$A47:$AY672,3,FALSE),0)","v":4274},{"$f":"IFERROR(VLOOKUP($A53,FILTRO!$A47:$AY672,4,FALSE),0)","v":5937},{"$f":"IFERROR(VLOOKUP($A53,FILTRO!$A47:$AY672,5,FALSE),0)","v":1325},{"$f":"IFERROR(VLOOKUP($A53,FILTRO!$A47:$AY672,6,FALSE),0)","v":2111},{"$f":"IFERROR(VLOOKUP($A53,FILTRO!$A47:$AY672,7,FALSE),0)","v":1255},{"$f":"IFERROR(VLOOKUP($A53,FILTRO!$A47:$AY672,8,FALSE),0)","v":1779},{"$f":"IFERROR(VLOOKUP($A53,FILTRO!$A47:$AY672,9,FALSE),0)","v":951},{"$f":"IFERROR(VLOOKUP($A53,FILTRO!$A47:$AY672,10,FALSE),0)","v":1158},{"$f":"IFERROR(VLOOKUP($A53,FILTRO!$A47:$AY672,11,FALSE),0)","v":494},{"$f":"IFERROR(VLOOKUP($A53,FILTRO!$A47:$AY672,12,FALSE),0)","v":631},{"$f":"IFERROR(VLOOKUP($A53,FILTRO!$A47:$AY672,13,FALSE),0)","v":211},{"$f":"IFERROR(VLOOKUP($A53,FILTRO!$A47:$AY672,14,FALSE),0)","v":195},{"$f":"IFERROR(VLOOKUP($A53,FILTRO!$A47:$AY672,15,FALSE),0)","v":33},{"$f":"IFERROR(VLOOKUP($A53,FILTRO!$A47:$AY672,16,FALSE),0)","v":57},{"$f":"IFERROR(VLOOKUP($A53,FILTRO!$A47:$AY672,17,FALSE),0)","v":5},{"$f":"IFERROR(VLOOKUP($A53,FILTRO!$A47:$AY672,18,FALSE),0)","v":6},{"$f":"IFERROR(VLOOKUP($A53,FILTRO!$A47:$AY672,19,FALSE),0)","v":0},{"$f":"IFERROR(VLOOKUP($A53,FILTRO!$A47:$AY672,20,FALSE),0)","v":0},{"$f":"IFERROR(VLOOKUP($A53,FILTRO!$A47:$AY672,21,FALSE),0)","v":18},{"$f":"IFERROR(VLOOKUP($A53,FILTRO!$A47:$AY672,22,FALSE),0)","v":21},{"$f":"IFERROR(VLOOKUP($A53,FILTRO!$A47:$AY672,23,FALSE),0)","v":11},{"$f":"IFERROR(VLOOKUP($A53,FILTRO!$A47:$AY672,24,FALSE),0)","v":7},{"$f":"IFERROR(VLOOKUP($A53,FILTRO!$A47:$AY672,25,FALSE),0)","v":4},{"$f":"IFERROR(VLOOKUP($A53,FILTRO!$A47:$AY672,26,FALSE),0)","v":3}]
["P5300550",null,"Leve",{"$f":"IFERROR(VLOOKUP($A54,FILTRO!$A48:$AY673,2,FALSE),0)","v":4349},{"$f":"IFERROR(VLOOKUP($A54,FILTRO!$A48:$AY673,3,FALSE),0)","v":1596},{"$f":"IFERROR(VLOOKUP($A54,FILTRO!$A48:$AY673,4,FALSE),0)","v":2753},{"$f":"IFERROR(VLOOKUP($A54,FILTRO!$A48:$AY673,5,FALSE),0)","v":280},{"$f":"IFERROR(VLOOKUP($A54,FILTRO!$A48:$AY673,6,FALSE),0)","v":598},{"$f":"IFERROR(VLOOKUP($A54,FILTRO!$A48:$AY673,7,FALSE),0)","v":370},{"$f":"IFERROR(VLOOKUP($A54,FILTRO!$A48:$AY673,8,FALSE),0)","v":667},{"$f":"IFERROR(VLOOKUP($A54,FILTRO!$A48:$AY673,9,FALSE),0)","v":352},{"$f":"IFERROR(VLOOKUP($A54,FILTRO!$A48:$AY673,10,FALSE),0)","v":604},{"$f":"IFERROR(VLOOKUP($A54,FILTRO!$A48:$AY673,11,FALSE),0)","v":355},{"$f":"IFERROR(VLOOKUP($A54,FILTRO!$A48:$AY673,12,FALSE),0)","v":481},{"$f":"IFERROR(VLOOKUP($A54,FILTRO!$A48:$AY673,13,FALSE),0)","v":165},{"$f":"IFERROR(VLOOKUP($A54,FILTRO!$A48:$AY673,14,FALSE),0)","v":286},{"$f":"IFERROR(VLOOKUP($A54,FILTRO!$A48:$AY673,15,FALSE),0)","v":66},{"$f":"IFERROR(VLOOKUP($A54,FILTRO!$A48:$AY673,16,FALSE),0)","v":93},{"$f":"IFERROR(VLOOKUP($A54,FILTRO!$A48:$AY673,17,FALSE),0)","v":7},{"$f":"IFERROR(VLOOKUP($A54,FILTRO!$A48:$AY673,18,FALSE),0)","v":23},{"$f":"IFERROR(VLOOKUP($A54,FILTRO!$A48:$AY673,19,FALSE),0)","v":1},{"$f":"IFERROR(VLOOKUP($A54,FILTRO!$A48:$AY673,20,FALSE),0)","v":1},{"$f":"IFERROR(VLOOKUP($A54,FILTRO!$A48:$AY673,21,FALSE),0)","v":4},{"$f":"IFERROR(VLOOKUP($A54,FILTRO!$A48:$AY673,22,FALSE),0)","v":16},{"$f":"IFERROR(VLOOKUP($A54,FILTRO!$A48:$AY673,23,FALSE),0)","v":5},{"$f":"IFERROR(VLOOKUP($A54,FILTRO!$A48:$AY673,24,FALSE),0)","v":8},{"$f":"IFERROR(VLOOKUP($A54,FILTRO!$A48:$AY673,25,FALSE),0)","v":10},{"$f":"IFERROR(VLOOKUP($A54,FILTRO!$A48:$AY673,26,FALSE),0)","v":8}]
["P5300560",null,"Alto",{"$f":"IFERROR(VLOOKUP($A55,FILTRO!$A49:$AY674,2,FALSE),0)","v":2567},{"$f":"IFERROR(VLOOKUP($A55,FILTRO!$A49:$AY674,3,FALSE),0)","v":931},{"$f":"IFERROR(VLOOKUP($A55,FILTRO!$A49:$AY674,4,FALSE),0)","v":1636},{"$f":"IFERROR(VLOOKUP($A55,FILTRO!$A49:$AY674,5,FALSE),0)","v":157},{"$f":"IFERROR(VLOOKUP($A55,FILTRO!$A49:$AY674,6,FALSE),0)","v":264},{"$f":"IFERROR(VLOOKUP($A55,FILTRO!$A49:$AY674,7,FALSE),0)","v":149},{"$f":"IFERROR(VLOOKUP($A55,FILTRO!$A49:$AY674,8,FALSE),0)","v":266},{"$f":"IFERROR(VLOOKUP($A55,FILTRO!$A49:$AY674,9,FALSE),0)","v":176},{"$f":"IFERROR(VLOOKUP($A55,FILTRO!$A49:$AY674,10,FALSE),0)","v":332},{"$f":"IFERROR(VLOOKUP($A55,FILTRO!$A49:$AY674,11,FALSE),0)","v":216},{"$f":"IFERROR(VLOOKUP($A55,FILTRO!$A49:$AY674,12,FALSE),0)","v":351},{"$f":"IFERROR(VLOOKUP($A55,FILTRO!$A49:$AY674,13,FALSE),0)","v":143},{"$f":"IFERROR(VLOOKUP($A55,FILTRO!$A49:$AY674,14,FALSE),0)","v":251},{"$f":"IFERROR(VLOOKUP($A55,FILTRO!$A49:$AY674,15,FALSE),0)","v":68},{"$f":"IFERROR(VLOOKUP($A55,FILTRO!$A49:$AY674,16,FALSE),0)","v":144},{"$f":"IFERROR(VLOOKUP($A55,FILTRO!$A49:$AY674,17,FALSE),0)","v":17},{"$f":"IFERROR(VLOOKUP($A55,FILTRO!$A49:$AY674,18,FALSE),0)","v":22},{"$f":"IFERROR(VLOOKUP($A55,FILTRO!$A49:$AY674,19,FALSE),0)","v":5},{"$f":"IFERROR(VLOOKUP($A55,FILTRO!$A49:$AY674,20,FALSE),0)","v":6},{"$f":"IFERROR(VLOOKUP($A55,FILTRO!$A49:$AY674,21,FALSE),0)","v":0},{"$f":"IFERROR(VLOOKUP($A55,FILTRO!$A49:$AY674,22,FALSE),0)","v":2},{"$f":"IFERROR(VLOOKUP($A55,FILTRO!$A49:$AY674,23,FALSE),0)","v":0},{"$f":"IFERROR(VLOOKUP($A55,FILTRO!$A49:$AY674,24,FALSE),0)","v":0},{"$f":"IFERROR(VLOOKUP($A55,FILTRO!$A49:$AY674,25,FALSE),0)","v":1},{"$f":"IFERROR(VLOOKUP($A55,FILTRO!$A49:$AY674,26,FALSE),0)","v":11},{"$f":"IF(SUM($H53:$H55)>$H15,\"* Riesgo de caída Mujeres (65 a 69 años) deben ser menor o igual al Total Adultos Mayores con EFAM de sección A. \",\"\")","v":""},{"$f":"IF(SUM($I53:$I55)>$I15,\"* Riesgo de caída Hombres (70 a 74 años) deben ser menor o igual al Total Adultos Mayores con EFAM de sección A. \",\"\")","v":""},{"$f":"IF(SUM($J53:$J55)>$J15,\"* Riesgo de caída Mujeres (70 a 74 años) deben ser menor o igual al Total Adultos Mayores con EFAM de sección A. \",\"\")","v":""},{"$f":"IF(SUM($K53:$K55)>$K15,\"* Riesgo de caída Hombres (75 a 79 años) deben ser menor o igual al Total Adultos Mayores con EFAM de sección A. \",\"\")","v":""},{"$f":"IF(SUM($L53:$L55)>$L15,\"* Riesgo de caída Mujeres (75 a 79 años) deben ser menor o igual al Total Adultos Mayores con EFAM de sección A. \",\"\")","v":""},{"$f":"IF(SUM($M53:$M55)>$U15,\"* Riesgo de caída Hombres (80 y más) deben ser menor o igual al Total Adultos Mayores con EFAM de sección A. \",\"\")","v":"* Riesgo de caída Hombres (80 y más) deben ser menor o igual al Total Adultos Mayores con EFAM de sección A. "},{"$f":"IF(SUM($N53:$N55)>$V15,\"* Riesgo de caída Mujeres (80 y más) deben ser menor o igual al Total Adultos Mayores con EFAM de sección A. \",\"\")","v":"* Riesgo de caída Mujeres (80 y más) deben ser menor o igual al Total Adultos Mayores con EFAM de sección A. "},null,{"$f":"IF(SUM($G53:$G55)>$G15,1,0)","v":0},{"$f":"IF(SUM($H53:$H55)>$H15,1,0)","v":0},{"$f":"IF(SUM($I53:$I55)>$I15,1,0)","v":0},{"$f":"IF(SUM($J53:$J55)>$J15,1,0)","v":0},{"$f":"IF(SUM($K53:$K55)>$K15,1,0)","v":0},{"$f":"IF(SUM($L53:$L55)>$L15,1,0)","v":0},{"$f":"IF(SUM($M53:$M55)>$U15,1,0)","v":1},{"$f":"IF(SUM($N53:$N55)>$V15,1,0)","v":1}]
["P5400100","ESTACIÓN UNIPODAL","Normal ",{"$f":"IFERROR(VLOOKUP($A56,FILTRO!$A50:$AY675,2,FALSE),0)","v":11010},{"$f":"IFERROR(VLOOKUP($A56,FILTRO!$A50:$AY675,3,FALSE),0)","v":4668},{"$f":"IFERROR(VLOOKUP($A56,FILTRO!$A50:$AY675,4,FALSE),0)","v":6342},{"$f":"IFERROR(VLOOKUP($A56,FILTRO!$A50:$AY675,5,FALSE),0)","v":1464},{"$f":"IFERROR(VLOOKUP($A56,FILTRO!$A50:$AY675,6,FALSE),0)","v":2179},{"$f":"IFERROR(VLOOKUP($A56,FILTRO!$A50:$AY675,7,FALSE),0)","v":1282},{"$f":"IFERROR(VLOOKUP($A56,FILTRO!$A50:$AY675,8,FALSE),0)","v":1797},{"$f":"IFERROR(VLOOKUP($A56,FILTRO!$A50:$AY675,9,FALSE),0)","v":1006},{"$f":"IFERROR(VLOOKUP($A56,FILTRO!$A50:$AY675,10,FALSE),0)","v":1204},{"$f":"IFERROR(VLOOKUP($A56,FILTRO!$A50:$AY675,11,FALSE),0)","v":588},{"$f":"IFERROR(VLOOKUP($A56,FILTRO!$A50:$AY675,12,FALSE),0)","v":730},{"$f":"IFERROR(VLOOKUP($A56,FILTRO!$A50:$AY675,13,FALSE),0)","v":259},{"$f":"IFERROR(VLOOKUP($A56,FILTRO!$A50:$AY675,14,FALSE),0)","v":310},{"$f":"IFERROR(VLOOKUP($A56,FILTRO!$A50:$AY675,15,FALSE),0)","v":64},{"$f":"IFERROR(VLOOKUP($A56,FILTRO!$A50:$AY675,16,FALSE),0)","v":106},{"$f":"IFERROR(VLOOKUP($A56,FILTRO!$A50:$AY675,17,FALSE),0)","v":5},{"$f":"IFERROR(VLOOKUP($A56,FILTRO!$A50:$AY675,18,FALSE),0)","v":15},{"$f":"IFERROR(VLOOKUP($A56,FILTRO!$A50:$AY675,19,FALSE),0)","v":0},{"$f":"IFERROR(VLOOKUP($A56,FILTRO!$A50:$AY675,20,FALSE),0)","v":1},{"$f":"IFERROR(VLOOKUP($A56,FILTRO!$A50:$AY675,21,FALSE),0)","v":19},{"$f":"IFERROR(VLOOKUP($A56,FILTRO!$A50:$AY675,22,FALSE),0)","v":24},{"$f":"IFERROR(VLOOKUP($A56,FILTRO!$A50:$AY675,23,FALSE),0)","v":10},{"$f":"IFERROR(VLOOKUP($A56,FILTRO!$A50:$AY675,24,FALSE),0)","v":8},{"$f":"IFERROR(VLOOKUP($A56,FILTRO!$A50:$AY675,25,FALSE),0)","v":5},{"$f":"IFERROR(VLOOKUP($A56,FILTRO!$A50:$AY675,26,FALSE),0)","v":2}]
["P5400200",null,"Alterado",{"$f":"IFERROR(VLOOKUP($A57,FILTRO!$A51:$AY676,2,FALSE),0)","v":7914},{"$f":"IFERROR(VLOOKUP($A57,FILTRO!$A51:$AY676,3,FALSE),0)","v":3016},{"$f":"IFERROR(VLOOKUP($A57,FILTRO!$A51:$AY676,4,FALSE),0)","v":4898},{"$f":"IFERROR(VLOOKUP($A57,FILTRO!$A51:$AY676,5,FALSE),0)","v":510},{"$f":"IFERROR(VLOOKUP($A57,FILTRO!$A51:$AY676,6,FALSE),0)","v":1042},{"$f":"IFERROR(VLOOKUP($A57,FILTRO!$A51:$AY676,7,FALSE),0)","v":701},{"$f":"IFERROR(VLOOKUP($A57,FILTRO!$A51:$AY676,8,FALSE),0)","v":1105},{"$f":"IFERROR(VLOOKUP($A57,FILTRO!$A51:$AY676,9,FALSE),0)","v":680},{"$f":"IFERROR(VLOOKUP($A57,FILTRO!$A51:$AY676,10,FALSE),0)","v":1105},{"$f":"IFERROR(VLOOKUP($A57,FILTRO!$A51:$AY676,11,FALSE),0)","v":607},{"$f":"IFERROR(VLOOKUP($A57,FILTRO!$A51:$AY676,12,FALSE),0)","v":863},{"$f":"IFERROR(VLOOKUP($A57,FILTRO!$A51:$AY676,13,FALSE),0)","v":327},{"$f":"IFERROR(VLOOKUP($A57,FILTRO!$A51:$AY676,14,FALSE),0)","v":501},{"$f":"IFERROR(VLOOKUP($A57,FILTRO!$A51:$AY676,15,FALSE),0)","v":147},{"$f":"IFERROR(VLOOKUP($A57,FILTRO!$A51:$AY676,16,FALSE),0)","v":226},{"$f":"IFERROR(VLOOKUP($A57,FILTRO!$A51:$AY676,17,FALSE),0)","v":34},{"$f":"IFERROR(VLOOKUP($A57,FILTRO!$A51:$AY676,18,FALSE),0)","v":50},{"$f":"IFERROR(VLOOKUP($A57,FILTRO!$A51:$AY676,19,FALSE),0)","v":10},{"$f":"IFERROR(VLOOKUP($A57,FILTRO!$A51:$AY676,20,FALSE),0)","v":6},{"$f":"IFERROR(VLOOKUP($A57,FILTRO!$A51:$AY676,21,FALSE),0)","v":10},{"$f":"IFERROR(VLOOKUP($A57,FILTRO!$A51:$AY676,22,FALSE),0)","v":15},{"$f":"IFERROR(VLOOKUP($A57,FILTRO!$A51:$AY676,23,FALSE),0)","v":5},{"$f":"IFERROR(VLOOKUP($A57,FILTRO!$A51:$AY676,24,FALSE),0)","v":6},{"$f":"IFERROR(VLOOKUP($A57,FILTRO!$A51:$AY676,25,FALSE),0)","v":15},{"$f":"IFERROR(VLOOKUP($A57,FILTRO!$A51:$AY676,26,FALSE),0)","v":22}]
{"$rows_empty":23}
[null,{"$f":"SUM(D12:Z21, D26:AD29,D34:Z38,D43:N43,D48:N48,D53:N57)","v":611273},"datos"]
[null,{"$f":"SUM(AL12:AS58)","v":2},"errores"]

{"sheet":"P6","index":7,"n_rows":151,"n_cols":122,"rows_kept":151,"merged":[[6,1,6,21],[8,1,8,7],[8,8,8,9],[8,10,8,11],[8,12,8,13],[8,14,8,15],[8,16,8,17],[8,18,8,19],[8,20,8,21],[8,22,8,23],[8,24,8,25],[8,26,8,27],[8,28,8,29],[8,30,8,31],[8,32,8,33],[8,34,8,35],[8,36,8,37],[8,38,8,39],[9,1,11,2],[9,3,10,5],[9,6,9,39],[9,40,11,40],[9,41,11,41],[9,42,10,43],[9,44,10,45],[9,46,11,46],[9,47,11,47],[9,48,11,48],[9,49,10,50],[10,6,10,7],[10,8,10,9],[10,10,10,11],[10,12,10,13],[10,14,10,15],[10,16,10,17],[10,18,10,19],[10,20,10,21],[10,22,10,23],[10,24,10,25],[10,26,10,27],[10,28,10,29],[10,30,10,31],[10,32,10,33],[10,34,10,35],[10,36,10,37],[10,38,10,39],[10,85,11,85],[10,86,11,86],[10,87,10,88],[10,89,10,90],[10,91,11,91],[12,1,12,2],[13,1,13,2],[14,1,15,1],[16,1,16,2],[17,1,18,1],[19,1,19,2],[20,1,24,1],[25,1,29,1],[30,1,33,1],[34,1,38,1],[39,1,41,1],[42,1,42,2],[44,1,44,2],[45,1,45,2],[46,1,46,2],[47,1,51,1],[53,1,53,2],[55,1,57,1],[55,2,57,2],[55,3,56,5],[55,6,55,39],[56,6,56,7],[56,8,56,9],[56,10,56,11],[56,12,56,13],[56,14,56,15],[56,16,56,17],[56,18,56,19],[56,20,56,21],[56,22,56,23],[56,24,56,25],[56,26,56,27],[56,28,56,29],[56,30,56,31],[56,32,56,33],[56,34,56,35],[56,36,56,37],[56,38,56,39],[61,1,63,2],[61,3,62,5],[61,6,61,15],[61,16,62,17],[62,6,62,7],[62,8,62,9],[62,10,62,11],[62,12,62,13],[62,14,62,15],[64,1,64,2],[65,1,65,15],[66,1,68,2],[66,3,67,5],[66,6,66,39],[66,40,68,40],[66,41,68,41],[66,42,67,43],[66,44,67,45],[66,46,68,46],[66,47,68,47],[66,48,68,48],[66,49,67,50],[67,6,67,7],[67,8,67,9],[67,10,67,11],[67,12,67,13],[67,14,67,15],[67,16,67,17],[67,18,67,19],[67,20,67,21],[67,22,67,23],[67,24,67,25],[67,26,67,27],[67,28,67,29],[67,30,67,31],[67,32,67,33],[67,34,67,35],[67,36,67,37],[67,38,67,39],[67,86,68,86],[67,87,68,87],[67,92,68,92],[67,100,68,100],[69,1,69,2],[70,1,70,2],[71,1,72,1],[73,1,73,2],[74,1,75,1],[76,1,76,2],[77,1,81,1],[82,1,86,1],[87,1,90,1],[91,1,95,1],[96,1,98,1],[99,1,99,2],[101,1,101,2],[102,1,102,2],[103,1,103,2],[104,1,108,1],[110,1,110,2],[112,1,114,1],[112,2,114,2],[112,3,113,5],[112,6,112,39],[113,6,113,7],[113,8,113,9],[113,10,113,11],[113,12,113,13],[113,14,113,15],[113,16,113,17],[113,18,113,19],[113,20,113,21],[113,22,113,23],[113,24,113,25],[113,26,113,27],[113,28,113,29],[113,30,113,31],[113,32,113,33],[113,34,113,35],[113,36,113,37],[113,38,113,39]]}
[null,"DATOS DEL ESTABLECIMIENTO"]
[null,{"$f":"CONCATENATE(\"COMUNA: \",NOMBRE!$B$2,\" - \",\"( \",NOMBRE!$C$2,NOMBRE!$D$2,NOMBRE!$E$2,NOMBRE!$F$2,NOMBRE!$G$2,\" )\")","v":"COMUNA:  - (  )"}]
[null,{"$f":"CONCATENATE(\"ESTABLECIMIENTO/ESTRATEGIA: \",NOMBRE!$B$3,\" - \",\"( \",NOMBRE!$C$3,NOMBRE!$D$3,NOMBRE!$E$3,NOMBRE!$F$3,NOMBRE!$G$3,NOMBRE!$H$3,\" )\")","v":"ESTABLECIMIENTO/ESTRATEGIA:  - (  )"}]
[null,{"$f":"CONCATENATE(\"MES: \",NOMBRE!$B$6,\" - \",\"( \",NOMBRE!$C$6,NOMBRE!$D$6,\" )\")","v":"MES:  - (  )"}]
[null,{"$f":"CONCATENATE(\"AÑO: \",NOMBRE!$B$7)","v":"AÑO: 2023"}]
[]
[null,"REM-P6. POBLACIÓN EN CONTROL PROGRAMA DE SALUD MENTAL EN ATENCIÓN PRIMARIA Y ESPECIALIDAD"]
[null,"A. ATENCIÓN PRIMARIA"]
[null,"SECCION A.1: POBLACIÓN EN CONTROL EN APS AL CORTE"]
[null,"CONCEPTO",null,"T O T A L",null,null,"GRUPO DE EDAD (en años)",{"$nulls":33},"Gestantes","Madre de Hijo menor de 5 años ","Pueblos Originarios",null," Migrantes",null,"Niños, Niñas, Adolescentes y Jóvenes SENAME","Niños, Niñas, Adolescentes y Jóvenes Mejor Niñez","Plan Cuidado Integral Elaborado","TRANS "]
[{"$nulls":6},"0 a 4 años",null,"5 a 9 años",null,"10 a 14 años",null,"15 a 19 años",null,"20 a 24 años",null,"25 a 29 años",null,"30 a 34 años",null,"35 a 39 años",null,"40 a 44 años",null,"45 a 49 años",null,"50 a 54 años",null,"55 a 59 años",null,"60 a 64 años",null,"65 a 69 años",null,"70 a 74 años",null,"75 a 79 años",null,"80 y más años",{"$nulls":46},"Gestantes","Madre de hijos","Pueblos originarios",null,"Poblacion Migrantes",null,"Niños y niñas SENAME","Gestantes","Madre de hojos","Niños y niñas SENAME","Pueblos originarios","Poblacion Migrantes",{"$nulls":8},"Gestantes","Madre de hijos","Pueblos originarios","Pueblos originarios","Poblacion Migrantes","Poblacion Migrantes","Niños y niñas SENAME","Gestantes","Madre de hojos","Niños y niñas SENAME","Pueblos originarios","Poblacion Migrantes"]
[{"$nulls":3},"Ambos\nsexos","Hombres","Mujeres","Hombres","Mujeres","Hombres","Mujeres","Hombres","Mujeres","Hombres","Mujeres","Hombres","Mujeres","Hombres","Mujeres","Hombres","Mujeres","Hombres","Mujeres","Hombres","Mujeres","Hombres","Mujeres","Hombres","Mujeres","Hombres","Mujeres","Hombres","Mujeres","Hombres ","Mujeres","Hombres ","Mujeres","Hombres ","Mujeres","Hombres","Mujeres",null,null,"Hombres","Mujeres","Hombres","Mujeres",{"$nulls":3},"Masculino","Femenino ",{"$nulls":36},"Hombres","Mujeres","Hombres","Mujeres",null,"No Olvide","No Olvide","No Olvide","No Olvide","No Olvide",{"$nulls":10},"Hombres","Mujeres","Hombres","Mujeres",null,"No Olvide","No Olvide","No Olvide","No Olvide","No Olvide"]
["P6221000","NUMERO DE PERSONAS EN CONTROL EN EL PROGRAMA",null,{"$f":"IFERROR(VLOOKUP($A13,FILTRO!$A7:$AY632,2,FALSE),0)","v":36813},{"$f":"IFERROR(VLOOKUP($A13,FILTRO!$A7:$AY632,3,FALSE),0)","v":11258},{"$f":"IFERROR(VLOOKUP($A13,FILTRO!$A7:$AY632,4,FALSE),0)","v":25555},{"$f":"IFERROR(VLOOKUP($A13,FILTRO!$A7:$AY632,5,FALSE),0)","v":154},{"$f":"IFERROR(VLOOKUP($A13,FILTRO!$A7:$AY632,6,FALSE),0)","v":115},{"$f":"IFERROR(VLOOKUP($A13,FILTRO!$A7:$AY632,7,FALSE),0)","v":1453},{"$f":"IFERROR(VLOOKUP($A13,FILTRO!$A7:$AY632,8,FALSE),0)","v":951},{"$f":"IFERROR(VLOOKUP($A13,FILTRO!$A7:$AY632,9,FALSE),0)","v":1459},{"$f":"IFERROR(VLOOKUP($A13,FILTRO!$A7:$AY632,10,FALSE),0)","v":2049},{"$f":"IFERROR(VLOOKUP($A13,FILTRO!$A7:$AY632,11,FALSE),0)","v":1252},{"$f":"IFERROR(VLOOKUP($A13,FILTRO!$A7:$AY632,12,FALSE),0)","v":2488},{"$f":"IFERROR(VLOOKUP($A13,FILTRO!$A7:$AY632,13,FALSE),0)","v":689},{"$f":"IFERROR(VLOOKUP($A13,FILTRO!$A7:$AY632,14,FALSE),0)","v":1582},{"$f":"IFERROR(VLOOKUP($A13,FILTRO!$A7:$AY632,15,FALSE),0)","v":607},{"$f":"IFERROR(VLOOKUP($A13,FILTRO!$A7:$AY632,16,FALSE),0)","v":1558},{"$f":"IFERROR(VLOOKUP($A13,FILTRO!$A7:$AY632,17,FALSE),0)","v":573},{"$f":"IFERROR(VLOOKUP($A13,FILTRO!$A7:$AY632,18,FALSE),0)","v":1567},{"$f":"IFERROR(VLOOKUP($A13,FILTRO!$A7:$AY632,19,FALSE),0)","v":569},{"$f":"IFERROR(VLOOKUP($A13,FILTRO!$A7:$AY632,20,FALSE),0)","v":1482},{"$f":"IFERROR(VLOOKUP($A13,FILTRO!$A7:$AY632,21,FALSE),0)","v":545},{"$f":"IFERROR(VLOOKUP($A13,FILTRO!$A7:$AY632,22,FALSE),0)","v":1544},{"$f":"IFERROR(VLOOKUP($A13,FILTRO!$A7:$AY632,23,FALSE),0)","v":566},{"$f":"IFERROR(VLOOKUP($A13,FILTRO!$A7:$AY632,24,FALSE),0)","v":1536},{"$f":"IFERROR(VLOOKUP($A13,FILTRO!$A7:$AY632,25,FALSE),0)","v":572},{"$f":"IFERROR(VLOOKUP($A13,FILTRO!$A7:$AY632,26,FALSE),0)","v":1863},{"$f":"IFERROR(VLOOKUP($A13,FILTRO!$A7:$AY632,27,FALSE),0)","v":554},{"$f":"IFERROR(VLOOKUP($A13,FILTRO!$A7:$AY632,28,FALSE),0)","v":1928},{"$f":"IFERROR(VLOOKUP($A13,FILTRO!$A7:$AY632,29,FALSE),0)","v":559},{"$f":"IFERROR(VLOOKUP($A13,FILTRO!$A7:$AY632,30,FALSE),0)","v":1775},{"$f":"IFERROR(VLOOKUP($A13,FILTRO!$A7:$AY632,31,FALSE),0)","v":482},{"$f":"IFERROR(VLOOKUP($A13,FILTRO!$A7:$AY632,32,FALSE),0)","v":1630},{"$f":"IFERROR(VLOOKUP($A13,FILTRO!$A7:$AY632,33,FALSE),0)","v":416},{"$f":"IFERROR(VLOOKUP($A13,FILTRO!$A7:$AY632,34,FALSE),0)","v":1320},{"$f":"IFERROR(VLOOKUP($A13,FILTRO!$A7:$AY632,35,FALSE),0)","v":331},{"$f":"IFERROR(VLOOKUP($A13,FILTRO!$A7:$AY632,36,FALSE),0)","v":943},{"$f":"IFERROR(VLOOKUP($A13,FILTRO!$A7:$AY632,37,FALSE),0)","v":477},{"$f":"IFERROR(VLOOKUP($A13,FILTRO!$A7:$AY632,38,FALSE),0)","v":1224},{"$f":"IFERROR(VLOOKUP($A13,FILTRO!$A7:$AY632,39,FALSE),0)","v":164},{"$f":"IFERROR(VLOOKUP($A13,FILTRO!$A7:$AY632,40,FALSE),0)","v":703},{"$f":"IFERROR(VLOOKUP($A13,FILTRO!$A7:$AY632,41,FALSE),0)","v":74},{"$f":"IFERROR(VLOOKUP($A13,FILTRO!$A7:$AY632,42,FALSE),0)","v":174},{"$f":"IFERROR(VLOOKUP($A13,FILTRO!$A7:$AY632,43,FALSE),0)","v":98},{"$f":"IFERROR(VLOOKUP($A13,FILTRO!$A7:$AY632,44,FALSE),0)","v":207},{"$f":"IFERROR(VLOOKUP($A13,FILTRO!$A7:$AY632,45,FALSE),0)","v":142},{"$f":"IFERROR(VLOOKUP($A13,FILTRO!$A7:$AY632,46,FALSE),0)","v":1577},{"$f":"IFERROR(VLOOKUP($A13,FILTRO!$A7:$AY632,47,FALSE),0)","v":2748},{"$f":"IFERROR(VLOOKUP($A13,FILTRO!$A7:$AY632,48,FALSE),0)","v":186},{"$f":"IFERROR(VLOOKUP($A13,FILTRO!$A7:$AY632,49,FALSE),0)","v":27},{"$nulls":34},{"$f":"IF($AO13>$F13,\"* La celda 'Gestantes' debe ser menor o igual al Total de Mujeres en control. \",\"\")","v":""},{"$f":"IF($AP13>$F13,\"* La celda 'Madres de Hijos menor de 5 años' debe ser menor o igual al Total de Mujeres en control. \",\"\")","v":""},{"$f":"IF(($AQ13)>$E13,\"* La celda 'Pueblos Originarios / Hombres' debe ser menor o igual al Total de Hombres en control. \",\"\")","v":""},{"$f":"IF($AR13>$F13,\"* La celda 'Pueblos Originarios / Mujeres' debe ser menor o igual al Total de Mujeres en control. \",\"\")","v":""},{"$f":"IF(($AS13)>$E13,\"* La celda 'Población Migrantes / Hombres' debe ser menor o igual al Total de Hombres en control. \",\"\")","v":""},{"$f":"IF($AT13>$F13,\"* La celda 'Población Migrantes / Mujeres' debe ser menor o igual al Total de Mujeres en control. \",\"\")","v":""},{"$f":"IF($AU13>$D13,\"* La celda 'Niños, Niñas, Adolescentes y Jóvenes de Población SENAME' debe ser menor o igual al Total de Ambos Sexos. \",\"\")","v":""},{"$f":"IF(AND($D13<>0,$AO13=\"\"),\"* No olvide escribir en la celda de 'Gestantes' (Digite CERO si no tiene). \",\"\")","v":""},{"$f":"IF(AND($D13<>0,$AP13=\"\"),\"* No olvide escribir en la celda de 'Madres de Hijos menor de 5 años' (Digite CERO si no tiene). \",\"\")","v":""},{"$f":"IF(AND($D13<>0,$AU13=\"\"),\"* No olvide escribir en la celda de 'Niños, Niñas, Adolescentes y Jóvenes de Población SENAME' (Digite CERO si no tiene). \",\"\")","v":""},{"$f":"IF(AND($E13<>0,$AQ13=\"\"),\"* No olvide escribir en las celdas de 'Pueblos Originarios' (Digite CERO si no tiene). \",IF(AND($F13<>0,$AR13=\"\"),\"* No olvide escribir en las celdas de 'Pueblos Originarios' (Digite CERO si no tiene). \",\"\"))","v":""},{"$f":"IF(AND($E13<>0,$AS13=\"\"),\"* No olvide escribir en las celdas de 'Población Migrantes' (Digite CERO si no tiene). \",IF(AND($F13<>0,$AT13=\"\"),\"* No olvide escribir en las celdas de 'Población Migrantes' (Digite CERO si no tiene). \",\"\"))","v":""},{"$nulls":8},{"$f":"IF($AO13>$F13,1,0)","v":0},{"$f":"IF($AP13>$F13,1,0)","v":0},{"$f":"IF(($AQ13)>$E13,1,0)","v":0},{"$f":"IF($AR13>$F13,1,0)","v":0},{"$f":"IF(($AS13)>$E13,1,0)","v":0},{"$f":"IF($AT13>$F13,1,0)","v":0},{"$f":"IF($AU13>$D13,1,0)","v":0},{"$f":"IF(AND($D13<>0,$AO13=\"\"),1,0)","v":0},{"$f":"IF(AND($D13<>0,$AP13=\"\"),1,0)","v":0},{"$f":"IF(AND($D13<>0,$AU13=\"\"),1,0)","v":0},{"$f":"IF(AND($E13<>0,$AQ13=\"\"),1,IF(AND($F13<>0,$AR13=\"\"),1,0))","v":0},{"$f":"IF(AND($E13<>0,$AS13=\"\"),1,IF(AND($F13<>0,$AT13=\"\"),1,0))","v":0}]
[null,"FACTORES DE RIESGO Y CONDICIONANTES DE LA SALUD MENTAL"]
["P6221100","VIOLENCIA ","VICTIMA",{"$f":"IFERROR(VLOOKUP($A15,FILTRO!$A9:$AY634,2,FALSE),0)","v":1282},{"$f":"IFERROR(VLOOKUP($A15,FILTRO!$A9:$AY634,3,FALSE),0)","v":275},{"$f":"IFERROR(VLOOKUP($A15,FILTRO!$A9:$AY634,4,FALSE),0)","v":1007},{"$f":"IFERROR(VLOOKUP($A15,FILTRO!$A9:$AY634,5,FALSE),0)","v":3},{"$f":"IFERROR(VLOOKUP($A15,FILTRO!$A9:$AY634,6,FALSE),0)","v":5},{"$f":"IFERROR(VLOOKUP($A15,FILTRO!$A9:$AY634,7,FALSE),0)","v":52},{"$f":"IFERROR(VLOOKUP($A15,FILTRO!$A9:$AY634,8,FALSE),0)","v":32},{"$f":"IFERROR(VLOOKUP($A15,FILTRO!$A9:$AY634,9,FALSE),0)","v":69},{"$f":"IFERROR(VLOOKUP($A15,FILTRO!$A9:$AY634,10,FALSE),0)","v":93},{"$f":"IFERROR(VLOOKUP($A15,FILTRO!$A9:$AY634,11,FALSE),0)","v":60},{"$f":"IFERROR(VLOOKUP($A15,FILTRO!$A9:$AY634,12,FALSE),0)","v":119},{"$f":"IFERROR(VLOOKUP($A15,FILTRO!$A9:$AY634,13,FALSE),0)","v":6},{"$f":"IFERROR(VLOOKUP($A15,FILTRO!$A9:$AY634,14,FALSE),0)","v":42},{"$f":"IFERROR(VLOOKUP($A15,FILTRO!$A9:$AY634,15,FALSE),0)","v":11},{"$f":"IFERROR(VLOOKUP($A15,FILTRO!$A9:$AY634,16,FALSE),0)","v":73},{"$f":"IFERROR(VLOOKUP($A15,FILTRO!$A9:$AY634,17,FALSE),0)","v":13},{"$f":"IFERROR(VLOOKUP($A15,FILTRO!$A9:$AY634,18,FALSE),0)","v":73},{"$f":"IFERROR(VLOOKUP($A15,FILTRO!$A9:$AY634,19,FALSE),0)","v":5},{"$f":"IFERROR(VLOOKUP($A15,FILTRO!$A9:$AY634,20,FALSE),0)","v":58},{"$f":"IFERROR(VLOOKUP($A15,FILTRO!$A9:$AY634,21,FALSE),0)","v":6},{"$f":"IFERROR(VLOOKUP($A15,FILTRO!$A9:$AY634,22,FALSE),0)","v":66},{"$f":"IFERROR(VLOOKUP($A15,FILTRO!$A9:$AY634,23,FALSE),0)","v":21},{"$f":"IFERROR(VLOOKUP($A15,FILTRO!$A9:$AY634,24,FALSE),0)","v":79},{"$f":"IFERROR(VLOOKUP($A15,FILTRO!$A9:$AY634,25,FALSE),0)","v":4},{"$f":"IFERROR(VLOOKUP($A15,FILTRO!$A9:$AY634,26,FALSE),0)","v":95},{"$f":"IFERROR(VLOOKUP($A15,FILTRO!$A9:$AY634,27,FALSE),0)","v":5},{"$f":"IFERROR(VLOOKUP($A15,FILTRO!$A9:$AY634,28,FALSE),0)","v":74},{"$f":"IFERROR(VLOOKUP($A15,FILTRO!$A9:$AY634,29,FALSE),0)","v":7},{"$f":"IFERROR(VLOOKUP($A15,FILTRO!$A9:$AY634,30,FALSE),0)","v":70},{"$f":"IFERROR(VLOOKUP($A15,FILTRO!$A9:$AY634,31,FALSE),0)","v":5},{"$f":"IFERROR(VLOOKUP($A15,FILTRO!$A9:$AY634,32,FALSE),0)","v":63},{"$f":"IFERROR(VLOOKUP($A15,FILTRO!$A9:$AY634,33,FALSE),0)","v":1},{"$f":"IFERROR(VLOOKUP($A15,FILTRO!$A9:$AY634,34,FALSE),0)","v":26},{"$f":"IFERROR(VLOOKUP($A15,FILTRO!$A9:$AY634,35,FALSE),0)","v":1},{"$f":"IFERROR(VLOOKUP($A15,FILTRO!$A9:$AY634,36,FALSE),0)","v":27},{"$f":"IFERROR(VLOOKUP($A15,FILTRO!$A9:$AY634,37,FALSE),0)","v":6},{"$f":"IFERROR(VLOOKUP($A15,FILTRO!$A9:$AY634,38,FALSE),0)","v":12},{"$f":"IFERROR(VLOOKUP($A15,FILTRO!$A9:$AY634,39,FALSE),0)","v":14},{"$f":"IFERROR(VLOOKUP($A15,FILTRO!$A9:$AY634,40,FALSE),0)","v":49},{"$f":"IFERROR(VLOOKUP($A15,FILTRO!$A9:$AY634,41,FALSE),0)","v":2},{"$f":"IFERROR(VLOOKUP($A15,FILTRO!$A9:$AY634,42,FALSE),0)","v":6},{"$f":"IFERROR(VLOOKUP($A15,FILTRO!$A9:$AY634,43,FALSE),0)","v":4},{"$f":"IFERROR(VLOOKUP($A15,FILTRO!$A9:$AY634,44,FALSE),0)","v":15},{"$f":"IFERROR(VLOOKUP($A15,FILTRO!$A9:$AY634,45,FALSE),0)","v":31},{"$f":"IFERROR(VLOOKUP($A15,FILTRO!$A9:$AY634,46,FALSE),0)","v":210},{"$f":"IFERROR(VLOOKUP($A15,FILTRO!$A9:$AY634,47,FALSE),0)","v":62},{"$f":"IFERROR(VLOOKUP($A15,FILTRO!$A9:$AY634,48,FALSE),0)","v":2},{"$f":"IFERROR(VLOOKUP($A15,FILTRO!$A9:$AY634,49,FALSE),0)","v":0},{"$nulls":34},{"$f":"IF($AO15>$F15,\"* La celda 'Gestantes' debe ser menor o igual al Total de Mujeres en control. \",\"\")","v":""},{"$f":"IF($AP15>$F15,\"* La celda 'Madres de Hijos menor de 5 años' debe ser menor o igual al Total de Mujeres en control. \",\"\")","v":""},{"$f":"IF(($AQ15)>$E15,\"* La celda 'Pueblos Originarios / Hombres' debe ser menor o igual al Total de Hombres en control. \",\"\")","v":""},{"$f":"IF($AR15>$F15,\"* La celda 'Pueblos Originarios / Mujeres' debe ser menor o igual al Total de Mujeres en control. \",\"\")","v":""},{"$f":"IF(($AS15)>$E15,\"* La celda 'Población Migrantes / Hombres' debe ser menor o igual al Total de Hombres en control. \",\"\")","v":""},{"$f":"IF($AT15>$F15,\"* La celda 'Población Migrantes / Mujeres' debe ser menor o igual al Total de Mujeres en control. \",\"\")","v":""},{"$f":"IF($AU15>$D15,\"* La celda 'Niños, Niñas, Adolescentes y Jóvenes de Población SENAME' debe ser menor o igual al Total de Ambos Sexos. \",\"\")","v":""},{"$f":"IF(AND($D15<>0,$AO15=\"\"),\"* No olvide escribir en la celda de 'Gestantes' (Digite CERO si no tiene). \",\"\")","v":""},{"$f":"IF(AND($D15<>0,$AP15=\"\"),\"* No olvide escribir en la celda de 'Madres de Hijos menor de 5 años' (Digite CERO si no tiene). \",\"\")","v":""},{"$f":"IF(AND($D15<>0,$AU15=\"\"),\"* No olvide escribir en la celda de 'Niños, Niñas, Adolescentes y Jóvenes de Población SENAME' (Digite CERO si no tiene). \",\"\")","v":""},{"$f":"IF(AND($E15<>0,$AQ15=\"\"),\"* No olvide escribir en las celdas de 'Pueblos Originarios' (Digite CERO si no tiene). \",IF(AND($F15<>0,$AR15=\"\"),\"* No olvide escribir en las celdas de 'Pueblos Originarios' (Digite CERO si no tiene). \",\"\"))","v":""},{"$f":"IF(AND($E15<>0,$AS15=\"\"),\"* No olvide escribir en las celdas de 'Población Migrantes' (Digite CERO si no tiene). \",IF(AND($F15<>0,$AT15=\"\"),\"* No olvide escribir en las celdas de 'Población Migrantes' (Digite CERO si no tiene). \",\"\"))","v":""},{"$nulls":8},{"$f":"IF($AO15>$F15,1,0)","v":0},{"$f":"IF($AP15>$F15,1,0)","v":0},{"$f":"IF(($AQ15)>$E15,1,0)","v":0},{"$f":"IF($AR15>$F15,1,0)","v":0},{"$f":"IF(($AS15)>$E15,1,0)","v":0},{"$f":"IF($AT15>$F15,1,0)","v":0},{"$f":"IF($AU15>$D15,1,0)","v":0},{"$f":"IF(AND($D15<>0,$AO15=\"\"),1,0)","v":0},{"$f":"IF(AND($D15<>0,$AP15=\"\"),1,0)","v":0},{"$f":"IF(AND($D15<>0,$AU15=\"\"),1,0)","v":0},{"$f":"IF(AND($E15<>0,$AQ15=\"\"),1,IF(AND($F15<>0,$AR15=\"\"),1,0))","v":0},{"$f":"IF(AND($E15<>0,$AS15=\"\"),1,IF(AND($F15<>0,$AT15=\"\"),1,0))","v":0}]
["P6221200",null,"AGRESOR/A",{"$f":"IFERROR(VLOOKUP($A16,FILTRO!$A10:$AY635,2,FALSE),0)","v":468},{"$f":"IFERROR(VLOOKUP($A16,FILTRO!$A10:$AY635,3,FALSE),0)","v":247},{"$f":"IFERROR(VLOOKUP($A16,FILTRO!$A10:$AY635,4,FALSE),0)","v":221},{"$f":"IFERROR(VLOOKUP($A16,FILTRO!$A10:$AY635,5,FALSE),0)","v":0},{"$f":"IFERROR(VLOOKUP($A16,FILTRO!$A10:$AY635,6,FALSE),0)","v":0},{"$f":"IFERROR(VLOOKUP($A16,FILTRO!$A10:$AY635,7,FALSE),0)","v":0},{"$f":"IFERROR(VLOOKUP($A16,FILTRO!$A10:$AY635,8,FALSE),0)","v":1},{"$f":"IFERROR(VLOOKUP($A16,FILTRO!$A10:$AY635,9,FALSE),0)","v":2},{"$f":"IFERROR(VLOOKUP($A16,FILTRO!$A10:$AY635,10,FALSE),0)","v":8},{"$f":"IFERROR(VLOOKUP($A16,FILTRO!$A10:$AY635,11,FALSE),0)","v":42},{"$f":"IFERROR(VLOOKUP($A16,FILTRO!$A10:$AY635,12,FALSE),0)","v":18},{"$f":"IFERROR(VLOOKUP($A16,FILTRO!$A10:$AY635,13,FALSE),0)","v":12},{"$f":"IFERROR(VLOOKUP($A16,FILTRO!$A10:$AY635,14,FALSE),0)","v":13},{"$f":"IFERROR(VLOOKUP($A16,FILTRO!$A10:$AY635,15,FALSE),0)","v":22},{"$f":"IFERROR(VLOOKUP($A16,FILTRO!$A10:$AY635,16,FALSE),0)","v":23},{"$f":"IFERROR(VLOOKUP($A16,FILTRO!$A10:$AY635,17,FALSE),0)","v":19},{"$f":"IFERROR(VLOOKUP($A16,FILTRO!$A10:$AY635,18,FALSE),0)","v":24},{"$f":"IFERROR(VLOOKUP($A16,FILTRO!$A10:$AY635,19,FALSE),0)","v":29},{"$f":"IFERROR(VLOOKUP($A16,FILTRO!$A10:$AY635,20,FALSE),0)","v":17},{"$f":"IFERROR(VLOOKUP($A16,FILTRO!$A10:$AY635,21,FALSE),0)","v":23},{"$f":"IFERROR(VLOOKUP($A16,FILTRO!$A10:$AY635,22,FALSE),0)","v":20},{"$f":"IFERROR(VLOOKUP($A16,FILTRO!$A10:$AY635,23,FALSE),0)","v":24},{"$f":"IFERROR(VLOOKUP($A16,FILTRO!$A10:$AY635,24,FALSE),0)","v":25},{"$f":"IFERROR(VLOOKUP($A16,FILTRO!$A10:$AY635,25,FALSE),0)","v":19},{"$f":"IFERROR(VLOOKUP($A16,FILTRO!$A10:$AY635,26,FALSE),0)","v":23},{"$f":"IFERROR(VLOOKUP($A16,FILTRO!$A10:$AY635,27,FALSE),0)","v":21},{"$f":"IFERROR(VLOOKUP($A16,FILTRO!$A10:$AY635,28,FALSE),0)","v":17},{"$f":"IFERROR(VLOOKUP($A16,FILTRO!$A10:$AY635,29,FALSE),0)","v":11},{"$f":"IFERROR(VLOOKUP($A16,FILTRO!$A10:$AY635,30,FALSE),0)","v":16},{"$f":"IFERROR(VLOOKUP($A16,FILTRO!$A10:$AY635,31,FALSE),0)","v":10},{"$f":"IFERROR(VLOOKUP($A16,FILTRO!$A10:$AY635,32,FALSE),0)","v":7},{"$f":"IFERROR(VLOOKUP($A16,FILTRO!$A10:$AY635,33,FALSE),0)","v":6},{"$f":"IFERROR(VLOOKUP($A16,FILTRO!$A10:$AY635,34,FALSE),0)","v":4},{"$f":"IFERROR(VLOOKUP($A16,FILTRO!$A10:$AY635,35,FALSE),0)","v":4},{"$f":"IFERROR(VLOOKUP($A16,FILTRO!$A10:$AY635,36,FALSE),0)","v":4},{"$f":"IFERROR(VLOOKUP($A16,FILTRO!$A10:$AY635,37,FALSE),0)","v":3},{"$f":"IFERROR(VLOOKUP($A16,FILTRO!$A10:$AY635,38,FALSE),0)","v":1},{"$f":"IFERROR(VLOOKUP($A16,FILTRO!$A10:$AY635,39,FALSE),0)","v":1},{"$f":"IFERROR(VLOOKUP($A16,FILTRO!$A10:$AY635,40,FALSE),0)","v":7},{"$f":"IFERROR(VLOOKUP($A16,FILTRO!$A10:$AY635,41,FALSE),0)","v":1},{"$f":"IFERROR(VLOOKUP($A16,FILTRO!$A10:$AY635,42,FALSE),0)","v":0},{"$f":"IFERROR(VLOOKUP($A16,FILTRO!$A10:$AY635,43,FALSE),0)","v":1},{"$f":"IFERROR(VLOOKUP($A16,FILTRO!$A10:$AY635,44,FALSE),0)","v":1},{"$f":"IFERROR(VLOOKUP($A16,FILTRO!$A10:$AY635,45,FALSE),0)","v":44},{"$f":"IFERROR(VLOOKUP($A16,FILTRO!$A10:$AY635,46,FALSE),0)","v":21},{"$f":"IFERROR(VLOOKUP($A16,FILTRO!$A10:$AY635,47,FALSE),0)","v":4},{"$f":"IFERROR(VLOOKUP($A16,FILTRO!$A10:$AY635,48,FALSE),0)","v":0},{"$f":"IFERROR(VLOOKUP($A16,FILTRO!$A10:$AY635,49,FALSE),0)","v":0},{"$nulls":34},"","","","","","","","","","","","",{"$nulls":8},0,0,0,0,0,0,0,0,0,0,0,0]
["P6221500","ABUSO SEXUAL",null,{"$f":"IFERROR(VLOOKUP($A17,FILTRO!$A11:$AY636,2,FALSE),0)","v":321},{"$f":"IFERROR(VLOOKUP($A17,FILTRO!$A11:$AY636,3,FALSE),0)","v":37},{"$f":"IFERROR(VLOOKUP($A17,FILTRO!$A11:$AY636,4,FALSE),0)","v":284},{"$f":"IFERROR(VLOOKUP($A17,FILTRO!$A11:$AY636,5,FALSE),0)","v":0},{"$f":"IFERROR(VLOOKUP($A17,FILTRO!$A11:$AY636,6,FALSE),0)","v":0},{"$f":"IFERROR(VLOOKUP($A17,FILTRO!$A11:$AY636,7,FALSE),0)","v":6},{"$f":"IFERROR(VLOOKUP($A17,FILTRO!$A11:$AY636,8,FALSE),0)","v":8},{"$f":"IFERROR(VLOOKUP($A17,FILTRO!$A11:$AY636,9,FALSE),0)","v":13},{"$f":"IFERROR(VLOOKUP($A17,FILTRO!$A11:$AY636,10,FALSE),0)","v":66},{"$f":"IFERROR(VLOOKUP($A17,FILTRO!$A11:$AY636,11,FALSE),0)","v":8},{"$f":"IFERROR(VLOOKUP($A17,FILTRO!$A11:$AY636,12,FALSE),0)","v":94},{"$f":"IFERROR(VLOOKUP($A17,FILTRO!$A11:$AY636,13,FALSE),0)","v":4},{"$f":"IFERROR(VLOOKUP($A17,FILTRO!$A11:$AY636,14,FALSE),0)","v":13},{"$f":"IFERROR(VLOOKUP($A17,FILTRO!$A11:$AY636,15,FALSE),0)","v":0},{"$f":"IFERROR(VLOOKUP($A17,FILTRO!$A11:$AY636,16,FALSE),0)","v":16},{"$f":"IFERROR(VLOOKUP($A17,FILTRO!$A11:$AY636,17,FALSE),0)","v":1},{"$f":"IFERROR(VLOOKUP($A17,FILTRO!$A11:$AY636,18,FALSE),0)","v":16},{"$f":"IFERROR(VLOOKUP($A17,FILTRO!$A11:$AY636,19,FALSE),0)","v":2},{"$f":"IFERROR(VLOOKUP($A17,FILTRO!$A11:$AY636,20,FALSE),0)","v":13},{"$f":"IFERROR(VLOOKUP($A17,FILTRO!$A11:$AY636,21,FALSE),0)","v":1},{"$f":"IFERROR(VLOOKUP($A17,FILTRO!$A11:$AY636,22,FALSE),0)","v":7},{"$f":"IFERROR(VLOOKUP($A17,FILTRO!$A11:$AY636,23,FALSE),0)","v":1},{"$f":"IFERROR(VLOOKUP($A17,FILTRO!$A11:$AY636,24,FALSE),0)","v":15},{"$f":"IFERROR(VLOOKUP($A17,FILTRO!$A11:$AY636,25,FALSE),0)","v":0},{"$f":"IFERROR(VLOOKUP($A17,FILTRO!$A11:$AY636,26,FALSE),0)","v":10},{"$f":"IFERROR(VLOOKUP($A17,FILTRO!$A11:$AY636,27,FALSE),0)","v":0},{"$f":"IFERROR(VLOOKUP($A17,FILTRO!$A11:$AY636,28,FALSE),0)","v":7},{"$f":"IFERROR(VLOOKUP($A17,FILTRO!$A11:$AY636,29,FALSE),0)","v":1},{"$f":"IFERROR(VLOOKUP($A17,FILTRO!$A11:$AY636,30,FALSE),0)","v":7},{"$f":"IFERROR(VLOOKUP($A17,FILTRO!$A11:$AY636,31,FALSE),0)","v":0},{"$f":"IFERROR(VLOOKUP($A17,FILTRO!$A11:$AY636,32,FALSE),0)","v":7},{"$f":"IFERROR(VLOOKUP($A17,FILTRO!$A11:$AY636,33,FALSE),0)","v":0},{"$f":"IFERROR(VLOOKUP($A17,FILTRO!$A11:$AY636,34,FALSE),0)","v":3},{"$f":"IFERROR(VLOOKUP($A17,FILTRO!$A11:$AY636,35,FALSE),0)","v":0},{"$f":"IFERROR(VLOOKUP($A17,FILTRO!$A11:$AY636,36,FALSE),0)","v":0},{"$f":"IFERROR(VLOOKUP($A17,FILTRO!$A11:$AY636,37,FALSE),0)","v":0},{"$f":"IFERROR(VLOOKUP($A17,FILTRO!$A11:$AY636,38,FALSE),0)","v":2},{"$f":"IFERROR(VLOOKUP($A17,FILTRO!$A11:$AY636,39,FALSE),0)","v":3},{"$f":"IFERROR(VLOOKUP($A17,FILTRO!$A11:$AY636,40,FALSE),0)","v":13},{"$f":"IFERROR(VLOOKUP($A17,FILTRO!$A11:$AY636,41,FALSE),0)","v":0},{"$f":"IFERROR(VLOOKUP($A17,FILTRO!$A11:$AY636,42,FALSE),0)","v":0},{"$f":"IFERROR(VLOOKUP($A17,FILTRO!$A11:$AY636,43,FALSE),0)","v":1},{"$f":"IFERROR(VLOOKUP($A17,FILTRO!$A11:$AY636,44,FALSE),0)","v":3},{"$f":"IFERROR(VLOOKUP($A17,FILTRO!$A11:$AY636,45,FALSE),0)","v":8},{"$f":"IFERROR(VLOOKUP($A17,FILTRO!$A11:$AY636,46,FALSE),0)","v":100},{"$f":"IFERROR(VLOOKUP($A17,FILTRO!$A11:$AY636,47,FALSE),0)","v":15},{"$f":"IFERROR(VLOOKUP($A17,FILTRO!$A11:$AY636,48,FALSE),0)","v":3},{"$f":"IFERROR(VLOOKUP($A17,FILTRO!$A11:$AY636,49,FALSE),0)","v":1},{"$nulls":34},"","","","","","","","","","","","",{"$nulls":8},0,0,0,0,0,0,0,0,0,0,0,0]
["P6230800","SUICIDIO","IDEACIÓN",{"$f":"IFERROR(VLOOKUP($A18,FILTRO!$A12:$AY637,2,FALSE),0)","v":802},{"$f":"IFERROR(VLOOKUP($A18,FILTRO!$A12:$AY637,3,FALSE),0)","v":172},{"$f":"IFERROR(VLOOKUP($A18,FILTRO!$A12:$AY637,4,FALSE),0)","v":630},{"$f":"IFERROR(VLOOKUP($A18,FILTRO!$A12:$AY637,5,FALSE),0)","v":0},{"$f":"IFERROR(VLOOKUP($A18,FILTRO!$A12:$AY637,6,FALSE),0)","v":0},{"$f":"IFERROR(VLOOKUP($A18,FILTRO!$A12:$AY637,7,FALSE),0)","v":3},{"$f":"IFERROR(VLOOKUP($A18,FILTRO!$A12:$AY637,8,FALSE),0)","v":3},{"$f":"IFERROR(VLOOKUP($A18,FILTRO!$A12:$AY637,9,FALSE),0)","v":14},{"$f":"IFERROR(VLOOKUP($A18,FILTRO!$A12:$AY637,10,FALSE),0)","v":92},{"$f":"IFERROR(VLOOKUP($A18,FILTRO!$A12:$AY637,11,FALSE),0)","v":53},{"$f":"IFERROR(VLOOKUP($A18,FILTRO!$A12:$AY637,12,FALSE),0)","v":151},{"$f":"IFERROR(VLOOKUP($A18,FILTRO!$A12:$AY637,13,FALSE),0)","v":21},{"$f":"IFERROR(VLOOKUP($A18,FILTRO!$A12:$AY637,14,FALSE),0)","v":47},{"$f":"IFERROR(VLOOKUP($A18,FILTRO!$A12:$AY637,15,FALSE),0)","v":17},{"$f":"IFERROR(VLOOKUP($A18,FILTRO!$A12:$AY637,16,FALSE),0)","v":39},{"$f":"IFERROR(VLOOKUP($A18,FILTRO!$A12:$AY637,17,FALSE),0)","v":10},{"$f":"IFERROR(VLOOKUP($A18,FILTRO!$A12:$AY637,18,FALSE),0)","v":51},{"$f":"IFERROR(VLOOKUP($A18,FILTRO!$A12:$AY637,19,FALSE),0)","v":8},{"$f":"IFERROR(VLOOKUP($A18,FILTRO!$A12:$AY637,20,FALSE),0)","v":34},{"$f":"IFERROR(VLOOKUP($A18,FILTRO!$A12:$AY637,21,FALSE),0)","v":4},{"$f":"IFERROR(VLOOKUP($A18,FILTRO!$A12:$AY637,22,FALSE),0)","v":17},{"$f":"IFERROR(VLOOKUP($A18,FILTRO!$A12:$AY637,23,FALSE),0)","v":6},{"$f":"IFERROR(VLOOKUP($A18,FILTRO!$A12:$AY637,24,FALSE),0)","v":34},{"$f":"IFERROR(VLOOKUP($A18,FILTRO!$A12:$AY637,25,FALSE),0)","v":5},{"$f":"IFERROR(VLOOKUP($A18,FILTRO!$A12:$AY637,26,FALSE),0)","v":44},{"$f":"IFERROR(VLOOKUP($A18,FILTRO!$A12:$AY637,27,FALSE),0)","v":8},{"$f":"IFERROR(VLOOKUP($A18,FILTRO!$A12:$AY637,28,FALSE),0)","v":39},{"$f":"IFERROR(VLOOKUP($A18,FILTRO!$A12:$AY637,29,FALSE),0)","v":6},{"$f":"IFERROR(VLOOKUP($A18,FILTRO!$A12:$AY637,30,FALSE),0)","v":20},{"$f":"IFERROR(VLOOKUP($A18,FILTRO!$A12:$AY637,31,FALSE),0)","v":8},{"$f":"IFERROR(VLOOKUP($A18,FILTRO!$A12:$AY637,32,FALSE),0)","v":26},{"$f":"IFERROR(VLOOKUP($A18,FILTRO!$A12:$AY637,33,FALSE),0)","v":4},{"$f":"IFERROR(VLOOKUP($A18,FILTRO!$A12:$AY637,34,FALSE),0)","v":14},{"$f":"IFERROR(VLOOKUP($A18,FILTRO!$A12:$AY637,35,FALSE),0)","v":4},{"$f":"IFERROR(VLOOKUP($A18,FILTRO!$A12:$AY637,36,FALSE),0)","v":16},{"$f":"IFERROR(VLOOKUP($A18,FILTRO!$A12:$AY637,37,FALSE),0)","v":1},{"$f":"IFERROR(VLOOKUP($A18,FILTRO!$A12:$AY637,38,FALSE),0)","v":3},{"$f":"IFERROR(VLOOKUP($A18,FILTRO!$A12:$AY637,39,FALSE),0)","v":10},{"$f":"IFERROR(VLOOKUP($A18,FILTRO!$A12:$AY637,40,FALSE),0)","v":21},{"$f":"IFERROR(VLOOKUP($A18,FILTRO!$A12:$AY637,41,FALSE),0)","v":1},{"$f":"IFERROR(VLOOKUP($A18,FILTRO!$A12:$AY637,42,FALSE),0)","v":6},{"$f":"IFERROR(VLOOKUP($A18,FILTRO!$A12:$AY637,43,FALSE),0)","v":1},{"$f":"IFERROR(VLOOKUP($A18,FILTRO!$A12:$AY637,44,FALSE),0)","v":7},{"$f":"IFERROR(VLOOKUP($A18,FILTRO!$A12:$AY637,45,FALSE),0)","v":7},{"$f":"IFERROR(VLOOKUP($A18,FILTRO!$A12:$AY637,46,FALSE),0)","v":91},{"$f":"IFERROR(VLOOKUP($A18,FILTRO!$A12:$AY637,47,FALSE),0)","v":78},{"$f":"IFERROR(VLOOKUP($A18,FILTRO!$A12:$AY637,48,FALSE),0)","v":5},{"$f":"IFERROR(VLOOKUP($A18,FILTRO!$A12:$AY637,49,FALSE),0)","v":7},{"$nulls":34},"","","","","","","","","","","","",{"$nulls":8},0,0,0,0,0,0,0,0,0,0,0,0]
["P6230900",null,"INTENTO",{"$f":"IFERROR(VLOOKUP($A19,FILTRO!$A13:$AY638,2,FALSE),0)","v":475},{"$f":"IFERROR(VLOOKUP($A19,FILTRO!$A13:$AY638,3,FALSE),0)","v":127},{"$f":"IFERROR(VLOOKUP($A19,FILTRO!$A13:$AY638,4,FALSE),0)","v":348},{"$f":"IFERROR(VLOOKUP($A19,FILTRO!$A13:$AY638,5,FALSE),0)","v":0},{"$f":"IFERROR(VLOOKUP($A19,FILTRO!$A13:$AY638,6,FALSE),0)","v":0},{"$f":"IFERROR(VLOOKUP($A19,FILTRO!$A13:$AY638,7,FALSE),0)","v":1},{"$f":"IFERROR(VLOOKUP($A19,FILTRO!$A13:$AY638,8,FALSE),0)","v":1},{"$f":"IFERROR(VLOOKUP($A19,FILTRO!$A13:$AY638,9,FALSE),0)","v":10},{"$f":"IFERROR(VLOOKUP($A19,FILTRO!$A13:$AY638,10,FALSE),0)","v":47},{"$f":"IFERROR(VLOOKUP($A19,FILTRO!$A13:$AY638,11,FALSE),0)","v":29},{"$f":"IFERROR(VLOOKUP($A19,FILTRO!$A13:$AY638,12,FALSE),0)","v":99},{"$f":"IFERROR(VLOOKUP($A19,FILTRO!$A13:$AY638,13,FALSE),0)","v":21},{"$f":"IFERROR(VLOOKUP($A19,FILTRO!$A13:$AY638,14,FALSE),0)","v":40},{"$f":"IFERROR(VLOOKUP($A19,FILTRO!$A13:$AY638,15,FALSE),0)","v":18},{"$f":"IFERROR(VLOOKUP($A19,FILTRO!$A13:$AY638,16,FALSE),0)","v":18},{"$f":"IFERROR(VLOOKUP($A19,FILTRO!$A13:$AY638,17,FALSE),0)","v":6},{"$f":"IFERROR(VLOOKUP($A19,FILTRO!$A13:$AY638,18,FALSE),0)","v":22},{"$f":"IFERROR(VLOOKUP($A19,FILTRO!$A13:$AY638,19,FALSE),0)","v":8},{"$f":"IFERROR(VLOOKUP($A19,FILTRO!$A13:$AY638,20,FALSE),0)","v":19},{"$f":"IFERROR(VLOOKUP($A19,FILTRO!$A13:$AY638,21,FALSE),0)","v":6},{"$f":"IFERROR(VLOOKUP($A19,FILTRO!$A13:$AY638,22,FALSE),0)","v":11},{"$f":"IFERROR(VLOOKUP($A19,FILTRO!$A13:$AY638,23,FALSE),0)","v":6},{"$f":"IFERROR(VLOOKUP($A19,FILTRO!$A13:$AY638,24,FALSE),0)","v":15},{"$f":"IFERROR(VLOOKUP($A19,FILTRO!$A13:$AY638,25,FALSE),0)","v":8},{"$f":"IFERROR(VLOOKUP($A19,FILTRO!$A13:$AY638,26,FALSE),0)","v":26},{"$f":"IFERROR(VLOOKUP($A19,FILTRO!$A13:$AY638,27,FALSE),0)","v":4},{"$f":"IFERROR(VLOOKUP($A19,FILTRO!$A13:$AY638,28,FALSE),0)","v":18},{"$f":"IFERROR(VLOOKUP($A19,FILTRO!$A13:$AY638,29,FALSE),0)","v":0},{"$f":"IFERROR(VLOOKUP($A19,FILTRO!$A13:$AY638,30,FALSE),0)","v":12},{"$f":"IFERROR(VLOOKUP($A19,FILTRO!$A13:$AY638,31,FALSE),0)","v":4},{"$f":"IFERROR(VLOOKUP($A19,FILTRO!$A13:$AY638,32,FALSE),0)","v":10},{"$f":"IFERROR(VLOOKUP($A19,FILTRO!$A13:$AY638,33,FALSE),0)","v":0},{"$f":"IFERROR(VLOOKUP($A19,FILTRO!$A13:$AY638,34,FALSE),0)","v":5},{"$f":"IFERROR(VLOOKUP($A19,FILTRO!$A13:$AY638,35,FALSE),0)","v":5},{"$f":"IFERROR(VLOOKUP($A19,FILTRO!$A13:$AY638,36,FALSE),0)","v":4},{"$f":"IFERROR(VLOOKUP($A19,FILTRO!$A13:$AY638,37,FALSE),0)","v":1},{"$f":"IFERROR(VLOOKUP($A19,FILTRO!$A13:$AY638,38,FALSE),0)","v":1},{"$f":"IFERROR(VLOOKUP($A19,FILTRO!$A13:$AY638,39,FALSE),0)","v":3},{"$f":"IFERROR(VLOOKUP($A19,FILTRO!$A13:$AY638,40,FALSE),0)","v":16},{"$f":"IFERROR(VLOOKUP($A19,FILTRO!$A13:$AY638,41,FALSE),0)","v":0},{"$f":"IFERROR(VLOOKUP($A19,FILTRO!$A13:$AY638,42,FALSE),0)","v":4},{"$f":"IFERROR(VLOOKUP($A19,FILTRO!$A13:$AY638,43,FALSE),0)","v":0},{"$f":"IFERROR(VLOOKUP($A19,FILTRO!$A13:$AY638,44,FALSE),0)","v":4},{"$f":"IFERROR(VLOOKUP($A19,FILTRO!$A13:$AY638,45,FALSE),0)","v":8},{"$f":"IFERROR(VLOOKUP($A19,FILTRO!$A13:$AY638,46,FALSE),0)","v":73},{"$f":"IFERROR(VLOOKUP($A19,FILTRO!$A13:$AY638,47,FALSE),0)","v":22},{"$f":"IFERROR(VLOOKUP($A19,FILTRO!$A13:$AY638,48,FALSE),0)","v":4},{"$f":"IFERROR(VLOOKUP($A19,FILTRO!$A13:$AY638,49,FALSE),0)","v":4},{"$nulls":34},"","","","","","","","","","","","",{"$nulls":8},0,0,0,0,0,0,0,0,0,0,0,0]
["P6227601","PERSONAS CON DIAGNOSTICOS DE TRASTORNOS MENTALES ",null,{"$f":"IFERROR(VLOOKUP($A20,FILTRO!$A14:$AY639,2,FALSE),0)","v":34618},{"$f":"IFERROR(VLOOKUP($A20,FILTRO!$A14:$AY639,3,FALSE),0)","v":10515},{"$f":"IFERROR(VLOOKUP($A20,FILTRO!$A14:$AY639,4,FALSE),0)","v":24103},{"$f":"IFERROR(VLOOKUP($A20,FILTRO!$A14:$AY639,5,FALSE),0)","v":129},{"$f":"IFERROR(VLOOKUP($A20,FILTRO!$A14:$AY639,6,FALSE),0)","v":91},{"$f":"IFERROR(VLOOKUP($A20,FILTRO!$A14:$AY639,7,FALSE),0)","v":1348},{"$f":"IFERROR(VLOOKUP($A20,FILTRO!$A14:$AY639,8,FALSE),0)","v":870},{"$f":"IFERROR(VLOOKUP($A20,FILTRO!$A14:$AY639,9,FALSE),0)","v":1325},{"$f":"IFERROR(VLOOKUP($A20,FILTRO!$A14:$AY639,10,FALSE),0)","v":1869},{"$f":"IFERROR(VLOOKUP($A20,FILTRO!$A14:$AY639,11,FALSE),0)","v":1177},{"$f":"IFERROR(VLOOKUP($A20,FILTRO!$A14:$AY639,12,FALSE),0)","v":2308},{"$f":"IFERROR(VLOOKUP($A20,FILTRO!$A14:$AY639,13,FALSE),0)","v":669},{"$f":"IFERROR(VLOOKUP($A20,FILTRO!$A14:$AY639,14,FALSE),0)","v":1489},{"$f":"IFERROR(VLOOKUP($A20,FILTRO!$A14:$AY639,15,FALSE),0)","v":573},{"$f":"IFERROR(VLOOKUP($A20,FILTRO!$A14:$AY639,16,FALSE),0)","v":1461},{"$f":"IFERROR(VLOOKUP($A20,FILTRO!$A14:$AY639,17,FALSE),0)","v":536},{"$f":"IFERROR(VLOOKUP($A20,FILTRO!$A14:$AY639,18,FALSE),0)","v":1463},{"$f":"IFERROR(VLOOKUP($A20,FILTRO!$A14:$AY639,19,FALSE),0)","v":537},{"$f":"IFERROR(VLOOKUP($A20,FILTRO!$A14:$AY639,20,FALSE),0)","v":1408},{"$f":"IFERROR(VLOOKUP($A20,FILTRO!$A14:$AY639,21,FALSE),0)","v":502},{"$f":"IFERROR(VLOOKUP($A20,FILTRO!$A14:$AY639,22,FALSE),0)","v":1456},{"$f":"IFERROR(VLOOKUP($A20,FILTRO!$A14:$AY639,23,FALSE),0)","v":531},{"$f":"IFERROR(VLOOKUP($A20,FILTRO!$A14:$AY639,24,FALSE),0)","v":1466},{"$f":"IFERROR(VLOOKUP($A20,FILTRO!$A14:$AY639,25,FALSE),0)","v":538},{"$f":"IFERROR(VLOOKUP($A20,FILTRO!$A14:$AY639,26,FALSE),0)","v":1785},{"$f":"IFERROR(VLOOKUP($A20,FILTRO!$A14:$AY639,27,FALSE),0)","v":523},{"$f":"IFERROR(VLOOKUP($A20,FILTRO!$A14:$AY639,28,FALSE),0)","v":1852},{"$f":"IFERROR(VLOOKUP($A20,FILTRO!$A14:$AY639,29,FALSE),0)","v":539},{"$f":"IFERROR(VLOOKUP($A20,FILTRO!$A14:$AY639,30,FALSE),0)","v":1707},{"$f":"IFERROR(VLOOKUP($A20,FILTRO!$A14:$AY639,31,FALSE),0)","v":452},{"$f":"IFERROR(VLOOKUP($A20,FILTRO!$A14:$AY639,32,FALSE),0)","v":1557},{"$f":"IFERROR(VLOOKUP($A20,FILTRO!$A14:$AY639,33,FALSE),0)","v":396},{"$f":"IFERROR(VLOOKUP($A20,FILTRO!$A14:$AY639,34,FALSE),0)","v":1260},{"$f":"IFERROR(VLOOKUP($A20,FILTRO!$A14:$AY639,35,FALSE),0)","v":308},{"$f":"IFERROR(VLOOKUP($A20,FILTRO!$A14:$AY639,36,FALSE),0)","v":900},{"$f":"IFERROR(VLOOKUP($A20,FILTRO!$A14:$AY639,37,FALSE),0)","v":432},{"$f":"IFERROR(VLOOKUP($A20,FILTRO!$A14:$AY639,38,FALSE),0)","v":1161},{"$f":"IFERROR(VLOOKUP($A20,FILTRO!$A14:$AY639,39,FALSE),0)","v":130},{"$f":"IFERROR(VLOOKUP($A20,FILTRO!$A14:$AY639,40,FALSE),0)","v":603},{"$f":"IFERROR(VLOOKUP($A20,FILTRO!$A14:$AY639,41,FALSE),0)","v":61},{"$f":"IFERROR(VLOOKUP($A20,FILTRO!$A14:$AY639,42,FALSE),0)","v":164},{"$f":"IFERROR(VLOOKUP($A20,FILTRO!$A14:$AY639,43,FALSE),0)","v":75},{"$f":"IFERROR(VLOOKUP($A20,FILTRO!$A14:$AY639,44,FALSE),0)","v":187},{"$f":"IFERROR(VLOOKUP($A20,FILTRO!$A14:$AY639,45,FALSE),0)","v":102},{"$f":"IFERROR(VLOOKUP($A20,FILTRO!$A14:$AY639,46,FALSE),0)","v":1475},{"$f":"IFERROR(VLOOKUP($A20,FILTRO!$A14:$AY639,47,FALSE),0)","v":1849},{"$f":"IFERROR(VLOOKUP($A20,FILTRO!$A14:$AY639,48,FALSE),0)","v":67},{"$f":"IFERROR(VLOOKUP($A20,FILTRO!$A14:$AY639,49,FALSE),0)","v":25},{"$nulls":34},"","","","","","","","","","","","",{"$nulls":8},0,0,0,0,0,0,0,0,0,0,0,0]
["P6221600","TRASTORNOS DEL HUMOR\n(AFECTIVOS)","DEPRESIÓN LEVE",{"$f":"IFERROR(VLOOKUP($A21,FILTRO!$A15:$AY640,2,FALSE),0)","v":3342},{"$f":"IFERROR(VLOOKUP($A21,FILTRO!$A15:$AY640,3,FALSE),0)","v":598},{"$f":"IFERROR(VLOOKUP($A21,FILTRO!$A15:$AY640,4,FALSE),0)","v":2744},{"$f":"IFERROR(VLOOKUP($A21,FILTRO!$A15:$AY640,5,FALSE),0)","v":0},{"$f":"IFERROR(VLOOKUP($A21,FILTRO!$A15:$AY640,6,FALSE),0)","v":0},{"$f":"IFERROR(VLOOKUP($A21,FILTRO!$A15:$AY640,7,FALSE),0)","v":6},{"$f":"IFERROR(VLOOKUP($A21,FILTRO!$A15:$AY640,8,FALSE),0)","v":10},{"$f":"IFERROR(VLOOKUP($A21,FILTRO!$A15:$AY640,9,FALSE),0)","v":43},{"$f":"IFERROR(VLOOKUP($A21,FILTRO!$A15:$AY640,10,FALSE),0)","v":131},{"$f":"IFERROR(VLOOKUP($A21,FILTRO!$A15:$AY640,11,FALSE),0)","v":76},{"$f":"IFERROR(VLOOKUP($A21,FILTRO!$A15:$AY640,12,FALSE),0)","v":211},{"$f":"IFERROR(VLOOKUP($A21,FILTRO!$A15:$AY640,13,FALSE),0)","v":55},{"$f":"IFERROR(VLOOKUP($A21,FILTRO!$A15:$AY640,14,FALSE),0)","v":157},{"$f":"IFERROR(VLOOKUP($A21,FILTRO!$A15:$AY640,15,FALSE),0)","v":37},{"$f":"IFERROR(VLOOKUP($A21,FILTRO!$A15:$AY640,16,FALSE),0)","v":165},{"$f":"IFERROR(VLOOKUP($A21,FILTRO!$A15:$AY640,17,FALSE),0)","v":29},{"$f":"IFERROR(VLOOKUP($A21,FILTRO!$A15:$AY640,18,FALSE),0)","v":167},{"$f":"IFERROR(VLOOKUP($A21,FILTRO!$A15:$AY640,19,FALSE),0)","v":29},{"$f":"IFERROR(VLOOKUP($A21,FILTRO!$A15:$AY640,20,FALSE),0)","v":143},{"$f":"IFERROR(VLOOKUP($A21,FILTRO!$A15:$AY640,21,FALSE),0)","v":24},{"$f":"IFERROR(VLOOKUP($A21,FILTRO!$A15:$AY640,22,FALSE),0)","v":175},{"$f":"IFERROR(VLOOKUP($A21,FILTRO!$A15:$AY640,23,FALSE),0)","v":25},{"$f":"IFERROR(VLOOKUP($A21,FILTRO!$A15:$AY640,24,FALSE),0)","v":172},{"$f":"IFERROR(VLOOKUP($A21,FILTRO!$A15:$AY640,25,FALSE),0)","v":33},{"$f":"IFERROR(VLOOKUP($A21,FILTRO!$A15:$AY640,26,FALSE),0)","v":229},{"$f":"IFERROR(VLOOKUP($A21,FILTRO!$A15:$AY640,27,FALSE),0)","v":32},{"$f":"IFERROR(VLOOKUP($A21,FILTRO!$A15:$AY640,28,FALSE),0)","v":230},{"$f":"IFERROR(VLOOKUP($A21,FILTRO!$A15:$AY640,29,FALSE),0)","v":55},{"$f":"IFERROR(VLOOKUP($A21,FILTRO!$A15:$AY640,30,FALSE),0)","v":250},{"$f":"IFERROR(VLOOKUP($A21,FILTRO!$A15:$AY640,31,FALSE),0)","v":31},{"$f":"IFERROR(VLOOKUP($A21,FILTRO!$A15:$AY640,32,FALSE),0)","v":223},{"$f":"IFERROR(VLOOKUP($A21,FILTRO!$A15:$AY640,33,FALSE),0)","v":43},{"$f":"IFERROR(VLOOKUP($A21,FILTRO!$A15:$AY640,34,FALSE),0)","v":171},{"$f":"IFERROR(VLOOKUP($A21,FILTRO!$A15:$AY640,35,FALSE),0)","v":40},{"$f":"IFERROR(VLOOKUP($A21,FILTRO!$A15:$AY640,36,FALSE),0)","v":136},{"$f":"IFERROR(VLOOKUP($A21,FILTRO!$A15:$AY640,37,FALSE),0)","v":40},{"$f":"IFERROR(VLOOKUP($A21,FILTRO!$A15:$AY640,38,FALSE),0)","v":175},{"$f":"IFERROR(VLOOKUP($A21,FILTRO!$A15:$AY640,39,FALSE),0)","v":15},{"$f":"IFERROR(VLOOKUP($A21,FILTRO!$A15:$AY640,40,FALSE),0)","v":69},{"$f":"IFERROR(VLOOKUP($A21,FILTRO!$A15:$AY640,41,FALSE),0)","v":5},{"$f":"IFERROR(VLOOKUP($A21,FILTRO!$A15:$AY640,42,FALSE),0)","v":14},{"$f":"IFERROR(VLOOKUP($A21,FILTRO!$A15:$AY640,43,FALSE),0)","v":3},{"$f":"IFERROR(VLOOKUP($A21,FILTRO!$A15:$AY640,44,FALSE),0)","v":14},{"$f":"IFERROR(VLOOKUP($A21,FILTRO!$A15:$AY640,45,FALSE),0)","v":14},{"$f":"IFERROR(VLOOKUP($A21,FILTRO!$A15:$AY640,46,FALSE),0)","v":26},{"$f":"IFERROR(VLOOKUP($A21,FILTRO!$A15:$AY640,47,FALSE),0)","v":121},{"$f":"IFERROR(VLOOKUP($A21,FILTRO!$A15:$AY640,48,FALSE),0)","v":4},{"$f":"IFERROR(VLOOKUP($A21,FILTRO!$A15:$AY640,49,FALSE),0)","v":0},{"$nulls":34},"","","","","","","","","","","","",{"$nulls":8},0,0,0,0,0,0,0,0,0,0,0,0]
["P6227500",null,"DEPRESIÓN MODERADA",{"$f":"IFERROR(VLOOKUP($A22,FILTRO!$A16:$AY641,2,FALSE),0)","v":5554},{"$f":"IFERROR(VLOOKUP($A22,FILTRO!$A16:$AY641,3,FALSE),0)","v":896},{"$f":"IFERROR(VLOOKUP($A22,FILTRO!$A16:$AY641,4,FALSE),0)","v":4658},{"$f":"IFERROR(VLOOKUP($A22,FILTRO!$A16:$AY641,5,FALSE),0)","v":0},{"$f":"IFERROR(VLOOKUP($A22,FILTRO!$A16:$AY641,6,FALSE),0)","v":1},{"$f":"IFERROR(VLOOKUP($A22,FILTRO!$A16:$AY641,7,FALSE),0)","v":6},{"$f":"IFERROR(VLOOKUP($A22,FILTRO!$A16:$AY641,8,FALSE),0)","v":3},{"$f":"IFERROR(VLOOKUP($A22,FILTRO!$A16:$AY641,9,FALSE),0)","v":32},{"$f":"IFERROR(VLOOKUP($A22,FILTRO!$A16:$AY641,10,FALSE),0)","v":160},{"$f":"IFERROR(VLOOKUP($A22,FILTRO!$A16:$AY641,11,FALSE),0)","v":120},{"$f":"IFERROR(VLOOKUP($A22,FILTRO!$A16:$AY641,12,FALSE),0)","v":349},{"$f":"IFERROR(VLOOKUP($A22,FILTRO!$A16:$AY641,13,FALSE),0)","v":73},{"$f":"IFERROR(VLOOKUP($A22,FILTRO!$A16:$AY641,14,FALSE),0)","v":241},{"$f":"IFERROR(VLOOKUP($A22,FILTRO!$A16:$AY641,15,FALSE),0)","v":63},{"$f":"IFERROR(VLOOKUP($A22,FILTRO!$A16:$AY641,16,FALSE),0)","v":267},{"$f":"IFERROR(VLOOKUP($A22,FILTRO!$A16:$AY641,17,FALSE),0)","v":45},{"$f":"IFERROR(VLOOKUP($A22,FILTRO!$A16:$AY641,18,FALSE),0)","v":286},{"$f":"IFERROR(VLOOKUP($A22,FILTRO!$A16:$AY641,19,FALSE),0)","v":41},{"$f":"IFERROR(VLOOKUP($A22,FILTRO!$A16:$AY641,20,FALSE),0)","v":242},{"$f":"IFERROR(VLOOKUP($A22,FILTRO!$A16:$AY641,21,FALSE),0)","v":44},{"$f":"IFERROR(VLOOKUP($A22,FILTRO!$A16:$AY641,22,FALSE),0)","v":316},{"$f":"IFERROR(VLOOKUP($A22,FILTRO!$A16:$AY641,23,FALSE),0)","v":42},{"$f":"IFERROR(VLOOKUP($A22,FILTRO!$A16:$AY641,24,FALSE),0)","v":332},{"$f":"IFERROR(VLOOKUP($A22,FILTRO!$A16:$AY641,25,FALSE),0)","v":69},{"$f":"IFERROR(VLOOKUP($A22,FILTRO!$A16:$AY641,26,FALSE),0)","v":457},{"$f":"IFERROR(VLOOKUP($A22,FILTRO!$A16:$AY641,27,FALSE),0)","v":61},{"$f":"IFERROR(VLOOKUP($A22,FILTRO!$A16:$AY641,28,FALSE),0)","v":456},{"$f":"IFERROR(VLOOKUP($A22,FILTRO!$A16:$AY641,29,FALSE),0)","v":71},{"$f":"IFERROR(VLOOKUP($A22,FILTRO!$A16:$AY641,30,FALSE),0)","v":441},{"$f":"IFERROR(VLOOKUP($A22,FILTRO!$A16:$AY641,31,FALSE),0)","v":58},{"$f":"IFERROR(VLOOKUP($A22,FILTRO!$A16:$AY641,32,FALSE),0)","v":380},{"$f":"IFERROR(VLOOKUP($A22,FILTRO!$A16:$AY641,33,FALSE),0)","v":64},{"$f":"IFERROR(VLOOKUP($A22,FILTRO!$A16:$AY641,34,FALSE),0)","v":294},{"$f":"IFERROR(VLOOKUP($A22,FILTRO!$A16:$AY641,35,FALSE),0)","v":46},{"$f":"IFERROR(VLOOKUP($A22,FILTRO!$A16:$AY641,36,FALSE),0)","v":202},{"$f":"IFERROR(VLOOKUP($A22,FILTRO!$A16:$AY641,37,FALSE),0)","v":61},{"$f":"IFERROR(VLOOKUP($A22,FILTRO!$A16:$AY641,38,FALSE),0)","v":231},{"$f":"IFERROR(VLOOKUP($A22,FILTRO!$A16:$AY641,39,FALSE),0)","v":23},{"$f":"IFERROR(VLOOKUP($A22,FILTRO!$A16:$AY641,40,FALSE),0)","v":155},{"$f":"IFERROR(VLOOKUP($A22,FILTRO!$A16:$AY641,41,FALSE),0)","v":4},{"$f":"IFERROR(VLOOKUP($A22,FILTRO!$A16:$AY641,42,FALSE),0)","v":39},{"$f":"IFERROR(VLOOKUP($A22,FILTRO!$A16:$AY641,43,FALSE),0)","v":6},{"$f":"IFERROR(VLOOKUP($A22,FILTRO!$A16:$AY641,44,FALSE),0)","v":36},{"$f":"IFERROR(VLOOKUP($A22,FILTRO!$A16:$AY641,45,FALSE),0)","v":14},{"$f":"IFERROR(VLOOKUP($A22,FILTRO!$A16:$AY641,46,FALSE),0)","v":67},{"$f":"IFERROR(VLOOKUP($A22,FILTRO!$A16:$AY641,47,FALSE),0)","v":176},{"$f":"IFERROR(VLOOKUP($A22,FILTRO!$A16:$AY641,48,FALSE),0)","v":9},{"$f":"IFERROR(VLOOKUP($A22,FILTRO!$A16:$AY641,49,FALSE),0)","v":5},{"$nulls":34},"","","","","","","","","","","","",{"$nulls":8},0,0,0,0,0,0,0,0,0,0,0,0]
["P6227600",null,"DEPRESIÓN GRAVE",{"$f":"IFERROR(VLOOKUP($A23,FILTRO!$A17:$AY642,2,FALSE),0)","v":1212},{"$f":"IFERROR(VLOOKUP($A23,FILTRO!$A17:$AY642,3,FALSE),0)","v":252},{"$f":"IFERROR(VLOOKUP($A23,FILTRO!$A17:$AY642,4,FALSE),0)","v":960},{"$f":"IFERROR(VLOOKUP($A23,FILTRO!$A17:$AY642,5,FALSE),0)","v":0},{"$f":"IFERROR(VLOOKUP($A23,FILTRO!$A17:$AY642,6,FALSE),0)","v":0},{"$f":"IFERROR(VLOOKUP($A23,FILTRO!$A17:$AY642,7,FALSE),0)","v":0},{"$f":"IFERROR(VLOOKUP($A23,FILTRO!$A17:$AY642,8,FALSE),0)","v":4},{"$f":"IFERROR(VLOOKUP($A23,FILTRO!$A17:$AY642,9,FALSE),0)","v":8},{"$f":"IFERROR(VLOOKUP($A23,FILTRO!$A17:$AY642,10,FALSE),0)","v":54},{"$f":"IFERROR(VLOOKUP($A23,FILTRO!$A17:$AY642,11,FALSE),0)","v":37},{"$f":"IFERROR(VLOOKUP($A23,FILTRO!$A17:$AY642,12,FALSE),0)","v":128},{"$f":"IFERROR(VLOOKUP($A23,FILTRO!$A17:$AY642,13,FALSE),0)","v":23},{"$f":"IFERROR(VLOOKUP($A23,FILTRO!$A17:$AY642,14,FALSE),0)","v":76},{"$f":"IFERROR(VLOOKUP($A23,FILTRO!$A17:$AY642,15,FALSE),0)","v":24},{"$f":"IFERROR(VLOOKUP($A23,FILTRO!$A17:$AY642,16,FALSE),0)","v":52},{"$f":"IFERROR(VLOOKUP($A23,FILTRO!$A17:$AY642,17,FALSE),0)","v":11},{"$f":"IFERROR(VLOOKUP($A23,FILTRO!$A17:$AY642,18,FALSE),0)","v":51},{"$f":"IFERROR(VLOOKUP($A23,FILTRO!$A17:$AY642,19,FALSE),0)","v":24},{"$f":"IFERROR(VLOOKUP($A23,FILTRO!$A17:$AY642,20,FALSE),0)","v":73},{"$f":"IFERROR(VLOOKUP($A23,FILTRO!$A17:$AY642,21,FALSE),0)","v":19},{"$f":"IFERROR(VLOOKUP($A23,FILTRO!$A17:$AY642,22,FALSE),0)","v":60},{"$f":"IFERROR(VLOOKUP($A23,FILTRO!$A17:$AY642,23,FALSE),0)","v":18},{"$f":"IFERROR(VLOOKUP($A23,FILTRO!$A17:$AY642,24,FALSE),0)","v":59},{"$f":"IFERROR(VLOOKUP($A23,FILTRO!$A17:$AY642,25,FALSE),0)","v":16},{"$f":"IFERROR(VLOOKUP($A23,FILTRO!$A17:$AY642,26,FALSE),0)","v":100},{"$f":"IFERROR(VLOOKUP($A23,FILTRO!$A17:$AY642,27,FALSE),0)","v":16},{"$f":"IFERROR(VLOOKUP($A23,FILTRO!$A17:$AY642,28,FALSE),0)","v":96},{"$f":"IFERROR(VLOOKUP($A23,FILTRO!$A17:$AY642,29,FALSE),0)","v":24},{"$f":"IFERROR(VLOOKUP($A23,FILTRO!$A17:$AY642,30,FALSE),0)","v":75},{"$f":"IFERROR(VLOOKUP($A23,FILTRO!$A17:$AY642,31,FALSE),0)","v":10},{"$f":"IFERROR(VLOOKUP($A23,FILTRO!$A17:$AY642,32,FALSE),0)","v":69},{"$f":"IFERROR(VLOOKUP($A23,FILTRO!$A17:$AY642,33,FALSE),0)","v":11},{"$f":"IFERROR(VLOOKUP($A23,FILTRO!$A17:$AY642,34,FALSE),0)","v":33},{"$f":"IFERROR(VLOOKUP($A23,FILTRO!$A17:$AY642,35,FALSE),0)","v":6},{"$f":"IFERROR(VLOOKUP($A23,FILTRO!$A17:$AY642,36,FALSE),0)","v":13},{"$f":"IFERROR(VLOOKUP($A23,FILTRO!$A17:$AY642,37,FALSE),0)","v":5},{"$f":"IFERROR(VLOOKUP($A23,FILTRO!$A17:$AY642,38,FALSE),0)","v":17},{"$f":"IFERROR(VLOOKUP($A23,FILTRO!$A17:$AY642,39,FALSE),0)","v":4},{"$f":"IFERROR(VLOOKUP($A23,FILTRO!$A17:$AY642,40,FALSE),0)","v":18},{"$f":"IFERROR(VLOOKUP($A23,FILTRO!$A17:$AY642,41,FALSE),0)","v":1},{"$f":"IFERROR(VLOOKUP($A23,FILTRO!$A17:$AY642,42,FALSE),0)","v":7},{"$f":"IFERROR(VLOOKUP($A23,FILTRO!$A17:$AY642,43,FALSE),0)","v":2},{"$f":"IFERROR(VLOOKUP($A23,FILTRO!$A17:$AY642,44,FALSE),0)","v":9},{"$f":"IFERROR(VLOOKUP($A23,FILTRO!$A17:$AY642,45,FALSE),0)","v":2},{"$f":"IFERROR(VLOOKUP($A23,FILTRO!$A17:$AY642,46,FALSE),0)","v":19},{"$f":"IFERROR(VLOOKUP($A23,FILTRO!$A17:$AY642,47,FALSE),0)","v":144},{"$f":"IFERROR(VLOOKUP($A23,FILTRO!$A17:$AY642,48,FALSE),0)","v":9},{"$f":"IFERROR(VLOOKUP($A23,FILTRO!$A17:$AY642,49,FALSE),0)","v":1},{"$nulls":34},"","","","","","","","","","","","",{"$nulls":8},0,0,0,0,0,0,0,0,0,0,0,0]
["P6221700",null,"DEPRESIÓN POST PARTO",{"$f":"IFERROR(VLOOKUP($A24,FILTRO!$A18:$AY643,2,FALSE),0)","v":96},{"$f":"IFERROR(VLOOKUP($A24,FILTRO!$A18:$AY643,3,FALSE),0)","v":0},{"$f":"IFERROR(VLOOKUP($A24,FILTRO!$A18:$AY643,4,FALSE),0)","v":96},{"$f":"IFERROR(VLOOKUP($A24,FILTRO!$A18:$AY643,5,FALSE),0)","v":0},{"$f":"IFERROR(VLOOKUP($A24,FILTRO!$A18:$AY643,6,FALSE),0)","v":0},{"$f":"IFERROR(VLOOKUP($A24,FILTRO!$A18:$AY643,7,FALSE),0)","v":0},{"$f":"IFERROR(VLOOKUP($A24,FILTRO!$A18:$AY643,8,FALSE),0)","v":0},{"$f":"IFERROR(VLOOKUP($A24,FILTRO!$A18:$AY643,9,FALSE),0)","v":0},{"$f":"IFERROR(VLOOKUP($A24,FILTRO!$A18:$AY643,10,FALSE),0)","v":0},{"$f":"IFERROR(VLOOKUP($A24,FILTRO!$A18:$AY643,11,FALSE),0)","v":0},{"$f":"IFERROR(VLOOKUP($A24,FILTRO!$A18:$AY643,12,FALSE),0)","v":7},{"$f":"IFERROR(VLOOKUP($A24,FILTRO!$A18:$AY643,13,FALSE),0)","v":0},{"$f":"IFERROR(VLOOKUP($A24,FILTRO!$A18:$AY643,14,FALSE),0)","v":16},{"$f":"IFERROR(VLOOKUP($A24,FILTRO!$A18:$AY643,15,FALSE),0)","v":0},{"$f":"IFERROR(VLOOKUP($A24,FILTRO!$A18:$AY643,16,FALSE),0)","v":18},{"$f":"IFERROR(VLOOKUP($A24,FILTRO!$A18:$AY643,17,FALSE),0)","v":0},{"$f":"IFERROR(VLOOKUP($A24,FILTRO!$A18:$AY643,18,FALSE),0)","v":25},{"$f":"IFERROR(VLOOKUP($A24,FILTRO!$A18:$AY643,19,FALSE),0)","v":0},{"$f":"IFERROR(VLOOKUP($A24,FILTRO!$A18:$AY643,20,FALSE),0)","v":14},{"$f":"IFERROR(VLOOKUP($A24,FILTRO!$A18:$AY643,21,FALSE),0)","v":0},{"$f":"IFERROR(VLOOKUP($A24,FILTRO!$A18:$AY643,22,FALSE),0)","v":11},{"$f":"IFERROR(VLOOKUP($A24,FILTRO!$A18:$AY643,23,FALSE),0)","v":0},{"$f":"IFERROR(VLOOKUP($A24,FILTRO!$A18:$AY643,24,FALSE),0)","v":3},{"$f":"IFERROR(VLOOKUP($A24,FILTRO!$A18:$AY643,25,FALSE),0)","v":0},{"$f":"IFERROR(VLOOKUP($A24,FILTRO!$A18:$AY643,26,FALSE),0)","v":1},{"$f":"IFERROR(VLOOKUP($A24,FILTRO!$A18:$AY643,27,FALSE),0)","v":0},{"$f":"IFERROR(VLOOKUP($A24,FILTRO!$A18:$AY643,28,FALSE),0)","v":1},{"$f":"IFERROR(VLOOKUP($A24,FILTRO!$A18:$AY643,29,FALSE),0)","v":0},{"$f":"IFERROR(VLOOKUP($A24,FILTRO!$A18:$AY643,30,FALSE),0)","v":0},{"$f":"IFERROR(VLOOKUP($A24,FILTRO!$A18:$AY643,31,FALSE),0)","v":0},{"$f":"IFERROR(VLOOKUP($A24,FILTRO!$A18:$AY643,32,FALSE),0)","v":0},{"$f":"IFERROR(VLOOKUP($A24,FILTRO!$A18:$AY643,33,FALSE),0)","v":0},{"$f":"IFERROR(VLOOKUP($A24,FILTRO!$A18:$AY643,34,FALSE),0)","v":0},{"$f":"IFERROR(VLOOKUP($A24,FILTRO!$A18:$AY643,35,FALSE),0)","v":0},{"$f":"IFERROR(VLOOKUP($A24,FILTRO!$A18:$AY643,36,FALSE),0)","v":0},{"$f":"IFERROR(VLOOKUP($A24,FILTRO!$A18:$AY643,37,FALSE),0)","v":0},{"$f":"IFERROR(VLOOKUP($A24,FILTRO!$A18:$AY643,38,FALSE),0)","v":0},{"$f":"IFERROR(VLOOKUP($A24,FILTRO!$A18:$AY643,39,FALSE),0)","v":0},{"$f":"IFERROR(VLOOKUP($A24,FILTRO!$A18:$AY643,40,FALSE),0)","v":53},{"$f":"IFERROR(VLOOKUP($A24,FILTRO!$A18:$AY643,41,FALSE),0)","v":0},{"$f":"IFERROR(VLOOKUP($A24,FILTRO!$A18:$AY643,42,FALSE),0)","v":1},{"$f":"IFERROR(VLOOKUP($A24,FILTRO!$A18:$AY643,43,FALSE),0)","v":0},{"$f":"IFERROR(VLOOKUP($A24,FILTRO!$A18:$AY643,44,FALSE),0)","v":3},{"$f":"IFERROR(VLOOKUP($A24,FILTRO!$A18:$AY643,45,FALSE),0)","v":0},{"$f":"IFERROR(VLOOKUP($A24,FILTRO!$A18:$AY643,46,FALSE),0)","v":0},{"$f":"IFERROR(VLOOKUP($A24,FILTRO!$A18:$AY643,47,FALSE),0)","v":1},{"$f":"IFERROR(VLOOKUP($A24,FILTRO!$A18:$AY643,48,FALSE),0)","v":0},{"$f":"IFERROR(VLOOKUP($A24,FILTRO!$A18:$AY643,49,FALSE),0)","v":0},{"$nulls":35},"",null,"",null,"","",null,{"$f":"IF(AND($D24<>0,$AP24=\"\"),\"* No olvide escribir en la celda de 'Madres de Hijos menor de 5 años' (Digite CERO si no tiene). \",\"\")","v":""},{"$f":"IF(AND($D24<>0,$AU24=\"\"),\"* No olvide escribir en la celda de 'Niños, Niñas, Adolescentes y Jóvenes de Población SENAME' (Digite CERO si no tiene). \",\"\")","v":""},{"$f":"IF(AND($F24<>0,$AR24=\"\"),\"* No olvide escribir en las celdas de 'Pueblos Originarios / Mujeres' (Digite CERO si no tiene). \",\"\")","v":""},{"$f":"IF(AND($F24<>0,$AT24=\"\"),\"* No olvide escribir en las celdas de ''Población Migrantes / Mujeres' (Digite CERO si no tiene). \",\"\")","v":""},{"$nulls":9},0,null,0,null,0,0,null,0,0,{"$f":"IF(AND($F24<>0,$AR24=\"\"),1,0)","v":0},{"$f":"IF(AND($F24<>0,$AT24=\"\"),1,0)","v":0}]
["P6221800",null,"TRASTORNO BIPOLAR",{"$f":"IFERROR(VLOOKUP($A25,FILTRO!$A19:$AY644,2,FALSE),0)","v":451},{"$f":"IFERROR(VLOOKUP($A25,FILTRO!$A19:$AY644,3,FALSE),0)","v":121},{"$f":"IFERROR(VLOOKUP($A25,FILTRO!$A19:$AY644,4,FALSE),0)","v":330},{"$f":"IFERROR(VLOOKUP($A25,FILTRO!$A19:$AY644,5,FALSE),0)","v":0},{"$f":"IFERROR(VLOOKUP($A25,FILTRO!$A19:$AY644,6,FALSE),0)","v":0},{"$f":"IFERROR(VLOOKUP($A25,FILTRO!$A19:$AY644,7,FALSE),0)","v":0},{"$f":"IFERROR(VLOOKUP($A25,FILTRO!$A19:$AY644,8,FALSE),0)","v":0},{"$f":"IFERROR(VLOOKUP($A25,FILTRO!$A19:$AY644,9,FALSE),0)","v":4},{"$f":"IFERROR(VLOOKUP($A25,FILTRO!$A19:$AY644,10,FALSE),0)","v":6},{"$f":"IFERROR(VLOOKUP($A25,FILTRO!$A19:$AY644,11,FALSE),0)","v":8},{"$f":"IFERROR(VLOOKUP($A25,FILTRO!$A19:$AY644,12,FALSE),0)","v":22},{"$f":"IFERROR(VLOOKUP($A25,FILTRO!$A19:$AY644,13,FALSE),0)","v":10},{"$f":"IFERROR(VLOOKUP($A25,FILTRO!$A19:$AY644,14,FALSE),0)","v":27},{"$f":"IFERROR(VLOOKUP($A25,FILTRO!$A19:$AY644,15,FALSE),0)","v":17},{"$f":"IFERROR(VLOOKUP($A25,FILTRO!$A19:$AY644,16,FALSE),0)","v":32},{"$f":"IFERROR(VLOOKUP($A25,FILTRO!$A19:$AY644,17,FALSE),0)","v":11},{"$f":"IFERROR(VLOOKUP($A25,FILTRO!$A19:$AY644,18,FALSE),0)","v":26},{"$f":"IFERROR(VLOOKUP($A25,FILTRO!$A19:$AY644,19,FALSE),0)","v":20},{"$f":"IFERROR(VLOOKUP($A25,FILTRO!$A19:$AY644,20,FALSE),0)","v":26},{"$f":"IFERROR(VLOOKUP($A25,FILTRO!$A19:$AY644,21,FALSE),0)","v":11},{"$f":"IFERROR(VLOOKUP($A25,FILTRO!$A19:$AY644,22,FALSE),0)","v":19},{"$f":"IFERROR(VLOOKUP($A25,FILTRO!$A19:$AY644,23,FALSE),0)","v":5},{"$f":"IFERROR(VLOOKUP($A25,FILTRO!$A19:$AY644,24,FALSE),0)","v":37},{"$f":"IFERROR(VLOOKUP($A25,FILTRO!$A19:$AY644,25,FALSE),0)","v":11},{"$f":"IFERROR(VLOOKUP($A25,FILTRO!$A19:$AY644,26,FALSE),0)","v":29},{"$f":"IFERROR(VLOOKUP($A25,FILTRO!$A19:$AY644,27,FALSE),0)","v":4},{"$f":"IFERROR(VLOOKUP($A25,FILTRO!$A19:$AY644,28,FALSE),0)","v":28},{"$f":"IFERROR(VLOOKUP($A25,FILTRO!$A19:$AY644,29,FALSE),0)","v":12},{"$f":"IFERROR(VLOOKUP($A25,FILTRO!$A19:$AY644,30,FALSE),0)","v":29},{"$f":"IFERROR(VLOOKUP($A25,FILTRO!$A19:$AY644,31,FALSE),0)","v":2},{"$f":"IFERROR(VLOOKUP($A25,FILTRO!$A19:$AY644,32,FALSE),0)","v":23},{"$f":"IFERROR(VLOOKUP($A25,FILTRO!$A19:$AY644,33,FALSE),0)","v":1},{"$f":"IFERROR(VLOOKUP($A25,FILTRO!$A19:$AY644,34,FALSE),0)","v":15},{"$f":"IFERROR(VLOOKUP($A25,FILTRO!$A19:$AY644,35,FALSE),0)","v":4},{"$f":"IFERROR(VLOOKUP($A25,FILTRO!$A19:$AY644,36,FALSE),0)","v":6},{"$f":"IFERROR(VLOOKUP($A25,FILTRO!$A19:$AY644,37,FALSE),0)","v":1},{"$f":"IFERROR(VLOOKUP($A25,FILTRO!$A19:$AY644,38,FALSE),0)","v":5},{"$f":"IFERROR(VLOOKUP($A25,FILTRO!$A19:$AY644,39,FALSE),0)","v":1},{"$f":"IFERROR(VLOOKUP($A25,FILTRO!$A19:$AY644,40,FALSE),0)","v":5},{"$f":"IFERROR(VLOOKUP($A25,FILTRO!$A19:$AY644,41,FALSE),0)","v":0},{"$f":"IFERROR(VLOOKUP($A25,FILTRO!$A19:$AY644,42,FALSE),0)","v":3},{"$f":"IFERROR(VLOOKUP($A25,FILTRO!$A19:$AY644,43,FALSE),0)","v":0},{"$f":"IFERROR(VLOOKUP($A25,FILTRO!$A19:$AY644,44,FALSE),0)","v":1},{"$f":"IFERROR(VLOOKUP($A25,FILTRO!$A19:$AY644,45,FALSE),0)","v":0},{"$f":"IFERROR(VLOOKUP($A25,FILTRO!$A19:$AY644,46,FALSE),0)","v":2},{"$f":"IFERROR(VLOOKUP($A25,FILTRO!$A19:$AY644,47,FALSE),0)","v":32},{"$f":"IFERROR(VLOOKUP($A25,FILTRO!$A19:$AY644,48,FALSE),0)","v":0},{"$f":"IFERROR(VLOOKUP($A25,FILTRO!$A19:$AY644,49,FALSE),0)","v":0},{"$nulls":34},{"$f":"IF($AO25>$F25,\"* La celda 'Gestantes' debe ser menor o igual al Total de Mujeres en control. \",\"\")","v":""},{"$f":"IF($AP25>$F25,\"* La celda 'Madres de Hijos menor de 5 años' debe ser menor o igual al Total de Mujeres en control. \",\"\")","v":""},{"$f":"IF(($AQ25)>$E25,\"* La celda 'Pueblos Originarios / Hombres' debe ser menor o igual al Total de Hombres en control. \",\"\")","v":""},{"$f":"IF($AR25>$F25,\"* La celda 'Pueblos Originarios / Mujeres' debe ser menor o igual al Total de Mujeres en control. \",\"\")","v":""},{"$f":"IF(($AS25)>$E25,\"* La celda 'Población Migrantes / Hombres' debe ser menor o igual al Total de Hombres en control. \",\"\")","v":""},{"$f":"IF($AT25>$F25,\"* La celda 'Población Migrantes / Mujeres' debe ser menor o igual al Total de Mujeres en control. \",\"\")","v":""},{"$f":"IF($AU25>$D25,\"* La celda 'Niños, Niñas, Adolescentes y Jóvenes de Población SENAME' debe ser menor o igual al Total de Ambos Sexos. \",\"\")","v":""},{"$f":"IF(AND($D25<>0,$AO25=\"\"),\"* No olvide escribir en la celda de 'Gestantes' (Digite CERO si no tiene). \",\"\")","v":""},{"$f":"IF(AND($D25<>0,$AP25=\"\"),\"* No olvide escribir en la celda de 'Madres de Hijos menor de 5 años' (Digite CERO si no tiene). \",\"\")","v":""},{"$f":"IF(AND($D25<>0,$AU25=\"\"),\"* No olvide escribir en la celda de 'Niños, Niñas, Adolescentes y Jóvenes de Población SENAME' (Digite CERO si no tiene). \",\"\")","v":""},{"$f":"IF(AND($E25<>0,$AQ25=\"\"),\"* No olvide escribir en las celdas de 'Pueblos Originarios' (Digite CERO si no tiene). \",IF(AND($F25<>0,$AR25=\"\"),\"* No olvide escribir en las celdas de 'Pueblos Originarios' (Digite CERO si no tiene). \",\"\"))","v":""},{"$f":"IF(AND($E25<>0,$AS25=\"\"),\"* No olvide escribir en las celdas de 'Población Migrantes' (Digite CERO si no tiene). \",IF(AND($F25<>0,$AT25=\"\"),\"* No olvide escribir en las celdas de 'Población Migrantes' (Digite CERO si no tiene). \",\"\"))","v":""},{"$nulls":8},{"$f":"IF($AO25>$F25,1,0)","v":0},0,{"$f":"IF(($AQ25)>$E25,1,0)","v":0},0,{"$f":"IF(($AS25)>$E25,1,0)","v":0},0,0,{"$f":"IF(AND($D25<>0,$AO25=\"\"),1,0)","v":0},0,0,{"$f":"IF(AND($E25<>0,$AQ25=\"\"),1,IF(AND($F25<>0,$AR25=\"\"),1,0))","v":0},{"$f":"IF(AND($E25<>0,$AS25=\"\"),1,IF(AND($F25<>0,$AT25=\"\"),1,0))","v":0}]
["P6241110","TRASTORNOS MENTALES Y DEL COMPORTAMIENTO DEBIDO A CONSUMO SUSTANCIAS PSICOTROPICAS","CONSUMO PERJUDICIAL DE ALCOHOL ",{"$f":"IFERROR(VLOOKUP($A26,FILTRO!$A20:$AY645,2,FALSE),0)","v":303},{"$f":"IFERROR(VLOOKUP($A26,FILTRO!$A20:$AY645,3,FALSE),0)","v":219},{"$f":"IFERROR(VLOOKUP($A26,FILTRO!$A20:$AY645,4,FALSE),0)","v":84},{"$f":"IFERROR(VLOOKUP($A26,FILTRO!$A20:$AY645,5,FALSE),0)","v":0},{"$f":"IFERROR(VLOOKUP($A26,FILTRO!$A20:$AY645,6,FALSE),0)","v":0},{"$f":"IFERROR(VLOOKUP($A26,FILTRO!$A20:$AY645,7,FALSE),0)","v":0},{"$f":"IFERROR(VLOOKUP($A26,FILTRO!$A20:$AY645,8,FALSE),0)","v":0},{"$f":"IFERROR(VLOOKUP($A26,FILTRO!$A20:$AY645,9,FALSE),0)","v":1},{"$f":"IFERROR(VLOOKUP($A26,FILTRO!$A20:$AY645,10,FALSE),0)","v":0},{"$f":"IFERROR(VLOOKUP($A26,FILTRO!$A20:$AY645,11,FALSE),0)","v":2},{"$f":"IFERROR(VLOOKUP($A26,FILTRO!$A20:$AY645,12,FALSE),0)","v":3},{"$f":"IFERROR(VLOOKUP($A26,FILTRO!$A20:$AY645,13,FALSE),0)","v":7},{"$f":"IFERROR(VLOOKUP($A26,FILTRO!$A20:$AY645,14,FALSE),0)","v":2},{"$f":"IFERROR(VLOOKUP($A26,FILTRO!$A20:$AY645,15,FALSE),0)","v":7},{"$f":"IFERROR(VLOOKUP($A26,FILTRO!$A20:$AY645,16,FALSE),0)","v":6},{"$f":"IFERROR(VLOOKUP($A26,FILTRO!$A20:$AY645,17,FALSE),0)","v":20},{"$f":"IFERROR(VLOOKUP($A26,FILTRO!$A20:$AY645,18,FALSE),0)","v":8},{"$f":"IFERROR(VLOOKUP($A26,FILTRO!$A20:$AY645,19,FALSE),0)","v":20},{"$f":"IFERROR(VLOOKUP($A26,FILTRO!$A20:$AY645,20,FALSE),0)","v":11},{"$f":"IFERROR(VLOOKUP($A26,FILTRO!$A20:$AY645,21,FALSE),0)","v":25},{"$f":"IFERROR(VLOOKUP($A26,FILTRO!$A20:$AY645,22,FALSE),0)","v":11},{"$f":"IFERROR(VLOOKUP($A26,FILTRO!$A20:$AY645,23,FALSE),0)","v":32},{"$f":"IFERROR(VLOOKUP($A26,FILTRO!$A20:$AY645,24,FALSE),0)","v":7},{"$f":"IFERROR(VLOOKUP($A26,FILTRO!$A20:$AY645,25,FALSE),0)","v":30},{"$f":"IFERROR(VLOOKUP($A26,FILTRO!$A20:$AY645,26,FALSE),0)","v":10},{"$f":"IFERROR(VLOOKUP($A26,FILTRO!$A20:$AY645,27,FALSE),0)","v":29},{"$f":"IFERROR(VLOOKUP($A26,FILTRO!$A20:$AY645,28,FALSE),0)","v":14},{"$f":"IFERROR(VLOOKUP($A26,FILTRO!$A20:$AY645,29,FALSE),0)","v":17},{"$f":"IFERROR(VLOOKUP($A26,FILTRO!$A20:$AY645,30,FALSE),0)","v":7},{"$f":"IFERROR(VLOOKUP($A26,FILTRO!$A20:$AY645,31,FALSE),0)","v":18},{"$f":"IFERROR(VLOOKUP($A26,FILTRO!$A20:$AY645,32,FALSE),0)","v":4},{"$f":"IFERROR(VLOOKUP($A26,FILTRO!$A20:$AY645,33,FALSE),0)","v":6},{"$f":"IFERROR(VLOOKUP($A26,FILTRO!$A20:$AY645,34,FALSE),0)","v":0},{"$f":"IFERROR(VLOOKUP($A26,FILTRO!$A20:$AY645,35,FALSE),0)","v":2},{"$f":"IFERROR(VLOOKUP($A26,FILTRO!$A20:$AY645,36,FALSE),0)","v":1},{"$f":"IFERROR(VLOOKUP($A26,FILTRO!$A20:$AY645,37,FALSE),0)","v":3},{"$f":"IFERROR(VLOOKUP($A26,FILTRO!$A20:$AY645,38,FALSE),0)","v":0},{"$f":"IFERROR(VLOOKUP($A26,FILTRO!$A20:$AY645,39,FALSE),0)","v":0},{"$f":"IFERROR(VLOOKUP($A26,FILTRO!$A20:$AY645,40,FALSE),0)","v":3},{"$f":"IFERROR(VLOOKUP($A26,FILTRO!$A20:$AY645,41,FALSE),0)","v":1},{"$f":"IFERROR(VLOOKUP($A26,FILTRO!$A20:$AY645,42,FALSE),0)","v":0},{"$f":"IFERROR(VLOOKUP($A26,FILTRO!$A20:$AY645,43,FALSE),0)","v":1},{"$f":"IFERROR(VLOOKUP($A26,FILTRO!$A20:$AY645,44,FALSE),0)","v":0},{"$f":"IFERROR(VLOOKUP($A26,FILTRO!$A20:$AY645,45,FALSE),0)","v":1},{"$f":"IFERROR(VLOOKUP($A26,FILTRO!$A20:$AY645,46,FALSE),0)","v":2},{"$f":"IFERROR(VLOOKUP($A26,FILTRO!$A20:$AY645,47,FALSE),0)","v":31},{"$f":"IFERROR(VLOOKUP($A26,FILTRO!$A20:$AY645,48,FALSE),0)","v":0},{"$f":"IFERROR(VLOOKUP($A26,FILTRO!$A20:$AY645,49,FALSE),0)","v":0},{"$nulls":34},{"$f":"IF($AO26>$F26,\"* La celda 'Gestantes' debe ser menor o igual al Total de Mujeres en control. \",\"\")","v":""},{"$f":"IF($AP26>$F26,\"* La celda 'Madres de Hijos menor de 5 años' debe ser menor o igual al Total de Mujeres en control. \",\"\")","v":""},"","","","","",{"$f":"IF(AND($D26<>0,$AO26=\"\"),\"* No olvide escribir en la celda de 'Gestantes' (Digite CERO si no tiene). \",\"\")","v":""},{"$f":"IF(AND($D26<>0,$AP26=\"\"),\"* No olvide escribir en la celda de 'Madres de Hijos menor de 5 años' (Digite CERO si no tiene). \",\"\")","v":""},"","","",{"$nulls":8},{"$f":"IF($AO26>$F26,1,0)","v":0},0,0,0,0,0,0,{"$f":"IF(AND($D26<>0,$AO26=\"\"),1,0)","v":0},0,0,0,0]
["P6241111",null,"CONSUMO DEPENDIENTE DEL ALCOHOL ",{"$f":"IFERROR(VLOOKUP($A27,FILTRO!$A21:$AY646,2,FALSE),0)","v":145},{"$f":"IFERROR(VLOOKUP($A27,FILTRO!$A21:$AY646,3,FALSE),0)","v":99},{"$f":"IFERROR(VLOOKUP($A27,FILTRO!$A21:$AY646,4,FALSE),0)","v":46},{"$f":"IFERROR(VLOOKUP($A27,FILTRO!$A21:$AY646,5,FALSE),0)","v":0},{"$f":"IFERROR(VLOOKUP($A27,FILTRO!$A21:$AY646,6,FALSE),0)","v":0},{"$f":"IFERROR(VLOOKUP($A27,FILTRO!$A21:$AY646,7,FALSE),0)","v":0},{"$f":"IFERROR(VLOOKUP($A27,FILTRO!$A21:$AY646,8,FALSE),0)","v":0},{"$f":"IFERROR(VLOOKUP($A27,FILTRO!$A21:$AY646,9,FALSE),0)","v":1},{"$f":"IFERROR(VLOOKUP($A27,FILTRO!$A21:$AY646,10,FALSE),0)","v":0},{"$f":"IFERROR(VLOOKUP($A27,FILTRO!$A21:$AY646,11,FALSE),0)","v":3},{"$f":"IFERROR(VLOOKUP($A27,FILTRO!$A21:$AY646,12,FALSE),0)","v":1},{"$f":"IFERROR(VLOOKUP($A27,FILTRO!$A21:$AY646,13,FALSE),0)","v":2},{"$f":"IFERROR(VLOOKUP($A27,FILTRO!$A21:$AY646,14,FALSE),0)","v":4},{"$f":"IFERROR(VLOOKUP($A27,FILTRO!$A21:$AY646,15,FALSE),0)","v":2},{"$f":"IFERROR(VLOOKUP($A27,FILTRO!$A21:$AY646,16,FALSE),0)","v":5},{"$f":"IFERROR(VLOOKUP($A27,FILTRO!$A21:$AY646,17,FALSE),0)","v":7},{"$f":"IFERROR(VLOOKUP($A27,FILTRO!$A21:$AY646,18,FALSE),0)","v":1},{"$f":"IFERROR(VLOOKUP($A27,FILTRO!$A21:$AY646,19,FALSE),0)","v":9},{"$f":"IFERROR(VLOOKUP($A27,FILTRO!$A21:$AY646,20,FALSE),0)","v":4},{"$f":"IFERROR(VLOOKUP($A27,FILTRO!$A21:$AY646,21,FALSE),0)","v":10},{"$f":"IFERROR(VLOOKUP($A27,FILTRO!$A21:$AY646,22,FALSE),0)","v":2},{"$f":"IFERROR(VLOOKUP($A27,FILTRO!$A21:$AY646,23,FALSE),0)","v":15},{"$f":"IFERROR(VLOOKUP($A27,FILTRO!$A21:$AY646,24,FALSE),0)","v":5},{"$f":"IFERROR(VLOOKUP($A27,FILTRO!$A21:$AY646,25,FALSE),0)","v":10},{"$f":"IFERROR(VLOOKUP($A27,FILTRO!$A21:$AY646,26,FALSE),0)","v":6},{"$f":"IFERROR(VLOOKUP($A27,FILTRO!$A21:$AY646,27,FALSE),0)","v":13},{"$f":"IFERROR(VLOOKUP($A27,FILTRO!$A21:$AY646,28,FALSE),0)","v":9},{"$f":"IFERROR(VLOOKUP($A27,FILTRO!$A21:$AY646,29,FALSE),0)","v":12},{"$f":"IFERROR(VLOOKUP($A27,FILTRO!$A21:$AY646,30,FALSE),0)","v":3},{"$f":"IFERROR(VLOOKUP($A27,FILTRO!$A21:$AY646,31,FALSE),0)","v":7},{"$f":"IFERROR(VLOOKUP($A27,FILTRO!$A21:$AY646,32,FALSE),0)","v":2},{"$f":"IFERROR(VLOOKUP($A27,FILTRO!$A21:$AY646,33,FALSE),0)","v":5},{"$f":"IFERROR(VLOOKUP($A27,FILTRO!$A21:$AY646,34,FALSE),0)","v":3},{"$f":"IFERROR(VLOOKUP($A27,FILTRO!$A21:$AY646,35,FALSE),0)","v":3},{"$f":"IFERROR(VLOOKUP($A27,FILTRO!$A21:$AY646,36,FALSE),0)","v":1},{"$f":"IFERROR(VLOOKUP($A27,FILTRO!$A21:$AY646,37,FALSE),0)","v":0},{"$f":"IFERROR(VLOOKUP($A27,FILTRO!$A21:$AY646,38,FALSE),0)","v":0},{"$f":"IFERROR(VLOOKUP($A27,FILTRO!$A21:$AY646,39,FALSE),0)","v":0},{"$f":"IFERROR(VLOOKUP($A27,FILTRO!$A21:$AY646,40,FALSE),0)","v":0},{"$f":"IFERROR(VLOOKUP($A27,FILTRO!$A21:$AY646,41,FALSE),0)","v":1},{"$f":"IFERROR(VLOOKUP($A27,FILTRO!$A21:$AY646,42,FALSE),0)","v":0},{"$f":"IFERROR(VLOOKUP($A27,FILTRO!$A21:$AY646,43,FALSE),0)","v":2},{"$f":"IFERROR(VLOOKUP($A27,FILTRO!$A21:$AY646,44,FALSE),0)","v":0},{"$f":"IFERROR(VLOOKUP($A27,FILTRO!$A21:$AY646,45,FALSE),0)","v":2},{"$f":"IFERROR(VLOOKUP($A27,FILTRO!$A21:$AY646,46,FALSE),0)","v":0},{"$f":"IFERROR(VLOOKUP($A27,FILTRO!$A21:$AY646,47,FALSE),0)","v":12},{"$f":"IFERROR(VLOOKUP($A27,FILTRO!$A21:$AY646,48,FALSE),0)","v":0},{"$f":"IFERROR(VLOOKUP($A27,FILTRO!$A21:$AY646,49,FALSE),0)","v":0},{"$nulls":34},{"$f":"IF($AO27>$F27,\"* La celda 'Gestantes' debe ser menor o igual al Total de Mujeres en control. \",\"\")","v":""},{"$f":"IF($AP27>$F27,\"* La celda 'Madres de Hijos menor de 5 años' debe ser menor o igual al Total de Mujeres en control. \",\"\")","v":""},"","","","","",{"$f":"IF(AND($D27<>0,$AO27=\"\"),\"* No olvide escribir en la celda de 'Gestantes' (Digite CERO si no tiene). \",\"\")","v":""},{"$f":"IF(AND($D27<>0,$AP27=\"\"),\"* No olvide escribir en la celda de 'Madres de Hijos menor de 5 años' (Digite CERO si no tiene). \",\"\")","v":""},"","","",{"$nulls":8},{"$f":"IF($AO27>$F27,1,0)","v":0},0,0,0,0,0,0,{"$f":"IF(AND($D27<>0,$AO27=\"\"),1,0)","v":0},0,0,0,0]
["P6241112",null,"CONSUMO PERJUDICIAL DE DROGAS",{"$f":"IFERROR(VLOOKUP($A28,FILTRO!$A22:$AY647,2,FALSE),0)","v":204},{"$f":"IFERROR(VLOOKUP($A28,FILTRO!$A22:$AY647,3,FALSE),0)","v":142},{"$f":"IFERROR(VLOOKUP($A28,FILTRO!$A22:$AY647,4,FALSE),0)","v":62},{"$f":"IFERROR(VLOOKUP($A28,FILTRO!$A22:$AY647,5,FALSE),0)","v":0},{"$f":"IFERROR(VLOOKUP($A28,FILTRO!$A22:$AY647,6,FALSE),0)","v":0},{"$f":"IFERROR(VLOOKUP($A28,FILTRO!$A22:$AY647,7,FALSE),0)","v":0},{"$f":"IFERROR(VLOOKUP($A28,FILTRO!$A22:$AY647,8,FALSE),0)","v":0},{"$f":"IFERROR(VLOOKUP($A28,FILTRO!$A22:$AY647,9,FALSE),0)","v":2},{"$f":"IFERROR(VLOOKUP($A28,FILTRO!$A22:$AY647,10,FALSE),0)","v":3},{"$f":"IFERROR(VLOOKUP($A28,FILTRO!$A22:$AY647,11,FALSE),0)","v":16},{"$f":"IFERROR(VLOOKUP($A28,FILTRO!$A22:$AY647,12,FALSE),0)","v":8},{"$f":"IFERROR(VLOOKUP($A28,FILTRO!$A22:$AY647,13,FALSE),0)","v":22},{"$f":"IFERROR(VLOOKUP($A28,FILTRO!$A22:$AY647,14,FALSE),0)","v":7},{"$f":"IFERROR(VLOOKUP($A28,FILTRO!$A22:$AY647,15,FALSE),0)","v":22},{"$f":"IFERROR(VLOOKUP($A28,FILTRO!$A22:$AY647,16,FALSE),0)","v":7},{"$f":"IFERROR(VLOOKUP($A28,FILTRO!$A22:$AY647,17,FALSE),0)","v":23},{"$f":"IFERROR(VLOOKUP($A28,FILTRO!$A22:$AY647,18,FALSE),0)","v":10},{"$f":"IFERROR(VLOOKUP($A28,FILTRO!$A22:$AY647,19,FALSE),0)","v":27},{"$f":"IFERROR(VLOOKUP($A28,FILTRO!$A22:$AY647,20,FALSE),0)","v":1},{"$f":"IFERROR(VLOOKUP($A28,FILTRO!$A22:$AY647,21,FALSE),0)","v":12},{"$f":"IFERROR(VLOOKUP($A28,FILTRO!$A22:$AY647,22,FALSE),0)","v":6},{"$f":"IFERROR(VLOOKUP($A28,FILTRO!$A22:$AY647,23,FALSE),0)","v":6},{"$f":"IFERROR(VLOOKUP($A28,FILTRO!$A22:$AY647,24,FALSE),0)","v":7},{"$f":"IFERROR(VLOOKUP($A28,FILTRO!$A22:$AY647,25,FALSE),0)","v":2},{"$f":"IFERROR(VLOOKUP($A28,FILTRO!$A22:$AY647,26,FALSE),0)","v":4},{"$f":"IFERROR(VLOOKUP($A28,FILTRO!$A22:$AY647,27,FALSE),0)","v":2},{"$f":"IFERROR(VLOOKUP($A28,FILTRO!$A22:$AY647,28,FALSE),0)","v":2},{"$f":"IFERROR(VLOOKUP($A28,FILTRO!$A22:$AY647,29,FALSE),0)","v":2},{"$f":"IFERROR(VLOOKUP($A28,FILTRO!$A22:$AY647,30,FALSE),0)","v":4},{"$f":"IFERROR(VLOOKUP($A28,FILTRO!$A22:$AY647,31,FALSE),0)","v":4},{"$f":"IFERROR(VLOOKUP($A28,FILTRO!$A22:$AY647,32,FALSE),0)","v":1},{"$f":"IFERROR(VLOOKUP($A28,FILTRO!$A22:$AY647,33,FALSE),0)","v":2},{"$f":"IFERROR(VLOOKUP($A28,FILTRO!$A22:$AY647,34,FALSE),0)","v":0},{"$f":"IFERROR(VLOOKUP($A28,FILTRO!$A22:$AY647,35,FALSE),0)","v":0},{"$f":"IFERROR(VLOOKUP($A28,FILTRO!$A22:$AY647,36,FALSE),0)","v":1},{"$f":"IFERROR(VLOOKUP($A28,FILTRO!$A22:$AY647,37,FALSE),0)","v":0},{"$f":"IFERROR(VLOOKUP($A28,FILTRO!$A22:$AY647,38,FALSE),0)","v":1},{"$f":"IFERROR(VLOOKUP($A28,FILTRO!$A22:$AY647,39,FALSE),0)","v":0},{"$f":"IFERROR(VLOOKUP($A28,FILTRO!$A22:$AY647,40,FALSE),0)","v":5},{"$f":"IFERROR(VLOOKUP($A28,FILTRO!$A22:$AY647,41,FALSE),0)","v":2},{"$f":"IFERROR(VLOOKUP($A28,FILTRO!$A22:$AY647,42,FALSE),0)","v":0},{"$f":"IFERROR(VLOOKUP($A28,FILTRO!$A22:$AY647,43,FALSE),0)","v":1},{"$f":"IFERROR(VLOOKUP($A28,FILTRO!$A22:$AY647,44,FALSE),0)","v":0},{"$f":"IFERROR(VLOOKUP($A28,FILTRO!$A22:$AY647,45,FALSE),0)","v":8},{"$f":"IFERROR(VLOOKUP($A28,FILTRO!$A22:$AY647,46,FALSE),0)","v":4},{"$f":"IFERROR(VLOOKUP($A28,FILTRO!$A22:$AY647,47,FALSE),0)","v":13},{"$f":"IFERROR(VLOOKUP($A28,FILTRO!$A22:$AY647,48,FALSE),0)","v":1},{"$f":"IFERROR(VLOOKUP($A28,FILTRO!$A22:$AY647,49,FALSE),0)","v":0}]
["P6241113",null,"CONSUMO DEPENDIENTE DE DROGAS ",{"$f":"IFERROR(VLOOKUP($A29,FILTRO!$A23:$AY648,2,FALSE),0)","v":200},{"$f":"IFERROR(VLOOKUP($A29,FILTRO!$A23:$AY648,3,FALSE),0)","v":108},{"$f":"IFERROR(VLOOKUP($A29,FILTRO!$A23:$AY648,4,FALSE),0)","v":92},{"$f":"IFERROR(VLOOKUP($A29,FILTRO!$A23:$AY648,5,FALSE),0)","v":0},{"$f":"IFERROR(VLOOKUP($A29,FILTRO!$A23:$AY648,6,FALSE),0)","v":0},{"$f":"IFERROR(VLOOKUP($A29,FILTRO!$A23:$AY648,7,FALSE),0)","v":0},{"$f":"IFERROR(VLOOKUP($A29,FILTRO!$A23:$AY648,8,FALSE),0)","v":0},{"$f":"IFERROR(VLOOKUP($A29,FILTRO!$A23:$AY648,9,FALSE),0)","v":0},{"$f":"IFERROR(VLOOKUP($A29,FILTRO!$A23:$AY648,10,FALSE),0)","v":2},{"$f":"IFERROR(VLOOKUP($A29,FILTRO!$A23:$AY648,11,FALSE),0)","v":6},{"$f":"IFERROR(VLOOKUP($A29,FILTRO!$A23:$AY648,12,FALSE),0)","v":3},{"$f":"IFERROR(VLOOKUP($A29,FILTRO!$A23:$AY648,13,FALSE),0)","v":7},{"$f":"IFERROR(VLOOKUP($A29,FILTRO!$A23:$AY648,14,FALSE),0)","v":4},{"$f":"IFERROR(VLOOKUP($A29,FILTRO!$A23:$AY648,15,FALSE),0)","v":12},{"$f":"IFERROR(VLOOKUP($A29,FILTRO!$A23:$AY648,16,FALSE),0)","v":7},{"$f":"IFERROR(VLOOKUP($A29,FILTRO!$A23:$AY648,17,FALSE),0)","v":23},{"$f":"IFERROR(VLOOKUP($A29,FILTRO!$A23:$AY648,18,FALSE),0)","v":12},{"$f":"IFERROR(VLOOKUP($A29,FILTRO!$A23:$AY648,19,FALSE),0)","v":16},{"$f":"IFERROR(VLOOKUP($A29,FILTRO!$A23:$AY648,20,FALSE),0)","v":6},{"$f":"IFERROR(VLOOKUP($A29,FILTRO!$A23:$AY648,21,FALSE),0)","v":7},{"$f":"IFERROR(VLOOKUP($A29,FILTRO!$A23:$AY648,22,FALSE),0)","v":11},{"$f":"IFERROR(VLOOKUP($A29,FILTRO!$A23:$AY648,23,FALSE),0)","v":7},{"$f":"IFERROR(VLOOKUP($A29,FILTRO!$A23:$AY648,24,FALSE),0)","v":6},{"$f":"IFERROR(VLOOKUP($A29,FILTRO!$A23:$AY648,25,FALSE),0)","v":10},{"$f":"IFERROR(VLOOKUP($A29,FILTRO!$A23:$AY648,26,FALSE),0)","v":1},{"$f":"IFERROR(VLOOKUP($A29,FILTRO!$A23:$AY648,27,FALSE),0)","v":5},{"$f":"IFERROR(VLOOKUP($A29,FILTRO!$A23:$AY648,28,FALSE),0)","v":6},{"$f":"IFERROR(VLOOKUP($A29,FILTRO!$A23:$AY648,29,FALSE),0)","v":3},{"$f":"IFERROR(VLOOKUP($A29,FILTRO!$A23:$AY648,30,FALSE),0)","v":6},{"$f":"IFERROR(VLOOKUP($A29,FILTRO!$A23:$AY648,31,FALSE),0)","v":5},{"$f":"IFERROR(VLOOKUP($A29,FILTRO!$A23:$AY648,32,FALSE),0)","v":8},{"$f":"IFERROR(VLOOKUP($A29,FILTRO!$A23:$AY648,33,FALSE),0)","v":1},{"$f":"IFERROR(VLOOKUP($A29,FILTRO!$A23:$AY648,34,FALSE),0)","v":6},{"$f":"IFERROR(VLOOKUP($A29,FILTRO!$A23:$AY648,35,FALSE),0)","v":2},{"$f":"IFERROR(VLOOKUP($A29,FILTRO!$A23:$AY648,36,FALSE),0)","v":7},{"$f":"IFERROR(VLOOKUP($A29,FILTRO!$A23:$AY648,37,FALSE),0)","v":4},{"$f":"IFERROR(VLOOKUP($A29,FILTRO!$A23:$AY648,38,FALSE),0)","v":7},{"$f":"IFERROR(VLOOKUP($A29,FILTRO!$A23:$AY648,39,FALSE),0)","v":0},{"$f":"IFERROR(VLOOKUP($A29,FILTRO!$A23:$AY648,40,FALSE),0)","v":4},{"$f":"IFERROR(VLOOKUP($A29,FILTRO!$A23:$AY648,41,FALSE),0)","v":0},{"$f":"IFERROR(VLOOKUP($A29,FILTRO!$A23:$AY648,42,FALSE),0)","v":0},{"$f":"IFERROR(VLOOKUP($A29,FILTRO!$A23:$AY648,43,FALSE),0)","v":2},{"$f":"IFERROR(VLOOKUP($A29,FILTRO!$A23:$AY648,44,FALSE),0)","v":3},{"$f":"IFERROR(VLOOKUP($A29,FILTRO!$A23:$AY648,45,FALSE),0)","v":0},{"$f":"IFERROR(VLOOKUP($A29,FILTRO!$A23:$AY648,46,FALSE),0)","v":8},{"$f":"IFERROR(VLOOKUP($A29,FILTRO!$A23:$AY648,47,FALSE),0)","v":2},{"$f":"IFERROR(VLOOKUP($A29,FILTRO!$A23:$AY648,48,FALSE),0)","v":0},{"$f":"IFERROR(VLOOKUP($A29,FILTRO!$A23:$AY648,49,FALSE),0)","v":0}]
["P6241114",null,"CONSUMO DE DROGAS Y ALCOHOL ",{"$f":"IFERROR(VLOOKUP($A30,FILTRO!$A24:$AY649,2,FALSE),0)","v":380},{"$f":"IFERROR(VLOOKUP($A30,FILTRO!$A24:$AY649,3,FALSE),0)","v":248},{"$f":"IFERROR(VLOOKUP($A30,FILTRO!$A24:$AY649,4,FALSE),0)","v":132},{"$f":"IFERROR(VLOOKUP($A30,FILTRO!$A24:$AY649,5,FALSE),0)","v":0},{"$f":"IFERROR(VLOOKUP($A30,FILTRO!$A24:$AY649,6,FALSE),0)","v":0},{"$f":"IFERROR(VLOOKUP($A30,FILTRO!$A24:$AY649,7,FALSE),0)","v":0},{"$f":"IFERROR(VLOOKUP($A30,FILTRO!$A24:$AY649,8,FALSE),0)","v":0},{"$f":"IFERROR(VLOOKUP($A30,FILTRO!$A24:$AY649,9,FALSE),0)","v":3},{"$f":"IFERROR(VLOOKUP($A30,FILTRO!$A24:$AY649,10,FALSE),0)","v":0},{"$f":"IFERROR(VLOOKUP($A30,FILTRO!$A24:$AY649,11,FALSE),0)","v":33},{"$f":"IFERROR(VLOOKUP($A30,FILTRO!$A24:$AY649,12,FALSE),0)","v":20},{"$f":"IFERROR(VLOOKUP($A30,FILTRO!$A24:$AY649,13,FALSE),0)","v":25},{"$f":"IFERROR(VLOOKUP($A30,FILTRO!$A24:$AY649,14,FALSE),0)","v":11},{"$f":"IFERROR(VLOOKUP($A30,FILTRO!$A24:$AY649,15,FALSE),0)","v":23},{"$f":"IFERROR(VLOOKUP($A30,FILTRO!$A24:$AY649,16,FALSE),0)","v":10},{"$f":"IFERROR(VLOOKUP($A30,FILTRO!$A24:$AY649,17,FALSE),0)","v":40},{"$f":"IFERROR(VLOOKUP($A30,FILTRO!$A24:$AY649,18,FALSE),0)","v":22},{"$f":"IFERROR(VLOOKUP($A30,FILTRO!$A24:$AY649,19,FALSE),0)","v":44},{"$f":"IFERROR(VLOOKUP($A30,FILTRO!$A24:$AY649,20,FALSE),0)","v":14},{"$f":"IFERROR(VLOOKUP($A30,FILTRO!$A24:$AY649,21,FALSE),0)","v":28},{"$f":"IFERROR(VLOOKUP($A30,FILTRO!$A24:$AY649,22,FALSE),0)","v":16},{"$f":"IFERROR(VLOOKUP($A30,FILTRO!$A24:$AY649,23,FALSE),0)","v":22},{"$f":"IFERROR(VLOOKUP($A30,FILTRO!$A24:$AY649,24,FALSE),0)","v":16},{"$f":"IFERROR(VLOOKUP($A30,FILTRO!$A24:$AY649,25,FALSE),0)","v":14},{"$f":"IFERROR(VLOOKUP($A30,FILTRO!$A24:$AY649,26,FALSE),0)","v":9},{"$f":"IFERROR(VLOOKUP($A30,FILTRO!$A24:$AY649,27,FALSE),0)","v":8},{"$f":"IFERROR(VLOOKUP($A30,FILTRO!$A24:$AY649,28,FALSE),0)","v":8},{"$f":"IFERROR(VLOOKUP($A30,FILTRO!$A24:$AY649,29,FALSE),0)","v":4},{"$f":"IFERROR(VLOOKUP($A30,FILTRO!$A24:$AY649,30,FALSE),0)","v":4},{"$f":"IFERROR(VLOOKUP($A30,FILTRO!$A24:$AY649,31,FALSE),0)","v":1},{"$f":"IFERROR(VLOOKUP($A30,FILTRO!$A24:$AY649,32,FALSE),0)","v":2},{"$f":"IFERROR(VLOOKUP($A30,FILTRO!$A24:$AY649,33,FALSE),0)","v":3},{"$f":"IFERROR(VLOOKUP($A30,FILTRO!$A24:$AY649,34,FALSE),0)","v":0},{"$f":"IFERROR(VLOOKUP($A30,FILTRO!$A24:$AY649,35,FALSE),0)","v":0},{"$f":"IFERROR(VLOOKUP($A30,FILTRO!$A24:$AY649,36,FALSE),0)","v":0},{"$f":"IFERROR(VLOOKUP($A30,FILTRO!$A24:$AY649,37,FALSE),0)","v":0},{"$f":"IFERROR(VLOOKUP($A30,FILTRO!$A24:$AY649,38,FALSE),0)","v":0},{"$f":"IFERROR(VLOOKUP($A30,FILTRO!$A24:$AY649,39,FALSE),0)","v":1},{"$f":"IFERROR(VLOOKUP($A30,FILTRO!$A24:$AY649,40,FALSE),0)","v":8},{"$f":"IFERROR(VLOOKUP($A30,FILTRO!$A24:$AY649,41,FALSE),0)","v":1},{"$f":"IFERROR(VLOOKUP($A30,FILTRO!$A24:$AY649,42,FALSE),0)","v":0},{"$f":"IFERROR(VLOOKUP($A30,FILTRO!$A24:$AY649,43,FALSE),0)","v":0},{"$f":"IFERROR(VLOOKUP($A30,FILTRO!$A24:$AY649,44,FALSE),0)","v":2},{"$f":"IFERROR(VLOOKUP($A30,FILTRO!$A24:$AY649,45,FALSE),0)","v":14},{"$f":"IFERROR(VLOOKUP($A30,FILTRO!$A24:$AY649,46,FALSE),0)","v":14},{"$f":"IFERROR(VLOOKUP($A30,FILTRO!$A24:$AY649,47,FALSE),0)","v":37},{"$f":"IFERROR(VLOOKUP($A30,FILTRO!$A24:$AY649,48,FALSE),0)","v":0},{"$f":"IFERROR(VLOOKUP($A30,FILTRO!$A24:$AY649,49,FALSE),0)","v":2},{"$nulls":34},{"$f":"IF($AO30>$F30,\"* La celda 'Gestantes' debe ser menor o igual al Total de Mujeres en control. \",\"\")","v":""},{"$f":"IF($AP30>$F30,\"* La celda 'Madres de Hijos menor de 5 años' debe ser menor o igual al Total de Mujeres en control. \",\"\")","v":""},"","","","","",{"$f":"IF(AND($D30<>0,$AO30=\"\"),\"* No olvide escribir en la celda de 'Gestantes' (Digite CERO si no tiene). \",\"\")","v":""},{"$f":"IF(AND($D30<>0,$AP30=\"\"),\"* No olvide escribir en la celda de 'Madres de Hijos menor de 5 años' (Digite CERO si no tiene). \",\"\")","v":""},"","","",{"$nulls":8},{"$f":"IF($AO30>$F30,1,0)","v":0},0,0,0,0,0,0,{"$f":"IF(AND($D30<>0,$AO30=\"\"),1,0)","v":0},0,0,0,0]
["P6222600","TRASTORNOS DEL COMPORTAMIENTO Y DE LAS EMOCIONES DE COMIENZO HABITUAL EN LA INFANCIA Y ADOLESCENCIA","TRASTORNO HIPERCINÉTICO",{"$f":"IFERROR(VLOOKUP($A31,FILTRO!$A25:$AY650,2,FALSE),0)","v":1074},{"$f":"IFERROR(VLOOKUP($A31,FILTRO!$A25:$AY650,3,FALSE),0)","v":744},{"$f":"IFERROR(VLOOKUP($A31,FILTRO!$A25:$AY650,4,FALSE),0)","v":330},{"$f":"IFERROR(VLOOKUP($A31,FILTRO!$A25:$AY650,5,FALSE),0)","v":6},{"$f":"IFERROR(VLOOKUP($A31,FILTRO!$A25:$AY650,6,FALSE),0)","v":10},{"$f":"IFERROR(VLOOKUP($A31,FILTRO!$A25:$AY650,7,FALSE),0)","v":294},{"$f":"IFERROR(VLOOKUP($A31,FILTRO!$A25:$AY650,8,FALSE),0)","v":131},{"$f":"IFERROR(VLOOKUP($A31,FILTRO!$A25:$AY650,9,FALSE),0)","v":317},{"$f":"IFERROR(VLOOKUP($A31,FILTRO!$A25:$AY650,10,FALSE),0)","v":123},{"$f":"IFERROR(VLOOKUP($A31,FILTRO!$A25:$AY650,11,FALSE),0)","v":109},{"$f":"IFERROR(VLOOKUP($A31,FILTRO!$A25:$AY650,12,FALSE),0)","v":48},{"$f":"IFERROR(VLOOKUP($A31,FILTRO!$A25:$AY650,13,FALSE),0)","v":7},{"$f":"IFERROR(VLOOKUP($A31,FILTRO!$A25:$AY650,14,FALSE),0)","v":9},{"$f":"IFERROR(VLOOKUP($A31,FILTRO!$A25:$AY650,15,FALSE),0)","v":6},{"$f":"IFERROR(VLOOKUP($A31,FILTRO!$A25:$AY650,16,FALSE),0)","v":3},{"$f":"IFERROR(VLOOKUP($A31,FILTRO!$A25:$AY650,17,FALSE),0)","v":3},{"$f":"IFERROR(VLOOKUP($A31,FILTRO!$A25:$AY650,18,FALSE),0)","v":2},{"$f":"IFERROR(VLOOKUP($A31,FILTRO!$A25:$AY650,19,FALSE),0)","v":1},{"$f":"IFERROR(VLOOKUP($A31,FILTRO!$A25:$AY650,20,FALSE),0)","v":2},{"$f":"IFERROR(VLOOKUP($A31,FILTRO!$A25:$AY650,21,FALSE),0)","v":0},{"$f":"IFERROR(VLOOKUP($A31,FILTRO!$A25:$AY650,22,FALSE),0)","v":1},{"$f":"IFERROR(VLOOKUP($A31,FILTRO!$A25:$AY650,23,FALSE),0)","v":0},{"$f":"IFERROR(VLOOKUP($A31,FILTRO!$A25:$AY650,24,FALSE),0)","v":1},{"$f":"IFERROR(VLOOKUP($A31,FILTRO!$A25:$AY650,25,FALSE),0)","v":0},{"$f":"IFERROR(VLOOKUP($A31,FILTRO!$A25:$AY650,26,FALSE),0)","v":0},{"$f":"IFERROR(VLOOKUP($A31,FILTRO!$A25:$AY650,27,FALSE),0)","v":1},{"$f":"IFERROR(VLOOKUP($A31,FILTRO!$A25:$AY650,28,FALSE),0)","v":0},{"$f":"IFERROR(VLOOKUP($A31,FILTRO!$A25:$AY650,29,FALSE),0)","v":0},{"$f":"IFERROR(VLOOKUP($A31,FILTRO!$A25:$AY650,30,FALSE),0)","v":0},{"$f":"IFERROR(VLOOKUP($A31,FILTRO!$A25:$AY650,31,FALSE),0)","v":0},{"$f":"IFERROR(VLOOKUP($A31,FILTRO!$A25:$AY650,32,FALSE),0)","v":0},{"$f":"IFERROR(VLOOKUP($A31,FILTRO!$A25:$AY650,33,FALSE),0)","v":0},{"$f":"IFERROR(VLOOKUP($A31,FILTRO!$A25:$AY650,34,FALSE),0)","v":0},{"$f":"IFERROR(VLOOKUP($A31,FILTRO!$A25:$AY650,35,FALSE),0)","v":0},{"$f":"IFERROR(VLOOKUP($A31,FILTRO!$A25:$AY650,36,FALSE),0)","v":0},{"$f":"IFERROR(VLOOKUP($A31,FILTRO!$A25:$AY650,37,FALSE),0)","v":0},{"$f":"IFERROR(VLOOKUP($A31,FILTRO!$A25:$AY650,38,FALSE),0)","v":0},{"$f":"IFERROR(VLOOKUP($A31,FILTRO!$A25:$AY650,39,FALSE),0)","v":0},{"$f":"IFERROR(VLOOKUP($A31,FILTRO!$A25:$AY650,40,FALSE),0)","v":0},{"$f":"IFERROR(VLOOKUP($A31,FILTRO!$A25:$AY650,41,FALSE),0)","v":9},{"$f":"IFERROR(VLOOKUP($A31,FILTRO!$A25:$AY650,42,FALSE),0)","v":3},{"$f":"IFERROR(VLOOKUP($A31,FILTRO!$A25:$AY650,43,FALSE),0)","v":8},{"$f":"IFERROR(VLOOKUP($A31,FILTRO!$A25:$AY650,44,FALSE),0)","v":3},{"$f":"IFERROR(VLOOKUP($A31,FILTRO!$A25:$AY650,45,FALSE),0)","v":13},{"$f":"IFERROR(VLOOKUP($A31,FILTRO!$A25:$AY650,46,FALSE),0)","v":93},{"$f":"IFERROR(VLOOKUP($A31,FILTRO!$A25:$AY650,47,FALSE),0)","v":138},{"$f":"IFERROR(VLOOKUP($A31,FILTRO!$A25:$AY650,48,FALSE),0)","v":0},{"$f":"IFERROR(VLOOKUP($A31,FILTRO!$A25:$AY650,49,FALSE),0)","v":0},{"$nulls":36},"","","","","",null,null,"","","",{"$nulls":10},0,0,0,0,0,null,null,0,0,0]
["P6223060",null,"TRASTORNO DISOCIAL DESAFIANTE Y OPOSICIONISTA",{"$f":"IFERROR(VLOOKUP($A32,FILTRO!$A26:$AY651,2,FALSE),0)","v":194},{"$f":"IFERROR(VLOOKUP($A32,FILTRO!$A26:$AY651,3,FALSE),0)","v":127},{"$f":"IFERROR(VLOOKUP($A32,FILTRO!$A26:$AY651,4,FALSE),0)","v":67},{"$f":"IFERROR(VLOOKUP($A32,FILTRO!$A26:$AY651,5,FALSE),0)","v":0},{"$f":"IFERROR(VLOOKUP($A32,FILTRO!$A26:$AY651,6,FALSE),0)","v":2},{"$f":"IFERROR(VLOOKUP($A32,FILTRO!$A26:$AY651,7,FALSE),0)","v":41},{"$f":"IFERROR(VLOOKUP($A32,FILTRO!$A26:$AY651,8,FALSE),0)","v":23},{"$f":"IFERROR(VLOOKUP($A32,FILTRO!$A26:$AY651,9,FALSE),0)","v":59},{"$f":"IFERROR(VLOOKUP($A32,FILTRO!$A26:$AY651,10,FALSE),0)","v":30},{"$f":"IFERROR(VLOOKUP($A32,FILTRO!$A26:$AY651,11,FALSE),0)","v":23},{"$f":"IFERROR(VLOOKUP($A32,FILTRO!$A26:$AY651,12,FALSE),0)","v":9},{"$f":"IFERROR(VLOOKUP($A32,FILTRO!$A26:$AY651,13,FALSE),0)","v":2},{"$f":"IFERROR(VLOOKUP($A32,FILTRO!$A26:$AY651,14,FALSE),0)","v":2},{"$f":"IFERROR(VLOOKUP($A32,FILTRO!$A26:$AY651,15,FALSE),0)","v":2},{"$f":"IFERROR(VLOOKUP($A32,FILTRO!$A26:$AY651,16,FALSE),0)","v":0},{"$f":"IFERROR(VLOOKUP($A32,FILTRO!$A26:$AY651,17,FALSE),0)","v":0},{"$f":"IFERROR(VLOOKUP($A32,FILTRO!$A26:$AY651,18,FALSE),0)","v":0},{"$f":"IFERROR(VLOOKUP($A32,FILTRO!$A26:$AY651,19,FALSE),0)","v":0},{"$f":"IFERROR(VLOOKUP($A32,FILTRO!$A26:$AY651,20,FALSE),0)","v":0},{"$f":"IFERROR(VLOOKUP($A32,FILTRO!$A26:$AY651,21,FALSE),0)","v":0},{"$f":"IFERROR(VLOOKUP($A32,FILTRO!$A26:$AY651,22,FALSE),0)","v":0},{"$f":"IFERROR(VLOOKUP($A32,FILTRO!$A26:$AY651,23,FALSE),0)","v":0},{"$f":"IFERROR(VLOOKUP($A32,FILTRO!$A26:$AY651,24,FALSE),0)","v":0},{"$f":"IFERROR(VLOOKUP($A32,FILTRO!$A26:$AY651,25,FALSE),0)","v":0},{"$f":"IFERROR(VLOOKUP($A32,FILTRO!$A26:$AY651,26,FALSE),0)","v":0},{"$f":"IFERROR(VLOOKUP($A32,FILTRO!$A26:$AY651,27,FALSE),0)","v":0},{"$f":"IFERROR(VLOOKUP($A32,FILTRO!$A26:$AY651,28,FALSE),0)","v":1},{"$f":"IFERROR(VLOOKUP($A32,FILTRO!$A26:$AY651,29,FALSE),0)","v":0},{"$f":"IFERROR(VLOOKUP($A32,FILTRO!$A26:$AY651,30,FALSE),0)","v":0},{"$f":"IFERROR(VLOOKUP($A32,FILTRO!$A26:$AY651,31,FALSE),0)","v":0},{"$f":"IFERROR(VLOOKUP($A32,FILTRO!$A26:$AY651,32,FALSE),0)","v":0},{"$f":"IFERROR(VLOOKUP($A32,FILTRO!$A26:$AY651,33,FALSE),0)","v":0},{"$f":"IFERROR(VLOOKUP($A32,FILTRO!$A26:$AY651,34,FALSE),0)","v":0},{"$f":"IFERROR(VLOOKUP($A32,FILTRO!$A26:$AY651,35,FALSE),0)","v":0},{"$f":"IFERROR(VLOOKUP($A32,FILTRO!$A26:$AY651,36,FALSE),0)","v":0},{"$f":"IFERROR(VLOOKUP($A32,FILTRO!$A26:$AY651,37,FALSE),0)","v":0},{"$f":"IFERROR(VLOOKUP($A32,FILTRO!$A26:$AY651,38,FALSE),0)","v":0},{"$f":"IFERROR(VLOOKUP($A32,FILTRO!$A26:$AY651,39,FALSE),0)","v":0},{"$f":"IFERROR(VLOOKUP($A32,FILTRO!$A26:$AY651,40,FALSE),0)","v":0},{"$f":"IFERROR(VLOOKUP($A32,FILTRO!$A26:$AY651,41,FALSE),0)","v":1},{"$f":"IFERROR(VLOOKUP($A32,FILTRO!$A26:$AY651,42,FALSE),0)","v":0},{"$f":"IFERROR(VLOOKUP($A32,FILTRO!$A26:$AY651,43,FALSE),0)","v":0},{"$f":"IFERROR(VLOOKUP($A32,FILTRO!$A26:$AY651,44,FALSE),0)","v":1},{"$f":"IFERROR(VLOOKUP($A32,FILTRO!$A26:$AY651,45,FALSE),0)","v":5},{"$f":"IFERROR(VLOOKUP($A32,FILTRO!$A26:$AY651,46,FALSE),0)","v":22},{"$f":"IFERROR(VLOOKUP($A32,FILTRO!$A26:$AY651,47,FALSE),0)","v":14},{"$f":"IFERROR(VLOOKUP($A32,FILTRO!$A26:$AY651,48,FALSE),0)","v":2},{"$f":"IFERROR(VLOOKUP($A32,FILTRO!$A26:$AY651,49,FALSE),0)","v":0},{"$nulls":36},"","","","","",null,null,"","","",{"$nulls":10},0,0,0,0,0,null,null,0,0,0]
["P6223070",null,"TRASTORNO DE ANSIEDAD DE SEPARACIÓN EN LA INFANCIA",{"$f":"IFERROR(VLOOKUP($A33,FILTRO!$A27:$AY652,2,FALSE),0)","v":90},{"$f":"IFERROR(VLOOKUP($A33,FILTRO!$A27:$AY652,3,FALSE),0)","v":48},{"$f":"IFERROR(VLOOKUP($A33,FILTRO!$A27:$AY652,4,FALSE),0)","v":42},{"$f":"IFERROR(VLOOKUP($A33,FILTRO!$A27:$AY652,5,FALSE),0)","v":3},{"$f":"IFERROR(VLOOKUP($A33,FILTRO!$A27:$AY652,6,FALSE),0)","v":2},{"$f":"IFERROR(VLOOKUP($A33,FILTRO!$A27:$AY652,7,FALSE),0)","v":23},{"$f":"IFERROR(VLOOKUP($A33,FILTRO!$A27:$AY652,8,FALSE),0)","v":23},{"$f":"IFERROR(VLOOKUP($A33,FILTRO!$A27:$AY652,9,FALSE),0)","v":22},{"$f":"IFERROR(VLOOKUP($A33,FILTRO!$A27:$AY652,10,FALSE),0)","v":17},{"$f":"IFERROR(VLOOKUP($A33,FILTRO!$A27:$AY652,11,FALSE),0)","v":0},{"$f":"IFERROR(VLOOKUP($A33,FILTRO!$A27:$AY652,12,FALSE),0)","v":0},{"$f":"IFERROR(VLOOKUP($A33,FILTRO!$A27:$AY652,13,FALSE),0)","v":0},{"$f":"IFERROR(VLOOKUP($A33,FILTRO!$A27:$AY652,14,FALSE),0)","v":0},{"$f":"IFERROR(VLOOKUP($A33,FILTRO!$A27:$AY652,15,FALSE),0)","v":0},{"$f":"IFERROR(VLOOKUP($A33,FILTRO!$A27:$AY652,16,FALSE),0)","v":0},{"$f":"IFERROR(VLOOKUP($A33,FILTRO!$A27:$AY652,17,FALSE),0)","v":0},{"$f":"IFERROR(VLOOKUP($A33,FILTRO!$A27:$AY652,18,FALSE),0)","v":0},{"$f":"IFERROR(VLOOKUP($A33,FILTRO!$A27:$AY652,19,FALSE),0)","v":0},{"$f":"IFERROR(VLOOKUP($A33,FILTRO!$A27:$AY652,20,FALSE),0)","v":0},{"$f":"IFERROR(VLOOKUP($A33,FILTRO!$A27:$AY652,21,FALSE),0)","v":0},{"$f":"IFERROR(VLOOKUP($A33,FILTRO!$A27:$AY652,22,FALSE),0)","v":0},{"$f":"IFERROR(VLOOKUP($A33,FILTRO!$A27:$AY652,23,FALSE),0)","v":0},{"$f":"IFERROR(VLOOKUP($A33,FILTRO!$A27:$AY652,24,FALSE),0)","v":0},{"$f":"IFERROR(VLOOKUP($A33,FILTRO!$A27:$AY652,25,FALSE),0)","v":0},{"$f":"IFERROR(VLOOKUP($A33,FILTRO!$A27:$AY652,26,FALSE),0)","v":0},{"$f":"IFERROR(VLOOKUP($A33,FILTRO!$A27:$AY652,27,FALSE),0)","v":0},{"$f":"IFERROR(VLOOKUP($A33,FILTRO!$A27:$AY652,28,FALSE),0)","v":0},{"$f":"IFERROR(VLOOKUP($A33,FILTRO!$A27:$AY652,29,FALSE),0)","v":0},{"$f":"IFERROR(VLOOKUP($A33,FILTRO!$A27:$AY652,30,FALSE),0)","v":0},{"$f":"IFERROR(VLOOKUP($A33,FILTRO!$A27:$AY652,31,FALSE),0)","v":0},{"$f":"IFERROR(VLOOKUP($A33,FILTRO!$A27:$AY652,32,FALSE),0)","v":0},{"$f":"IFERROR(VLOOKUP($A33,FILTRO!$A27:$AY652,33,FALSE),0)","v":0},{"$f":"IFERROR(VLOOKUP($A33,FILTRO!$A27:$AY652,34,FALSE),0)","v":0},{"$f":"IFERROR(VLOOKUP($A33,FILTRO!$A27:$AY652,35,FALSE),0)","v":0},{"$f":"IFERROR(VLOOKUP($A33,FILTRO!$A27:$AY652,36,FALSE),0)","v":0},{"$f":"IFERROR(VLOOKUP($A33,FILTRO!$A27:$AY652,37,FALSE),0)","v":0},{"$f":"IFERROR(VLOOKUP($A33,FILTRO!$A27:$AY652,38,FALSE),0)","v":0},{"$f":"IFERROR(VLOOKUP($A33,FILTRO!$A27:$AY652,39,FALSE),0)","v":0},{"$f":"IFERROR(VLOOKUP($A33,FILTRO!$A27:$AY652,40,FALSE),0)","v":0},{"$f":"IFERROR(VLOOKUP($A33,FILTRO!$A27:$AY652,41,FALSE),0)","v":0},{"$f":"IFERROR(VLOOKUP($A33,FILTRO!$A27:$AY652,42,FALSE),0)","v":0},{"$f":"IFERROR(VLOOKUP($A33,FILTRO!$A27:$AY652,43,FALSE),0)","v":0},{"$f":"IFERROR(VLOOKUP($A33,FILTRO!$A27:$AY652,44,FALSE),0)","v":0},{"$f":"IFERROR(VLOOKUP($A33,FILTRO!$A27:$AY652,45,FALSE),0)","v":0},{"$f":"IFERROR(VLOOKUP($A33,FILTRO!$A27:$AY652,46,FALSE),0)","v":5},{"$f":"IFERROR(VLOOKUP($A33,FILTRO!$A27:$AY652,47,FALSE),0)","v":11},{"$f":"IFERROR(VLOOKUP($A33,FILTRO!$A27:$AY652,48,FALSE),0)","v":0},{"$f":"IFERROR(VLOOKUP($A33,FILTRO!$A27:$AY652,49,FALSE),0)","v":0},{"$nulls":36},"","","","","",null,null,"","","",{"$nulls":10},0,0,0,0,0,null,null,0,0,0]
["P6223080",null,"OTROS TRASTORNOS DEL COMPORTAMIENTO Y DE LAS EMOCIONES DE COMIENZO HABITUAL EN LA INFANCIA Y ADOLESCENCIA",{"$f":"IFERROR(VLOOKUP($A34,FILTRO!$A28:$AY653,2,FALSE),0)","v":2439},{"$f":"IFERROR(VLOOKUP($A34,FILTRO!$A28:$AY653,3,FALSE),0)","v":1145},{"$f":"IFERROR(VLOOKUP($A34,FILTRO!$A28:$AY653,4,FALSE),0)","v":1294},{"$f":"IFERROR(VLOOKUP($A34,FILTRO!$A28:$AY653,5,FALSE),0)","v":17},{"$f":"IFERROR(VLOOKUP($A34,FILTRO!$A28:$AY653,6,FALSE),0)","v":32},{"$f":"IFERROR(VLOOKUP($A34,FILTRO!$A28:$AY653,7,FALSE),0)","v":513},{"$f":"IFERROR(VLOOKUP($A34,FILTRO!$A28:$AY653,8,FALSE),0)","v":437},{"$f":"IFERROR(VLOOKUP($A34,FILTRO!$A28:$AY653,9,FALSE),0)","v":431},{"$f":"IFERROR(VLOOKUP($A34,FILTRO!$A28:$AY653,10,FALSE),0)","v":521},{"$f":"IFERROR(VLOOKUP($A34,FILTRO!$A28:$AY653,11,FALSE),0)","v":174},{"$f":"IFERROR(VLOOKUP($A34,FILTRO!$A28:$AY653,12,FALSE),0)","v":289},{"$f":"IFERROR(VLOOKUP($A34,FILTRO!$A28:$AY653,13,FALSE),0)","v":10},{"$f":"IFERROR(VLOOKUP($A34,FILTRO!$A28:$AY653,14,FALSE),0)","v":15},{"$f":"IFERROR(VLOOKUP($A34,FILTRO!$A28:$AY653,15,FALSE),0)","v":0},{"$f":"IFERROR(VLOOKUP($A34,FILTRO!$A28:$AY653,16,FALSE),0)","v":0},{"$f":"IFERROR(VLOOKUP($A34,FILTRO!$A28:$AY653,17,FALSE),0)","v":0},{"$f":"IFERROR(VLOOKUP($A34,FILTRO!$A28:$AY653,18,FALSE),0)","v":0},{"$f":"IFERROR(VLOOKUP($A34,FILTRO!$A28:$AY653,19,FALSE),0)","v":0},{"$f":"IFERROR(VLOOKUP($A34,FILTRO!$A28:$AY653,20,FALSE),0)","v":0},{"$f":"IFERROR(VLOOKUP($A34,FILTRO!$A28:$AY653,21,FALSE),0)","v":0},{"$f":"IFERROR(VLOOKUP($A34,FILTRO!$A28:$AY653,22,FALSE),0)","v":0},{"$f":"IFERROR(VLOOKUP($A34,FILTRO!$A28:$AY653,23,FALSE),0)","v":0},{"$f":"IFERROR(VLOOKUP($A34,FILTRO!$A28:$AY653,24,FALSE),0)","v":0},{"$f":"IFERROR(VLOOKUP($A34,FILTRO!$A28:$AY653,25,FALSE),0)","v":0},{"$f":"IFERROR(VLOOKUP($A34,FILTRO!$A28:$AY653,26,FALSE),0)","v":0},{"$f":"IFERROR(VLOOKUP($A34,FILTRO!$A28:$AY653,27,FALSE),0)","v":0},{"$f":"IFERROR(VLOOKUP($A34,FILTRO!$A28:$AY653,28,FALSE),0)","v":0},{"$f":"IFERROR(VLOOKUP($A34,FILTRO!$A28:$AY653,29,FALSE),0)","v":0},{"$f":"IFERROR(VLOOKUP($A34,FILTRO!$A28:$AY653,30,FALSE),0)","v":0},{"$f":"IFERROR(VLOOKUP($A34,FILTRO!$A28:$AY653,31,FALSE),0)","v":0},{"$f":"IFERROR(VLOOKUP($A34,FILTRO!$A28:$AY653,32,FALSE),0)","v":0},{"$f":"IFERROR(VLOOKUP($A34,FILTRO!$A28:$AY653,33,FALSE),0)","v":0},{"$f":"IFERROR(VLOOKUP($A34,FILTRO!$A28:$AY653,34,FALSE),0)","v":0},{"$f":"IFERROR(VLOOKUP($A34,FILTRO!$A28:$AY653,35,FALSE),0)","v":0},{"$f":"IFERROR(VLOOKUP($A34,FILTRO!$A28:$AY653,36,FALSE),0)","v":0},{"$f":"IFERROR(VLOOKUP($A34,FILTRO!$A28:$AY653,37,FALSE),0)","v":0},{"$f":"IFERROR(VLOOKUP($A34,FILTRO!$A28:$AY653,38,FALSE),0)","v":0},{"$f":"IFERROR(VLOOKUP($A34,FILTRO!$A28:$AY653,39,FALSE),0)","v":0},{"$f":"IFERROR(VLOOKUP($A34,FILTRO!$A28:$AY653,40,FALSE),0)","v":0},{"$f":"IFERROR(VLOOKUP($A34,FILTRO!$A28:$AY653,41,FALSE),0)","v":10},{"$f":"IFERROR(VLOOKUP($A34,FILTRO!$A28:$AY653,42,FALSE),0)","v":11},{"$f":"IFERROR(VLOOKUP($A34,FILTRO!$A28:$AY653,43,FALSE),0)","v":16},{"$f":"IFERROR(VLOOKUP($A34,FILTRO!$A28:$AY653,44,FALSE),0)","v":14},{"$f":"IFERROR(VLOOKUP($A34,FILTRO!$A28:$AY653,45,FALSE),0)","v":7},{"$f":"IFERROR(VLOOKUP($A34,FILTRO!$A28:$AY653,46,FALSE),0)","v":207},{"$f":"IFERROR(VLOOKUP($A34,FILTRO!$A28:$AY653,47,FALSE),0)","v":310},{"$f":"IFERROR(VLOOKUP($A34,FILTRO!$A28:$AY653,48,FALSE),0)","v":13},{"$f":"IFERROR(VLOOKUP($A34,FILTRO!$A28:$AY653,49,FALSE),0)","v":4},{"$nulls":36},"","","","","",null,null,"","","",{"$nulls":10},0,0,0,0,0,null,null,0,0,0]
["P6231000","TRASTORNOS DE ANSIEDAD","TRASTORNO DE ESTRÉS POST TRAUMATICO",{"$f":"IFERROR(VLOOKUP($A35,FILTRO!$A29:$AY654,2,FALSE),0)","v":496},{"$f":"IFERROR(VLOOKUP($A35,FILTRO!$A29:$AY654,3,FALSE),0)","v":129},{"$f":"IFERROR(VLOOKUP($A35,FILTRO!$A29:$AY654,4,FALSE),0)","v":367},{"$f":"IFERROR(VLOOKUP($A35,FILTRO!$A29:$AY654,5,FALSE),0)","v":1},{"$f":"IFERROR(VLOOKUP($A35,FILTRO!$A29:$AY654,6,FALSE),0)","v":1},{"$f":"IFERROR(VLOOKUP($A35,FILTRO!$A29:$AY654,7,FALSE),0)","v":13},{"$f":"IFERROR(VLOOKUP($A35,FILTRO!$A29:$AY654,8,FALSE),0)","v":5},{"$f":"IFERROR(VLOOKUP($A35,FILTRO!$A29:$AY654,9,FALSE),0)","v":14},{"$f":"IFERROR(VLOOKUP($A35,FILTRO!$A29:$AY654,10,FALSE),0)","v":55},{"$f":"IFERROR(VLOOKUP($A35,FILTRO!$A29:$AY654,11,FALSE),0)","v":18},{"$f":"IFERROR(VLOOKUP($A35,FILTRO!$A29:$AY654,12,FALSE),0)","v":56},{"$f":"IFERROR(VLOOKUP($A35,FILTRO!$A29:$AY654,13,FALSE),0)","v":8},{"$f":"IFERROR(VLOOKUP($A35,FILTRO!$A29:$AY654,14,FALSE),0)","v":30},{"$f":"IFERROR(VLOOKUP($A35,FILTRO!$A29:$AY654,15,FALSE),0)","v":7},{"$f":"IFERROR(VLOOKUP($A35,FILTRO!$A29:$AY654,16,FALSE),0)","v":24},{"$f":"IFERROR(VLOOKUP($A35,FILTRO!$A29:$AY654,17,FALSE),0)","v":8},{"$f":"IFERROR(VLOOKUP($A35,FILTRO!$A29:$AY654,18,FALSE),0)","v":23},{"$f":"IFERROR(VLOOKUP($A35,FILTRO!$A29:$AY654,19,FALSE),0)","v":5},{"$f":"IFERROR(VLOOKUP($A35,FILTRO!$A29:$AY654,20,FALSE),0)","v":23},{"$f":"IFERROR(VLOOKUP($A35,FILTRO!$A29:$AY654,21,FALSE),0)","v":6},{"$f":"IFERROR(VLOOKUP($A35,FILTRO!$A29:$AY654,22,FALSE),0)","v":22},{"$f":"IFERROR(VLOOKUP($A35,FILTRO!$A29:$AY654,23,FALSE),0)","v":7},{"$f":"IFERROR(VLOOKUP($A35,FILTRO!$A29:$AY654,24,FALSE),0)","v":21},{"$f":"IFERROR(VLOOKUP($A35,FILTRO!$A29:$AY654,25,FALSE),0)","v":9},{"$f":"IFERROR(VLOOKUP($A35,FILTRO!$A29:$AY654,26,FALSE),0)","v":29},{"$f":"IFERROR(VLOOKUP($A35,FILTRO!$A29:$AY654,27,FALSE),0)","v":10},{"$f":"IFERROR(VLOOKUP($A35,FILTRO!$A29:$AY654,28,FALSE),0)","v":19},{"$f":"IFERROR(VLOOKUP($A35,FILTRO!$A29:$AY654,29,FALSE),0)","v":10},{"$f":"IFERROR(VLOOKUP($A35,FILTRO!$A29:$AY654,30,FALSE),0)","v":21},{"$f":"IFERROR(VLOOKUP($A35,FILTRO!$A29:$AY654,31,FALSE),0)","v":7},{"$f":"IFERROR(VLOOKUP($A35,FILTRO!$A29:$AY654,32,FALSE),0)","v":20},{"$f":"IFERROR(VLOOKUP($A35,FILTRO!$A29:$AY654,33,FALSE),0)","v":4},{"$f":"IFERROR(VLOOKUP($A35,FILTRO!$A29:$AY654,34,FALSE),0)","v":9},{"$f":"IFERROR(VLOOKUP($A35,FILTRO!$A29:$AY654,35,FALSE),0)","v":1},{"$f":"IFERROR(VLOOKUP($A35,FILTRO!$A29:$AY654,36,FALSE),0)","v":4},{"$f":"IFERROR(VLOOKUP($A35,FILTRO!$A29:$AY654,37,FALSE),0)","v":1},{"$f":"IFERROR(VLOOKUP($A35,FILTRO!$A29:$AY654,38,FALSE),0)","v":5},{"$f":"IFERROR(VLOOKUP($A35,FILTRO!$A29:$AY654,39,FALSE),0)","v":2},{"$f":"IFERROR(VLOOKUP($A35,FILTRO!$A29:$AY654,40,FALSE),0)","v":14},{"$f":"IFERROR(VLOOKUP($A35,FILTRO!$A29:$AY654,41,FALSE),0)","v":1},{"$f":"IFERROR(VLOOKUP($A35,FILTRO!$A29:$AY654,42,FALSE),0)","v":4},{"$f":"IFERROR(VLOOKUP($A35,FILTRO!$A29:$AY654,43,FALSE),0)","v":0},{"$f":"IFERROR(VLOOKUP($A35,FILTRO!$A29:$AY654,44,FALSE),0)","v":5},{"$f":"IFERROR(VLOOKUP($A35,FILTRO!$A29:$AY654,45,FALSE),0)","v":1},{"$f":"IFERROR(VLOOKUP($A35,FILTRO!$A29:$AY654,46,FALSE),0)","v":36},{"$f":"IFERROR(VLOOKUP($A35,FILTRO!$A29:$AY654,47,FALSE),0)","v":50},{"$f":"IFERROR(VLOOKUP($A35,FILTRO!$A29:$AY654,48,FALSE),0)","v":2},{"$f":"IFERROR(VLOOKUP($A35,FILTRO!$A29:$AY654,49,FALSE),0)","v":0},{"$nulls":34},{"$f":"IF($AO35>$F35,\"* La celda 'Gestantes' debe ser menor o igual al Total de Mujeres en control. \",\"\")","v":""},{"$f":"IF($AP35>$F35,\"* La celda 'Madres de Hijos menor de 5 años' debe ser menor o igual al Total de Mujeres en control. \",\"\")","v":""},"","","","","",{"$f":"IF(AND($D35<>0,$AO35=\"\"),\"* No olvide escribir en la celda de 'Gestantes' (Digite CERO si no tiene). \",\"\")","v":""},{"$f":"IF(AND($D35<>0,$AP35=\"\"),\"* No olvide escribir en la celda de 'Madres de Hijos menor de 5 años' (Digite CERO si no tiene). \",\"\")","v":""},"","","",{"$nulls":8},{"$f":"IF($AO35>$F35,1,0)","v":0},{"$f":"IF($AP35>$F35,1,0)","v":0},0,0,0,0,0,{"$f":"IF(AND($D35<>0,$AO35=\"\"),1,0)","v":0},{"$f":"IF(AND($D35<>0,$AP35=\"\"),1,0)","v":0},0,0,0]
["P6241115",null,"TRASTORNO DE PÁNICO",{"$f":"IFERROR(VLOOKUP($A36,FILTRO!$A30:$AY655,2,FALSE),0)","v":1204},{"$f":"IFERROR(VLOOKUP($A36,FILTRO!$A30:$AY655,3,FALSE),0)","v":242},{"$f":"IFERROR(VLOOKUP($A36,FILTRO!$A30:$AY655,4,FALSE),0)","v":962},{"$f":"IFERROR(VLOOKUP($A36,FILTRO!$A30:$AY655,5,FALSE),0)","v":0},{"$f":"IFERROR(VLOOKUP($A36,FILTRO!$A30:$AY655,6,FALSE),0)","v":0},{"$f":"IFERROR(VLOOKUP($A36,FILTRO!$A30:$AY655,7,FALSE),0)","v":2},{"$f":"IFERROR(VLOOKUP($A36,FILTRO!$A30:$AY655,8,FALSE),0)","v":4},{"$f":"IFERROR(VLOOKUP($A36,FILTRO!$A30:$AY655,9,FALSE),0)","v":12},{"$f":"IFERROR(VLOOKUP($A36,FILTRO!$A30:$AY655,10,FALSE),0)","v":70},{"$f":"IFERROR(VLOOKUP($A36,FILTRO!$A30:$AY655,11,FALSE),0)","v":36},{"$f":"IFERROR(VLOOKUP($A36,FILTRO!$A30:$AY655,12,FALSE),0)","v":144},{"$f":"IFERROR(VLOOKUP($A36,FILTRO!$A30:$AY655,13,FALSE),0)","v":26},{"$f":"IFERROR(VLOOKUP($A36,FILTRO!$A30:$AY655,14,FALSE),0)","v":79},{"$f":"IFERROR(VLOOKUP($A36,FILTRO!$A30:$AY655,15,FALSE),0)","v":17},{"$f":"IFERROR(VLOOKUP($A36,FILTRO!$A30:$AY655,16,FALSE),0)","v":79},{"$f":"IFERROR(VLOOKUP($A36,FILTRO!$A30:$AY655,17,FALSE),0)","v":20},{"$f":"IFERROR(VLOOKUP($A36,FILTRO!$A30:$AY655,18,FALSE),0)","v":77},{"$f":"IFERROR(VLOOKUP($A36,FILTRO!$A30:$AY655,19,FALSE),0)","v":19},{"$f":"IFERROR(VLOOKUP($A36,FILTRO!$A30:$AY655,20,FALSE),0)","v":55},{"$f":"IFERROR(VLOOKUP($A36,FILTRO!$A30:$AY655,21,FALSE),0)","v":13},{"$f":"IFERROR(VLOOKUP($A36,FILTRO!$A30:$AY655,22,FALSE),0)","v":73},{"$f":"IFERROR(VLOOKUP($A36,FILTRO!$A30:$AY655,23,FALSE),0)","v":22},{"$f":"IFERROR(VLOOKUP($A36,FILTRO!$A30:$AY655,24,FALSE),0)","v":65},{"$f":"IFERROR(VLOOKUP($A36,FILTRO!$A30:$AY655,25,FALSE),0)","v":16},{"$f":"IFERROR(VLOOKUP($A36,FILTRO!$A30:$AY655,26,FALSE),0)","v":81},{"$f":"IFERROR(VLOOKUP($A36,FILTRO!$A30:$AY655,27,FALSE),0)","v":20},{"$f":"IFERROR(VLOOKUP($A36,FILTRO!$A30:$AY655,28,FALSE),0)","v":72},{"$f":"IFERROR(VLOOKUP($A36,FILTRO!$A30:$AY655,29,FALSE),0)","v":22},{"$f":"IFERROR(VLOOKUP($A36,FILTRO!$A30:$AY655,30,FALSE),0)","v":56},{"$f":"IFERROR(VLOOKUP($A36,FILTRO!$A30:$AY655,31,FALSE),0)","v":7},{"$f":"IFERROR(VLOOKUP($A36,FILTRO!$A30:$AY655,32,FALSE),0)","v":39},{"$f":"IFERROR(VLOOKUP($A36,FILTRO!$A30:$AY655,33,FALSE),0)","v":5},{"$f":"IFERROR(VLOOKUP($A36,FILTRO!$A30:$AY655,34,FALSE),0)","v":29},{"$f":"IFERROR(VLOOKUP($A36,FILTRO!$A30:$AY655,35,FALSE),0)","v":4},{"$f":"IFERROR(VLOOKUP($A36,FILTRO!$A30:$AY655,36,FALSE),0)","v":25},{"$f":"IFERROR(VLOOKUP($A36,FILTRO!$A30:$AY655,37,FALSE),0)","v":1},{"$f":"IFERROR(VLOOKUP($A36,FILTRO!$A30:$AY655,38,FALSE),0)","v":14},{"$f":"IFERROR(VLOOKUP($A36,FILTRO!$A30:$AY655,39,FALSE),0)","v":6},{"$f":"IFERROR(VLOOKUP($A36,FILTRO!$A30:$AY655,40,FALSE),0)","v":17},{"$f":"IFERROR(VLOOKUP($A36,FILTRO!$A30:$AY655,41,FALSE),0)","v":2},{"$f":"IFERROR(VLOOKUP($A36,FILTRO!$A30:$AY655,42,FALSE),0)","v":2},{"$f":"IFERROR(VLOOKUP($A36,FILTRO!$A30:$AY655,43,FALSE),0)","v":0},{"$f":"IFERROR(VLOOKUP($A36,FILTRO!$A30:$AY655,44,FALSE),0)","v":4},{"$f":"IFERROR(VLOOKUP($A36,FILTRO!$A30:$AY655,45,FALSE),0)","v":5},{"$f":"IFERROR(VLOOKUP($A36,FILTRO!$A30:$AY655,46,FALSE),0)","v":14},{"$f":"IFERROR(VLOOKUP($A36,FILTRO!$A30:$AY655,47,FALSE),0)","v":30},{"$f":"IFERROR(VLOOKUP($A36,FILTRO!$A30:$AY655,48,FALSE),0)","v":1},{"$f":"IFERROR(VLOOKUP($A36,FILTRO!$A30:$AY655,49,FALSE),0)","v":0}]
["P6231300",null,"FOBIAS SOCIALES",{"$f":"IFERROR(VLOOKUP($A37,FILTRO!$A31:$AY656,2,FALSE),0)","v":191},{"$f":"IFERROR(VLOOKUP($A37,FILTRO!$A31:$AY656,3,FALSE),0)","v":64},{"$f":"IFERROR(VLOOKUP($A37,FILTRO!$A31:$AY656,4,FALSE),0)","v":127},{"$f":"IFERROR(VLOOKUP($A37,FILTRO!$A31:$AY656,5,FALSE),0)","v":0},{"$f":"IFERROR(VLOOKUP($A37,FILTRO!$A31:$AY656,6,FALSE),0)","v":0},{"$f":"IFERROR(VLOOKUP($A37,FILTRO!$A31:$AY656,7,FALSE),0)","v":2},{"$f":"IFERROR(VLOOKUP($A37,FILTRO!$A31:$AY656,8,FALSE),0)","v":0},{"$f":"IFERROR(VLOOKUP($A37,FILTRO!$A31:$AY656,9,FALSE),0)","v":4},{"$f":"IFERROR(VLOOKUP($A37,FILTRO!$A31:$AY656,10,FALSE),0)","v":13},{"$f":"IFERROR(VLOOKUP($A37,FILTRO!$A31:$AY656,11,FALSE),0)","v":14},{"$f":"IFERROR(VLOOKUP($A37,FILTRO!$A31:$AY656,12,FALSE),0)","v":13},{"$f":"IFERROR(VLOOKUP($A37,FILTRO!$A31:$AY656,13,FALSE),0)","v":7},{"$f":"IFERROR(VLOOKUP($A37,FILTRO!$A31:$AY656,14,FALSE),0)","v":14},{"$f":"IFERROR(VLOOKUP($A37,FILTRO!$A31:$AY656,15,FALSE),0)","v":3},{"$f":"IFERROR(VLOOKUP($A37,FILTRO!$A31:$AY656,16,FALSE),0)","v":6},{"$f":"IFERROR(VLOOKUP($A37,FILTRO!$A31:$AY656,17,FALSE),0)","v":3},{"$f":"IFERROR(VLOOKUP($A37,FILTRO!$A31:$AY656,18,FALSE),0)","v":15},{"$f":"IFERROR(VLOOKUP($A37,FILTRO!$A31:$AY656,19,FALSE),0)","v":5},{"$f":"IFERROR(VLOOKUP($A37,FILTRO!$A31:$AY656,20,FALSE),0)","v":4},{"$f":"IFERROR(VLOOKUP($A37,FILTRO!$A31:$AY656,21,FALSE),0)","v":5},{"$f":"IFERROR(VLOOKUP($A37,FILTRO!$A31:$AY656,22,FALSE),0)","v":3},{"$f":"IFERROR(VLOOKUP($A37,FILTRO!$A31:$AY656,23,FALSE),0)","v":4},{"$f":"IFERROR(VLOOKUP($A37,FILTRO!$A31:$AY656,24,FALSE),0)","v":6},{"$f":"IFERROR(VLOOKUP($A37,FILTRO!$A31:$AY656,25,FALSE),0)","v":0},{"$f":"IFERROR(VLOOKUP($A37,FILTRO!$A31:$AY656,26,FALSE),0)","v":3},{"$f":"IFERROR(VLOOKUP($A37,FILTRO!$A31:$AY656,27,FALSE),0)","v":2},{"$f":"IFERROR(VLOOKUP($A37,FILTRO!$A31:$AY656,28,FALSE),0)","v":14},{"$f":"IFERROR(VLOOKUP($A37,FILTRO!$A31:$AY656,29,FALSE),0)","v":5},{"$f":"IFERROR(VLOOKUP($A37,FILTRO!$A31:$AY656,30,FALSE),0)","v":12},{"$f":"IFERROR(VLOOKUP($A37,FILTRO!$A31:$AY656,31,FALSE),0)","v":3},{"$f":"IFERROR(VLOOKUP($A37,FILTRO!$A31:$AY656,32,FALSE),0)","v":9},{"$f":"IFERROR(VLOOKUP($A37,FILTRO!$A31:$AY656,33,FALSE),0)","v":7},{"$f":"IFERROR(VLOOKUP($A37,FILTRO!$A31:$AY656,34,FALSE),0)","v":11},{"$f":"IFERROR(VLOOKUP($A37,FILTRO!$A31:$AY656,35,FALSE),0)","v":0},{"$f":"IFERROR(VLOOKUP($A37,FILTRO!$A31:$AY656,36,FALSE),0)","v":1},{"$f":"IFERROR(VLOOKUP($A37,FILTRO!$A31:$AY656,37,FALSE),0)","v":0},{"$f":"IFERROR(VLOOKUP($A37,FILTRO!$A31:$AY656,38,FALSE),0)","v":3},{"$f":"IFERROR(VLOOKUP($A37,FILTRO!$A31:$AY656,39,FALSE),0)","v":0},{"$f":"IFERROR(VLOOKUP($A37,FILTRO!$A31:$AY656,40,FALSE),0)","v":3},{"$f":"IFERROR(VLOOKUP($A37,FILTRO!$A31:$AY656,41,FALSE),0)","v":0},{"$f":"IFERROR(VLOOKUP($A37,FILTRO!$A31:$AY656,42,FALSE),0)","v":4},{"$f":"IFERROR(VLOOKUP($A37,FILTRO!$A31:$AY656,43,FALSE),0)","v":0},{"$f":"IFERROR(VLOOKUP($A37,FILTRO!$A31:$AY656,44,FALSE),0)","v":1},{"$f":"IFERROR(VLOOKUP($A37,FILTRO!$A31:$AY656,45,FALSE),0)","v":0},{"$f":"IFERROR(VLOOKUP($A37,FILTRO!$A31:$AY656,46,FALSE),0)","v":1},{"$f":"IFERROR(VLOOKUP($A37,FILTRO!$A31:$AY656,47,FALSE),0)","v":2},{"$f":"IFERROR(VLOOKUP($A37,FILTRO!$A31:$AY656,48,FALSE),0)","v":0},{"$f":"IFERROR(VLOOKUP($A37,FILTRO!$A31:$AY656,49,FALSE),0)","v":0},{"$nulls":34},"","","","","","","","","","","","",{"$nulls":8},0,0,0,0,0,0,0,0,0,0,0,0]
["P6231400",null,"TRASTORNOS DE ANSIEDAD GENERALIZADA",{"$f":"IFERROR(VLOOKUP($A38,FILTRO!$A32:$AY657,2,FALSE),0)","v":2633},{"$f":"IFERROR(VLOOKUP($A38,FILTRO!$A32:$AY657,3,FALSE),0)","v":637},{"$f":"IFERROR(VLOOKUP($A38,FILTRO!$A32:$AY657,4,FALSE),0)","v":1996},{"$f":"IFERROR(VLOOKUP($A38,FILTRO!$A32:$AY657,5,FALSE),0)","v":1},{"$f":"IFERROR(VLOOKUP($A38,FILTRO!$A32:$AY657,6,FALSE),0)","v":2},{"$f":"IFERROR(VLOOKUP($A38,FILTRO!$A32:$AY657,7,FALSE),0)","v":16},{"$f":"IFERROR(VLOOKUP($A38,FILTRO!$A32:$AY657,8,FALSE),0)","v":23},{"$f":"IFERROR(VLOOKUP($A38,FILTRO!$A32:$AY657,9,FALSE),0)","v":40},{"$f":"IFERROR(VLOOKUP($A38,FILTRO!$A32:$AY657,10,FALSE),0)","v":81},{"$f":"IFERROR(VLOOKUP($A38,FILTRO!$A32:$AY657,11,FALSE),0)","v":58},{"$f":"IFERROR(VLOOKUP($A38,FILTRO!$A32:$AY657,12,FALSE),0)","v":153},{"$f":"IFERROR(VLOOKUP($A38,FILTRO!$A32:$AY657,13,FALSE),0)","v":54},{"$f":"IFERROR(VLOOKUP($A38,FILTRO!$A32:$AY657,14,FALSE),0)","v":141},{"$f":"IFERROR(VLOOKUP($A38,FILTRO!$A32:$AY657,15,FALSE),0)","v":35},{"$f":"IFERROR(VLOOKUP($A38,FILTRO!$A32:$AY657,16,FALSE),0)","v":137},{"$f":"IFERROR(VLOOKUP($A38,FILTRO!$A32:$AY657,17,FALSE),0)","v":39},{"$f":"IFERROR(VLOOKUP($A38,FILTRO!$A32:$AY657,18,FALSE),0)","v":140},{"$f":"IFERROR(VLOOKUP($A38,FILTRO!$A32:$AY657,19,FALSE),0)","v":46},{"$f":"IFERROR(VLOOKUP($A38,FILTRO!$A32:$AY657,20,FALSE),0)","v":142},{"$f":"IFERROR(VLOOKUP($A38,FILTRO!$A32:$AY657,21,FALSE),0)","v":41},{"$f":"IFERROR(VLOOKUP($A38,FILTRO!$A32:$AY657,22,FALSE),0)","v":146},{"$f":"IFERROR(VLOOKUP($A38,FILTRO!$A32:$AY657,23,FALSE),0)","v":62},{"$f":"IFERROR(VLOOKUP($A38,FILTRO!$A32:$AY657,24,FALSE),0)","v":161},{"$f":"IFERROR(VLOOKUP($A38,FILTRO!$A32:$AY657,25,FALSE),0)","v":42},{"$f":"IFERROR(VLOOKUP($A38,FILTRO!$A32:$AY657,26,FALSE),0)","v":157},{"$f":"IFERROR(VLOOKUP($A38,FILTRO!$A32:$AY657,27,FALSE),0)","v":43},{"$f":"IFERROR(VLOOKUP($A38,FILTRO!$A32:$AY657,28,FALSE),0)","v":133},{"$f":"IFERROR(VLOOKUP($A38,FILTRO!$A32:$AY657,29,FALSE),0)","v":57},{"$f":"IFERROR(VLOOKUP($A38,FILTRO!$A32:$AY657,30,FALSE),0)","v":149},{"$f":"IFERROR(VLOOKUP($A38,FILTRO!$A32:$AY657,31,FALSE),0)","v":30},{"$f":"IFERROR(VLOOKUP($A38,FILTRO!$A32:$AY657,32,FALSE),0)","v":138},{"$f":"IFERROR(VLOOKUP($A38,FILTRO!$A32:$AY657,33,FALSE),0)","v":27},{"$f":"IFERROR(VLOOKUP($A38,FILTRO!$A32:$AY657,34,FALSE),0)","v":127},{"$f":"IFERROR(VLOOKUP($A38,FILTRO!$A32:$AY657,35,FALSE),0)","v":26},{"$f":"IFERROR(VLOOKUP($A38,FILTRO!$A32:$AY657,36,FALSE),0)","v":90},{"$f":"IFERROR(VLOOKUP($A38,FILTRO!$A32:$AY657,37,FALSE),0)","v":20},{"$f":"IFERROR(VLOOKUP($A38,FILTRO!$A32:$AY657,38,FALSE),0)","v":76},{"$f":"IFERROR(VLOOKUP($A38,FILTRO!$A32:$AY657,39,FALSE),0)","v":17},{"$f":"IFERROR(VLOOKUP($A38,FILTRO!$A32:$AY657,40,FALSE),0)","v":50},{"$f":"IFERROR(VLOOKUP($A38,FILTRO!$A32:$AY657,41,FALSE),0)","v":0},{"$f":"IFERROR(VLOOKUP($A38,FILTRO!$A32:$AY657,42,FALSE),0)","v":12},{"$f":"IFERROR(VLOOKUP($A38,FILTRO!$A32:$AY657,43,FALSE),0)","v":4},{"$f":"IFERROR(VLOOKUP($A38,FILTRO!$A32:$AY657,44,FALSE),0)","v":10},{"$f":"IFERROR(VLOOKUP($A38,FILTRO!$A32:$AY657,45,FALSE),0)","v":3},{"$f":"IFERROR(VLOOKUP($A38,FILTRO!$A32:$AY657,46,FALSE),0)","v":10},{"$f":"IFERROR(VLOOKUP($A38,FILTRO!$A32:$AY657,47,FALSE),0)","v":46},{"$f":"IFERROR(VLOOKUP($A38,FILTRO!$A32:$AY657,48,FALSE),0)","v":5},{"$f":"IFERROR(VLOOKUP($A38,FILTRO!$A32:$AY657,49,FALSE),0)","v":1},{"$nulls":34},"","","","","","","","","","","","",{"$nulls":8},0,0,0,0,0,0,0,0,0,0,0,0]
["P6231500",null,"OTROS TRASTORNOS DE ANSIEDAD",{"$f":"IFERROR(VLOOKUP($A39,FILTRO!$A33:$AY658,2,FALSE),0)","v":7475},{"$f":"IFERROR(VLOOKUP($A39,FILTRO!$A33:$AY658,3,FALSE),0)","v":1706},{"$f":"IFERROR(VLOOKUP($A39,FILTRO!$A33:$AY658,4,FALSE),0)","v":5769},{"$f":"IFERROR(VLOOKUP($A39,FILTRO!$A33:$AY658,5,FALSE),0)","v":4},{"$f":"IFERROR(VLOOKUP($A39,FILTRO!$A33:$AY658,6,FALSE),0)","v":2},{"$f":"IFERROR(VLOOKUP($A39,FILTRO!$A33:$AY658,7,FALSE),0)","v":69},{"$f":"IFERROR(VLOOKUP($A39,FILTRO!$A33:$AY658,8,FALSE),0)","v":66},{"$f":"IFERROR(VLOOKUP($A39,FILTRO!$A33:$AY658,9,FALSE),0)","v":120},{"$f":"IFERROR(VLOOKUP($A39,FILTRO!$A33:$AY658,10,FALSE),0)","v":309},{"$f":"IFERROR(VLOOKUP($A39,FILTRO!$A33:$AY658,11,FALSE),0)","v":200},{"$f":"IFERROR(VLOOKUP($A39,FILTRO!$A33:$AY658,12,FALSE),0)","v":534},{"$f":"IFERROR(VLOOKUP($A39,FILTRO!$A33:$AY658,13,FALSE),0)","v":142},{"$f":"IFERROR(VLOOKUP($A39,FILTRO!$A33:$AY658,14,FALSE),0)","v":397},{"$f":"IFERROR(VLOOKUP($A39,FILTRO!$A33:$AY658,15,FALSE),0)","v":145},{"$f":"IFERROR(VLOOKUP($A39,FILTRO!$A33:$AY658,16,FALSE),0)","v":401},{"$f":"IFERROR(VLOOKUP($A39,FILTRO!$A33:$AY658,17,FALSE),0)","v":107},{"$f":"IFERROR(VLOOKUP($A39,FILTRO!$A33:$AY658,18,FALSE),0)","v":410},{"$f":"IFERROR(VLOOKUP($A39,FILTRO!$A33:$AY658,19,FALSE),0)","v":93},{"$f":"IFERROR(VLOOKUP($A39,FILTRO!$A33:$AY658,20,FALSE),0)","v":404},{"$f":"IFERROR(VLOOKUP($A39,FILTRO!$A33:$AY658,21,FALSE),0)","v":110},{"$f":"IFERROR(VLOOKUP($A39,FILTRO!$A33:$AY658,22,FALSE),0)","v":401},{"$f":"IFERROR(VLOOKUP($A39,FILTRO!$A33:$AY658,23,FALSE),0)","v":100},{"$f":"IFERROR(VLOOKUP($A39,FILTRO!$A33:$AY658,24,FALSE),0)","v":428},{"$f":"IFERROR(VLOOKUP($A39,FILTRO!$A33:$AY658,25,FALSE),0)","v":115},{"$f":"IFERROR(VLOOKUP($A39,FILTRO!$A33:$AY658,26,FALSE),0)","v":439},{"$f":"IFERROR(VLOOKUP($A39,FILTRO!$A33:$AY658,27,FALSE),0)","v":93},{"$f":"IFERROR(VLOOKUP($A39,FILTRO!$A33:$AY658,28,FALSE),0)","v":453},{"$f":"IFERROR(VLOOKUP($A39,FILTRO!$A33:$AY658,29,FALSE),0)","v":97},{"$f":"IFERROR(VLOOKUP($A39,FILTRO!$A33:$AY658,30,FALSE),0)","v":424},{"$f":"IFERROR(VLOOKUP($A39,FILTRO!$A33:$AY658,31,FALSE),0)","v":116},{"$f":"IFERROR(VLOOKUP($A39,FILTRO!$A33:$AY658,32,FALSE),0)","v":381},{"$f":"IFERROR(VLOOKUP($A39,FILTRO!$A33:$AY658,33,FALSE),0)","v":77},{"$f":"IFERROR(VLOOKUP($A39,FILTRO!$A33:$AY658,34,FALSE),0)","v":329},{"$f":"IFERROR(VLOOKUP($A39,FILTRO!$A33:$AY658,35,FALSE),0)","v":61},{"$f":"IFERROR(VLOOKUP($A39,FILTRO!$A33:$AY658,36,FALSE),0)","v":209},{"$f":"IFERROR(VLOOKUP($A39,FILTRO!$A33:$AY658,37,FALSE),0)","v":57},{"$f":"IFERROR(VLOOKUP($A39,FILTRO!$A33:$AY658,38,FALSE),0)","v":182},{"$f":"IFERROR(VLOOKUP($A39,FILTRO!$A33:$AY658,39,FALSE),0)","v":39},{"$f":"IFERROR(VLOOKUP($A39,FILTRO!$A33:$AY658,40,FALSE),0)","v":190},{"$f":"IFERROR(VLOOKUP($A39,FILTRO!$A33:$AY658,41,FALSE),0)","v":17},{"$f":"IFERROR(VLOOKUP($A39,FILTRO!$A33:$AY658,42,FALSE),0)","v":61},{"$f":"IFERROR(VLOOKUP($A39,FILTRO!$A33:$AY658,43,FALSE),0)","v":5},{"$f":"IFERROR(VLOOKUP($A39,FILTRO!$A33:$AY658,44,FALSE),0)","v":42},{"$f":"IFERROR(VLOOKUP($A39,FILTRO!$A33:$AY658,45,FALSE),0)","v":26},{"$f":"IFERROR(VLOOKUP($A39,FILTRO!$A33:$AY658,46,FALSE),0)","v":68},{"$f":"IFERROR(VLOOKUP($A39,FILTRO!$A33:$AY658,47,FALSE),0)","v":165},{"$f":"IFERROR(VLOOKUP($A39,FILTRO!$A33:$AY658,48,FALSE),0)","v":12},{"$f":"IFERROR(VLOOKUP($A39,FILTRO!$A33:$AY658,49,FALSE),0)","v":5},{"$nulls":34},"","","","","","","","","","","","",{"$nulls":8},0,0,0,0,0,0,0,0,0,0,0,0]
["P6222300","DEMENCIAS (INCLUYE ALZHEIMER)","LEVE",{"$f":"IFERROR(VLOOKUP($A40,FILTRO!$A34:$AY659,2,FALSE),0)","v":323},{"$f":"IFERROR(VLOOKUP($A40,FILTRO!$A34:$AY659,3,FALSE),0)","v":112},{"$f":"IFERROR(VLOOKUP($A40,FILTRO!$A34:$AY659,4,FALSE),0)","v":211},{"$f":"IFERROR(VLOOKUP($A40,FILTRO!$A34:$AY659,5,FALSE),0)","v":0},{"$f":"IFERROR(VLOOKUP($A40,FILTRO!$A34:$AY659,6,FALSE),0)","v":0},{"$f":"IFERROR(VLOOKUP($A40,FILTRO!$A34:$AY659,7,FALSE),0)","v":0},{"$f":"IFERROR(VLOOKUP($A40,FILTRO!$A34:$AY659,8,FALSE),0)","v":0},{"$f":"IFERROR(VLOOKUP($A40,FILTRO!$A34:$AY659,9,FALSE),0)","v":0},{"$f":"IFERROR(VLOOKUP($A40,FILTRO!$A34:$AY659,10,FALSE),0)","v":0},{"$f":"IFERROR(VLOOKUP($A40,FILTRO!$A34:$AY659,11,FALSE),0)","v":0},{"$f":"IFERROR(VLOOKUP($A40,FILTRO!$A34:$AY659,12,FALSE),0)","v":0},{"$f":"IFERROR(VLOOKUP($A40,FILTRO!$A34:$AY659,13,FALSE),0)","v":0},{"$f":"IFERROR(VLOOKUP($A40,FILTRO!$A34:$AY659,14,FALSE),0)","v":0},{"$f":"IFERROR(VLOOKUP($A40,FILTRO!$A34:$AY659,15,FALSE),0)","v":0},{"$f":"IFERROR(VLOOKUP($A40,FILTRO!$A34:$AY659,16,FALSE),0)","v":3},{"$f":"IFERROR(VLOOKUP($A40,FILTRO!$A34:$AY659,17,FALSE),0)","v":0},{"$f":"IFERROR(VLOOKUP($A40,FILTRO!$A34:$AY659,18,FALSE),0)","v":0},{"$f":"IFERROR(VLOOKUP($A40,FILTRO!$A34:$AY659,19,FALSE),0)","v":0},{"$f":"IFERROR(VLOOKUP($A40,FILTRO!$A34:$AY659,20,FALSE),0)","v":0},{"$f":"IFERROR(VLOOKUP($A40,FILTRO!$A34:$AY659,21,FALSE),0)","v":1},{"$f":"IFERROR(VLOOKUP($A40,FILTRO!$A34:$AY659,22,FALSE),0)","v":0},{"$f":"IFERROR(VLOOKUP($A40,FILTRO!$A34:$AY659,23,FALSE),0)","v":1},{"$f":"IFERROR(VLOOKUP($A40,FILTRO!$A34:$AY659,24,FALSE),0)","v":1},{"$f":"IFERROR(VLOOKUP($A40,FILTRO!$A34:$AY659,25,FALSE),0)","v":1},{"$f":"IFERROR(VLOOKUP($A40,FILTRO!$A34:$AY659,26,FALSE),0)","v":0},{"$f":"IFERROR(VLOOKUP($A40,FILTRO!$A34:$AY659,27,FALSE),0)","v":4},{"$f":"IFERROR(VLOOKUP($A40,FILTRO!$A34:$AY659,28,FALSE),0)","v":4},{"$f":"IFERROR(VLOOKUP($A40,FILTRO!$A34:$AY659,29,FALSE),0)","v":3},{"$f":"IFERROR(VLOOKUP($A40,FILTRO!$A34:$AY659,30,FALSE),0)","v":7},{"$f":"IFERROR(VLOOKUP($A40,FILTRO!$A34:$AY659,31,FALSE),0)","v":10},{"$f":"IFERROR(VLOOKUP($A40,FILTRO!$A34:$AY659,32,FALSE),0)","v":27},{"$f":"IFERROR(VLOOKUP($A40,FILTRO!$A34:$AY659,33,FALSE),0)","v":17},{"$f":"IFERROR(VLOOKUP($A40,FILTRO!$A34:$AY659,34,FALSE),0)","v":34},{"$f":"IFERROR(VLOOKUP($A40,FILTRO!$A34:$AY659,35,FALSE),0)","v":20},{"$f":"IFERROR(VLOOKUP($A40,FILTRO!$A34:$AY659,36,FALSE),0)","v":46},{"$f":"IFERROR(VLOOKUP($A40,FILTRO!$A34:$AY659,37,FALSE),0)","v":55},{"$f":"IFERROR(VLOOKUP($A40,FILTRO!$A34:$AY659,38,FALSE),0)","v":89},{"$f":"IFERROR(VLOOKUP($A40,FILTRO!$A34:$AY659,39,FALSE),0)","v":0},{"$f":"IFERROR(VLOOKUP($A40,FILTRO!$A34:$AY659,40,FALSE),0)","v":0},{"$f":"IFERROR(VLOOKUP($A40,FILTRO!$A34:$AY659,41,FALSE),0)","v":0},{"$f":"IFERROR(VLOOKUP($A40,FILTRO!$A34:$AY659,42,FALSE),0)","v":1},{"$f":"IFERROR(VLOOKUP($A40,FILTRO!$A34:$AY659,43,FALSE),0)","v":4},{"$f":"IFERROR(VLOOKUP($A40,FILTRO!$A34:$AY659,44,FALSE),0)","v":0},{"$f":"IFERROR(VLOOKUP($A40,FILTRO!$A34:$AY659,45,FALSE),0)","v":0},{"$f":"IFERROR(VLOOKUP($A40,FILTRO!$A34:$AY659,46,FALSE),0)","v":0},{"$f":"IFERROR(VLOOKUP($A40,FILTRO!$A34:$AY659,47,FALSE),0)","v":19},{"$f":"IFERROR(VLOOKUP($A40,FILTRO!$A34:$AY659,48,FALSE),0)","v":0},{"$f":"IFERROR(VLOOKUP($A40,FILTRO!$A34:$AY659,49,FALSE),0)","v":0},{"$nulls":34},"","","","","","","",null,null,"","","",{"$nulls":8},0,0,0,0,0,0,0,null,null,0,0,0]
["P6230100",null,"MODERADO",{"$f":"IFERROR(VLOOKUP($A41,FILTRO!$A35:$AY660,2,FALSE),0)","v":438},{"$f":"IFERROR(VLOOKUP($A41,FILTRO!$A35:$AY660,3,FALSE),0)","v":162},{"$f":"IFERROR(VLOOKUP($A41,FILTRO!$A35:$AY660,4,FALSE),0)","v":276},{"$f":"IFERROR(VLOOKUP($A41,FILTRO!$A35:$AY660,5,FALSE),0)","v":0},{"$f":"IFERROR(VLOOKUP($A41,FILTRO!$A35:$AY660,6,FALSE),0)","v":0},{"$f":"IFERROR(VLOOKUP($A41,FILTRO!$A35:$AY660,7,FALSE),0)","v":0},{"$f":"IFERROR(VLOOKUP($A41,FILTRO!$A35:$AY660,8,FALSE),0)","v":0},{"$f":"IFERROR(VLOOKUP($A41,FILTRO!$A35:$AY660,9,FALSE),0)","v":0},{"$f":"IFERROR(VLOOKUP($A41,FILTRO!$A35:$AY660,10,FALSE),0)","v":1},{"$f":"IFERROR(VLOOKUP($A41,FILTRO!$A35:$AY660,11,FALSE),0)","v":1},{"$f":"IFERROR(VLOOKUP($A41,FILTRO!$A35:$AY660,12,FALSE),0)","v":0},{"$f":"IFERROR(VLOOKUP($A41,FILTRO!$A35:$AY660,13,FALSE),0)","v":1},{"$f":"IFERROR(VLOOKUP($A41,FILTRO!$A35:$AY660,14,FALSE),0)","v":0},{"$f":"IFERROR(VLOOKUP($A41,FILTRO!$A35:$AY660,15,FALSE),0)","v":2},{"$f":"IFERROR(VLOOKUP($A41,FILTRO!$A35:$AY660,16,FALSE),0)","v":0},{"$f":"IFERROR(VLOOKUP($A41,FILTRO!$A35:$AY660,17,FALSE),0)","v":0},{"$f":"IFERROR(VLOOKUP($A41,FILTRO!$A35:$AY660,18,FALSE),0)","v":0},{"$f":"IFERROR(VLOOKUP($A41,FILTRO!$A35:$AY660,19,FALSE),0)","v":2},{"$f":"IFERROR(VLOOKUP($A41,FILTRO!$A35:$AY660,20,FALSE),0)","v":0},{"$f":"IFERROR(VLOOKUP($A41,FILTRO!$A35:$AY660,21,FALSE),0)","v":0},{"$f":"IFERROR(VLOOKUP($A41,FILTRO!$A35:$AY660,22,FALSE),0)","v":3},{"$f":"IFERROR(VLOOKUP($A41,FILTRO!$A35:$AY660,23,FALSE),0)","v":0},{"$f":"IFERROR(VLOOKUP($A41,FILTRO!$A35:$AY660,24,FALSE),0)","v":0},{"$f":"IFERROR(VLOOKUP($A41,FILTRO!$A35:$AY660,25,FALSE),0)","v":2},{"$f":"IFERROR(VLOOKUP($A41,FILTRO!$A35:$AY660,26,FALSE),0)","v":2},{"$f":"IFERROR(VLOOKUP($A41,FILTRO!$A35:$AY660,27,FALSE),0)","v":2},{"$f":"IFERROR(VLOOKUP($A41,FILTRO!$A35:$AY660,28,FALSE),0)","v":8},{"$f":"IFERROR(VLOOKUP($A41,FILTRO!$A35:$AY660,29,FALSE),0)","v":7},{"$f":"IFERROR(VLOOKUP($A41,FILTRO!$A35:$AY660,30,FALSE),0)","v":7},{"$f":"IFERROR(VLOOKUP($A41,FILTRO!$A35:$AY660,31,FALSE),0)","v":10},{"$f":"IFERROR(VLOOKUP($A41,FILTRO!$A35:$AY660,32,FALSE),0)","v":19},{"$f":"IFERROR(VLOOKUP($A41,FILTRO!$A35:$AY660,33,FALSE),0)","v":16},{"$f":"IFERROR(VLOOKUP($A41,FILTRO!$A35:$AY660,34,FALSE),0)","v":29},{"$f":"IFERROR(VLOOKUP($A41,FILTRO!$A35:$AY660,35,FALSE),0)","v":29},{"$f":"IFERROR(VLOOKUP($A41,FILTRO!$A35:$AY660,36,FALSE),0)","v":49},{"$f":"IFERROR(VLOOKUP($A41,FILTRO!$A35:$AY660,37,FALSE),0)","v":90},{"$f":"IFERROR(VLOOKUP($A41,FILTRO!$A35:$AY660,38,FALSE),0)","v":158},{"$f":"IFERROR(VLOOKUP($A41,FILTRO!$A35:$AY660,39,FALSE),0)","v":0},{"$f":"IFERROR(VLOOKUP($A41,FILTRO!$A35:$AY660,40,FALSE),0)","v":0},{"$f":"IFERROR(VLOOKUP($A41,FILTRO!$A35:$AY660,41,FALSE),0)","v":0},{"$f":"IFERROR(VLOOKUP($A41,FILTRO!$A35:$AY660,42,FALSE),0)","v":0},{"$f":"IFERROR(VLOOKUP($A41,FILTRO!$A35:$AY660,43,FALSE),0)","v":2},{"$f":"IFERROR(VLOOKUP($A41,FILTRO!$A35:$AY660,44,FALSE),0)","v":3},{"$f":"IFERROR(VLOOKUP($A41,FILTRO!$A35:$AY660,45,FALSE),0)","v":0},{"$f":"IFERROR(VLOOKUP($A41,FILTRO!$A35:$AY660,46,FALSE),0)","v":1},{"$f":"IFERROR(VLOOKUP($A41,FILTRO!$A35:$AY660,47,FALSE),0)","v":55},{"$f":"IFERROR(VLOOKUP($A41,FILTRO!$A35:$AY660,48,FALSE),0)","v":0},{"$f":"IFERROR(VLOOKUP($A41,FILTRO!$A35:$AY660,49,FALSE),0)","v":0},{"$nulls":34},"","","","","","","",null,null,"","","",{"$nulls":8},0,0,0,0,0,0,0,null,null,0,0,0]
["P6230200",null,"AVANZADO",{"$f":"IFERROR(VLOOKUP($A42,FILTRO!$A36:$AY661,2,FALSE),0)","v":92},{"$f":"IFERROR(VLOOKUP($A42,FILTRO!$A36:$AY661,3,FALSE),0)","v":28},{"$f":"IFERROR(VLOOKUP($A42,FILTRO!$A36:$AY661,4,FALSE),0)","v":64},{"$f":"IFERROR(VLOOKUP($A42,FILTRO!$A36:$AY661,5,FALSE),0)","v":0},{"$f":"IFERROR(VLOOKUP($A42,FILTRO!$A36:$AY661,6,FALSE),0)","v":0},{"$f":"IFERROR(VLOOKUP($A42,FILTRO!$A36:$AY661,7,FALSE),0)","v":0},{"$f":"IFERROR(VLOOKUP($A42,FILTRO!$A36:$AY661,8,FALSE),0)","v":0},{"$f":"IFERROR(VLOOKUP($A42,FILTRO!$A36:$AY661,9,FALSE),0)","v":0},{"$f":"IFERROR(VLOOKUP($A42,FILTRO!$A36:$AY661,10,FALSE),0)","v":1},{"$f":"IFERROR(VLOOKUP($A42,FILTRO!$A36:$AY661,11,FALSE),0)","v":0},{"$f":"IFERROR(VLOOKUP($A42,FILTRO!$A36:$AY661,12,FALSE),0)","v":0},{"$f":"IFERROR(VLOOKUP($A42,FILTRO!$A36:$AY661,13,FALSE),0)","v":0},{"$f":"IFERROR(VLOOKUP($A42,FILTRO!$A36:$AY661,14,FALSE),0)","v":0},{"$f":"IFERROR(VLOOKUP($A42,FILTRO!$A36:$AY661,15,FALSE),0)","v":1},{"$f":"IFERROR(VLOOKUP($A42,FILTRO!$A36:$AY661,16,FALSE),0)","v":1},{"$f":"IFERROR(VLOOKUP($A42,FILTRO!$A36:$AY661,17,FALSE),0)","v":0},{"$f":"IFERROR(VLOOKUP($A42,FILTRO!$A36:$AY661,18,FALSE),0)","v":0},{"$f":"IFERROR(VLOOKUP($A42,FILTRO!$A36:$AY661,19,FALSE),0)","v":0},{"$f":"IFERROR(VLOOKUP($A42,FILTRO!$A36:$AY661,20,FALSE),0)","v":0},{"$f":"IFERROR(VLOOKUP($A42,FILTRO!$A36:$AY661,21,FALSE),0)","v":1},{"$f":"IFERROR(VLOOKUP($A42,FILTRO!$A36:$AY661,22,FALSE),0)","v":0},{"$f":"IFERROR(VLOOKUP($A42,FILTRO!$A36:$AY661,23,FALSE),0)","v":0},{"$f":"IFERROR(VLOOKUP($A42,FILTRO!$A36:$AY661,24,FALSE),0)","v":1},{"$f":"IFERROR(VLOOKUP($A42,FILTRO!$A36:$AY661,25,FALSE),0)","v":1},{"$f":"IFERROR(VLOOKUP($A42,FILTRO!$A36:$AY661,26,FALSE),0)","v":0},{"$f":"IFERROR(VLOOKUP($A42,FILTRO!$A36:$AY661,27,FALSE),0)","v":0},{"$f":"IFERROR(VLOOKUP($A42,FILTRO!$A36:$AY661,28,FALSE),0)","v":1},{"$f":"IFERROR(VLOOKUP($A42,FILTRO!$A36:$AY661,29,FALSE),0)","v":2},{"$f":"IFERROR(VLOOKUP($A42,FILTRO!$A36:$AY661,30,FALSE),0)","v":4},{"$f":"IFERROR(VLOOKUP($A42,FILTRO!$A36:$AY661,31,FALSE),0)","v":2},{"$f":"IFERROR(VLOOKUP($A42,FILTRO!$A36:$AY661,32,FALSE),0)","v":3},{"$f":"IFERROR(VLOOKUP($A42,FILTRO!$A36:$AY661,33,FALSE),0)","v":2},{"$f":"IFERROR(VLOOKUP($A42,FILTRO!$A36:$AY661,34,FALSE),0)","v":6},{"$f":"IFERROR(VLOOKUP($A42,FILTRO!$A36:$AY661,35,FALSE),0)","v":6},{"$f":"IFERROR(VLOOKUP($A42,FILTRO!$A36:$AY661,36,FALSE),0)","v":12},{"$f":"IFERROR(VLOOKUP($A42,FILTRO!$A36:$AY661,37,FALSE),0)","v":13},{"$f":"IFERROR(VLOOKUP($A42,FILTRO!$A36:$AY661,38,FALSE),0)","v":35},{"$f":"IFERROR(VLOOKUP($A42,FILTRO!$A36:$AY661,39,FALSE),0)","v":0},{"$f":"IFERROR(VLOOKUP($A42,FILTRO!$A36:$AY661,40,FALSE),0)","v":0},{"$f":"IFERROR(VLOOKUP($A42,FILTRO!$A36:$AY661,41,FALSE),0)","v":0},{"$f":"IFERROR(VLOOKUP($A42,FILTRO!$A36:$AY661,42,FALSE),0)","v":0},{"$f":"IFERROR(VLOOKUP($A42,FILTRO!$A36:$AY661,43,FALSE),0)","v":0},{"$f":"IFERROR(VLOOKUP($A42,FILTRO!$A36:$AY661,44,FALSE),0)","v":0},{"$f":"IFERROR(VLOOKUP($A42,FILTRO!$A36:$AY661,45,FALSE),0)","v":0},{"$f":"IFERROR(VLOOKUP($A42,FILTRO!$A36:$AY661,46,FALSE),0)","v":0},{"$f":"IFERROR(VLOOKUP($A42,FILTRO!$A36:$AY661,47,FALSE),0)","v":24},{"$f":"IFERROR(VLOOKUP($A42,FILTRO!$A36:$AY661,48,FALSE),0)","v":0},{"$f":"IFERROR(VLOOKUP($A42,FILTRO!$A36:$AY661,49,FALSE),0)","v":0},{"$nulls":34},"","","","","","","",null,null,"","","",{"$nulls":8},0,0,0,0,0,0,0,null,null,0,0,0]
["P6222400","ESQUIZOFRENIA",null,{"$f":"IFERROR(VLOOKUP($A43,FILTRO!$A37:$AY662,2,FALSE),0)","v":969},{"$f":"IFERROR(VLOOKUP($A43,FILTRO!$A37:$AY662,3,FALSE),0)","v":584},{"$f":"IFERROR(VLOOKUP($A43,FILTRO!$A37:$AY662,4,FALSE),0)","v":385},{"$f":"IFERROR(VLOOKUP($A43,FILTRO!$A37:$AY662,5,FALSE),0)","v":0},{"$f":"IFERROR(VLOOKUP($A43,FILTRO!$A37:$AY662,6,FALSE),0)","v":0},{"$f":"IFERROR(VLOOKUP($A43,FILTRO!$A37:$AY662,7,FALSE),0)","v":0},{"$f":"IFERROR(VLOOKUP($A43,FILTRO!$A37:$AY662,8,FALSE),0)","v":0},{"$f":"IFERROR(VLOOKUP($A43,FILTRO!$A37:$AY662,9,FALSE),0)","v":6},{"$f":"IFERROR(VLOOKUP($A43,FILTRO!$A37:$AY662,10,FALSE),0)","v":6},{"$f":"IFERROR(VLOOKUP($A43,FILTRO!$A37:$AY662,11,FALSE),0)","v":11},{"$f":"IFERROR(VLOOKUP($A43,FILTRO!$A37:$AY662,12,FALSE),0)","v":6},{"$f":"IFERROR(VLOOKUP($A43,FILTRO!$A37:$AY662,13,FALSE),0)","v":62},{"$f":"IFERROR(VLOOKUP($A43,FILTRO!$A37:$AY662,14,FALSE),0)","v":21},{"$f":"IFERROR(VLOOKUP($A43,FILTRO!$A37:$AY662,15,FALSE),0)","v":67},{"$f":"IFERROR(VLOOKUP($A43,FILTRO!$A37:$AY662,16,FALSE),0)","v":20},{"$f":"IFERROR(VLOOKUP($A43,FILTRO!$A37:$AY662,17,FALSE),0)","v":65},{"$f":"IFERROR(VLOOKUP($A43,FILTRO!$A37:$AY662,18,FALSE),0)","v":11},{"$f":"IFERROR(VLOOKUP($A43,FILTRO!$A37:$AY662,19,FALSE),0)","v":63},{"$f":"IFERROR(VLOOKUP($A43,FILTRO!$A37:$AY662,20,FALSE),0)","v":35},{"$f":"IFERROR(VLOOKUP($A43,FILTRO!$A37:$AY662,21,FALSE),0)","v":56},{"$f":"IFERROR(VLOOKUP($A43,FILTRO!$A37:$AY662,22,FALSE),0)","v":27},{"$f":"IFERROR(VLOOKUP($A43,FILTRO!$A37:$AY662,23,FALSE),0)","v":67},{"$f":"IFERROR(VLOOKUP($A43,FILTRO!$A37:$AY662,24,FALSE),0)","v":26},{"$f":"IFERROR(VLOOKUP($A43,FILTRO!$A37:$AY662,25,FALSE),0)","v":55},{"$f":"IFERROR(VLOOKUP($A43,FILTRO!$A37:$AY662,26,FALSE),0)","v":46},{"$f":"IFERROR(VLOOKUP($A43,FILTRO!$A37:$AY662,27,FALSE),0)","v":52},{"$f":"IFERROR(VLOOKUP($A43,FILTRO!$A37:$AY662,28,FALSE),0)","v":51},{"$f":"IFERROR(VLOOKUP($A43,FILTRO!$A37:$AY662,29,FALSE),0)","v":42},{"$f":"IFERROR(VLOOKUP($A43,FILTRO!$A37:$AY662,30,FALSE),0)","v":52},{"$f":"IFERROR(VLOOKUP($A43,FILTRO!$A37:$AY662,31,FALSE),0)","v":19},{"$f":"IFERROR(VLOOKUP($A43,FILTRO!$A37:$AY662,32,FALSE),0)","v":33},{"$f":"IFERROR(VLOOKUP($A43,FILTRO!$A37:$AY662,33,FALSE),0)","v":7},{"$f":"IFERROR(VLOOKUP($A43,FILTRO!$A37:$AY662,34,FALSE),0)","v":20},{"$f":"IFERROR(VLOOKUP($A43,FILTRO!$A37:$AY662,35,FALSE),0)","v":7},{"$f":"IFERROR(VLOOKUP($A43,FILTRO!$A37:$AY662,36,FALSE),0)","v":19},{"$f":"IFERROR(VLOOKUP($A43,FILTRO!$A37:$AY662,37,FALSE),0)","v":5},{"$f":"IFERROR(VLOOKUP($A43,FILTRO!$A37:$AY662,38,FALSE),0)","v":12},{"$f":"IFERROR(VLOOKUP($A43,FILTRO!$A37:$AY662,39,FALSE),0)","v":0},{"$f":"IFERROR(VLOOKUP($A43,FILTRO!$A37:$AY662,40,FALSE),0)","v":1},{"$f":"IFERROR(VLOOKUP($A43,FILTRO!$A37:$AY662,41,FALSE),0)","v":1},{"$f":"IFERROR(VLOOKUP($A43,FILTRO!$A37:$AY662,42,FALSE),0)","v":1},{"$f":"IFERROR(VLOOKUP($A43,FILTRO!$A37:$AY662,43,FALSE),0)","v":3},{"$f":"IFERROR(VLOOKUP($A43,FILTRO!$A37:$AY662,44,FALSE),0)","v":2},{"$f":"IFERROR(VLOOKUP($A43,FILTRO!$A37:$AY662,45,FALSE),0)","v":0},{"$f":"IFERROR(VLOOKUP($A43,FILTRO!$A37:$AY662,46,FALSE),0)","v":178},{"$f":"IFERROR(VLOOKUP($A43,FILTRO!$A37:$AY662,47,FALSE),0)","v":127},{"$f":"IFERROR(VLOOKUP($A43,FILTRO!$A37:$AY662,48,FALSE),0)","v":0},{"$f":"IFERROR(VLOOKUP($A43,FILTRO!$A37:$AY662,49,FALSE),0)","v":2},{"$nulls":34},"","","","","","","","","","","","",{"$nulls":8},0,0,0,0,0,0,0,0,0,0,0,0]
["P6241116","TRASTORNO ADAPTATIVO",null,{"$f":"IFERROR(VLOOKUP($A44,FILTRO!$A38:$AY663,2,FALSE),0)","v":1668},{"$f":"IFERROR(VLOOKUP($A44,FILTRO!$A38:$AY663,3,FALSE),0)","v":471},{"$f":"IFERROR(VLOOKUP($A44,FILTRO!$A38:$AY663,4,FALSE),0)","v":1197},{"$f":"IFERROR(VLOOKUP($A44,FILTRO!$A38:$AY663,5,FALSE),0)","v":0},{"$f":"IFERROR(VLOOKUP($A44,FILTRO!$A38:$AY663,6,FALSE),0)","v":1},{"$f":"IFERROR(VLOOKUP($A44,FILTRO!$A38:$AY663,7,FALSE),0)","v":70},{"$f":"IFERROR(VLOOKUP($A44,FILTRO!$A38:$AY663,8,FALSE),0)","v":54},{"$f":"IFERROR(VLOOKUP($A44,FILTRO!$A38:$AY663,9,FALSE),0)","v":69},{"$f":"IFERROR(VLOOKUP($A44,FILTRO!$A38:$AY663,10,FALSE),0)","v":88},{"$f":"IFERROR(VLOOKUP($A44,FILTRO!$A38:$AY663,11,FALSE),0)","v":69},{"$f":"IFERROR(VLOOKUP($A44,FILTRO!$A38:$AY663,12,FALSE),0)","v":91},{"$f":"IFERROR(VLOOKUP($A44,FILTRO!$A38:$AY663,13,FALSE),0)","v":26},{"$f":"IFERROR(VLOOKUP($A44,FILTRO!$A38:$AY663,14,FALSE),0)","v":60},{"$f":"IFERROR(VLOOKUP($A44,FILTRO!$A38:$AY663,15,FALSE),0)","v":21},{"$f":"IFERROR(VLOOKUP($A44,FILTRO!$A38:$AY663,16,FALSE),0)","v":86},{"$f":"IFERROR(VLOOKUP($A44,FILTRO!$A38:$AY663,17,FALSE),0)","v":16},{"$f":"IFERROR(VLOOKUP($A44,FILTRO!$A38:$AY663,18,FALSE),0)","v":96},{"$f":"IFERROR(VLOOKUP($A44,FILTRO!$A38:$AY663,19,FALSE),0)","v":21},{"$f":"IFERROR(VLOOKUP($A44,FILTRO!$A38:$AY663,20,FALSE),0)","v":76},{"$f":"IFERROR(VLOOKUP($A44,FILTRO!$A38:$AY663,21,FALSE),0)","v":19},{"$f":"IFERROR(VLOOKUP($A44,FILTRO!$A38:$AY663,22,FALSE),0)","v":62},{"$f":"IFERROR(VLOOKUP($A44,FILTRO!$A38:$AY663,23,FALSE),0)","v":23},{"$f":"IFERROR(VLOOKUP($A44,FILTRO!$A38:$AY663,24,FALSE),0)","v":58},{"$f":"IFERROR(VLOOKUP($A44,FILTRO!$A38:$AY663,25,FALSE),0)","v":17},{"$f":"IFERROR(VLOOKUP($A44,FILTRO!$A38:$AY663,26,FALSE),0)","v":82},{"$f":"IFERROR(VLOOKUP($A44,FILTRO!$A38:$AY663,27,FALSE),0)","v":13},{"$f":"IFERROR(VLOOKUP($A44,FILTRO!$A38:$AY663,28,FALSE),0)","v":80},{"$f":"IFERROR(VLOOKUP($A44,FILTRO!$A38:$AY663,29,FALSE),0)","v":33},{"$f":"IFERROR(VLOOKUP($A44,FILTRO!$A38:$AY663,30,FALSE),0)","v":70},{"$f":"IFERROR(VLOOKUP($A44,FILTRO!$A38:$AY663,31,FALSE),0)","v":20},{"$f":"IFERROR(VLOOKUP($A44,FILTRO!$A38:$AY663,32,FALSE),0)","v":79},{"$f":"IFERROR(VLOOKUP($A44,FILTRO!$A38:$AY663,33,FALSE),0)","v":27},{"$f":"IFERROR(VLOOKUP($A44,FILTRO!$A38:$AY663,34,FALSE),0)","v":49},{"$f":"IFERROR(VLOOKUP($A44,FILTRO!$A38:$AY663,35,FALSE),0)","v":14},{"$f":"IFERROR(VLOOKUP($A44,FILTRO!$A38:$AY663,36,FALSE),0)","v":43},{"$f":"IFERROR(VLOOKUP($A44,FILTRO!$A38:$AY663,37,FALSE),0)","v":13},{"$f":"IFERROR(VLOOKUP($A44,FILTRO!$A38:$AY663,38,FALSE),0)","v":122},{"$f":"IFERROR(VLOOKUP($A44,FILTRO!$A38:$AY663,39,FALSE),0)","v":13},{"$f":"IFERROR(VLOOKUP($A44,FILTRO!$A38:$AY663,40,FALSE),0)","v":40},{"$f":"IFERROR(VLOOKUP($A44,FILTRO!$A38:$AY663,41,FALSE),0)","v":1},{"$f":"IFERROR(VLOOKUP($A44,FILTRO!$A38:$AY663,42,FALSE),0)","v":6},{"$f":"IFERROR(VLOOKUP($A44,FILTRO!$A38:$AY663,43,FALSE),0)","v":5},{"$f":"IFERROR(VLOOKUP($A44,FILTRO!$A38:$AY663,44,FALSE),0)","v":16},{"$f":"IFERROR(VLOOKUP($A44,FILTRO!$A38:$AY663,45,FALSE),0)","v":18},{"$f":"IFERROR(VLOOKUP($A44,FILTRO!$A38:$AY663,46,FALSE),0)","v":55},{"$f":"IFERROR(VLOOKUP($A44,FILTRO!$A38:$AY663,47,FALSE),0)","v":40},{"$f":"IFERROR(VLOOKUP($A44,FILTRO!$A38:$AY663,48,FALSE),0)","v":3},{"$f":"IFERROR(VLOOKUP($A44,FILTRO!$A38:$AY663,49,FALSE),0)","v":0}]
["P6222500","TRASTORNOS DE LA CONDUCTA ALIMENTARIA",null,{"$f":"IFERROR(VLOOKUP($A45,FILTRO!$A39:$AY664,2,FALSE),0)","v":322},{"$f":"IFERROR(VLOOKUP($A45,FILTRO!$A39:$AY664,3,FALSE),0)","v":38},{"$f":"IFERROR(VLOOKUP($A45,FILTRO!$A39:$AY664,4,FALSE),0)","v":284},{"$f":"IFERROR(VLOOKUP($A45,FILTRO!$A39:$AY664,5,FALSE),0)","v":0},{"$f":"IFERROR(VLOOKUP($A45,FILTRO!$A39:$AY664,6,FALSE),0)","v":0},{"$f":"IFERROR(VLOOKUP($A45,FILTRO!$A39:$AY664,7,FALSE),0)","v":2},{"$f":"IFERROR(VLOOKUP($A45,FILTRO!$A39:$AY664,8,FALSE),0)","v":5},{"$f":"IFERROR(VLOOKUP($A45,FILTRO!$A39:$AY664,9,FALSE),0)","v":9},{"$f":"IFERROR(VLOOKUP($A45,FILTRO!$A39:$AY664,10,FALSE),0)","v":60},{"$f":"IFERROR(VLOOKUP($A45,FILTRO!$A39:$AY664,11,FALSE),0)","v":12},{"$f":"IFERROR(VLOOKUP($A45,FILTRO!$A39:$AY664,12,FALSE),0)","v":128},{"$f":"IFERROR(VLOOKUP($A45,FILTRO!$A39:$AY664,13,FALSE),0)","v":2},{"$f":"IFERROR(VLOOKUP($A45,FILTRO!$A39:$AY664,14,FALSE),0)","v":35},{"$f":"IFERROR(VLOOKUP($A45,FILTRO!$A39:$AY664,15,FALSE),0)","v":2},{"$f":"IFERROR(VLOOKUP($A45,FILTRO!$A39:$AY664,16,FALSE),0)","v":19},{"$f":"IFERROR(VLOOKUP($A45,FILTRO!$A39:$AY664,17,FALSE),0)","v":1},{"$f":"IFERROR(VLOOKUP($A45,FILTRO!$A39:$AY664,18,FALSE),0)","v":7},{"$f":"IFERROR(VLOOKUP($A45,FILTRO!$A39:$AY664,19,FALSE),0)","v":2},{"$f":"IFERROR(VLOOKUP($A45,FILTRO!$A39:$AY664,20,FALSE),0)","v":11},{"$f":"IFERROR(VLOOKUP($A45,FILTRO!$A39:$AY664,21,FALSE),0)","v":4},{"$f":"IFERROR(VLOOKUP($A45,FILTRO!$A39:$AY664,22,FALSE),0)","v":10},{"$f":"IFERROR(VLOOKUP($A45,FILTRO!$A39:$AY664,23,FALSE),0)","v":1},{"$f":"IFERROR(VLOOKUP($A45,FILTRO!$A39:$AY664,24,FALSE),0)","v":4},{"$f":"IFERROR(VLOOKUP($A45,FILTRO!$A39:$AY664,25,FALSE),0)","v":0},{"$f":"IFERROR(VLOOKUP($A45,FILTRO!$A39:$AY664,26,FALSE),0)","v":3},{"$f":"IFERROR(VLOOKUP($A45,FILTRO!$A39:$AY664,27,FALSE),0)","v":2},{"$f":"IFERROR(VLOOKUP($A45,FILTRO!$A39:$AY664,28,FALSE),0)","v":2},{"$f":"IFERROR(VLOOKUP($A45,FILTRO!$A39:$AY664,29,FALSE),0)","v":1},{"$f":"IFERROR(VLOOKUP($A45,FILTRO!$A39:$AY664,30,FALSE),0)","v":0},{"$f":"IFERROR(VLOOKUP($A45,FILTRO!$A39:$AY664,31,FALSE),0)","v":0},{"$f":"IFERROR(VLOOKUP($A45,FILTRO!$A39:$AY664,32,FALSE),0)","v":0},{"$f":"IFERROR(VLOOKUP($A45,FILTRO!$A39:$AY664,33,FALSE),0)","v":0},{"$f":"IFERROR(VLOOKUP($A45,FILTRO!$A39:$AY664,34,FALSE),0)","v":0},{"$f":"IFERROR(VLOOKUP($A45,FILTRO!$A39:$AY664,35,FALSE),0)","v":0},{"$f":"IFERROR(VLOOKUP($A45,FILTRO!$A39:$AY664,36,FALSE),0)","v":0},{"$f":"IFERROR(VLOOKUP($A45,FILTRO!$A39:$AY664,37,FALSE),0)","v":0},{"$f":"IFERROR(VLOOKUP($A45,FILTRO!$A39:$AY664,38,FALSE),0)","v":0},{"$f":"IFERROR(VLOOKUP($A45,FILTRO!$A39:$AY664,39,FALSE),0)","v":3},{"$f":"IFERROR(VLOOKUP($A45,FILTRO!$A39:$AY664,40,FALSE),0)","v":8},{"$f":"IFERROR(VLOOKUP($A45,FILTRO!$A39:$AY664,41,FALSE),0)","v":1},{"$f":"IFERROR(VLOOKUP($A45,FILTRO!$A39:$AY664,42,FALSE),0)","v":4},{"$f":"IFERROR(VLOOKUP($A45,FILTRO!$A39:$AY664,43,FALSE),0)","v":0},{"$f":"IFERROR(VLOOKUP($A45,FILTRO!$A39:$AY664,44,FALSE),0)","v":1},{"$f":"IFERROR(VLOOKUP($A45,FILTRO!$A39:$AY664,45,FALSE),0)","v":1},{"$f":"IFERROR(VLOOKUP($A45,FILTRO!$A39:$AY664,46,FALSE),0)","v":30},{"$f":"IFERROR(VLOOKUP($A45,FILTRO!$A39:$AY664,47,FALSE),0)","v":21},{"$f":"IFERROR(VLOOKUP($A45,FILTRO!$A39:$AY664,48,FALSE),0)","v":1},{"$f":"IFERROR(VLOOKUP($A45,FILTRO!$A39:$AY664,49,FALSE),0)","v":1},{"$nulls":34},"","","","","","","","","","","","",{"$nulls":8},0,0,0,0,0,0,0,0,0,0,0,0]
["P6222800","RETRASO MENTAL",null,{"$f":"IFERROR(VLOOKUP($A46,FILTRO!$A40:$AY665,2,FALSE),0)","v":489},{"$f":"IFERROR(VLOOKUP($A46,FILTRO!$A40:$AY665,3,FALSE),0)","v":267},{"$f":"IFERROR(VLOOKUP($A46,FILTRO!$A40:$AY665,4,FALSE),0)","v":222},{"$f":"IFERROR(VLOOKUP($A46,FILTRO!$A40:$AY665,5,FALSE),0)","v":1},{"$f":"IFERROR(VLOOKUP($A46,FILTRO!$A40:$AY665,6,FALSE),0)","v":0},{"$f":"IFERROR(VLOOKUP($A46,FILTRO!$A40:$AY665,7,FALSE),0)","v":21},{"$f":"IFERROR(VLOOKUP($A46,FILTRO!$A40:$AY665,8,FALSE),0)","v":4},{"$f":"IFERROR(VLOOKUP($A46,FILTRO!$A40:$AY665,9,FALSE),0)","v":39},{"$f":"IFERROR(VLOOKUP($A46,FILTRO!$A40:$AY665,10,FALSE),0)","v":26},{"$f":"IFERROR(VLOOKUP($A46,FILTRO!$A40:$AY665,11,FALSE),0)","v":26},{"$f":"IFERROR(VLOOKUP($A46,FILTRO!$A40:$AY665,12,FALSE),0)","v":17},{"$f":"IFERROR(VLOOKUP($A46,FILTRO!$A40:$AY665,13,FALSE),0)","v":24},{"$f":"IFERROR(VLOOKUP($A46,FILTRO!$A40:$AY665,14,FALSE),0)","v":21},{"$f":"IFERROR(VLOOKUP($A46,FILTRO!$A40:$AY665,15,FALSE),0)","v":12},{"$f":"IFERROR(VLOOKUP($A46,FILTRO!$A40:$AY665,16,FALSE),0)","v":20},{"$f":"IFERROR(VLOOKUP($A46,FILTRO!$A40:$AY665,17,FALSE),0)","v":20},{"$f":"IFERROR(VLOOKUP($A46,FILTRO!$A40:$AY665,18,FALSE),0)","v":11},{"$f":"IFERROR(VLOOKUP($A46,FILTRO!$A40:$AY665,19,FALSE),0)","v":15},{"$f":"IFERROR(VLOOKUP($A46,FILTRO!$A40:$AY665,20,FALSE),0)","v":20},{"$f":"IFERROR(VLOOKUP($A46,FILTRO!$A40:$AY665,21,FALSE),0)","v":22},{"$f":"IFERROR(VLOOKUP($A46,FILTRO!$A40:$AY665,22,FALSE),0)","v":12},{"$f":"IFERROR(VLOOKUP($A46,FILTRO!$A40:$AY665,23,FALSE),0)","v":22},{"$f":"IFERROR(VLOOKUP($A46,FILTRO!$A40:$AY665,24,FALSE),0)","v":22},{"$f":"IFERROR(VLOOKUP($A46,FILTRO!$A40:$AY665,25,FALSE),0)","v":23},{"$f":"IFERROR(VLOOKUP($A46,FILTRO!$A40:$AY665,26,FALSE),0)","v":13},{"$f":"IFERROR(VLOOKUP($A46,FILTRO!$A40:$AY665,27,FALSE),0)","v":15},{"$f":"IFERROR(VLOOKUP($A46,FILTRO!$A40:$AY665,28,FALSE),0)","v":26},{"$f":"IFERROR(VLOOKUP($A46,FILTRO!$A40:$AY665,29,FALSE),0)","v":12},{"$f":"IFERROR(VLOOKUP($A46,FILTRO!$A40:$AY665,30,FALSE),0)","v":5},{"$f":"IFERROR(VLOOKUP($A46,FILTRO!$A40:$AY665,31,FALSE),0)","v":7},{"$f":"IFERROR(VLOOKUP($A46,FILTRO!$A40:$AY665,32,FALSE),0)","v":9},{"$f":"IFERROR(VLOOKUP($A46,FILTRO!$A40:$AY665,33,FALSE),0)","v":5},{"$f":"IFERROR(VLOOKUP($A46,FILTRO!$A40:$AY665,34,FALSE),0)","v":7},{"$f":"IFERROR(VLOOKUP($A46,FILTRO!$A40:$AY665,35,FALSE),0)","v":0},{"$f":"IFERROR(VLOOKUP($A46,FILTRO!$A40:$AY665,36,FALSE),0)","v":9},{"$f":"IFERROR(VLOOKUP($A46,FILTRO!$A40:$AY665,37,FALSE),0)","v":3},{"$f":"IFERROR(VLOOKUP($A46,FILTRO!$A40:$AY665,38,FALSE),0)","v":0},{"$f":"IFERROR(VLOOKUP($A46,FILTRO!$A40:$AY665,39,FALSE),0)","v":0},{"$f":"IFERROR(VLOOKUP($A46,FILTRO!$A40:$AY665,40,FALSE),0)","v":4},{"$f":"IFERROR(VLOOKUP($A46,FILTRO!$A40:$AY665,41,FALSE),0)","v":1},{"$f":"IFERROR(VLOOKUP($A46,FILTRO!$A40:$AY665,42,FALSE),0)","v":0},{"$f":"IFERROR(VLOOKUP($A46,FILTRO!$A40:$AY665,43,FALSE),0)","v":1},{"$f":"IFERROR(VLOOKUP($A46,FILTRO!$A40:$AY665,44,FALSE),0)","v":2},{"$f":"IFERROR(VLOOKUP($A46,FILTRO!$A40:$AY665,45,FALSE),0)","v":12},{"$f":"IFERROR(VLOOKUP($A46,FILTRO!$A40:$AY665,46,FALSE),0)","v":41},{"$f":"IFERROR(VLOOKUP($A46,FILTRO!$A40:$AY665,47,FALSE),0)","v":44},{"$f":"IFERROR(VLOOKUP($A46,FILTRO!$A40:$AY665,48,FALSE),0)","v":0},{"$f":"IFERROR(VLOOKUP($A46,FILTRO!$A40:$AY665,49,FALSE),0)","v":0},{"$nulls":34},"","","","","","","","","","","","",{"$nulls":8},0,0,0,0,0,0,0,0,0,0,0,0]
["P6222900","TRASTORNO DE PERSONALIDAD",null,{"$f":"IFERROR(VLOOKUP($A47,FILTRO!$A41:$AY666,2,FALSE),0)","v":1736},{"$f":"IFERROR(VLOOKUP($A47,FILTRO!$A41:$AY666,3,FALSE),0)","v":364},{"$f":"IFERROR(VLOOKUP($A47,FILTRO!$A41:$AY666,4,FALSE),0)","v":1372},{"$f":"IFERROR(VLOOKUP($A47,FILTRO!$A41:$AY666,5,FALSE),0)","v":0},{"$f":"IFERROR(VLOOKUP($A47,FILTRO!$A41:$AY666,6,FALSE),0)","v":0},{"$f":"IFERROR(VLOOKUP($A47,FILTRO!$A41:$AY666,7,FALSE),0)","v":0},{"$f":"IFERROR(VLOOKUP($A47,FILTRO!$A41:$AY666,8,FALSE),0)","v":0},{"$f":"IFERROR(VLOOKUP($A47,FILTRO!$A41:$AY666,9,FALSE),0)","v":14},{"$f":"IFERROR(VLOOKUP($A47,FILTRO!$A41:$AY666,10,FALSE),0)","v":39},{"$f":"IFERROR(VLOOKUP($A47,FILTRO!$A41:$AY666,11,FALSE),0)","v":52},{"$f":"IFERROR(VLOOKUP($A47,FILTRO!$A41:$AY666,12,FALSE),0)","v":179},{"$f":"IFERROR(VLOOKUP($A47,FILTRO!$A41:$AY666,13,FALSE),0)","v":49},{"$f":"IFERROR(VLOOKUP($A47,FILTRO!$A41:$AY666,14,FALSE),0)","v":122},{"$f":"IFERROR(VLOOKUP($A47,FILTRO!$A41:$AY666,15,FALSE),0)","v":37},{"$f":"IFERROR(VLOOKUP($A47,FILTRO!$A41:$AY666,16,FALSE),0)","v":116},{"$f":"IFERROR(VLOOKUP($A47,FILTRO!$A41:$AY666,17,FALSE),0)","v":28},{"$f":"IFERROR(VLOOKUP($A47,FILTRO!$A41:$AY666,18,FALSE),0)","v":111},{"$f":"IFERROR(VLOOKUP($A47,FILTRO!$A41:$AY666,19,FALSE),0)","v":28},{"$f":"IFERROR(VLOOKUP($A47,FILTRO!$A41:$AY666,20,FALSE),0)","v":88},{"$f":"IFERROR(VLOOKUP($A47,FILTRO!$A41:$AY666,21,FALSE),0)","v":19},{"$f":"IFERROR(VLOOKUP($A47,FILTRO!$A41:$AY666,22,FALSE),0)","v":94},{"$f":"IFERROR(VLOOKUP($A47,FILTRO!$A41:$AY666,23,FALSE),0)","v":34},{"$f":"IFERROR(VLOOKUP($A47,FILTRO!$A41:$AY666,24,FALSE),0)","v":82},{"$f":"IFERROR(VLOOKUP($A47,FILTRO!$A41:$AY666,25,FALSE),0)","v":33},{"$f":"IFERROR(VLOOKUP($A47,FILTRO!$A41:$AY666,26,FALSE),0)","v":131},{"$f":"IFERROR(VLOOKUP($A47,FILTRO!$A41:$AY666,27,FALSE),0)","v":13},{"$f":"IFERROR(VLOOKUP($A47,FILTRO!$A41:$AY666,28,FALSE),0)","v":124},{"$f":"IFERROR(VLOOKUP($A47,FILTRO!$A41:$AY666,29,FALSE),0)","v":18},{"$f":"IFERROR(VLOOKUP($A47,FILTRO!$A41:$AY666,30,FALSE),0)","v":111},{"$f":"IFERROR(VLOOKUP($A47,FILTRO!$A41:$AY666,31,FALSE),0)","v":21},{"$f":"IFERROR(VLOOKUP($A47,FILTRO!$A41:$AY666,32,FALSE),0)","v":84},{"$f":"IFERROR(VLOOKUP($A47,FILTRO!$A41:$AY666,33,FALSE),0)","v":7},{"$f":"IFERROR(VLOOKUP($A47,FILTRO!$A41:$AY666,34,FALSE),0)","v":47},{"$f":"IFERROR(VLOOKUP($A47,FILTRO!$A41:$AY666,35,FALSE),0)","v":8},{"$f":"IFERROR(VLOOKUP($A47,FILTRO!$A41:$AY666,36,FALSE),0)","v":27},{"$f":"IFERROR(VLOOKUP($A47,FILTRO!$A41:$AY666,37,FALSE),0)","v":3},{"$f":"IFERROR(VLOOKUP($A47,FILTRO!$A41:$AY666,38,FALSE),0)","v":17},{"$f":"IFERROR(VLOOKUP($A47,FILTRO!$A41:$AY666,39,FALSE),0)","v":10},{"$f":"IFERROR(VLOOKUP($A47,FILTRO!$A41:$AY666,40,FALSE),0)","v":31},{"$f":"IFERROR(VLOOKUP($A47,FILTRO!$A41:$AY666,41,FALSE),0)","v":4},{"$f":"IFERROR(VLOOKUP($A47,FILTRO!$A41:$AY666,42,FALSE),0)","v":11},{"$f":"IFERROR(VLOOKUP($A47,FILTRO!$A41:$AY666,43,FALSE),0)","v":0},{"$f":"IFERROR(VLOOKUP($A47,FILTRO!$A41:$AY666,44,FALSE),0)","v":5},{"$f":"IFERROR(VLOOKUP($A47,FILTRO!$A41:$AY666,45,FALSE),0)","v":4},{"$f":"IFERROR(VLOOKUP($A47,FILTRO!$A41:$AY666,46,FALSE),0)","v":125},{"$f":"IFERROR(VLOOKUP($A47,FILTRO!$A41:$AY666,47,FALSE),0)","v":140},{"$f":"IFERROR(VLOOKUP($A47,FILTRO!$A41:$AY666,48,FALSE),0)","v":7},{"$f":"IFERROR(VLOOKUP($A47,FILTRO!$A41:$AY666,49,FALSE),0)","v":2},{"$nulls":34},"","","","","","","","","","","","",{"$nulls":8},0,0,0,0,0,0,0,0,0,0,0,0]
["P6241010","TRASTORNO GENERALIZADOS DEL DESARROLLO","AUTISMO",{"$f":"IFERROR(VLOOKUP($A48,FILTRO!$A42:$AY667,2,FALSE),0)","v":794},{"$f":"IFERROR(VLOOKUP($A48,FILTRO!$A42:$AY667,3,FALSE),0)","v":580},{"$f":"IFERROR(VLOOKUP($A48,FILTRO!$A42:$AY667,4,FALSE),0)","v":214},{"$f":"IFERROR(VLOOKUP($A48,FILTRO!$A42:$AY667,5,FALSE),0)","v":57},{"$f":"IFERROR(VLOOKUP($A48,FILTRO!$A42:$AY667,6,FALSE),0)","v":14},{"$f":"IFERROR(VLOOKUP($A48,FILTRO!$A42:$AY667,7,FALSE),0)","v":274},{"$f":"IFERROR(VLOOKUP($A48,FILTRO!$A42:$AY667,8,FALSE),0)","v":73},{"$f":"IFERROR(VLOOKUP($A48,FILTRO!$A42:$AY667,9,FALSE),0)","v":141},{"$f":"IFERROR(VLOOKUP($A48,FILTRO!$A42:$AY667,10,FALSE),0)","v":70},{"$f":"IFERROR(VLOOKUP($A48,FILTRO!$A42:$AY667,11,FALSE),0)","v":66},{"$f":"IFERROR(VLOOKUP($A48,FILTRO!$A42:$AY667,12,FALSE),0)","v":36},{"$f":"IFERROR(VLOOKUP($A48,FILTRO!$A42:$AY667,13,FALSE),0)","v":21},{"$f":"IFERROR(VLOOKUP($A48,FILTRO!$A42:$AY667,14,FALSE),0)","v":9},{"$f":"IFERROR(VLOOKUP($A48,FILTRO!$A42:$AY667,15,FALSE),0)","v":9},{"$f":"IFERROR(VLOOKUP($A48,FILTRO!$A42:$AY667,16,FALSE),0)","v":5},{"$f":"IFERROR(VLOOKUP($A48,FILTRO!$A42:$AY667,17,FALSE),0)","v":4},{"$f":"IFERROR(VLOOKUP($A48,FILTRO!$A42:$AY667,18,FALSE),0)","v":2},{"$f":"IFERROR(VLOOKUP($A48,FILTRO!$A42:$AY667,19,FALSE),0)","v":3},{"$f":"IFERROR(VLOOKUP($A48,FILTRO!$A42:$AY667,20,FALSE),0)","v":0},{"$f":"IFERROR(VLOOKUP($A48,FILTRO!$A42:$AY667,21,FALSE),0)","v":3},{"$f":"IFERROR(VLOOKUP($A48,FILTRO!$A42:$AY667,22,FALSE),0)","v":0},{"$f":"IFERROR(VLOOKUP($A48,FILTRO!$A42:$AY667,23,FALSE),0)","v":1},{"$f":"IFERROR(VLOOKUP($A48,FILTRO!$A42:$AY667,24,FALSE),0)","v":3},{"$f":"IFERROR(VLOOKUP($A48,FILTRO!$A42:$AY667,25,FALSE),0)","v":1},{"$f":"IFERROR(VLOOKUP($A48,FILTRO!$A42:$AY667,26,FALSE),0)","v":1},{"$f":"IFERROR(VLOOKUP($A48,FILTRO!$A42:$AY667,27,FALSE),0)","v":0},{"$f":"IFERROR(VLOOKUP($A48,FILTRO!$A42:$AY667,28,FALSE),0)","v":0},{"$f":"IFERROR(VLOOKUP($A48,FILTRO!$A42:$AY667,29,FALSE),0)","v":0},{"$f":"IFERROR(VLOOKUP($A48,FILTRO!$A42:$AY667,30,FALSE),0)","v":0},{"$f":"IFERROR(VLOOKUP($A48,FILTRO!$A42:$AY667,31,FALSE),0)","v":0},{"$f":"IFERROR(VLOOKUP($A48,FILTRO!$A42:$AY667,32,FALSE),0)","v":0},{"$f":"IFERROR(VLOOKUP($A48,FILTRO!$A42:$AY667,33,FALSE),0)","v":0},{"$f":"IFERROR(VLOOKUP($A48,FILTRO!$A42:$AY667,34,FALSE),0)","v":1},{"$f":"IFERROR(VLOOKUP($A48,FILTRO!$A42:$AY667,35,FALSE),0)","v":0},{"$f":"IFERROR(VLOOKUP($A48,FILTRO!$A42:$AY667,36,FALSE),0)","v":0},{"$f":"IFERROR(VLOOKUP($A48,FILTRO!$A42:$AY667,37,FALSE),0)","v":0},{"$f":"IFERROR(VLOOKUP($A48,FILTRO!$A42:$AY667,38,FALSE),0)","v":0},{"$f":"IFERROR(VLOOKUP($A48,FILTRO!$A42:$AY667,39,FALSE),0)","v":0},{"$f":"IFERROR(VLOOKUP($A48,FILTRO!$A42:$AY667,40,FALSE),0)","v":0},{"$f":"IFERROR(VLOOKUP($A48,FILTRO!$A42:$AY667,41,FALSE),0)","v":1},{"$f":"IFERROR(VLOOKUP($A48,FILTRO!$A42:$AY667,42,FALSE),0)","v":1},{"$f":"IFERROR(VLOOKUP($A48,FILTRO!$A42:$AY667,43,FALSE),0)","v":4},{"$f":"IFERROR(VLOOKUP($A48,FILTRO!$A42:$AY667,44,FALSE),0)","v":0},{"$f":"IFERROR(VLOOKUP($A48,FILTRO!$A42:$AY667,45,FALSE),0)","v":3},{"$f":"IFERROR(VLOOKUP($A48,FILTRO!$A42:$AY667,46,FALSE),0)","v":29},{"$f":"IFERROR(VLOOKUP($A48,FILTRO!$A42:$AY667,47,FALSE),0)","v":106},{"$f":"IFERROR(VLOOKUP($A48,FILTRO!$A42:$AY667,48,FALSE),0)","v":1},{"$f":"IFERROR(VLOOKUP($A48,FILTRO!$A42:$AY667,49,FALSE),0)","v":0}]
["P6241020",null,"ASPERGER",{"$f":"IFERROR(VLOOKUP($A49,FILTRO!$A43:$AY668,2,FALSE),0)","v":80},{"$f":"IFERROR(VLOOKUP($A49,FILTRO!$A43:$AY668,3,FALSE),0)","v":62},{"$f":"IFERROR(VLOOKUP($A49,FILTRO!$A43:$AY668,4,FALSE),0)","v":18},{"$f":"IFERROR(VLOOKUP($A49,FILTRO!$A43:$AY668,5,FALSE),0)","v":0},{"$f":"IFERROR(VLOOKUP($A49,FILTRO!$A43:$AY668,6,FALSE),0)","v":1},{"$f":"IFERROR(VLOOKUP($A49,FILTRO!$A43:$AY668,7,FALSE),0)","v":9},{"$f":"IFERROR(VLOOKUP($A49,FILTRO!$A43:$AY668,8,FALSE),0)","v":2},{"$f":"IFERROR(VLOOKUP($A49,FILTRO!$A43:$AY668,9,FALSE),0)","v":21},{"$f":"IFERROR(VLOOKUP($A49,FILTRO!$A43:$AY668,10,FALSE),0)","v":4},{"$f":"IFERROR(VLOOKUP($A49,FILTRO!$A43:$AY668,11,FALSE),0)","v":20},{"$f":"IFERROR(VLOOKUP($A49,FILTRO!$A43:$AY668,12,FALSE),0)","v":8},{"$f":"IFERROR(VLOOKUP($A49,FILTRO!$A43:$AY668,13,FALSE),0)","v":6},{"$f":"IFERROR(VLOOKUP($A49,FILTRO!$A43:$AY668,14,FALSE),0)","v":2},{"$f":"IFERROR(VLOOKUP($A49,FILTRO!$A43:$AY668,15,FALSE),0)","v":2},{"$f":"IFERROR(VLOOKUP($A49,FILTRO!$A43:$AY668,16,FALSE),0)","v":0},{"$f":"IFERROR(VLOOKUP($A49,FILTRO!$A43:$AY668,17,FALSE),0)","v":2},{"$f":"IFERROR(VLOOKUP($A49,FILTRO!$A43:$AY668,18,FALSE),0)","v":0},{"$f":"IFERROR(VLOOKUP($A49,FILTRO!$A43:$AY668,19,FALSE),0)","v":2},{"$f":"IFERROR(VLOOKUP($A49,FILTRO!$A43:$AY668,20,FALSE),0)","v":0},{"$f":"IFERROR(VLOOKUP($A49,FILTRO!$A43:$AY668,21,FALSE),0)","v":0},{"$f":"IFERROR(VLOOKUP($A49,FILTRO!$A43:$AY668,22,FALSE),0)","v":1},{"$f":"IFERROR(VLOOKUP($A49,FILTRO!$A43:$AY668,23,FALSE),0)","v":0},{"$f":"IFERROR(VLOOKUP($A49,FILTRO!$A43:$AY668,24,FALSE),0)","v":0},{"$f":"IFERROR(VLOOKUP($A49,FILTRO!$A43:$AY668,25,FALSE),0)","v":0},{"$f":"IFERROR(VLOOKUP($A49,FILTRO!$A43:$AY668,26,FALSE),0)","v":0},{"$f":"IFERROR(VLOOKUP($A49,FILTRO!$A43:$AY668,27,FALSE),0)","v":0},{"$f":"IFERROR(VLOOKUP($A49,FILTRO!$A43:$AY668,28,FALSE),0)","v":0},{"$f":"IFERROR(VLOOKUP($A49,FILTRO!$A43:$AY668,29,FALSE),0)","v":0},{"$f":"IFERROR(VLOOKUP($A49,FILTRO!$A43:$AY668,30,FALSE),0)","v":0},{"$f":"IFERROR(VLOOKUP($A49,FILTRO!$A43:$AY668,31,FALSE),0)","v":0},{"$f":"IFERROR(VLOOKUP($A49,FILTRO!$A43:$AY668,32,FALSE),0)","v":0},{"$f":"IFERROR(VLOOKUP($A49,FILTRO!$A43:$AY668,33,FALSE),0)","v":0},{"$f":"IFERROR(VLOOKUP($A49,FILTRO!$A43:$AY668,34,FALSE),0)","v":0},{"$f":"IFERROR(VLOOKUP($A49,FILTRO!$A43:$AY668,35,FALSE),0)","v":0},{"$f":"IFERROR(VLOOKUP($A49,FILTRO!$A43:$AY668,36,FALSE),0)","v":0},{"$f":"IFERROR(VLOOKUP($A49,FILTRO!$A43:$AY668,37,FALSE),0)","v":0},{"$f":"IFERROR(VLOOKUP($A49,FILTRO!$A43:$AY668,38,FALSE),0)","v":0},{"$f":"IFERROR(VLOOKUP($A49,FILTRO!$A43:$AY668,39,FALSE),0)","v":0},{"$f":"IFERROR(VLOOKUP($A49,FILTRO!$A43:$AY668,40,FALSE),0)","v":0},{"$f":"IFERROR(VLOOKUP($A49,FILTRO!$A43:$AY668,41,FALSE),0)","v":1},{"$f":"IFERROR(VLOOKUP($A49,FILTRO!$A43:$AY668,42,FALSE),0)","v":0},{"$f":"IFERROR(VLOOKUP($A49,FILTRO!$A43:$AY668,43,FALSE),0)","v":1},{"$f":"IFERROR(VLOOKUP($A49,FILTRO!$A43:$AY668,44,FALSE),0)","v":0},{"$f":"IFERROR(VLOOKUP($A49,FILTRO!$A43:$AY668,45,FALSE),0)","v":0},{"$f":"IFERROR(VLOOKUP($A49,FILTRO!$A43:$AY668,46,FALSE),0)","v":2},{"$f":"IFERROR(VLOOKUP($A49,FILTRO!$A43:$AY668,47,FALSE),0)","v":0},{"$f":"IFERROR(VLOOKUP($A49,FILTRO!$A43:$AY668,48,FALSE),0)","v":1},{"$f":"IFERROR(VLOOKUP($A49,FILTRO!$A43:$AY668,49,FALSE),0)","v":1}]
["P6241030",null,"SÍNDROME DE RETT",{"$f":"IFERROR(VLOOKUP($A50,FILTRO!$A44:$AY669,2,FALSE),0)","v":0},{"$f":"IFERROR(VLOOKUP($A50,FILTRO!$A44:$AY669,3,FALSE),0)","v":0},{"$f":"IFERROR(VLOOKUP($A50,FILTRO!$A44:$AY669,4,FALSE),0)","v":0},{"$f":"IFERROR(VLOOKUP($A50,FILTRO!$A44:$AY669,5,FALSE),0)","v":0},{"$f":"IFERROR(VLOOKUP($A50,FILTRO!$A44:$AY669,6,FALSE),0)","v":0},{"$f":"IFERROR(VLOOKUP($A50,FILTRO!$A44:$AY669,7,FALSE),0)","v":0},{"$f":"IFERROR(VLOOKUP($A50,FILTRO!$A44:$AY669,8,FALSE),0)","v":0},{"$f":"IFERROR(VLOOKUP($A50,FILTRO!$A44:$AY669,9,FALSE),0)","v":0},{"$f":"IFERROR(VLOOKUP($A50,FILTRO!$A44:$AY669,10,FALSE),0)","v":0},{"$f":"IFERROR(VLOOKUP($A50,FILTRO!$A44:$AY669,11,FALSE),0)","v":0},{"$f":"IFERROR(VLOOKUP($A50,FILTRO!$A44:$AY669,12,FALSE),0)","v":0},{"$f":"IFERROR(VLOOKUP($A50,FILTRO!$A44:$AY669,13,FALSE),0)","v":0},{"$f":"IFERROR(VLOOKUP($A50,FILTRO!$A44:$AY669,14,FALSE),0)","v":0},{"$f":"IFERROR(VLOOKUP($A50,FILTRO!$A44:$AY669,15,FALSE),0)","v":0},{"$f":"IFERROR(VLOOKUP($A50,FILTRO!$A44:$AY669,16,FALSE),0)","v":0},{"$f":"IFERROR(VLOOKUP($A50,FILTRO!$A44:$AY669,17,FALSE),0)","v":0},{"$f":"IFERROR(VLOOKUP($A50,FILTRO!$A44:$AY669,18,FALSE),0)","v":0},{"$f":"IFERROR(VLOOKUP($A50,FILTRO!$A44:$AY669,19,FALSE),0)","v":0},{"$f":"IFERROR(VLOOKUP($A50,FILTRO!$A44:$AY669,20,FALSE),0)","v":0},{"$f":"IFERROR(VLOOKUP($A50,FILTRO!$A44:$AY669,21,FALSE),0)","v":0},{"$f":"IFERROR(VLOOKUP($A50,FILTRO!$A44:$AY669,22,FALSE),0)","v":0},{"$f":"IFERROR(VLOOKUP($A50,FILTRO!$A44:$AY669,23,FALSE),0)","v":0},{"$f":"IFERROR(VLOOKUP($A50,FILTRO!$A44:$AY669,24,FALSE),0)","v":0},{"$f":"IFERROR(VLOOKUP($A50,FILTRO!$A44:$AY669,25,FALSE),0)","v":0},{"$f":"IFERROR(VLOOKUP($A50,FILTRO!$A44:$AY669,26,FALSE),0)","v":0},{"$f":"IFERROR(VLOOKUP($A50,FILTRO!$A44:$AY669,27,FALSE),0)","v":0},{"$f":"IFERROR(VLOOKUP($A50,FILTRO!$A44:$AY669,28,FALSE),0)","v":0},{"$f":"IFERROR(VLOOKUP($A50,FILTRO!$A44:$AY669,29,FALSE),0)","v":0},{"$f":"IFERROR(VLOOKUP($A50,FILTRO!$A44:$AY669,30,FALSE),0)","v":0},{"$f":"IFERROR(VLOOKUP($A50,FILTRO!$A44:$AY669,31,FALSE),0)","v":0},{"$f":"IFERROR(VLOOKUP($A50,FILTRO!$A44:$AY669,32,FALSE),0)","v":0},{"$f":"IFERROR(VLOOKUP($A50,FILTRO!$A44:$AY669,33,FALSE),0)","v":0},{"$f":"IFERROR(VLOOKUP($A50,FILTRO!$A44:$AY669,34,FALSE),0)","v":0},{"$f":"IFERROR(VLOOKUP($A50,FILTRO!$A44:$AY669,35,FALSE),0)","v":0},{"$f":"IFERROR(VLOOKUP($A50,FILTRO!$A44:$AY669,36,FALSE),0)","v":0},{"$f":"IFERROR(VLOOKUP($A50,FILTRO!$A44:$AY669,37,FALSE),0)","v":0},{"$f":"IFERROR(VLOOKUP($A50,FILTRO!$A44:$AY669,38,FALSE),0)","v":0},{"$f":"IFERROR(VLOOKUP($A50,FILTRO!$A44:$AY669,39,FALSE),0)","v":0},{"$f":"IFERROR(VLOOKUP($A50,FILTRO!$A44:$AY669,40,FALSE),0)","v":0},{"$f":"IFERROR(VLOOKUP($A50,FILTRO!$A44:$AY669,41,FALSE),0)","v":0},{"$f":"IFERROR(VLOOKUP($A50,FILTRO!$A44:$AY669,42,FALSE),0)","v":0},{"$f":"IFERROR(VLOOKUP($A50,FILTRO!$A44:$AY669,43,FALSE),0)","v":0},{"$f":"IFERROR(VLOOKUP($A50,FILTRO!$A44:$AY669,44,FALSE),0)","v":0},{"$f":"IFERROR(VLOOKUP($A50,FILTRO!$A44:$AY669,45,FALSE),0)","v":0},{"$f":"IFERROR(VLOOKUP($A50,FILTRO!$A44:$AY669,46,FALSE),0)","v":0},{"$f":"IFERROR(VLOOKUP($A50,FILTRO!$A44:$AY669,47,FALSE),0)","v":0},{"$f":"IFERROR(VLOOKUP($A50,FILTRO!$A44:$AY669,48,FALSE),0)","v":0},{"$f":"IFERROR(VLOOKUP($A50,FILTRO!$A44:$AY669,49,FALSE),0)","v":0}]
["P6241040",null,"TRASTORNO DESINTEGRATIVO DE LA INFANCIA",{"$f":"IFERROR(VLOOKUP($A51,FILTRO!$A45:$AY670,2,FALSE),0)","v":3},{"$f":"IFERROR(VLOOKUP($A51,FILTRO!$A45:$AY670,3,FALSE),0)","v":2},{"$f":"IFERROR(VLOOKUP($A51,FILTRO!$A45:$AY670,4,FALSE),0)","v":1},{"$f":"IFERROR(VLOOKUP($A51,FILTRO!$A45:$AY670,5,FALSE),0)","v":0},{"$f":"IFERROR(VLOOKUP($A51,FILTRO!$A45:$AY670,6,FALSE),0)","v":0},{"$f":"IFERROR(VLOOKUP($A51,FILTRO!$A45:$AY670,7,FALSE),0)","v":1},{"$f":"IFERROR(VLOOKUP($A51,FILTRO!$A45:$AY670,8,FALSE),0)","v":0},{"$f":"IFERROR(VLOOKUP($A51,FILTRO!$A45:$AY670,9,FALSE),0)","v":1},{"$f":"IFERROR(VLOOKUP($A51,FILTRO!$A45:$AY670,10,FALSE),0)","v":0},{"$f":"IFERROR(VLOOKUP($A51,FILTRO!$A45:$AY670,11,FALSE),0)","v":0},{"$f":"IFERROR(VLOOKUP($A51,FILTRO!$A45:$AY670,12,FALSE),0)","v":1},{"$f":"IFERROR(VLOOKUP($A51,FILTRO!$A45:$AY670,13,FALSE),0)","v":0},{"$f":"IFERROR(VLOOKUP($A51,FILTRO!$A45:$AY670,14,FALSE),0)","v":0},{"$f":"IFERROR(VLOOKUP($A51,FILTRO!$A45:$AY670,15,FALSE),0)","v":0},{"$f":"IFERROR(VLOOKUP($A51,FILTRO!$A45:$AY670,16,FALSE),0)","v":0},{"$f":"IFERROR(VLOOKUP($A51,FILTRO!$A45:$AY670,17,FALSE),0)","v":0},{"$f":"IFERROR(VLOOKUP($A51,FILTRO!$A45:$AY670,18,FALSE),0)","v":0},{"$f":"IFERROR(VLOOKUP($A51,FILTRO!$A45:$AY670,19,FALSE),0)","v":0},{"$f":"IFERROR(VLOOKUP($A51,FILTRO!$A45:$AY670,20,FALSE),0)","v":0},{"$f":"IFERROR(VLOOKUP($A51,FILTRO!$A45:$AY670,21,FALSE),0)","v":0},{"$f":"IFERROR(VLOOKUP($A51,FILTRO!$A45:$AY670,22,FALSE),0)","v":0},{"$f":"IFERROR(VLOOKUP($A51,FILTRO!$A45:$AY670,23,FALSE),0)","v":0},{"$f":"IFERROR(VLOOKUP($A51,FILTRO!$A45:$AY670,24,FALSE),0)","v":0},{"$f":"IFERROR(VLOOKUP($A51,FILTRO!$A45:$AY670,25,FALSE),0)","v":0},{"$f":"IFERROR(VLOOKUP($A51,FILTRO!$A45:$AY670,26,FALSE),0)","v":0},{"$f":"IFERROR(VLOOKUP($A51,FILTRO!$A45:$AY670,27,FALSE),0)","v":0},{"$f":"IFERROR(VLOOKUP($A51,FILTRO!$A45:$AY670,28,FALSE),0)","v":0},{"$f":"IFERROR(VLOOKUP($A51,FILTRO!$A45:$AY670,29,FALSE),0)","v":0},{"$f":"IFERROR(VLOOKUP($A51,FILTRO!$A45:$AY670,30,FALSE),0)","v":0},{"$f":"IFERROR(VLOOKUP($A51,FILTRO!$A45:$AY670,31,FALSE),0)","v":0},{"$f":"IFERROR(VLOOKUP($A51,FILTRO!$A45:$AY670,32,FALSE),0)","v":0},{"$f":"IFERROR(VLOOKUP($A51,FILTRO!$A45:$AY670,33,FALSE),0)","v":0},{"$f":"IFERROR(VLOOKUP($A51,FILTRO!$A45:$AY670,34,FALSE),0)","v":0},{"$f":"IFERROR(VLOOKUP($A51,FILTRO!$A45:$AY670,35,FALSE),0)","v":0},{"$f":"IFERROR(VLOOKUP($A51,FILTRO!$A45:$AY670,36,FALSE),0)","v":0},{"$f":"IFERROR(VLOOKUP($A51,FILTRO!$A45:$AY670,37,FALSE),0)","v":0},{"$f":"IFERROR(VLOOKUP($A51,FILTRO!$A45:$AY670,38,FALSE),0)","v":0},{"$f":"IFERROR(VLOOKUP($A51,FILTRO!$A45:$AY670,39,FALSE),0)","v":0},{"$f":"IFERROR(VLOOKUP($A51,FILTRO!$A45:$AY670,40,FALSE),0)","v":0},{"$f":"IFERROR(VLOOKUP($A51,FILTRO!$A45:$AY670,41,FALSE),0)","v":0},{"$f":"IFERROR(VLOOKUP($A51,FILTRO!$A45:$AY670,42,FALSE),0)","v":0},{"$f":"IFERROR(VLOOKUP($A51,FILTRO!$A45:$AY670,43,FALSE),0)","v":0},{"$f":"IFERROR(VLOOKUP($A51,FILTRO!$A45:$AY670,44,FALSE),0)","v":0},{"$f":"IFERROR(VLOOKUP($A51,FILTRO!$A45:$AY670,45,FALSE),0)","v":0},{"$f":"IFERROR(VLOOKUP($A51,FILTRO!$A45:$AY670,46,FALSE),0)","v":0},{"$f":"IFERROR(VLOOKUP($A51,FILTRO!$A45:$AY670,47,FALSE),0)","v":0},{"$f":"IFERROR(VLOOKUP($A51,FILTRO!$A45:$AY670,48,FALSE),0)","v":0},{"$f":"IFERROR(VLOOKUP($A51,FILTRO!$A45:$AY670,49,FALSE),0)","v":0}]
["P6241050",null,"TRASTONO GENERALIZADO DEL DESARROLLO NO ESPECÍFICO",{"$f":"IFERROR(VLOOKUP($A52,FILTRO!$A46:$AY671,2,FALSE),0)","v":179},{"$f":"IFERROR(VLOOKUP($A52,FILTRO!$A46:$AY671,3,FALSE),0)","v":134},{"$f":"IFERROR(VLOOKUP($A52,FILTRO!$A46:$AY671,4,FALSE),0)","v":45},{"$f":"IFERROR(VLOOKUP($A52,FILTRO!$A46:$AY671,5,FALSE),0)","v":8},{"$f":"IFERROR(VLOOKUP($A52,FILTRO!$A46:$AY671,6,FALSE),0)","v":2},{"$f":"IFERROR(VLOOKUP($A52,FILTRO!$A46:$AY671,7,FALSE),0)","v":50},{"$f":"IFERROR(VLOOKUP($A52,FILTRO!$A46:$AY671,8,FALSE),0)","v":7},{"$f":"IFERROR(VLOOKUP($A52,FILTRO!$A46:$AY671,9,FALSE),0)","v":41},{"$f":"IFERROR(VLOOKUP($A52,FILTRO!$A46:$AY671,10,FALSE),0)","v":20},{"$f":"IFERROR(VLOOKUP($A52,FILTRO!$A46:$AY671,11,FALSE),0)","v":27},{"$f":"IFERROR(VLOOKUP($A52,FILTRO!$A46:$AY671,12,FALSE),0)","v":9},{"$f":"IFERROR(VLOOKUP($A52,FILTRO!$A46:$AY671,13,FALSE),0)","v":2},{"$f":"IFERROR(VLOOKUP($A52,FILTRO!$A46:$AY671,14,FALSE),0)","v":0},{"$f":"IFERROR(VLOOKUP($A52,FILTRO!$A46:$AY671,15,FALSE),0)","v":4},{"$f":"IFERROR(VLOOKUP($A52,FILTRO!$A46:$AY671,16,FALSE),0)","v":2},{"$f":"IFERROR(VLOOKUP($A52,FILTRO!$A46:$AY671,17,FALSE),0)","v":1},{"$f":"IFERROR(VLOOKUP($A52,FILTRO!$A46:$AY671,18,FALSE),0)","v":0},{"$f":"IFERROR(VLOOKUP($A52,FILTRO!$A46:$AY671,19,FALSE),0)","v":0},{"$f":"IFERROR(VLOOKUP($A52,FILTRO!$A46:$AY671,20,FALSE),0)","v":0},{"$f":"IFERROR(VLOOKUP($A52,FILTRO!$A46:$AY671,21,FALSE),0)","v":0},{"$f":"IFERROR(VLOOKUP($A52,FILTRO!$A46:$AY671,22,FALSE),0)","v":0},{"$f":"IFERROR(VLOOKUP($A52,FILTRO!$A46:$AY671,23,FALSE),0)","v":0},{"$f":"IFERROR(VLOOKUP($A52,FILTRO!$A46:$AY671,24,FALSE),0)","v":2},{"$f":"IFERROR(VLOOKUP($A52,FILTRO!$A46:$AY671,25,FALSE),0)","v":0},{"$f":"IFERROR(VLOOKUP($A52,FILTRO!$A46:$AY671,26,FALSE),0)","v":3},{"$f":"IFERROR(VLOOKUP($A52,FILTRO!$A46:$AY671,27,FALSE),0)","v":1},{"$f":"IFERROR(VLOOKUP($A52,FILTRO!$A46:$AY671,28,FALSE),0)","v":0},{"$f":"IFERROR(VLOOKUP($A52,FILTRO!$A46:$AY671,29,FALSE),0)","v":0},{"$f":"IFERROR(VLOOKUP($A52,FILTRO!$A46:$AY671,30,FALSE),0)","v":0},{"$f":"IFERROR(VLOOKUP($A52,FILTRO!$A46:$AY671,31,FALSE),0)","v":0},{"$f":"IFERROR(VLOOKUP($A52,FILTRO!$A46:$AY671,32,FALSE),0)","v":0},{"$f":"IFERROR(VLOOKUP($A52,FILTRO!$A46:$AY671,33,FALSE),0)","v":0},{"$f":"IFERROR(VLOOKUP($A52,FILTRO!$A46:$AY671,34,FALSE),0)","v":0},{"$f":"IFERROR(VLOOKUP($A52,FILTRO!$A46:$AY671,35,FALSE),0)","v":0},{"$f":"IFERROR(VLOOKUP($A52,FILTRO!$A46:$AY671,36,FALSE),0)","v":0},{"$f":"IFERROR(VLOOKUP($A52,FILTRO!$A46:$AY671,37,FALSE),0)","v":0},{"$f":"IFERROR(VLOOKUP($A52,FILTRO!$A46:$AY671,38,FALSE),0)","v":0},{"$f":"IFERROR(VLOOKUP($A52,FILTRO!$A46:$AY671,39,FALSE),0)","v":0},{"$f":"IFERROR(VLOOKUP($A52,FILTRO!$A46:$AY671,40,FALSE),0)","v":0},{"$f":"IFERROR(VLOOKUP($A52,FILTRO!$A46:$AY671,41,FALSE),0)","v":1},{"$f":"IFERROR(VLOOKUP($A52,FILTRO!$A46:$AY671,42,FALSE),0)","v":0},{"$f":"IFERROR(VLOOKUP($A52,FILTRO!$A46:$AY671,43,FALSE),0)","v":2},{"$f":"IFERROR(VLOOKUP($A52,FILTRO!$A46:$AY671,44,FALSE),0)","v":0},{"$f":"IFERROR(VLOOKUP($A52,FILTRO!$A46:$AY671,45,FALSE),0)","v":0},{"$f":"IFERROR(VLOOKUP($A52,FILTRO!$A46:$AY671,46,FALSE),0)","v":5},{"$f":"IFERROR(VLOOKUP($A52,FILTRO!$A46:$AY671,47,FALSE),0)","v":46},{"$f":"IFERROR(VLOOKUP($A52,FILTRO!$A46:$AY671,48,FALSE),0)","v":0},{"$f":"IFERROR(VLOOKUP($A52,FILTRO!$A46:$AY671,49,FALSE),0)","v":0},{"$nulls":34},"","","","","","","","","","","","",{"$nulls":8},0,0,0,0,0,0,0,0,0,0,0,0]
["P6231600","EPILEPSIA",null,{"$f":"IFERROR(VLOOKUP($A53,FILTRO!$A47:$AY672,2,FALSE),0)","v":237},{"$f":"IFERROR(VLOOKUP($A53,FILTRO!$A47:$AY672,3,FALSE),0)","v":104},{"$f":"IFERROR(VLOOKUP($A53,FILTRO!$A47:$AY672,4,FALSE),0)","v":133},{"$f":"IFERROR(VLOOKUP($A53,FILTRO!$A47:$AY672,5,FALSE),0)","v":3},{"$f":"IFERROR(VLOOKUP($A53,FILTRO!$A47:$AY672,6,FALSE),0)","v":2},{"$f":"IFERROR(VLOOKUP($A53,FILTRO!$A47:$AY672,7,FALSE),0)","v":2},{"$f":"IFERROR(VLOOKUP($A53,FILTRO!$A47:$AY672,8,FALSE),0)","v":2},{"$f":"IFERROR(VLOOKUP($A53,FILTRO!$A47:$AY672,9,FALSE),0)","v":11},{"$f":"IFERROR(VLOOKUP($A53,FILTRO!$A47:$AY672,10,FALSE),0)","v":14},{"$f":"IFERROR(VLOOKUP($A53,FILTRO!$A47:$AY672,11,FALSE),0)","v":6},{"$f":"IFERROR(VLOOKUP($A53,FILTRO!$A47:$AY672,12,FALSE),0)","v":10},{"$f":"IFERROR(VLOOKUP($A53,FILTRO!$A47:$AY672,13,FALSE),0)","v":5},{"$f":"IFERROR(VLOOKUP($A53,FILTRO!$A47:$AY672,14,FALSE),0)","v":7},{"$f":"IFERROR(VLOOKUP($A53,FILTRO!$A47:$AY672,15,FALSE),0)","v":6},{"$f":"IFERROR(VLOOKUP($A53,FILTRO!$A47:$AY672,16,FALSE),0)","v":13},{"$f":"IFERROR(VLOOKUP($A53,FILTRO!$A47:$AY672,17,FALSE),0)","v":11},{"$f":"IFERROR(VLOOKUP($A53,FILTRO!$A47:$AY672,18,FALSE),0)","v":10},{"$f":"IFERROR(VLOOKUP($A53,FILTRO!$A47:$AY672,19,FALSE),0)","v":9},{"$f":"IFERROR(VLOOKUP($A53,FILTRO!$A47:$AY672,20,FALSE),0)","v":8},{"$f":"IFERROR(VLOOKUP($A53,FILTRO!$A47:$AY672,21,FALSE),0)","v":14},{"$f":"IFERROR(VLOOKUP($A53,FILTRO!$A47:$AY672,22,FALSE),0)","v":9},{"$f":"IFERROR(VLOOKUP($A53,FILTRO!$A47:$AY672,23,FALSE),0)","v":6},{"$f":"IFERROR(VLOOKUP($A53,FILTRO!$A47:$AY672,24,FALSE),0)","v":11},{"$f":"IFERROR(VLOOKUP($A53,FILTRO!$A47:$AY672,25,FALSE),0)","v":5},{"$f":"IFERROR(VLOOKUP($A53,FILTRO!$A47:$AY672,26,FALSE),0)","v":11},{"$f":"IFERROR(VLOOKUP($A53,FILTRO!$A47:$AY672,27,FALSE),0)","v":6},{"$f":"IFERROR(VLOOKUP($A53,FILTRO!$A47:$AY672,28,FALSE),0)","v":17},{"$f":"IFERROR(VLOOKUP($A53,FILTRO!$A47:$AY672,29,FALSE),0)","v":8},{"$f":"IFERROR(VLOOKUP($A53,FILTRO!$A47:$AY672,30,FALSE),0)","v":6},{"$f":"IFERROR(VLOOKUP($A53,FILTRO!$A47:$AY672,31,FALSE),0)","v":4},{"$f":"IFERROR(VLOOKUP($A53,FILTRO!$A47:$AY672,32,FALSE),0)","v":5},{"$f":"IFERROR(VLOOKUP($A53,FILTRO!$A47:$AY672,33,FALSE),0)","v":2},{"$f":"IFERROR(VLOOKUP($A53,FILTRO!$A47:$AY672,34,FALSE),0)","v":3},{"$f":"IFERROR(VLOOKUP($A53,FILTRO!$A47:$AY672,35,FALSE),0)","v":3},{"$f":"IFERROR(VLOOKUP($A53,FILTRO!$A47:$AY672,36,FALSE),0)","v":2},{"$f":"IFERROR(VLOOKUP($A53,FILTRO!$A47:$AY672,37,FALSE),0)","v":3},{"$f":"IFERROR(VLOOKUP($A53,FILTRO!$A47:$AY672,38,FALSE),0)","v":3},{"$f":"IFERROR(VLOOKUP($A53,FILTRO!$A47:$AY672,39,FALSE),0)","v":0},{"$f":"IFERROR(VLOOKUP($A53,FILTRO!$A47:$AY672,40,FALSE),0)","v":1},{"$f":"IFERROR(VLOOKUP($A53,FILTRO!$A47:$AY672,41,FALSE),0)","v":0},{"$f":"IFERROR(VLOOKUP($A53,FILTRO!$A47:$AY672,42,FALSE),0)","v":0},{"$f":"IFERROR(VLOOKUP($A53,FILTRO!$A47:$AY672,43,FALSE),0)","v":0},{"$f":"IFERROR(VLOOKUP($A53,FILTRO!$A47:$AY672,44,FALSE),0)","v":0},{"$f":"IFERROR(VLOOKUP($A53,FILTRO!$A47:$AY672,45,FALSE),0)","v":0},{"$f":"IFERROR(VLOOKUP($A53,FILTRO!$A47:$AY672,46,FALSE),0)","v":3},{"$f":"IFERROR(VLOOKUP($A53,FILTRO!$A47:$AY672,47,FALSE),0)","v":8},{"$f":"IFERROR(VLOOKUP($A53,FILTRO!$A47:$AY672,48,FALSE),0)","v":0},{"$f":"IFERROR(VLOOKUP($A53,FILTRO!$A47:$AY672,49,FALSE),0)","v":0},{"$nulls":34},"","","","","","","","","","","","",{"$nulls":8},0,0,0,0,0,0,0,0,0,0,0,0]
["P6227602","OTRAS ",null,{"$f":"IFERROR(VLOOKUP($A54,FILTRO!$A48:$AY673,2,FALSE),0)","v":5866},{"$f":"IFERROR(VLOOKUP($A54,FILTRO!$A48:$AY673,3,FALSE),0)","v":2039},{"$f":"IFERROR(VLOOKUP($A54,FILTRO!$A48:$AY673,4,FALSE),0)","v":3827},{"$f":"IFERROR(VLOOKUP($A54,FILTRO!$A48:$AY673,5,FALSE),0)","v":54},{"$f":"IFERROR(VLOOKUP($A54,FILTRO!$A48:$AY673,6,FALSE),0)","v":34},{"$f":"IFERROR(VLOOKUP($A54,FILTRO!$A48:$AY673,7,FALSE),0)","v":215},{"$f":"IFERROR(VLOOKUP($A54,FILTRO!$A48:$AY673,8,FALSE),0)","v":157},{"$f":"IFERROR(VLOOKUP($A54,FILTRO!$A48:$AY673,9,FALSE),0)","v":231},{"$f":"IFERROR(VLOOKUP($A54,FILTRO!$A48:$AY673,10,FALSE),0)","v":327},{"$f":"IFERROR(VLOOKUP($A54,FILTRO!$A48:$AY673,11,FALSE),0)","v":215},{"$f":"IFERROR(VLOOKUP($A54,FILTRO!$A48:$AY673,12,FALSE),0)","v":345},{"$f":"IFERROR(VLOOKUP($A54,FILTRO!$A48:$AY673,13,FALSE),0)","v":117},{"$f":"IFERROR(VLOOKUP($A54,FILTRO!$A48:$AY673,14,FALSE),0)","v":203},{"$f":"IFERROR(VLOOKUP($A54,FILTRO!$A48:$AY673,15,FALSE),0)","v":81},{"$f":"IFERROR(VLOOKUP($A54,FILTRO!$A48:$AY673,16,FALSE),0)","v":204},{"$f":"IFERROR(VLOOKUP($A54,FILTRO!$A48:$AY673,17,FALSE),0)","v":89},{"$f":"IFERROR(VLOOKUP($A54,FILTRO!$A48:$AY673,18,FALSE),0)","v":196},{"$f":"IFERROR(VLOOKUP($A54,FILTRO!$A48:$AY673,19,FALSE),0)","v":89},{"$f":"IFERROR(VLOOKUP($A54,FILTRO!$A48:$AY673,20,FALSE),0)","v":216},{"$f":"IFERROR(VLOOKUP($A54,FILTRO!$A48:$AY673,21,FALSE),0)","v":94},{"$f":"IFERROR(VLOOKUP($A54,FILTRO!$A48:$AY673,22,FALSE),0)","v":203},{"$f":"IFERROR(VLOOKUP($A54,FILTRO!$A48:$AY673,23,FALSE),0)","v":109},{"$f":"IFERROR(VLOOKUP($A54,FILTRO!$A48:$AY673,24,FALSE),0)","v":184},{"$f":"IFERROR(VLOOKUP($A54,FILTRO!$A48:$AY673,25,FALSE),0)","v":109},{"$f":"IFERROR(VLOOKUP($A54,FILTRO!$A48:$AY673,26,FALSE),0)","v":258},{"$f":"IFERROR(VLOOKUP($A54,FILTRO!$A48:$AY673,27,FALSE),0)","v":111},{"$f":"IFERROR(VLOOKUP($A54,FILTRO!$A48:$AY673,28,FALSE),0)","v":280},{"$f":"IFERROR(VLOOKUP($A54,FILTRO!$A48:$AY673,29,FALSE),0)","v":86},{"$f":"IFERROR(VLOOKUP($A54,FILTRO!$A48:$AY673,30,FALSE),0)","v":301},{"$f":"IFERROR(VLOOKUP($A54,FILTRO!$A48:$AY673,31,FALSE),0)","v":113},{"$f":"IFERROR(VLOOKUP($A54,FILTRO!$A48:$AY673,32,FALSE),0)","v":287},{"$f":"IFERROR(VLOOKUP($A54,FILTRO!$A48:$AY673,33,FALSE),0)","v":113},{"$f":"IFERROR(VLOOKUP($A54,FILTRO!$A48:$AY673,34,FALSE),0)","v":211},{"$f":"IFERROR(VLOOKUP($A54,FILTRO!$A48:$AY673,35,FALSE),0)","v":78},{"$f":"IFERROR(VLOOKUP($A54,FILTRO!$A48:$AY673,36,FALSE),0)","v":174},{"$f":"IFERROR(VLOOKUP($A54,FILTRO!$A48:$AY673,37,FALSE),0)","v":135},{"$f":"IFERROR(VLOOKUP($A54,FILTRO!$A48:$AY673,38,FALSE),0)","v":247},{"$f":"IFERROR(VLOOKUP($A54,FILTRO!$A48:$AY673,39,FALSE),0)","v":38},{"$f":"IFERROR(VLOOKUP($A54,FILTRO!$A48:$AY673,40,FALSE),0)","v":93},{"$f":"IFERROR(VLOOKUP($A54,FILTRO!$A48:$AY673,41,FALSE),0)","v":10},{"$f":"IFERROR(VLOOKUP($A54,FILTRO!$A48:$AY673,42,FALSE),0)","v":19},{"$f":"IFERROR(VLOOKUP($A54,FILTRO!$A48:$AY673,43,FALSE),0)","v":18},{"$f":"IFERROR(VLOOKUP($A54,FILTRO!$A48:$AY673,44,FALSE),0)","v":30},{"$f":"IFERROR(VLOOKUP($A54,FILTRO!$A48:$AY673,45,FALSE),0)","v":61},{"$f":"IFERROR(VLOOKUP($A54,FILTRO!$A48:$AY673,46,FALSE),0)","v":273},{"$f":"IFERROR(VLOOKUP($A54,FILTRO!$A48:$AY673,47,FALSE),0)","v":288},{"$f":"IFERROR(VLOOKUP($A54,FILTRO!$A48:$AY673,48,FALSE),0)","v":20},{"$f":"IFERROR(VLOOKUP($A54,FILTRO!$A48:$AY673,49,FALSE),0)","v":7},{"$nulls":36},"","","","","",null,null,"","","",{"$nulls":10},0,0,0,0,0,null,null,0,0,0]
[null,"SECCION A.2: PROGRAMA DE REHABILITACIÓN EN ATENCION PRIMARIA (PERSONAS CON TRANSTORNOS PSIQUIÁTRICO)."]
[null,"TIPO","RUBRO","T O T A L",null,null,"GRUPO DE EDAD (en años)"]
[{"$nulls":6},"0 a 4 años",null,"5 a 9 años",null,"10 a 14 años",null,"15 a 19 años",null,"20 a 24 años",null,"25 a 29 años",null,"30 a 34 años",null,"35 a 39 años",null,"40 a 44 años",null,"45 a 49 años",null,"50 a 54 años",null,"55 a 59 años",null,"60 a 64 años",null,"65 a 69 años",null,"70 a 74 años",null,"75 a 79 años",null,"80 y más años"]
[{"$nulls":3},"Ambos\nsexos","Hombres","Mujeres","Hombres","Mujeres","Hombres","Mujeres","Hombres","Mujeres","Hombres","Mujeres","Hombres","Mujeres","Hombres","Mujeres","Hombres","Mujeres","Hombres","Mujeres","Hombres","Mujeres","Hombres","Mujeres","Hombres","Mujeres","Hombres","Mujeres","Hombres","Mujeres","Hombres","Mujeres","Hombres","Mujeres","Hombres","Mujeres","Hombres","Mujeres"]
["P6223040","PROGRAMA DE REHABILITACIÓN TIPO I","NÚMERO DE PERSONAS EN CONTROL EN EL PROGRAMA",{"$f":"IFERROR(VLOOKUP($A59,FILTRO!$A53:$AY678,2,FALSE),0)","v":0},{"$f":"IFERROR(VLOOKUP($A59,FILTRO!$A53:$AY678,3,FALSE),0)","v":0},{"$f":"IFERROR(VLOOKUP($A59,FILTRO!$A53:$AY678,4,FALSE),0)","v":0},{"$f":"IFERROR(VLOOKUP($A59,FILTRO!$A53:$AY678,5,FALSE),0)","v":0},{"$f":"IFERROR(VLOOKUP($A59,FILTRO!$A53:$AY678,6,FALSE),0)","v":0},{"$f":"IFERROR(VLOOKUP($A59,FILTRO!$A53:$AY678,7,FALSE),0)","v":0},{"$f":"IFERROR(VLOOKUP($A59,FILTRO!$A53:$AY678,8,FALSE),0)","v":0},{"$f":"IFERROR(VLOOKUP($A59,FILTRO!$A53:$AY678,9,FALSE),0)","v":0},{"$f":"IFERROR(VLOOKUP($A59,FILTRO!$A53:$AY678,10,FALSE),0)","v":0},{"$f":"IFERROR(VLOOKUP($A59,FILTRO!$A53:$AY678,11,FALSE),0)","v":0},{"$f":"IFERROR(VLOOKUP($A59,FILTRO!$A53:$AY678,12,FALSE),0)","v":0},{"$f":"IFERROR(VLOOKUP($A59,FILTRO!$A53:$AY678,13,FALSE),0)","v":0},{"$f":"IFERROR(VLOOKUP($A59,FILTRO!$A53:$AY678,14,FALSE),0)","v":0},{"$f":"IFERROR(VLOOKUP($A59,FILTRO!$A53:$AY678,15,FALSE),0)","v":0},{"$f":"IFERROR(VLOOKUP($A59,FILTRO!$A53:$AY678,16,FALSE),0)","v":0},{"$f":"IFERROR(VLOOKUP($A59,FILTRO!$A53:$AY678,17,FALSE),0)","v":0},{"$f":"IFERROR(VLOOKUP($A59,FILTRO!$A53:$AY678,18,FALSE),0)","v":0},{"$f":"IFERROR(VLOOKUP($A59,FILTRO!$A53:$AY678,19,FALSE),0)","v":0},{"$f":"IFERROR(VLOOKUP($A59,FILTRO!$A53:$AY678,20,FALSE),0)","v":0},{"$f":"IFERROR(VLOOKUP($A59,FILTRO!$A53:$AY678,21,FALSE),0)","v":0},{"$f":"IFERROR(VLOOKUP($A59,FILTRO!$A53:$AY678,22,FALSE),0)","v":0},{"$f":"IFERROR(VLOOKUP($A59,FILTRO!$A53:$AY678,23,FALSE),0)","v":0},{"$f":"IFERROR(VLOOKUP($A59,FILTRO!$A53:$AY678,24,FALSE),0)","v":0},{"$f":"IFERROR(VLOOKUP($A59,FILTRO!$A53:$AY678,25,FALSE),0)","v":0},{"$f":"IFERROR(VLOOKUP($A59,FILTRO!$A53:$AY678,26,FALSE),0)","v":0},{"$f":"IFERROR(VLOOKUP($A59,FILTRO!$A53:$AY678,27,FALSE),0)","v":0},{"$f":"IFERROR(VLOOKUP($A59,FILTRO!$A53:$AY678,28,FALSE),0)","v":0},{"$f":"IFERROR(VLOOKUP($A59,FILTRO!$A53:$AY678,29,FALSE),0)","v":0},{"$f":"IFERROR(VLOOKUP($A59,FILTRO!$A53:$AY678,30,FALSE),0)","v":0},{"$f":"IFERROR(VLOOKUP($A59,FILTRO!$A53:$AY678,31,FALSE),0)","v":0},{"$f":"IFERROR(VLOOKUP($A59,FILTRO!$A53:$AY678,32,FALSE),0)","v":0},{"$f":"IFERROR(VLOOKUP($A59,FILTRO!$A53:$AY678,33,FALSE),0)","v":0},{"$f":"IFERROR(VLOOKUP($A59,FILTRO!$A53:$AY678,34,FALSE),0)","v":0},{"$f":"IFERROR(VLOOKUP($A59,FILTRO!$A53:$AY678,35,FALSE),0)","v":0},{"$f":"IFERROR(VLOOKUP($A59,FILTRO!$A53:$AY678,36,FALSE),0)","v":0},{"$f":"IFERROR(VLOOKUP($A59,FILTRO!$A53:$AY678,37,FALSE),0)","v":0},{"$f":"IFERROR(VLOOKUP($A59,FILTRO!$A53:$AY678,38,FALSE),0)","v":0}]
["P6223050","PROGRAMA DE REHABILITACIÓN TIPO II","NÚMERO DE PERSONAS EN CONTROL EN EL PROGRAMA",{"$f":"IFERROR(VLOOKUP($A60,FILTRO!$A54:$AY679,2,FALSE),0)","v":0},{"$f":"IFERROR(VLOOKUP($A60,FILTRO!$A54:$AY679,3,FALSE),0)","v":0},{"$f":"IFERROR(VLOOKUP($A60,FILTRO!$A54:$AY679,4,FALSE),0)","v":0},{"$f":"IFERROR(VLOOKUP($A60,FILTRO!$A54:$AY679,5,FALSE),0)","v":0},{"$f":"IFERROR(VLOOKUP($A60,FILTRO!$A54:$AY679,6,FALSE),0)","v":0},{"$f":"IFERROR(VLOOKUP($A60,FILTRO!$A54:$AY679,7,FALSE),0)","v":0},{"$f":"IFERROR(VLOOKUP($A60,FILTRO!$A54:$AY679,8,FALSE),0)","v":0},{"$f":"IFERROR(VLOOKUP($A60,FILTRO!$A54:$AY679,9,FALSE),0)","v":0},{"$f":"IFERROR(VLOOKUP($A60,FILTRO!$A54:$AY679,10,FALSE),0)","v":0},{"$f":"IFERROR(VLOOKUP($A60,FILTRO!$A54:$AY679,11,FALSE),0)","v":0},{"$f":"IFERROR(VLOOKUP($A60,FILTRO!$A54:$AY679,12,FALSE),0)","v":0},{"$f":"IFERROR(VLOOKUP($A60,FILTRO!$A54:$AY679,13,FALSE),0)","v":0},{"$f":"IFERROR(VLOOKUP($A60,FILTRO!$A54:$AY679,14,FALSE),0)","v":0},{"$f":"IFERROR(VLOOKUP($A60,FILTRO!$A54:$AY679,15,FALSE),0)","v":0},{"$f":"IFERROR(VLOOKUP($A60,FILTRO!$A54:$AY679,16,FALSE),0)","v":0},{"$f":"IFERROR(VLOOKUP($A60,FILTRO!$A54:$AY679,17,FALSE),0)","v":0},{"$f":"IFERROR(VLOOKUP($A60,FILTRO!$A54:$AY679,18,FALSE),0)","v":0},{"$f":"IFERROR(VLOOKUP($A60,FILTRO!$A54:$AY679,19,FALSE),0)","v":0},{"$f":"IFERROR(VLOOKUP($A60,FILTRO!$A54:$AY679,20,FALSE),0)","v":0},{"$f":"IFERROR(VLOOKUP($A60,FILTRO!$A54:$AY679,21,FALSE),0)","v":0},{"$f":"IFERROR(VLOOKUP($A60,FILTRO!$A54:$AY679,22,FALSE),0)","v":0},{"$f":"IFERROR(VLOOKUP($A60,FILTRO!$A54:$AY679,23,FALSE),0)","v":0},{"$f":"IFERROR(VLOOKUP($A60,FILTRO!$A54:$AY679,24,FALSE),0)","v":0},{"$f":"IFERROR(VLOOKUP($A60,FILTRO!$A54:$AY679,25,FALSE),0)","v":0},{"$f":"IFERROR(VLOOKUP($A60,FILTRO!$A54:$AY679,26,FALSE),0)","v":0},{"$f":"IFERROR(VLOOKUP($A60,FILTRO!$A54:$AY679,27,FALSE),0)","v":0},{"$f":"IFERROR(VLOOKUP($A60,FILTRO!$A54:$AY679,28,FALSE),0)","v":0},{"$f":"IFERROR(VLOOKUP($A60,FILTRO!$A54:$AY679,29,FALSE),0)","v":0},{"$f":"IFERROR(VLOOKUP($A60,FILTRO!$A54:$AY679,30,FALSE),0)","v":0},{"$f":"IFERROR(VLOOKUP($A60,FILTRO!$A54:$AY679,31,FALSE),0)","v":0},{"$f":"IFERROR(VLOOKUP($A60,FILTRO!$A54:$AY679,32,FALSE),0)","v":0},{"$f":"IFERROR(VLOOKUP($A60,FILTRO!$A54:$AY679,33,FALSE),0)","v":0},{"$f":"IFERROR(VLOOKUP($A60,FILTRO!$A54:$AY679,34,FALSE),0)","v":0},{"$f":"IFERROR(VLOOKUP($A60,FILTRO!$A54:$AY679,35,FALSE),0)","v":0},{"$f":"IFERROR(VLOOKUP($A60,FILTRO!$A54:$AY679,36,FALSE),0)","v":0},{"$f":"IFERROR(VLOOKUP($A60,FILTRO!$A54:$AY679,37,FALSE),0)","v":0},{"$f":"IFERROR(VLOOKUP($A60,FILTRO!$A54:$AY679,38,FALSE),0)","v":0}]
[null,"SECCION A.3: PROGRAMA DE ACOMPAÑAMIENTO PSICOSOCIAL EN LA ATENCION PRIMARIA"]
[null,"CONCEPTO",null,"TOTAL",null,null,"GRUPOS DE EDAD (en años)",{"$nulls":9},"Población Migrantes"]
[{"$nulls":6},"0 a 4 años",null,"5 a 9 años",null,"10 a 14 años",null,"15 a 19 años",null,"20 a 24 años"]
[{"$nulls":3},"Ambos Sexos","Hombres","Mujeres","Hombres","Mujeres","Hombres","Mujeres","Hombres","Mujeres","Hombres","Mujeres","Hombres","Mujeres","Hombres","Mujeres"]
["P6230300","N° DE PERSONAS EN CONTROL EN PROGRAMA DE ACOMPAÑAMIENTO PSICOSOCIAL",null,{"$f":"IFERROR(VLOOKUP($A65,FILTRO!$A59:$AY684,2,FALSE),0)","v":917},{"$f":"IFERROR(VLOOKUP($A65,FILTRO!$A59:$AY684,3,FALSE),0)","v":395},{"$f":"IFERROR(VLOOKUP($A65,FILTRO!$A59:$AY684,4,FALSE),0)","v":522},{"$f":"IFERROR(VLOOKUP($A65,FILTRO!$A59:$AY684,5,FALSE),0)","v":65},{"$f":"IFERROR(VLOOKUP($A65,FILTRO!$A59:$AY684,6,FALSE),0)","v":70},{"$f":"IFERROR(VLOOKUP($A65,FILTRO!$A59:$AY684,7,FALSE),0)","v":93},{"$f":"IFERROR(VLOOKUP($A65,FILTRO!$A59:$AY684,8,FALSE),0)","v":76},{"$f":"IFERROR(VLOOKUP($A65,FILTRO!$A59:$AY684,9,FALSE),0)","v":140},{"$f":"IFERROR(VLOOKUP($A65,FILTRO!$A59:$AY684,10,FALSE),0)","v":157},{"$f":"IFERROR(VLOOKUP($A65,FILTRO!$A59:$AY684,11,FALSE),0)","v":84},{"$f":"IFERROR(VLOOKUP($A65,FILTRO!$A59:$AY684,12,FALSE),0)","v":158},{"$f":"IFERROR(VLOOKUP($A65,FILTRO!$A59:$AY684,13,FALSE),0)","v":13},{"$f":"IFERROR(VLOOKUP($A65,FILTRO!$A59:$AY684,14,FALSE),0)","v":61},{"$f":"IFERROR(VLOOKUP($A65,FILTRO!$A59:$AY684,15,FALSE),0)","v":21},{"$f":"IFERROR(VLOOKUP($A65,FILTRO!$A59:$AY684,16,FALSE),0)","v":28}]
[null,"B. ATENCIÓN DE ESPECIALIDADES\nSECCION B.1: POBLACIÓN EN CONTROL EN ESPECIALIDAD AL CORTE"]
[null,"CONCEPTO",null,"T O T A L",null,null,"GRUPO DE EDAD (en años)",{"$nulls":33},"Gestantes","Madre de Hijo menor de 5 años ","Pueblos Originarios",null," Migrantes",null,"Niños, Niñas, Adolescentes y Jóvenes SENAME","Niños, Niñas, Adolescentes y Jóvenes Mejor Niñez","Plan Cuidado Integral Elaborado","TRANS "]
[{"$nulls":6},"0 a 4 años",null,"5 a 9 años",null,"10 a 14 años",null,"15 a 19 años",null,"20 a 24 años",null,"25 a 29 años",null,"30 a 34 años",null,"35 a 39 años",null,"40 a 44 años",null,"45 a 49 años",null,"50 a 54 años",null,"55 a 59 años",null,"60 a 64 años",null,"65 a 69 años",null,"70 a 74 años",null,"75 a 79 años",null,"80 y más años",{"$nulls":47},"Gestantes","Madre de hijos","Pueblos originarios","Pueblos originarios","Poblacion Migrantes","Poblacion Migrantes","Población SENAME","Gestantes","Madre de hijos",null,"Pueblos originarios","Poblacion Migrantes","Población SENAME",null,"Plan Cuidado Integral Elaborado","PCIE",{"$nulls":4},"Gestantes","Madre de hojos","Pueblos originarios","Pueblos originarios","Poblacion Migrantes","Poblacion Migrantes","Poblacion SENAME","Gestantes","Madre de hijos",null,"Pueblos originarios","Poblacion Migrantes","Poblacion SENAME",null,"Plan Cuidado Integral Elaborado","Plan Cuidado Integral Elaborado"]
[{"$nulls":3},"Ambos\nsexos","Hombres","Mujeres","Hombres","Mujeres","Hombres","Mujeres","Hombres","Mujeres","Hombres","Mujeres","Hombres","Mujeres","Hombres","Mujeres","Hombres","Mujeres","Hombres","Mujeres","Hombres","Mujeres","Hombres","Mujeres","Hombres","Mujeres","Hombres","Mujeres","Hombres","Mujeres","Hombres ","Mujeres","Hombres ","Mujeres","Hombres ","Mujeres","Hombres","Mujeres",null,null,"Hombres","Mujeres","Hombres","Mujeres",{"$nulls":3},"Masculino","Femenino ",{"$nulls":37},"Hombres","Mujeres","Hombres","Mujeres",null,"No Olvide","No Olvide",null,"No Olvide","No Olvide","No Olvide",null,null,"No Olvide",{"$nulls":6},"Hombres","Mujeres","Hombres","Mujeres",null,"No Olvide","No Olvide",null,"No Olvide","No Olvide","No Olvide",null,null,"No Olvide"]
["P6223090","NUMERO DE PERSONAS EN CONTROL EN EL PROGRAMA",null,{"$f":"IFERROR(VLOOKUP($A70,FILTRO!$A64:$AY689,2,FALSE),0)","v":3147},{"$f":"IFERROR(VLOOKUP($A70,FILTRO!$A64:$AY689,3,FALSE),0)","v":1263},{"$f":"IFERROR(VLOOKUP($A70,FILTRO!$A64:$AY689,4,FALSE),0)","v":1884},{"$f":"IFERROR(VLOOKUP($A70,FILTRO!$A64:$AY689,5,FALSE),0)","v":1},{"$f":"IFERROR(VLOOKUP($A70,FILTRO!$A64:$AY689,6,FALSE),0)","v":3},{"$f":"IFERROR(VLOOKUP($A70,FILTRO!$A64:$AY689,7,FALSE),0)","v":44},{"$f":"IFERROR(VLOOKUP($A70,FILTRO!$A64:$AY689,8,FALSE),0)","v":22},{"$f":"IFERROR(VLOOKUP($A70,FILTRO!$A64:$AY689,9,FALSE),0)","v":96},{"$f":"IFERROR(VLOOKUP($A70,FILTRO!$A64:$AY689,10,FALSE),0)","v":126},{"$f":"IFERROR(VLOOKUP($A70,FILTRO!$A64:$AY689,11,FALSE),0)","v":103},{"$f":"IFERROR(VLOOKUP($A70,FILTRO!$A64:$AY689,12,FALSE),0)","v":247},{"$f":"IFERROR(VLOOKUP($A70,FILTRO!$A64:$AY689,13,FALSE),0)","v":136},{"$f":"IFERROR(VLOOKUP($A70,FILTRO!$A64:$AY689,14,FALSE),0)","v":118},{"$f":"IFERROR(VLOOKUP($A70,FILTRO!$A64:$AY689,15,FALSE),0)","v":148},{"$f":"IFERROR(VLOOKUP($A70,FILTRO!$A64:$AY689,16,FALSE),0)","v":120},{"$f":"IFERROR(VLOOKUP($A70,FILTRO!$A64:$AY689,17,FALSE),0)","v":147},{"$f":"IFERROR(VLOOKUP($A70,FILTRO!$A64:$AY689,18,FALSE),0)","v":134},{"$f":"IFERROR(VLOOKUP($A70,FILTRO!$A64:$AY689,19,FALSE),0)","v":102},{"$f":"IFERROR(VLOOKUP($A70,FILTRO!$A64:$AY689,20,FALSE),0)","v":123},{"$f":"IFERROR(VLOOKUP($A70,FILTRO!$A64:$AY689,21,FALSE),0)","v":96},{"$f":"IFERROR(VLOOKUP($A70,FILTRO!$A64:$AY689,22,FALSE),0)","v":132},{"$f":"IFERROR(VLOOKUP($A70,FILTRO!$A64:$AY689,23,FALSE),0)","v":92},{"$f":"IFERROR(VLOOKUP($A70,FILTRO!$A64:$AY689,24,FALSE),0)","v":137},{"$f":"IFERROR(VLOOKUP($A70,FILTRO!$A64:$AY689,25,FALSE),0)","v":85},{"$f":"IFERROR(VLOOKUP($A70,FILTRO!$A64:$AY689,26,FALSE),0)","v":165},{"$f":"IFERROR(VLOOKUP($A70,FILTRO!$A64:$AY689,27,FALSE),0)","v":80},{"$f":"IFERROR(VLOOKUP($A70,FILTRO!$A64:$AY689,28,FALSE),0)","v":175},{"$f":"IFERROR(VLOOKUP($A70,FILTRO!$A64:$AY689,29,FALSE),0)","v":53},{"$f":"IFERROR(VLOOKUP($A70,FILTRO!$A64:$AY689,30,FALSE),0)","v":136},{"$f":"IFERROR(VLOOKUP($A70,FILTRO!$A64:$AY689,31,FALSE),0)","v":39},{"$f":"IFERROR(VLOOKUP($A70,FILTRO!$A64:$AY689,32,FALSE),0)","v":104},{"$f":"IFERROR(VLOOKUP($A70,FILTRO!$A64:$AY689,33,FALSE),0)","v":21},{"$f":"IFERROR(VLOOKUP($A70,FILTRO!$A64:$AY689,34,FALSE),0)","v":69},{"$f":"IFERROR(VLOOKUP($A70,FILTRO!$A64:$AY689,35,FALSE),0)","v":13},{"$f":"IFERROR(VLOOKUP($A70,FILTRO!$A64:$AY689,36,FALSE),0)","v":45},{"$f":"IFERROR(VLOOKUP($A70,FILTRO!$A64:$AY689,37,FALSE),0)","v":7},{"$f":"IFERROR(VLOOKUP($A70,FILTRO!$A64:$AY689,38,FALSE),0)","v":28},{"$f":"IFERROR(VLOOKUP($A70,FILTRO!$A64:$AY689,39,FALSE),0)","v":3},{"$f":"IFERROR(VLOOKUP($A70,FILTRO!$A64:$AY689,40,FALSE),0)","v":20},{"$f":"IFERROR(VLOOKUP($A70,FILTRO!$A64:$AY689,41,FALSE),0)","v":8},{"$f":"IFERROR(VLOOKUP($A70,FILTRO!$A64:$AY689,42,FALSE),0)","v":12},{"$f":"IFERROR(VLOOKUP($A70,FILTRO!$A64:$AY689,43,FALSE),0)","v":6},{"$f":"IFERROR(VLOOKUP($A70,FILTRO!$A64:$AY689,44,FALSE),0)","v":4},{"$f":"IFERROR(VLOOKUP($A70,FILTRO!$A64:$AY689,45,FALSE),0)","v":27},{"$f":"IFERROR(VLOOKUP($A70,FILTRO!$A64:$AY689,46,FALSE),0)","v":54},{"$f":"IFERROR(VLOOKUP($A70,FILTRO!$A64:$AY689,47,FALSE),0)","v":1013},{"$f":"IFERROR(VLOOKUP($A70,FILTRO!$A64:$AY689,48,FALSE),0)","v":4},{"$f":"IFERROR(VLOOKUP($A70,FILTRO!$A64:$AY689,49,FALSE),0)","v":6},{"$nulls":35},{"$f":"IF($AO70>$F70,\"* La celda 'Gestantes' debe ser menor o igual al Total de Mujeres en control. \",\"\")","v":""},{"$f":"IF($AP70>$F70,\"* La celda 'Madres de Hijos menor de 5 años' debe ser menor o igual al Total de Mujeres en control. \",\"\")","v":""},{"$f":"IF(($AQ70)>$E70,\"* La celda 'Pueblos Originarios / Hombres' debe ser menor o igual al Total de Hombres en control. \",\"\")","v":""},{"$f":"IF($AR70>$F70,\"* La celda 'Pueblos Originarios / Mujeres' debe ser menor o igual al Total de Mujeres en control. \",\"\")","v":""},{"$f":"IF(($AS70)>$E70,\"* La celda 'Población Migrantes / Hombres' debe ser menor o igual al Total de Hombres en control. \",\"\")","v":""},{"$f":"IF($AT70>$F70,\"* La celda 'Población Migrantes / Mujeres' debe ser menor o igual al Total de Mujeres en control. \",\"\")","v":""},{"$f":"IF($AV70>$D70,\"* La celda 'Población SENAME' debe ser menor o igual al Total de Personas en control. \",\"\")","v":""},{"$f":"IF(AND($D70<>0,$AO70=\"\"),\"* No olvide escribir en la celda de 'Gestantes' (Digite CERO si no tiene). \",\"\")","v":""},{"$f":"IF(AND($D70<>0,$AP70=\"\"),\"* No olvide escribir en la celda de 'Madres de Hijos menor de 5 años' (Digite CERO si no tiene). \",\"\")","v":""},null,{"$f":"IF(AND($E70<>0,$AQ70=\"\"),\"* No olvide escribir en las celdas de 'Pueblos Originarios' (Digite CERO si no tiene). \",IF(AND($F70<>0,$AR70=\"\"),\"* No olvide escribir en las celdas de 'Pueblos Originarios' (Digite CERO si no tiene). \",\"\"))","v":""},{"$f":"IF(AND($E70<>0,$AS70=\"\"),\"* No olvide escribir en las celdas de 'Población Migrantes' (Digite CERO si no tiene). \",IF(AND($F70<>0,$AT70=\"\"),\"* No olvide escribir en las celdas de 'Población Migrantes' (Digite CERO si no tiene). \",\"\"))","v":""},{"$f":"IF(AND($D70<>0,$AV70=\"\"),\"* No olvide escribir en las celdas de 'Población SENAME' (Digite CERO si no tiene). \",\"\")","v":""},null,{"$f":"IF($AW70>$D70,\"* La celda 'Plan Cuidado Integral Elaborado' debe ser menor o igual al Total de Personas en control. \",\"\")","v":""},{"$f":"IF(AND($D70<>0,$AW70=\"\"),\"* No olvide escribir en las celdas de 'Plan Cuidado Integral Elaborado' (Digite CERO si no tiene). \",\"\")","v":""},{"$nulls":4},{"$f":"IF($AO70>$F70,1,0)","v":0},{"$f":"IF($AP70>$F70,1,0)","v":0},{"$f":"IF(($AQ70)>$E70,1,0)","v":0},{"$f":"IF($AR70>$F70,1,0)","v":0},{"$f":"IF(($AS70)>$E70,1,0)","v":0},{"$f":"IF($AT70>$F70,1,0)","v":0},{"$f":"IF($AV70>$D70,1,0)","v":0},{"$f":"IF(AND($D70<>0,$AO70=\"\"),1,0)","v":0},{"$f":"IF(AND($D70<>0,$AP70=\"\"),1,0)","v":0},null,{"$f":"IF(AND($E70<>0,$AQ70=\"\"),1,IF(AND($F70<>0,$AR70=\"\"),1,0))","v":0},{"$f":"IF(AND($E70<>0,$AS70=\"\"),1,IF(AND($F70<>0,$AT70=\"\"),1,0))","v":0},{"$f":"IF(AND($D70<>0,$AV70=\"\"),1,0)","v":0},null,{"$f":"IF($AW70>$D70,1,0)","v":0},{"$f":"IF(AND($D70<>0,$AW70=\"\"),1,0)","v":0}]
[null,"FACTORES DE RIESGO Y CONDICIONANTES DE LA SALUD MENTAL"]
["P6223100","VIOLENCIA ","VICTIMA",{"$f":"IFERROR(VLOOKUP($A72,FILTRO!$A66:$AY691,2,FALSE),0)","v":90},{"$f":"IFERROR(VLOOKUP($A72,FILTRO!$A66:$AY691,3,FALSE),0)","v":18},{"$f":"IFERROR(VLOOKUP($A72,FILTRO!$A66:$AY691,4,FALSE),0)","v":72},{"$f":"IFERROR(VLOOKUP($A72,FILTRO!$A66:$AY691,5,FALSE),0)","v":0},{"$f":"IFERROR(VLOOKUP($A72,FILTRO!$A66:$AY691,6,FALSE),0)","v":0},{"$f":"IFERROR(VLOOKUP($A72,FILTRO!$A66:$AY691,7,FALSE),0)","v":3},{"$f":"IFERROR(VLOOKUP($A72,FILTRO!$A66:$AY691,8,FALSE),0)","v":1},{"$f":"IFERROR(VLOOKUP($A72,FILTRO!$A66:$AY691,9,FALSE),0)","v":7},{"$f":"IFERROR(VLOOKUP($A72,FILTRO!$A66:$AY691,10,FALSE),0)","v":5},{"$f":"IFERROR(VLOOKUP($A72,FILTRO!$A66:$AY691,11,FALSE),0)","v":3},{"$f":"IFERROR(VLOOKUP($A72,FILTRO!$A66:$AY691,12,FALSE),0)","v":29},{"$f":"IFERROR(VLOOKUP($A72,FILTRO!$A66:$AY691,13,FALSE),0)","v":1},{"$f":"IFERROR(VLOOKUP($A72,FILTRO!$A66:$AY691,14,FALSE),0)","v":3},{"$f":"IFERROR(VLOOKUP($A72,FILTRO!$A66:$AY691,15,FALSE),0)","v":1},{"$f":"IFERROR(VLOOKUP($A72,FILTRO!$A66:$AY691,16,FALSE),0)","v":2},{"$f":"IFERROR(VLOOKUP($A72,FILTRO!$A66:$AY691,17,FALSE),0)","v":0},{"$f":"IFERROR(VLOOKUP($A72,FILTRO!$A66:$AY691,18,FALSE),0)","v":3},{"$f":"IFERROR(VLOOKUP($A72,FILTRO!$A66:$AY691,19,FALSE),0)","v":1},{"$f":"IFERROR(VLOOKUP($A72,FILTRO!$A66:$AY691,20,FALSE),0)","v":1},{"$f":"IFERROR(VLOOKUP($A72,FILTRO!$A66:$AY691,21,FALSE),0)","v":1},{"$f":"IFERROR(VLOOKUP($A72,FILTRO!$A66:$AY691,22,FALSE),0)","v":2},{"$f":"IFERROR(VLOOKUP($A72,FILTRO!$A66:$AY691,23,FALSE),0)","v":0},{"$f":"IFERROR(VLOOKUP($A72,FILTRO!$A66:$AY691,24,FALSE),0)","v":7},{"$f":"IFERROR(VLOOKUP($A72,FILTRO!$A66:$AY691,25,FALSE),0)","v":0},{"$f":"IFERROR(VLOOKUP($A72,FILTRO!$A66:$AY691,26,FALSE),0)","v":5},{"$f":"IFERROR(VLOOKUP($A72,FILTRO!$A66:$AY691,27,FALSE),0)","v":0},{"$f":"IFERROR(VLOOKUP($A72,FILTRO!$A66:$AY691,28,FALSE),0)","v":4},{"$f":"IFERROR(VLOOKUP($A72,FILTRO!$A66:$AY691,29,FALSE),0)","v":1},{"$f":"IFERROR(VLOOKUP($A72,FILTRO!$A66:$AY691,30,FALSE),0)","v":7},{"$f":"IFERROR(VLOOKUP($A72,FILTRO!$A66:$AY691,31,FALSE),0)","v":0},{"$f":"IFERROR(VLOOKUP($A72,FILTRO!$A66:$AY691,32,FALSE),0)","v":1},{"$f":"IFERROR(VLOOKUP($A72,FILTRO!$A66:$AY691,33,FALSE),0)","v":0},{"$f":"IFERROR(VLOOKUP($A72,FILTRO!$A66:$AY691,34,FALSE),0)","v":2},{"$f":"IFERROR(VLOOKUP($A72,FILTRO!$A66:$AY691,35,FALSE),0)","v":0},{"$f":"IFERROR(VLOOKUP($A72,FILTRO!$A66:$AY691,36,FALSE),0)","v":0},{"$f":"IFERROR(VLOOKUP($A72,FILTRO!$A66:$AY691,37,FALSE),0)","v":0},{"$f":"IFERROR(VLOOKUP($A72,FILTRO!$A66:$AY691,38,FALSE),0)","v":0},{"$f":"IFERROR(VLOOKUP($A72,FILTRO!$A66:$AY691,39,FALSE),0)","v":2},{"$f":"IFERROR(VLOOKUP($A72,FILTRO!$A66:$AY691,40,FALSE),0)","v":2},{"$f":"IFERROR(VLOOKUP($A72,FILTRO!$A66:$AY691,41,FALSE),0)","v":0},{"$f":"IFERROR(VLOOKUP($A72,FILTRO!$A66:$AY691,42,FALSE),0)","v":0},{"$f":"IFERROR(VLOOKUP($A72,FILTRO!$A66:$AY691,43,FALSE),0)","v":0},{"$f":"IFERROR(VLOOKUP($A72,FILTRO!$A66:$AY691,44,FALSE),0)","v":0},{"$f":"IFERROR(VLOOKUP($A72,FILTRO!$A66:$AY691,45,FALSE),0)","v":6},{"$f":"IFERROR(VLOOKUP($A72,FILTRO!$A66:$AY691,46,FALSE),0)","v":6},{"$f":"IFERROR(VLOOKUP($A72,FILTRO!$A66:$AY691,47,FALSE),0)","v":61},{"$f":"IFERROR(VLOOKUP($A72,FILTRO!$A66:$AY691,48,FALSE),0)","v":1},{"$f":"IFERROR(VLOOKUP($A72,FILTRO!$A66:$AY691,49,FALSE),0)","v":0},{"$nulls":35},{"$f":"IF($AO72>$F72,\"* La celda 'Gestantes' debe ser menor o igual al Total de Mujeres en control. \",\"\")","v":""},{"$f":"IF($AP72>$F72,\"* La celda 'Madres de Hijos menor de 5 años' debe ser menor o igual al Total de Mujeres en control. \",\"\")","v":""},{"$f":"IF(($AQ72)>$E72,\"* La celda 'Pueblos Originarios / Hombres' debe ser menor o igual al Total de Hombres en control. \",\"\")","v":""},{"$f":"IF($AR72>$F72,\"* La celda 'Pueblos Originarios / Mujeres' debe ser menor o igual al Total de Mujeres en control. \",\"\")","v":""},{"$f":"IF(($AS72)>$E72,\"* La celda 'Población Migrantes / Hombres' debe ser menor o igual al Total de Hombres en control. \",\"\")","v":""},{"$f":"IF($AT72>$F72,\"* La celda 'Población Migrantes / Mujeres' debe ser menor o igual al Total de Mujeres en control. \",\"\")","v":""},{"$f":"IF($AV72>$D72,\"* La celda 'Población SENAME' debe ser menor o igual al Total de Personas en control. \",\"\")","v":""},{"$f":"IF(AND($D72<>0,$AO72=\"\"),\"* No olvide escribir en la celda de 'Gestantes' (Digite CERO si no tiene). \",\"\")","v":""},{"$f":"IF(AND($D72<>0,$AP72=\"\"),\"* No olvide escribir en la celda de 'Madres de Hijos menor de 5 años' (Digite CERO si no tiene). \",\"\")","v":""},null,{"$f":"IF(AND($E72<>0,$AQ72=\"\"),\"* No olvide escribir en las celdas de 'Pueblos Originarios' (Digite CERO si no tiene). \",IF(AND($F72<>0,$AR72=\"\"),\"* No olvide escribir en las celdas de 'Pueblos Originarios' (Digite CERO si no tiene). \",\"\"))","v":""},{"$f":"IF(AND($E72<>0,$AS72=\"\"),\"* No olvide escribir en las celdas de 'Población Migrantes' (Digite CERO si no tiene). \",IF(AND($F72<>0,$AT72=\"\"),\"* No olvide escribir en las celdas de 'Población Migrantes' (Digite CERO si no tiene). \",\"\"))","v":""},{"$f":"IF(AND($D72<>0,$AV72=\"\"),\"* No olvide escribir en las celdas de 'Población SENAME' (Digite CERO si no tiene). \",\"\")","v":""},null,{"$f":"IF($AW72>$D72,\"* La celda 'Plan Cuidado Integral Elaborado' debe ser menor o igual al Total de Personas en control. \",\"\")","v":""},{"$f":"IF(AND($D72<>0,$AW72=\"\"),\"* No olvide escribir en las celdas de 'Plan Cuidado Integral Elaborado' (Digite CERO si no tiene). \",\"\")","v":""},{"$nulls":4},{"$f":"IF($AO72>$F72,1,0)","v":0},{"$f":"IF($AP72>$F72,1,0)","v":0},{"$f":"IF(($AQ72)>$E72,1,0)","v":0},{"$f":"IF($AR72>$F72,1,0)","v":0},{"$f":"IF(($AS72)>$E72,1,0)","v":0},{"$f":"IF($AT72>$F72,1,0)","v":0},{"$f":"IF($AV72>$D72,1,0)","v":0},{"$f":"IF(AND($D72<>0,$AO72=\"\"),1,0)","v":0},{"$f":"IF(AND($D72<>0,$AP72=\"\"),1,0)","v":0},null,{"$f":"IF(AND($E72<>0,$AQ72=\"\"),1,IF(AND($F72<>0,$AR72=\"\"),1,0))","v":0},{"$f":"IF(AND($E72<>0,$AS72=\"\"),1,IF(AND($F72<>0,$AT72=\"\"),1,0))","v":0},{"$f":"IF(AND($D72<>0,$AV72=\"\"),1,0)","v":0},null,{"$f":"IF($AW72>$D72,1,0)","v":0},{"$f":"IF(AND($D72<>0,$AW72=\"\"),1,0)","v":0}]
["P6223110",null,"AGRESOR/A",{"$f":"IFERROR(VLOOKUP($A73,FILTRO!$A67:$AY692,2,FALSE),0)","v":13},{"$f":"IFERROR(VLOOKUP($A73,FILTRO!$A67:$AY692,3,FALSE),0)","v":6},{"$f":"IFERROR(VLOOKUP($A73,FILTRO!$A67:$AY692,4,FALSE),0)","v":7},{"$f":"IFERROR(VLOOKUP($A73,FILTRO!$A67:$AY692,5,FALSE),0)","v":0},{"$f":"IFERROR(VLOOKUP($A73,FILTRO!$A67:$AY692,6,FALSE),0)","v":0},{"$f":"IFERROR(VLOOKUP($A73,FILTRO!$A67:$AY692,7,FALSE),0)","v":0},{"$f":"IFERROR(VLOOKUP($A73,FILTRO!$A67:$AY692,8,FALSE),0)","v":0},{"$f":"IFERROR(VLOOKUP($A73,FILTRO!$A67:$AY692,9,FALSE),0)","v":0},{"$f":"IFERROR(VLOOKUP($A73,FILTRO!$A67:$AY692,10,FALSE),0)","v":0},{"$f":"IFERROR(VLOOKUP($A73,FILTRO!$A67:$AY692,11,FALSE),0)","v":0},{"$f":"IFERROR(VLOOKUP($A73,FILTRO!$A67:$AY692,12,FALSE),0)","v":0},{"$f":"IFERROR(VLOOKUP($A73,FILTRO!$A67:$AY692,13,FALSE),0)","v":0},{"$f":"IFERROR(VLOOKUP($A73,FILTRO!$A67:$AY692,14,FALSE),0)","v":0},{"$f":"IFERROR(VLOOKUP($A73,FILTRO!$A67:$AY692,15,FALSE),0)","v":1},{"$f":"IFERROR(VLOOKUP($A73,FILTRO!$A67:$AY692,16,FALSE),0)","v":1},{"$f":"IFERROR(VLOOKUP($A73,FILTRO!$A67:$AY692,17,FALSE),0)","v":0},{"$f":"IFERROR(VLOOKUP($A73,FILTRO!$A67:$AY692,18,FALSE),0)","v":2},{"$f":"IFERROR(VLOOKUP($A73,FILTRO!$A67:$AY692,19,FALSE),0)","v":0},{"$f":"IFERROR(VLOOKUP($A73,FILTRO!$A67:$AY692,20,FALSE),0)","v":0},{"$f":"IFERROR(VLOOKUP($A73,FILTRO!$A67:$AY692,21,FALSE),0)","v":0},{"$f":"IFERROR(VLOOKUP($A73,FILTRO!$A67:$AY692,22,FALSE),0)","v":1},{"$f":"IFERROR(VLOOKUP($A73,FILTRO!$A67:$AY692,23,FALSE),0)","v":0},{"$f":"IFERROR(VLOOKUP($A73,FILTRO!$A67:$AY692,24,FALSE),0)","v":1},{"$f":"IFERROR(VLOOKUP($A73,FILTRO!$A67:$AY692,25,FALSE),0)","v":0},{"$f":"IFERROR(VLOOKUP($A73,FILTRO!$A67:$AY692,26,FALSE),0)","v":0},{"$f":"IFERROR(VLOOKUP($A73,FILTRO!$A67:$AY692,27,FALSE),0)","v":2},{"$f":"IFERROR(VLOOKUP($A73,FILTRO!$A67:$AY692,28,FALSE),0)","v":0},{"$f":"IFERROR(VLOOKUP($A73,FILTRO!$A67:$AY692,29,FALSE),0)","v":0},{"$f":"IFERROR(VLOOKUP($A73,FILTRO!$A67:$AY692,30,FALSE),0)","v":2},{"$f":"IFERROR(VLOOKUP($A73,FILTRO!$A67:$AY692,31,FALSE),0)","v":1},{"$f":"IFERROR(VLOOKUP($A73,FILTRO!$A67:$AY692,32,FALSE),0)","v":0},{"$f":"IFERROR(VLOOKUP($A73,FILTRO!$A67:$AY692,33,FALSE),0)","v":0},{"$f":"IFERROR(VLOOKUP($A73,FILTRO!$A67:$AY692,34,FALSE),0)","v":0},{"$f":"IFERROR(VLOOKUP($A73,FILTRO!$A67:$AY692,35,FALSE),0)","v":2},{"$f":"IFERROR(VLOOKUP($A73,FILTRO!$A67:$AY692,36,FALSE),0)","v":0},{"$f":"IFERROR(VLOOKUP($A73,FILTRO!$A67:$AY692,37,FALSE),0)","v":0},{"$f":"IFERROR(VLOOKUP($A73,FILTRO!$A67:$AY692,38,FALSE),0)","v":0},{"$f":"IFERROR(VLOOKUP($A73,FILTRO!$A67:$AY692,39,FALSE),0)","v":1},{"$f":"IFERROR(VLOOKUP($A73,FILTRO!$A67:$AY692,40,FALSE),0)","v":2},{"$f":"IFERROR(VLOOKUP($A73,FILTRO!$A67:$AY692,41,FALSE),0)","v":0},{"$f":"IFERROR(VLOOKUP($A73,FILTRO!$A67:$AY692,42,FALSE),0)","v":0},{"$f":"IFERROR(VLOOKUP($A73,FILTRO!$A67:$AY692,43,FALSE),0)","v":0},{"$f":"IFERROR(VLOOKUP($A73,FILTRO!$A67:$AY692,44,FALSE),0)","v":0},{"$f":"IFERROR(VLOOKUP($A73,FILTRO!$A67:$AY692,45,FALSE),0)","v":0},{"$f":"IFERROR(VLOOKUP($A73,FILTRO!$A67:$AY692,46,FALSE),0)","v":0},{"$f":"IFERROR(VLOOKUP($A73,FILTRO!$A67:$AY692,47,FALSE),0)","v":11},{"$f":"IFERROR(VLOOKUP($A73,FILTRO!$A67:$AY692,48,FALSE),0)","v":0},{"$f":"IFERROR(VLOOKUP($A73,FILTRO!$A67:$AY692,49,FALSE),0)","v":0},{"$nulls":35},"",{"$f":"IF($AP73>$F73,\"* La celda 'Madres de Hijos menor de 5 años' debe ser menor o igual al Total de Mujeres en control. \",\"\")","v":""},"",{"$f":"IF($AR73>$F73,\"* La celda 'Pueblos Originarios / Mujeres' debe ser menor o igual al Total de Mujeres en control. \",\"\")","v":""},"",{"$f":"IF($AT73>$F73,\"* La celda 'Población Migrantes / Mujeres' debe ser menor o igual al Total de Mujeres en control. \",\"\")","v":""},"","",{"$f":"IF(AND($D73<>0,$AP73=\"\"),\"* No olvide escribir en la celda de 'Madres de Hijos menor de 5 años' (Digite CERO si no tiene). \",\"\")","v":""},null,"","","",null,"","",{"$nulls":4},0,{"$f":"IF($AP73>$F73,1,0)","v":0},0,{"$f":"IF($AR73>$F73,1,0)","v":0},0,{"$f":"IF($AT73>$F73,1,0)","v":0},0,0,0,null,0,0,0,null,0,0]
["P6223140","ABUSO SEXUAL",null,{"$f":"IFERROR(VLOOKUP($A74,FILTRO!$A68:$AY693,2,FALSE),0)","v":51},{"$f":"IFERROR(VLOOKUP($A74,FILTRO!$A68:$AY693,3,FALSE),0)","v":4},{"$f":"IFERROR(VLOOKUP($A74,FILTRO!$A68:$AY693,4,FALSE),0)","v":47},{"$f":"IFERROR(VLOOKUP($A74,FILTRO!$A68:$AY693,5,FALSE),0)","v":0},{"$f":"IFERROR(VLOOKUP($A74,FILTRO!$A68:$AY693,6,FALSE),0)","v":0},{"$f":"IFERROR(VLOOKUP($A74,FILTRO!$A68:$AY693,7,FALSE),0)","v":0},{"$f":"IFERROR(VLOOKUP($A74,FILTRO!$A68:$AY693,8,FALSE),0)","v":3},{"$f":"IFERROR(VLOOKUP($A74,FILTRO!$A68:$AY693,9,FALSE),0)","v":1},{"$f":"IFERROR(VLOOKUP($A74,FILTRO!$A68:$AY693,10,FALSE),0)","v":6},{"$f":"IFERROR(VLOOKUP($A74,FILTRO!$A68:$AY693,11,FALSE),0)","v":1},{"$f":"IFERROR(VLOOKUP($A74,FILTRO!$A68:$AY693,12,FALSE),0)","v":18},{"$f":"IFERROR(VLOOKUP($A74,FILTRO!$A68:$AY693,13,FALSE),0)","v":2},{"$f":"IFERROR(VLOOKUP($A74,FILTRO!$A68:$AY693,14,FALSE),0)","v":2},{"$f":"IFERROR(VLOOKUP($A74,FILTRO!$A68:$AY693,15,FALSE),0)","v":0},{"$f":"IFERROR(VLOOKUP($A74,FILTRO!$A68:$AY693,16,FALSE),0)","v":2},{"$f":"IFERROR(VLOOKUP($A74,FILTRO!$A68:$AY693,17,FALSE),0)","v":0},{"$f":"IFERROR(VLOOKUP($A74,FILTRO!$A68:$AY693,18,FALSE),0)","v":1},{"$f":"IFERROR(VLOOKUP($A74,FILTRO!$A68:$AY693,19,FALSE),0)","v":0},{"$f":"IFERROR(VLOOKUP($A74,FILTRO!$A68:$AY693,20,FALSE),0)","v":4},{"$f":"IFERROR(VLOOKUP($A74,FILTRO!$A68:$AY693,21,FALSE),0)","v":0},{"$f":"IFERROR(VLOOKUP($A74,FILTRO!$A68:$AY693,22,FALSE),0)","v":2},{"$f":"IFERROR(VLOOKUP($A74,FILTRO!$A68:$AY693,23,FALSE),0)","v":0},{"$f":"IFERROR(VLOOKUP($A74,FILTRO!$A68:$AY693,24,FALSE),0)","v":5},{"$f":"IFERROR(VLOOKUP($A74,FILTRO!$A68:$AY693,25,FALSE),0)","v":0},{"$f":"IFERROR(VLOOKUP($A74,FILTRO!$A68:$AY693,26,FALSE),0)","v":3},{"$f":"IFERROR(VLOOKUP($A74,FILTRO!$A68:$AY693,27,FALSE),0)","v":0},{"$f":"IFERROR(VLOOKUP($A74,FILTRO!$A68:$AY693,28,FALSE),0)","v":1},{"$f":"IFERROR(VLOOKUP($A74,FILTRO!$A68:$AY693,29,FALSE),0)","v":0},{"$f":"IFERROR(VLOOKUP($A74,FILTRO!$A68:$AY693,30,FALSE),0)","v":0},{"$f":"IFERROR(VLOOKUP($A74,FILTRO!$A68:$AY693,31,FALSE),0)","v":0},{"$f":"IFERROR(VLOOKUP($A74,FILTRO!$A68:$AY693,32,FALSE),0)","v":0},{"$f":"IFERROR(VLOOKUP($A74,FILTRO!$A68:$AY693,33,FALSE),0)","v":0},{"$f":"IFERROR(VLOOKUP($A74,FILTRO!$A68:$AY693,34,FALSE),0)","v":0},{"$f":"IFERROR(VLOOKUP($A74,FILTRO!$A68:$AY693,35,FALSE),0)","v":0},{"$f":"IFERROR(VLOOKUP($A74,FILTRO!$A68:$AY693,36,FALSE),0)","v":0},{"$f":"IFERROR(VLOOKUP($A74,FILTRO!$A68:$AY693,37,FALSE),0)","v":0},{"$f":"IFERROR(VLOOKUP($A74,FILTRO!$A68:$AY693,38,FALSE),0)","v":0},{"$f":"IFERROR(VLOOKUP($A74,FILTRO!$A68:$AY693,39,FALSE),0)","v":1},{"$f":"IFERROR(VLOOKUP($A74,FILTRO!$A68:$AY693,40,FALSE),0)","v":2},{"$f":"IFERROR(VLOOKUP($A74,FILTRO!$A68:$AY693,41,FALSE),0)","v":0},{"$f":"IFERROR(VLOOKUP($A74,FILTRO!$A68:$AY693,42,FALSE),0)","v":0},{"$f":"IFERROR(VLOOKUP($A74,FILTRO!$A68:$AY693,43,FALSE),0)","v":0},{"$f":"IFERROR(VLOOKUP($A74,FILTRO!$A68:$AY693,44,FALSE),0)","v":1},{"$f":"IFERROR(VLOOKUP($A74,FILTRO!$A68:$AY693,45,FALSE),0)","v":3},{"$f":"IFERROR(VLOOKUP($A74,FILTRO!$A68:$AY693,46,FALSE),0)","v":3},{"$f":"IFERROR(VLOOKUP($A74,FILTRO!$A68:$AY693,47,FALSE),0)","v":45},{"$f":"IFERROR(VLOOKUP($A74,FILTRO!$A68:$AY693,48,FALSE),0)","v":1},{"$f":"IFERROR(VLOOKUP($A74,FILTRO!$A68:$AY693,49,FALSE),0)","v":0},{"$nulls":35},"",{"$f":"IF($AP74>$F74,\"* La celda 'Madres de Hijos menor de 5 años' debe ser menor o igual al Total de Mujeres en control. \",\"\")","v":""},"",{"$f":"IF($AR74>$F74,\"* La celda 'Pueblos Originarios / Mujeres' debe ser menor o igual al Total de Mujeres en control. \",\"\")","v":""},"",{"$f":"IF($AT74>$F74,\"* La celda 'Población Migrantes / Mujeres' debe ser menor o igual al Total de Mujeres en control. \",\"\")","v":""},"","",{"$f":"IF(AND($D74<>0,$AP74=\"\"),\"* No olvide escribir en la celda de 'Madres de Hijos menor de 5 años' (Digite CERO si no tiene). \",\"\")","v":""},null,"","","",null,"","",{"$nulls":4},0,{"$f":"IF($AP74>$F74,1,0)","v":0},0,{"$f":"IF($AR74>$F74,1,0)","v":0},0,{"$f":"IF($AT74>$F74,1,0)","v":0},0,0,0,null,0,0,0,null,0,0]
["P6231900","SUICIDIO","IDEACIÓN",{"$f":"IFERROR(VLOOKUP($A75,FILTRO!$A69:$AY694,2,FALSE),0)","v":63},{"$f":"IFERROR(VLOOKUP($A75,FILTRO!$A69:$AY694,3,FALSE),0)","v":11},{"$f":"IFERROR(VLOOKUP($A75,FILTRO!$A69:$AY694,4,FALSE),0)","v":52},{"$f":"IFERROR(VLOOKUP($A75,FILTRO!$A69:$AY694,5,FALSE),0)","v":0},{"$f":"IFERROR(VLOOKUP($A75,FILTRO!$A69:$AY694,6,FALSE),0)","v":0},{"$f":"IFERROR(VLOOKUP($A75,FILTRO!$A69:$AY694,7,FALSE),0)","v":0},{"$f":"IFERROR(VLOOKUP($A75,FILTRO!$A69:$AY694,8,FALSE),0)","v":0},{"$f":"IFERROR(VLOOKUP($A75,FILTRO!$A69:$AY694,9,FALSE),0)","v":3},{"$f":"IFERROR(VLOOKUP($A75,FILTRO!$A69:$AY694,10,FALSE),0)","v":14},{"$f":"IFERROR(VLOOKUP($A75,FILTRO!$A69:$AY694,11,FALSE),0)","v":4},{"$f":"IFERROR(VLOOKUP($A75,FILTRO!$A69:$AY694,12,FALSE),0)","v":15},{"$f":"IFERROR(VLOOKUP($A75,FILTRO!$A69:$AY694,13,FALSE),0)","v":1},{"$f":"IFERROR(VLOOKUP($A75,FILTRO!$A69:$AY694,14,FALSE),0)","v":0},{"$f":"IFERROR(VLOOKUP($A75,FILTRO!$A69:$AY694,15,FALSE),0)","v":1},{"$f":"IFERROR(VLOOKUP($A75,FILTRO!$A69:$AY694,16,FALSE),0)","v":2},{"$f":"IFERROR(VLOOKUP($A75,FILTRO!$A69:$AY694,17,FALSE),0)","v":0},{"$f":"IFERROR(VLOOKUP($A75,FILTRO!$A69:$AY694,18,FALSE),0)","v":5},{"$f":"IFERROR(VLOOKUP($A75,FILTRO!$A69:$AY694,19,FALSE),0)","v":1},{"$f":"IFERROR(VLOOKUP($A75,FILTRO!$A69:$AY694,20,FALSE),0)","v":3},{"$f":"IFERROR(VLOOKUP($A75,FILTRO!$A69:$AY694,21,FALSE),0)","v":0},{"$f":"IFERROR(VLOOKUP($A75,FILTRO!$A69:$AY694,22,FALSE),0)","v":1},{"$f":"IFERROR(VLOOKUP($A75,FILTRO!$A69:$AY694,23,FALSE),0)","v":0},{"$f":"IFERROR(VLOOKUP($A75,FILTRO!$A69:$AY694,24,FALSE),0)","v":7},{"$f":"IFERROR(VLOOKUP($A75,FILTRO!$A69:$AY694,25,FALSE),0)","v":0},{"$f":"IFERROR(VLOOKUP($A75,FILTRO!$A69:$AY694,26,FALSE),0)","v":3},{"$f":"IFERROR(VLOOKUP($A75,FILTRO!$A69:$AY694,27,FALSE),0)","v":0},{"$f":"IFERROR(VLOOKUP($A75,FILTRO!$A69:$AY694,28,FALSE),0)","v":0},{"$f":"IFERROR(VLOOKUP($A75,FILTRO!$A69:$AY694,29,FALSE),0)","v":0},{"$f":"IFERROR(VLOOKUP($A75,FILTRO!$A69:$AY694,30,FALSE),0)","v":2},{"$f":"IFERROR(VLOOKUP($A75,FILTRO!$A69:$AY694,31,FALSE),0)","v":1},{"$f":"IFERROR(VLOOKUP($A75,FILTRO!$A69:$AY694,32,FALSE),0)","v":0},{"$f":"IFERROR(VLOOKUP($A75,FILTRO!$A69:$AY694,33,FALSE),0)","v":0},{"$f":"IFERROR(VLOOKUP($A75,FILTRO!$A69:$AY694,34,FALSE),0)","v":0},{"$f":"IFERROR(VLOOKUP($A75,FILTRO!$A69:$AY694,35,FALSE),0)","v":0},{"$f":"IFERROR(VLOOKUP($A75,FILTRO!$A69:$AY694,36,FALSE),0)","v":0},{"$f":"IFERROR(VLOOKUP($A75,FILTRO!$A69:$AY694,37,FALSE),0)","v":0},{"$f":"IFERROR(VLOOKUP($A75,FILTRO!$A69:$AY694,38,FALSE),0)","v":0},{"$f":"IFERROR(VLOOKUP($A75,FILTRO!$A69:$AY694,39,FALSE),0)","v":1},{"$f":"IFERROR(VLOOKUP($A75,FILTRO!$A69:$AY694,40,FALSE),0)","v":3},{"$f":"IFERROR(VLOOKUP($A75,FILTRO!$A69:$AY694,41,FALSE),0)","v":0},{"$f":"IFERROR(VLOOKUP($A75,FILTRO!$A69:$AY694,42,FALSE),0)","v":0},{"$f":"IFERROR(VLOOKUP($A75,FILTRO!$A69:$AY694,43,FALSE),0)","v":0},{"$f":"IFERROR(VLOOKUP($A75,FILTRO!$A69:$AY694,44,FALSE),0)","v":0},{"$f":"IFERROR(VLOOKUP($A75,FILTRO!$A69:$AY694,45,FALSE),0)","v":3},{"$f":"IFERROR(VLOOKUP($A75,FILTRO!$A69:$AY694,46,FALSE),0)","v":5},{"$f":"IFERROR(VLOOKUP($A75,FILTRO!$A69:$AY694,47,FALSE),0)","v":39},{"$f":"IFERROR(VLOOKUP($A75,FILTRO!$A69:$AY694,48,FALSE),0)","v":0},{"$f":"IFERROR(VLOOKUP($A75,FILTRO!$A69:$AY694,49,FALSE),0)","v":0},{"$nulls":35},"",{"$f":"IF($AP75>$F75,\"* La celda 'Madres de Hijos menor de 5 años' debe ser menor o igual al Total de Mujeres en control. \",\"\")","v":""},"",{"$f":"IF($AR75>$F75,\"* La celda 'Pueblos Originarios / Mujeres' debe ser menor o igual al Total de Mujeres en control. \",\"\")","v":""},"",{"$f":"IF($AT75>$F75,\"* La celda 'Población Migrantes / Mujeres' debe ser menor o igual al Total de Mujeres en control. \",\"\")","v":""},"","",{"$f":"IF(AND($D75<>0,$AP75=\"\"),\"* No olvide escribir en la celda de 'Madres de Hijos menor de 5 años' (Digite CERO si no tiene). \",\"\")","v":""},null,"","","",null,"","",{"$nulls":4},0,{"$f":"IF($AP75>$F75,1,0)","v":0},0,{"$f":"IF($AR75>$F75,1,0)","v":0},0,{"$f":"IF($AT75>$F75,1,0)","v":0},0,0,0,null,0,0,0,null,0,0]
["P6232000",null,"INTENTO",{"$f":"IFERROR(VLOOKUP($A76,FILTRO!$A70:$AY695,2,FALSE),0)","v":78},{"$f":"IFERROR(VLOOKUP($A76,FILTRO!$A70:$AY695,3,FALSE),0)","v":18},{"$f":"IFERROR(VLOOKUP($A76,FILTRO!$A70:$AY695,4,FALSE),0)","v":60},{"$f":"IFERROR(VLOOKUP($A76,FILTRO!$A70:$AY695,5,FALSE),0)","v":0},{"$f":"IFERROR(VLOOKUP($A76,FILTRO!$A70:$AY695,6,FALSE),0)","v":0},{"$f":"IFERROR(VLOOKUP($A76,FILTRO!$A70:$AY695,7,FALSE),0)","v":0},{"$f":"IFERROR(VLOOKUP($A76,FILTRO!$A70:$AY695,8,FALSE),0)","v":0},{"$f":"IFERROR(VLOOKUP($A76,FILTRO!$A70:$AY695,9,FALSE),0)","v":1},{"$f":"IFERROR(VLOOKUP($A76,FILTRO!$A70:$AY695,10,FALSE),0)","v":11},{"$f":"IFERROR(VLOOKUP($A76,FILTRO!$A70:$AY695,11,FALSE),0)","v":4},{"$f":"IFERROR(VLOOKUP($A76,FILTRO!$A70:$AY695,12,FALSE),0)","v":24},{"$f":"IFERROR(VLOOKUP($A76,FILTRO!$A70:$AY695,13,FALSE),0)","v":3},{"$f":"IFERROR(VLOOKUP($A76,FILTRO!$A70:$AY695,14,FALSE),0)","v":6},{"$f":"IFERROR(VLOOKUP($A76,FILTRO!$A70:$AY695,15,FALSE),0)","v":3},{"$f":"IFERROR(VLOOKUP($A76,FILTRO!$A70:$AY695,16,FALSE),0)","v":1},{"$f":"IFERROR(VLOOKUP($A76,FILTRO!$A70:$AY695,17,FALSE),0)","v":1},{"$f":"IFERROR(VLOOKUP($A76,FILTRO!$A70:$AY695,18,FALSE),0)","v":5},{"$f":"IFERROR(VLOOKUP($A76,FILTRO!$A70:$AY695,19,FALSE),0)","v":0},{"$f":"IFERROR(VLOOKUP($A76,FILTRO!$A70:$AY695,20,FALSE),0)","v":1},{"$f":"IFERROR(VLOOKUP($A76,FILTRO!$A70:$AY695,21,FALSE),0)","v":3},{"$f":"IFERROR(VLOOKUP($A76,FILTRO!$A70:$AY695,22,FALSE),0)","v":4},{"$f":"IFERROR(VLOOKUP($A76,FILTRO!$A70:$AY695,23,FALSE),0)","v":1},{"$f":"IFERROR(VLOOKUP($A76,FILTRO!$A70:$AY695,24,FALSE),0)","v":1},{"$f":"IFERROR(VLOOKUP($A76,FILTRO!$A70:$AY695,25,FALSE),0)","v":1},{"$f":"IFERROR(VLOOKUP($A76,FILTRO!$A70:$AY695,26,FALSE),0)","v":4},{"$f":"IFERROR(VLOOKUP($A76,FILTRO!$A70:$AY695,27,FALSE),0)","v":0},{"$f":"IFERROR(VLOOKUP($A76,FILTRO!$A70:$AY695,28,FALSE),0)","v":1},{"$f":"IFERROR(VLOOKUP($A76,FILTRO!$A70:$AY695,29,FALSE),0)","v":1},{"$f":"IFERROR(VLOOKUP($A76,FILTRO!$A70:$AY695,30,FALSE),0)","v":1},{"$f":"IFERROR(VLOOKUP($A76,FILTRO!$A70:$AY695,31,FALSE),0)","v":0},{"$f":"IFERROR(VLOOKUP($A76,FILTRO!$A70:$AY695,32,FALSE),0)","v":0},{"$f":"IFERROR(VLOOKUP($A76,FILTRO!$A70:$AY695,33,FALSE),0)","v":0},{"$f":"IFERROR(VLOOKUP($A76,FILTRO!$A70:$AY695,34,FALSE),0)","v":1},{"$f":"IFERROR(VLOOKUP($A76,FILTRO!$A70:$AY695,35,FALSE),0)","v":0},{"$f":"IFERROR(VLOOKUP($A76,FILTRO!$A70:$AY695,36,FALSE),0)","v":0},{"$f":"IFERROR(VLOOKUP($A76,FILTRO!$A70:$AY695,37,FALSE),0)","v":0},{"$f":"IFERROR(VLOOKUP($A76,FILTRO!$A70:$AY695,38,FALSE),0)","v":0},{"$f":"IFERROR(VLOOKUP($A76,FILTRO!$A70:$AY695,39,FALSE),0)","v":0},{"$f":"IFERROR(VLOOKUP($A76,FILTRO!$A70:$AY695,40,FALSE),0)","v":2},{"$f":"IFERROR(VLOOKUP($A76,FILTRO!$A70:$AY695,41,FALSE),0)","v":0},{"$f":"IFERROR(VLOOKUP($A76,FILTRO!$A70:$AY695,42,FALSE),0)","v":0},{"$f":"IFERROR(VLOOKUP($A76,FILTRO!$A70:$AY695,43,FALSE),0)","v":0},{"$f":"IFERROR(VLOOKUP($A76,FILTRO!$A70:$AY695,44,FALSE),0)","v":0},{"$f":"IFERROR(VLOOKUP($A76,FILTRO!$A70:$AY695,45,FALSE),0)","v":0},{"$f":"IFERROR(VLOOKUP($A76,FILTRO!$A70:$AY695,46,FALSE),0)","v":5},{"$f":"IFERROR(VLOOKUP($A76,FILTRO!$A70:$AY695,47,FALSE),0)","v":53},{"$f":"IFERROR(VLOOKUP($A76,FILTRO!$A70:$AY695,48,FALSE),0)","v":1},{"$f":"IFERROR(VLOOKUP($A76,FILTRO!$A70:$AY695,49,FALSE),0)","v":0},{"$nulls":35},"",{"$f":"IF($AP76>$F76,\"* La celda 'Madres de Hijos menor de 5 años' debe ser menor o igual al Total de Mujeres en control. \",\"\")","v":""},"",{"$f":"IF($AR76>$F76,\"* La celda 'Pueblos Originarios / Mujeres' debe ser menor o igual al Total de Mujeres en control. \",\"\")","v":""},"",{"$f":"IF($AT76>$F76,\"* La celda 'Población Migrantes / Mujeres' debe ser menor o igual al Total de Mujeres en control. \",\"\")","v":""},"","",{"$f":"IF(AND($D76<>0,$AP76=\"\"),\"* No olvide escribir en la celda de 'Madres de Hijos menor de 5 años' (Digite CERO si no tiene). \",\"\")","v":""},null,"","","",null,"","",{"$nulls":4},0,{"$f":"IF($AP76>$F76,1,0)","v":0},0,{"$f":"IF($AR76>$F76,1,0)","v":0},0,{"$f":"IF($AT76>$F76,1,0)","v":0},0,0,0,null,0,0,0,null,0,0]
["P6223170","PERSONAS CON DIAGNOSTICOS DE TRASTORNOS MENTALES ",null,{"$f":"IFERROR(VLOOKUP($A77,FILTRO!$A71:$AY696,2,FALSE),0)","v":2602},{"$f":"IFERROR(VLOOKUP($A77,FILTRO!$A71:$AY696,3,FALSE),0)","v":1031},{"$f":"IFERROR(VLOOKUP($A77,FILTRO!$A71:$AY696,4,FALSE),0)","v":1571},{"$f":"IFERROR(VLOOKUP($A77,FILTRO!$A71:$AY696,5,FALSE),0)","v":0},{"$f":"IFERROR(VLOOKUP($A77,FILTRO!$A71:$AY696,6,FALSE),0)","v":1},{"$f":"IFERROR(VLOOKUP($A77,FILTRO!$A71:$AY696,7,FALSE),0)","v":17},{"$f":"IFERROR(VLOOKUP($A77,FILTRO!$A71:$AY696,8,FALSE),0)","v":14},{"$f":"IFERROR(VLOOKUP($A77,FILTRO!$A71:$AY696,9,FALSE),0)","v":63},{"$f":"IFERROR(VLOOKUP($A77,FILTRO!$A71:$AY696,10,FALSE),0)","v":57},{"$f":"IFERROR(VLOOKUP($A77,FILTRO!$A71:$AY696,11,FALSE),0)","v":74},{"$f":"IFERROR(VLOOKUP($A77,FILTRO!$A71:$AY696,12,FALSE),0)","v":160},{"$f":"IFERROR(VLOOKUP($A77,FILTRO!$A71:$AY696,13,FALSE),0)","v":113},{"$f":"IFERROR(VLOOKUP($A77,FILTRO!$A71:$AY696,14,FALSE),0)","v":107},{"$f":"IFERROR(VLOOKUP($A77,FILTRO!$A71:$AY696,15,FALSE),0)","v":120},{"$f":"IFERROR(VLOOKUP($A77,FILTRO!$A71:$AY696,16,FALSE),0)","v":112},{"$f":"IFERROR(VLOOKUP($A77,FILTRO!$A71:$AY696,17,FALSE),0)","v":122},{"$f":"IFERROR(VLOOKUP($A77,FILTRO!$A71:$AY696,18,FALSE),0)","v":123},{"$f":"IFERROR(VLOOKUP($A77,FILTRO!$A71:$AY696,19,FALSE),0)","v":82},{"$f":"IFERROR(VLOOKUP($A77,FILTRO!$A71:$AY696,20,FALSE),0)","v":107},{"$f":"IFERROR(VLOOKUP($A77,FILTRO!$A71:$AY696,21,FALSE),0)","v":80},{"$f":"IFERROR(VLOOKUP($A77,FILTRO!$A71:$AY696,22,FALSE),0)","v":119},{"$f":"IFERROR(VLOOKUP($A77,FILTRO!$A71:$AY696,23,FALSE),0)","v":84},{"$f":"IFERROR(VLOOKUP($A77,FILTRO!$A71:$AY696,24,FALSE),0)","v":119},{"$f":"IFERROR(VLOOKUP($A77,FILTRO!$A71:$AY696,25,FALSE),0)","v":75},{"$f":"IFERROR(VLOOKUP($A77,FILTRO!$A71:$AY696,26,FALSE),0)","v":145},{"$f":"IFERROR(VLOOKUP($A77,FILTRO!$A71:$AY696,27,FALSE),0)","v":72},{"$f":"IFERROR(VLOOKUP($A77,FILTRO!$A71:$AY696,28,FALSE),0)","v":155},{"$f":"IFERROR(VLOOKUP($A77,FILTRO!$A71:$AY696,29,FALSE),0)","v":52},{"$f":"IFERROR(VLOOKUP($A77,FILTRO!$A71:$AY696,30,FALSE),0)","v":124},{"$f":"IFERROR(VLOOKUP($A77,FILTRO!$A71:$AY696,31,FALSE),0)","v":38},{"$f":"IFERROR(VLOOKUP($A77,FILTRO!$A71:$AY696,32,FALSE),0)","v":97},{"$f":"IFERROR(VLOOKUP($A77,FILTRO!$A71:$AY696,33,FALSE),0)","v":20},{"$f":"IFERROR(VLOOKUP($A77,FILTRO!$A71:$AY696,34,FALSE),0)","v":62},{"$f":"IFERROR(VLOOKUP($A77,FILTRO!$A71:$AY696,35,FALSE),0)","v":13},{"$f":"IFERROR(VLOOKUP($A77,FILTRO!$A71:$AY696,36,FALSE),0)","v":42},{"$f":"IFERROR(VLOOKUP($A77,FILTRO!$A71:$AY696,37,FALSE),0)","v":6},{"$f":"IFERROR(VLOOKUP($A77,FILTRO!$A71:$AY696,38,FALSE),0)","v":27},{"$f":"IFERROR(VLOOKUP($A77,FILTRO!$A71:$AY696,39,FALSE),0)","v":3},{"$f":"IFERROR(VLOOKUP($A77,FILTRO!$A71:$AY696,40,FALSE),0)","v":19},{"$f":"IFERROR(VLOOKUP($A77,FILTRO!$A71:$AY696,41,FALSE),0)","v":8},{"$f":"IFERROR(VLOOKUP($A77,FILTRO!$A71:$AY696,42,FALSE),0)","v":12},{"$f":"IFERROR(VLOOKUP($A77,FILTRO!$A71:$AY696,43,FALSE),0)","v":3},{"$f":"IFERROR(VLOOKUP($A77,FILTRO!$A71:$AY696,44,FALSE),0)","v":1},{"$f":"IFERROR(VLOOKUP($A77,FILTRO!$A71:$AY696,45,FALSE),0)","v":3},{"$f":"IFERROR(VLOOKUP($A77,FILTRO!$A71:$AY696,46,FALSE),0)","v":30},{"$f":"IFERROR(VLOOKUP($A77,FILTRO!$A71:$AY696,47,FALSE),0)","v":989},{"$f":"IFERROR(VLOOKUP($A77,FILTRO!$A71:$AY696,48,FALSE),0)","v":3},{"$f":"IFERROR(VLOOKUP($A77,FILTRO!$A71:$AY696,49,FALSE),0)","v":5},{"$nulls":35},"",{"$f":"IF($AP77>$F77,\"* La celda 'Madres de Hijos menor de 5 años' debe ser menor o igual al Total de Mujeres en control. \",\"\")","v":""},"",{"$f":"IF($AR77>$F77,\"* La celda 'Pueblos Originarios / Mujeres' debe ser menor o igual al Total de Mujeres en control. \",\"\")","v":""},"",{"$f":"IF($AT77>$F77,\"* La celda 'Población Migrantes / Mujeres' debe ser menor o igual al Total de Mujeres en control. \",\"\")","v":""},"","",{"$f":"IF(AND($D77<>0,$AP77=\"\"),\"* No olvide escribir en la celda de 'Madres de Hijos menor de 5 años' (Digite CERO si no tiene). \",\"\")","v":""},null,"","","",null,"","",{"$nulls":4},0,{"$f":"IF($AP77>$F77,1,0)","v":0},0,{"$f":"IF($AR77>$F77,1,0)","v":0},0,{"$f":"IF($AT77>$F77,1,0)","v":0},0,0,0,null,0,0,0,null,0,0]
["P6223180","TRASTORNOS DEL HUMOR\n(AFECTIVOS)","DEPRESIÓN REFRACTARIA",{"$f":"IFERROR(VLOOKUP($A78,FILTRO!$A72:$AY697,2,FALSE),0)","v":252},{"$f":"IFERROR(VLOOKUP($A78,FILTRO!$A72:$AY697,3,FALSE),0)","v":45},{"$f":"IFERROR(VLOOKUP($A78,FILTRO!$A72:$AY697,4,FALSE),0)","v":207},{"$f":"IFERROR(VLOOKUP($A78,FILTRO!$A72:$AY697,5,FALSE),0)","v":0},{"$f":"IFERROR(VLOOKUP($A78,FILTRO!$A72:$AY697,6,FALSE),0)","v":1},{"$f":"IFERROR(VLOOKUP($A78,FILTRO!$A72:$AY697,7,FALSE),0)","v":0},{"$f":"IFERROR(VLOOKUP($A78,FILTRO!$A72:$AY697,8,FALSE),0)","v":0},{"$f":"IFERROR(VLOOKUP($A78,FILTRO!$A72:$AY697,9,FALSE),0)","v":4},{"$f":"IFERROR(VLOOKUP($A78,FILTRO!$A72:$AY697,10,FALSE),0)","v":4},{"$f":"IFERROR(VLOOKUP($A78,FILTRO!$A72:$AY697,11,FALSE),0)","v":0},{"$f":"IFERROR(VLOOKUP($A78,FILTRO!$A72:$AY697,12,FALSE),0)","v":12},{"$f":"IFERROR(VLOOKUP($A78,FILTRO!$A72:$AY697,13,FALSE),0)","v":2},{"$f":"IFERROR(VLOOKUP($A78,FILTRO!$A72:$AY697,14,FALSE),0)","v":4},{"$f":"IFERROR(VLOOKUP($A78,FILTRO!$A72:$AY697,15,FALSE),0)","v":3},{"$f":"IFERROR(VLOOKUP($A78,FILTRO!$A72:$AY697,16,FALSE),0)","v":10},{"$f":"IFERROR(VLOOKUP($A78,FILTRO!$A72:$AY697,17,FALSE),0)","v":2},{"$f":"IFERROR(VLOOKUP($A78,FILTRO!$A72:$AY697,18,FALSE),0)","v":12},{"$f":"IFERROR(VLOOKUP($A78,FILTRO!$A72:$AY697,19,FALSE),0)","v":2},{"$f":"IFERROR(VLOOKUP($A78,FILTRO!$A72:$AY697,20,FALSE),0)","v":14},{"$f":"IFERROR(VLOOKUP($A78,FILTRO!$A72:$AY697,21,FALSE),0)","v":2},{"$f":"IFERROR(VLOOKUP($A78,FILTRO!$A72:$AY697,22,FALSE),0)","v":9},{"$f":"IFERROR(VLOOKUP($A78,FILTRO!$A72:$AY697,23,FALSE),0)","v":3},{"$f":"IFERROR(VLOOKUP($A78,FILTRO!$A72:$AY697,24,FALSE),0)","v":16},{"$f":"IFERROR(VLOOKUP($A78,FILTRO!$A72:$AY697,25,FALSE),0)","v":0},{"$f":"IFERROR(VLOOKUP($A78,FILTRO!$A72:$AY697,26,FALSE),0)","v":26},{"$f":"IFERROR(VLOOKUP($A78,FILTRO!$A72:$AY697,27,FALSE),0)","v":9},{"$f":"IFERROR(VLOOKUP($A78,FILTRO!$A72:$AY697,28,FALSE),0)","v":26},{"$f":"IFERROR(VLOOKUP($A78,FILTRO!$A72:$AY697,29,FALSE),0)","v":4},{"$f":"IFERROR(VLOOKUP($A78,FILTRO!$A72:$AY697,30,FALSE),0)","v":21},{"$f":"IFERROR(VLOOKUP($A78,FILTRO!$A72:$AY697,31,FALSE),0)","v":4},{"$f":"IFERROR(VLOOKUP($A78,FILTRO!$A72:$AY697,32,FALSE),0)","v":22},{"$f":"IFERROR(VLOOKUP($A78,FILTRO!$A72:$AY697,33,FALSE),0)","v":8},{"$f":"IFERROR(VLOOKUP($A78,FILTRO!$A72:$AY697,34,FALSE),0)","v":17},{"$f":"IFERROR(VLOOKUP($A78,FILTRO!$A72:$AY697,35,FALSE),0)","v":1},{"$f":"IFERROR(VLOOKUP($A78,FILTRO!$A72:$AY697,36,FALSE),0)","v":7},{"$f":"IFERROR(VLOOKUP($A78,FILTRO!$A72:$AY697,37,FALSE),0)","v":1},{"$f":"IFERROR(VLOOKUP($A78,FILTRO!$A72:$AY697,38,FALSE),0)","v":6},{"$f":"IFERROR(VLOOKUP($A78,FILTRO!$A72:$AY697,39,FALSE),0)","v":0},{"$f":"IFERROR(VLOOKUP($A78,FILTRO!$A72:$AY697,40,FALSE),0)","v":0},{"$f":"IFERROR(VLOOKUP($A78,FILTRO!$A72:$AY697,41,FALSE),0)","v":0},{"$f":"IFERROR(VLOOKUP($A78,FILTRO!$A72:$AY697,42,FALSE),0)","v":0},{"$f":"IFERROR(VLOOKUP($A78,FILTRO!$A72:$AY697,43,FALSE),0)","v":0},{"$f":"IFERROR(VLOOKUP($A78,FILTRO!$A72:$AY697,44,FALSE),0)","v":0},{"$f":"IFERROR(VLOOKUP($A78,FILTRO!$A72:$AY697,45,FALSE),0)","v":0},{"$f":"IFERROR(VLOOKUP($A78,FILTRO!$A72:$AY697,46,FALSE),0)","v":0},{"$f":"IFERROR(VLOOKUP($A78,FILTRO!$A72:$AY697,47,FALSE),0)","v":91},{"$f":"IFERROR(VLOOKUP($A78,FILTRO!$A72:$AY697,48,FALSE),0)","v":0},{"$f":"IFERROR(VLOOKUP($A78,FILTRO!$A72:$AY697,49,FALSE),0)","v":0},{"$nulls":35},"","","","","","","","","",null,"","","",null,"","",{"$nulls":4},0,0,0,0,0,0,0,0,0,null,0,0,0,null,0,0]
["P6223190",null,"DEPRESIÓN GRAVE CON PSICOSIS",{"$f":"IFERROR(VLOOKUP($A79,FILTRO!$A73:$AY698,2,FALSE),0)","v":125},{"$f":"IFERROR(VLOOKUP($A79,FILTRO!$A73:$AY698,3,FALSE),0)","v":27},{"$f":"IFERROR(VLOOKUP($A79,FILTRO!$A73:$AY698,4,FALSE),0)","v":98},{"$f":"IFERROR(VLOOKUP($A79,FILTRO!$A73:$AY698,5,FALSE),0)","v":0},{"$f":"IFERROR(VLOOKUP($A79,FILTRO!$A73:$AY698,6,FALSE),0)","v":0},{"$f":"IFERROR(VLOOKUP($A79,FILTRO!$A73:$AY698,7,FALSE),0)","v":0},{"$f":"IFERROR(VLOOKUP($A79,FILTRO!$A73:$AY698,8,FALSE),0)","v":0},{"$f":"IFERROR(VLOOKUP($A79,FILTRO!$A73:$AY698,9,FALSE),0)","v":2},{"$f":"IFERROR(VLOOKUP($A79,FILTRO!$A73:$AY698,10,FALSE),0)","v":3},{"$f":"IFERROR(VLOOKUP($A79,FILTRO!$A73:$AY698,11,FALSE),0)","v":3},{"$f":"IFERROR(VLOOKUP($A79,FILTRO!$A73:$AY698,12,FALSE),0)","v":10},{"$f":"IFERROR(VLOOKUP($A79,FILTRO!$A73:$AY698,13,FALSE),0)","v":1},{"$f":"IFERROR(VLOOKUP($A79,FILTRO!$A73:$AY698,14,FALSE),0)","v":7},{"$f":"IFERROR(VLOOKUP($A79,FILTRO!$A73:$AY698,15,FALSE),0)","v":3},{"$f":"IFERROR(VLOOKUP($A79,FILTRO!$A73:$AY698,16,FALSE),0)","v":5},{"$f":"IFERROR(VLOOKUP($A79,FILTRO!$A73:$AY698,17,FALSE),0)","v":1},{"$f":"IFERROR(VLOOKUP($A79,FILTRO!$A73:$AY698,18,FALSE),0)","v":6},{"$f":"IFERROR(VLOOKUP($A79,FILTRO!$A73:$AY698,19,FALSE),0)","v":0},{"$f":"IFERROR(VLOOKUP($A79,FILTRO!$A73:$AY698,20,FALSE),0)","v":9},{"$f":"IFERROR(VLOOKUP($A79,FILTRO!$A73:$AY698,21,FALSE),0)","v":3},{"$f":"IFERROR(VLOOKUP($A79,FILTRO!$A73:$AY698,22,FALSE),0)","v":15},{"$f":"IFERROR(VLOOKUP($A79,FILTRO!$A73:$AY698,23,FALSE),0)","v":3},{"$f":"IFERROR(VLOOKUP($A79,FILTRO!$A73:$AY698,24,FALSE),0)","v":8},{"$f":"IFERROR(VLOOKUP($A79,FILTRO!$A73:$AY698,25,FALSE),0)","v":3},{"$f":"IFERROR(VLOOKUP($A79,FILTRO!$A73:$AY698,26,FALSE),0)","v":8},{"$f":"IFERROR(VLOOKUP($A79,FILTRO!$A73:$AY698,27,FALSE),0)","v":0},{"$f":"IFERROR(VLOOKUP($A79,FILTRO!$A73:$AY698,28,FALSE),0)","v":7},{"$f":"IFERROR(VLOOKUP($A79,FILTRO!$A73:$AY698,29,FALSE),0)","v":2},{"$f":"IFERROR(VLOOKUP($A79,FILTRO!$A73:$AY698,30,FALSE),0)","v":7},{"$f":"IFERROR(VLOOKUP($A79,FILTRO!$A73:$AY698,31,FALSE),0)","v":4},{"$f":"IFERROR(VLOOKUP($A79,FILTRO!$A73:$AY698,32,FALSE),0)","v":7},{"$f":"IFERROR(VLOOKUP($A79,FILTRO!$A73:$AY698,33,FALSE),0)","v":0},{"$f":"IFERROR(VLOOKUP($A79,FILTRO!$A73:$AY698,34,FALSE),0)","v":1},{"$f":"IFERROR(VLOOKUP($A79,FILTRO!$A73:$AY698,35,FALSE),0)","v":1},{"$f":"IFERROR(VLOOKUP($A79,FILTRO!$A73:$AY698,36,FALSE),0)","v":0},{"$f":"IFERROR(VLOOKUP($A79,FILTRO!$A73:$AY698,37,FALSE),0)","v":1},{"$f":"IFERROR(VLOOKUP($A79,FILTRO!$A73:$AY698,38,FALSE),0)","v":5},{"$f":"IFERROR(VLOOKUP($A79,FILTRO!$A73:$AY698,39,FALSE),0)","v":0},{"$f":"IFERROR(VLOOKUP($A79,FILTRO!$A73:$AY698,40,FALSE),0)","v":1},{"$f":"IFERROR(VLOOKUP($A79,FILTRO!$A73:$AY698,41,FALSE),0)","v":0},{"$f":"IFERROR(VLOOKUP($A79,FILTRO!$A73:$AY698,42,FALSE),0)","v":0},{"$f":"IFERROR(VLOOKUP($A79,FILTRO!$A73:$AY698,43,FALSE),0)","v":0},{"$f":"IFERROR(VLOOKUP($A79,FILTRO!$A73:$AY698,44,FALSE),0)","v":0},{"$f":"IFERROR(VLOOKUP($A79,FILTRO!$A73:$AY698,45,FALSE),0)","v":0},{"$f":"IFERROR(VLOOKUP($A79,FILTRO!$A73:$AY698,46,FALSE),0)","v":0},{"$f":"IFERROR(VLOOKUP($A79,FILTRO!$A73:$AY698,47,FALSE),0)","v":16},{"$f":"IFERROR(VLOOKUP($A79,FILTRO!$A73:$AY698,48,FALSE),0)","v":0},{"$f":"IFERROR(VLOOKUP($A79,FILTRO!$A73:$AY698,49,FALSE),0)","v":2},{"$nulls":35},"","","","","","","","","",null,"","","",null,"","",{"$nulls":4},0,0,0,0,0,0,0,0,0,null,0,0,0,null,0,0]
["P6223200",null,"DEPRESIÓN CON ALTO RIESGO SUICIDA",{"$f":"IFERROR(VLOOKUP($A80,FILTRO!$A74:$AY699,2,FALSE),0)","v":200},{"$f":"IFERROR(VLOOKUP($A80,FILTRO!$A74:$AY699,3,FALSE),0)","v":44},{"$f":"IFERROR(VLOOKUP($A80,FILTRO!$A74:$AY699,4,FALSE),0)","v":156},{"$f":"IFERROR(VLOOKUP($A80,FILTRO!$A74:$AY699,5,FALSE),0)","v":0},{"$f":"IFERROR(VLOOKUP($A80,FILTRO!$A74:$AY699,6,FALSE),0)","v":0},{"$f":"IFERROR(VLOOKUP($A80,FILTRO!$A74:$AY699,7,FALSE),0)","v":0},{"$f":"IFERROR(VLOOKUP($A80,FILTRO!$A74:$AY699,8,FALSE),0)","v":0},{"$f":"IFERROR(VLOOKUP($A80,FILTRO!$A74:$AY699,9,FALSE),0)","v":1},{"$f":"IFERROR(VLOOKUP($A80,FILTRO!$A74:$AY699,10,FALSE),0)","v":26},{"$f":"IFERROR(VLOOKUP($A80,FILTRO!$A74:$AY699,11,FALSE),0)","v":12},{"$f":"IFERROR(VLOOKUP($A80,FILTRO!$A74:$AY699,12,FALSE),0)","v":37},{"$f":"IFERROR(VLOOKUP($A80,FILTRO!$A74:$AY699,13,FALSE),0)","v":2},{"$f":"IFERROR(VLOOKUP($A80,FILTRO!$A74:$AY699,14,FALSE),0)","v":17},{"$f":"IFERROR(VLOOKUP($A80,FILTRO!$A74:$AY699,15,FALSE),0)","v":5},{"$f":"IFERROR(VLOOKUP($A80,FILTRO!$A74:$AY699,16,FALSE),0)","v":5},{"$f":"IFERROR(VLOOKUP($A80,FILTRO!$A74:$AY699,17,FALSE),0)","v":4},{"$f":"IFERROR(VLOOKUP($A80,FILTRO!$A74:$AY699,18,FALSE),0)","v":11},{"$f":"IFERROR(VLOOKUP($A80,FILTRO!$A74:$AY699,19,FALSE),0)","v":3},{"$f":"IFERROR(VLOOKUP($A80,FILTRO!$A74:$AY699,20,FALSE),0)","v":9},{"$f":"IFERROR(VLOOKUP($A80,FILTRO!$A74:$AY699,21,FALSE),0)","v":4},{"$f":"IFERROR(VLOOKUP($A80,FILTRO!$A74:$AY699,22,FALSE),0)","v":11},{"$f":"IFERROR(VLOOKUP($A80,FILTRO!$A74:$AY699,23,FALSE),0)","v":2},{"$f":"IFERROR(VLOOKUP($A80,FILTRO!$A74:$AY699,24,FALSE),0)","v":8},{"$f":"IFERROR(VLOOKUP($A80,FILTRO!$A74:$AY699,25,FALSE),0)","v":5},{"$f":"IFERROR(VLOOKUP($A80,FILTRO!$A74:$AY699,26,FALSE),0)","v":10},{"$f":"IFERROR(VLOOKUP($A80,FILTRO!$A74:$AY699,27,FALSE),0)","v":1},{"$f":"IFERROR(VLOOKUP($A80,FILTRO!$A74:$AY699,28,FALSE),0)","v":9},{"$f":"IFERROR(VLOOKUP($A80,FILTRO!$A74:$AY699,29,FALSE),0)","v":2},{"$f":"IFERROR(VLOOKUP($A80,FILTRO!$A74:$AY699,30,FALSE),0)","v":5},{"$f":"IFERROR(VLOOKUP($A80,FILTRO!$A74:$AY699,31,FALSE),0)","v":1},{"$f":"IFERROR(VLOOKUP($A80,FILTRO!$A74:$AY699,32,FALSE),0)","v":6},{"$f":"IFERROR(VLOOKUP($A80,FILTRO!$A74:$AY699,33,FALSE),0)","v":1},{"$f":"IFERROR(VLOOKUP($A80,FILTRO!$A74:$AY699,34,FALSE),0)","v":1},{"$f":"IFERROR(VLOOKUP($A80,FILTRO!$A74:$AY699,35,FALSE),0)","v":0},{"$f":"IFERROR(VLOOKUP($A80,FILTRO!$A74:$AY699,36,FALSE),0)","v":0},{"$f":"IFERROR(VLOOKUP($A80,FILTRO!$A74:$AY699,37,FALSE),0)","v":1},{"$f":"IFERROR(VLOOKUP($A80,FILTRO!$A74:$AY699,38,FALSE),0)","v":1},{"$f":"IFERROR(VLOOKUP($A80,FILTRO!$A74:$AY699,39,FALSE),0)","v":0},{"$f":"IFERROR(VLOOKUP($A80,FILTRO!$A74:$AY699,40,FALSE),0)","v":3},{"$f":"IFERROR(VLOOKUP($A80,FILTRO!$A74:$AY699,41,FALSE),0)","v":1},{"$f":"IFERROR(VLOOKUP($A80,FILTRO!$A74:$AY699,42,FALSE),0)","v":5},{"$f":"IFERROR(VLOOKUP($A80,FILTRO!$A74:$AY699,43,FALSE),0)","v":0},{"$f":"IFERROR(VLOOKUP($A80,FILTRO!$A74:$AY699,44,FALSE),0)","v":0},{"$f":"IFERROR(VLOOKUP($A80,FILTRO!$A74:$AY699,45,FALSE),0)","v":2},{"$f":"IFERROR(VLOOKUP($A80,FILTRO!$A74:$AY699,46,FALSE),0)","v":9},{"$f":"IFERROR(VLOOKUP($A80,FILTRO!$A74:$AY699,47,FALSE),0)","v":72},{"$f":"IFERROR(VLOOKUP($A80,FILTRO!$A74:$AY699,48,FALSE),0)","v":1},{"$f":"IFERROR(VLOOKUP($A80,FILTRO!$A74:$AY699,49,FALSE),0)","v":1},{"$nulls":35},"","","","","","","","","",null,"","","",null,"","",{"$nulls":4},0,0,0,0,0,0,0,0,0,null,0,0,0,null,0,0]
["P6223210",null,"DEPRESIÓN POST PARTO",{"$f":"IFERROR(VLOOKUP($A81,FILTRO!$A75:$AY700,2,FALSE),0)","v":1},{"$f":"IFERROR(VLOOKUP($A81,FILTRO!$A75:$AY700,3,FALSE),0)","v":0},{"$f":"IFERROR(VLOOKUP($A81,FILTRO!$A75:$AY700,4,FALSE),0)","v":1},{"$f":"IFERROR(VLOOKUP($A81,FILTRO!$A75:$AY700,5,FALSE),0)","v":0},{"$f":"IFERROR(VLOOKUP($A81,FILTRO!$A75:$AY700,6,FALSE),0)","v":0},{"$f":"IFERROR(VLOOKUP($A81,FILTRO!$A75:$AY700,7,FALSE),0)","v":0},{"$f":"IFERROR(VLOOKUP($A81,FILTRO!$A75:$AY700,8,FALSE),0)","v":0},{"$f":"IFERROR(VLOOKUP($A81,FILTRO!$A75:$AY700,9,FALSE),0)","v":0},{"$f":"IFERROR(VLOOKUP($A81,FILTRO!$A75:$AY700,10,FALSE),0)","v":0},{"$f":"IFERROR(VLOOKUP($A81,FILTRO!$A75:$AY700,11,FALSE),0)","v":0},{"$f":"IFERROR(VLOOKUP($A81,FILTRO!$A75:$AY700,12,FALSE),0)","v":0},{"$f":"IFERROR(VLOOKUP($A81,FILTRO!$A75:$AY700,13,FALSE),0)","v":0},{"$f":"IFERROR(VLOOKUP($A81,FILTRO!$A75:$AY700,14,FALSE),0)","v":0},{"$f":"IFERROR(VLOOKUP($A81,FILTRO!$A75:$AY700,15,FALSE),0)","v":0},{"$f":"IFERROR(VLOOKUP($A81,FILTRO!$A75:$AY700,16,FALSE),0)","v":0},{"$f":"IFERROR(VLOOKUP($A81,FILTRO!$A75:$AY700,17,FALSE),0)","v":0},{"$f":"IFERROR(VLOOKUP($A81,FILTRO!$A75:$AY700,18,FALSE),0)","v":0},{"$f":"IFERROR(VLOOKUP($A81,FILTRO!$A75:$AY700,19,FALSE),0)","v":0},{"$f":"IFERROR(VLOOKUP($A81,FILTRO!$A75:$AY700,20,FALSE),0)","v":0},{"$f":"IFERROR(VLOOKUP($A81,FILTRO!$A75:$AY700,21,FALSE),0)","v":0},{"$f":"IFERROR(VLOOKUP($A81,FILTRO!$A75:$AY700,22,FALSE),0)","v":1},{"$f":"IFERROR(VLOOKUP($A81,FILTRO!$A75:$AY700,23,FALSE),0)","v":0},{"$f":"IFERROR(VLOOKUP($A81,FILTRO!$A75:$AY700,24,FALSE),0)","v":0},{"$f":"IFERROR(VLOOKUP($A81,FILTRO!$A75:$AY700,25,FALSE),0)","v":0},{"$f":"IFERROR(VLOOKUP($A81,FILTRO!$A75:$AY700,26,FALSE),0)","v":0},{"$f":"IFERROR(VLOOKUP($A81,FILTRO!$A75:$AY700,27,FALSE),0)","v":0},{"$f":"IFERROR(VLOOKUP($A81,FILTRO!$A75:$AY700,28,FALSE),0)","v":0},{"$f":"IFERROR(VLOOKUP($A81,FILTRO!$A75:$AY700,29,FALSE),0)","v":0},{"$f":"IFERROR(VLOOKUP($A81,FILTRO!$A75:$AY700,30,FALSE),0)","v":0},{"$f":"IFERROR(VLOOKUP($A81,FILTRO!$A75:$AY700,31,FALSE),0)","v":0},{"$f":"IFERROR(VLOOKUP($A81,FILTRO!$A75:$AY700,32,FALSE),0)","v":0},{"$f":"IFERROR(VLOOKUP($A81,FILTRO!$A75:$AY700,33,FALSE),0)","v":0},{"$f":"IFERROR(VLOOKUP($A81,FILTRO!$A75:$AY700,34,FALSE),0)","v":0},{"$f":"IFERROR(VLOOKUP($A81,FILTRO!$A75:$AY700,35,FALSE),0)","v":0},{"$f":"IFERROR(VLOOKUP($A81,FILTRO!$A75:$AY700,36,FALSE),0)","v":0},{"$f":"IFERROR(VLOOKUP($A81,FILTRO!$A75:$AY700,37,FALSE),0)","v":0},{"$f":"IFERROR(VLOOKUP($A81,FILTRO!$A75:$AY700,38,FALSE),0)","v":0},{"$f":"IFERROR(VLOOKUP($A81,FILTRO!$A75:$AY700,39,FALSE),0)","v":0},{"$f":"IFERROR(VLOOKUP($A81,FILTRO!$A75:$AY700,40,FALSE),0)","v":0},{"$f":"IFERROR(VLOOKUP($A81,FILTRO!$A75:$AY700,41,FALSE),0)","v":0},{"$f":"IFERROR(VLOOKUP($A81,FILTRO!$A75:$AY700,42,FALSE),0)","v":0},{"$f":"IFERROR(VLOOKUP($A81,FILTRO!$A75:$AY700,43,FALSE),0)","v":0},{"$f":"IFERROR(VLOOKUP($A81,FILTRO!$A75:$AY700,44,FALSE),0)","v":0},{"$f":"IFERROR(VLOOKUP($A81,FILTRO!$A75:$AY700,45,FALSE),0)","v":0},{"$f":"IFERROR(VLOOKUP($A81,FILTRO!$A75:$AY700,46,FALSE),0)","v":0},{"$f":"IFERROR(VLOOKUP($A81,FILTRO!$A75:$AY700,47,FALSE),0)","v":0},{"$f":"IFERROR(VLOOKUP($A81,FILTRO!$A75:$AY700,48,FALSE),0)","v":0},{"$f":"IFERROR(VLOOKUP($A81,FILTRO!$A75:$AY700,49,FALSE),0)","v":0},{"$nulls":36},"",null,"",null,"",{"$f":"IF($AV81>$F81,\"* La celda 'Población SENAME' debe ser menor o igual al Total de Mujeres en control. \",\"\")","v":""},null,"",null,{"$f":"IF(AND($F81<>0,$AR81=\"\"),\"* No olvide escribir en las celdas de 'Pueblos Originarios / Mujeres' (Digite CERO si no tiene). \",\"\")","v":""},{"$f":"IF(AND($F81<>0,$AT81=\"\"),\"* No olvide escribir en las celdas de ''Población Migrantes / Mujeres' (Digite CERO si no tiene). \",\"\")","v":""},{"$f":"IF(AND($F81<>0,$AV81=\"\"),\"* No olvide escribir en las celdas de 'Población SENAME' (Digite CERO si no tiene). \",\"\")","v":""},null,"","",{"$nulls":5},0,null,0,null,0,{"$f":"IF($AV81>$F81,1,0)","v":0},null,{"$f":"IF(AND($F81<>0,$AP81=\"\"),1,0)","v":0},null,{"$f":"IF(AND($F81<>0,$AR81=\"\"),1,0)","v":0},{"$f":"IF(AND($F81<>0,$AT81=\"\"),1,0)","v":0},0,null,0,0]
["P6223220",null,"TRASTORNO BIPOLAR",{"$f":"IFERROR(VLOOKUP($A82,FILTRO!$A76:$AY701,2,FALSE),0)","v":524},{"$f":"IFERROR(VLOOKUP($A82,FILTRO!$A76:$AY701,3,FALSE),0)","v":138},{"$f":"IFERROR(VLOOKUP($A82,FILTRO!$A76:$AY701,4,FALSE),0)","v":386},{"$f":"IFERROR(VLOOKUP($A82,FILTRO!$A76:$AY701,5,FALSE),0)","v":0},{"$f":"IFERROR(VLOOKUP($A82,FILTRO!$A76:$AY701,6,FALSE),0)","v":1},{"$f":"IFERROR(VLOOKUP($A82,FILTRO!$A76:$AY701,7,FALSE),0)","v":0},{"$f":"IFERROR(VLOOKUP($A82,FILTRO!$A76:$AY701,8,FALSE),0)","v":0},{"$f":"IFERROR(VLOOKUP($A82,FILTRO!$A76:$AY701,9,FALSE),0)","v":1},{"$f":"IFERROR(VLOOKUP($A82,FILTRO!$A76:$AY701,10,FALSE),0)","v":2},{"$f":"IFERROR(VLOOKUP($A82,FILTRO!$A76:$AY701,11,FALSE),0)","v":7},{"$f":"IFERROR(VLOOKUP($A82,FILTRO!$A76:$AY701,12,FALSE),0)","v":13},{"$f":"IFERROR(VLOOKUP($A82,FILTRO!$A76:$AY701,13,FALSE),0)","v":16},{"$f":"IFERROR(VLOOKUP($A82,FILTRO!$A76:$AY701,14,FALSE),0)","v":22},{"$f":"IFERROR(VLOOKUP($A82,FILTRO!$A76:$AY701,15,FALSE),0)","v":15},{"$f":"IFERROR(VLOOKUP($A82,FILTRO!$A76:$AY701,16,FALSE),0)","v":21},{"$f":"IFERROR(VLOOKUP($A82,FILTRO!$A76:$AY701,17,FALSE),0)","v":18},{"$f":"IFERROR(VLOOKUP($A82,FILTRO!$A76:$AY701,18,FALSE),0)","v":36},{"$f":"IFERROR(VLOOKUP($A82,FILTRO!$A76:$AY701,19,FALSE),0)","v":13},{"$f":"IFERROR(VLOOKUP($A82,FILTRO!$A76:$AY701,20,FALSE),0)","v":38},{"$f":"IFERROR(VLOOKUP($A82,FILTRO!$A76:$AY701,21,FALSE),0)","v":14},{"$f":"IFERROR(VLOOKUP($A82,FILTRO!$A76:$AY701,22,FALSE),0)","v":35},{"$f":"IFERROR(VLOOKUP($A82,FILTRO!$A76:$AY701,23,FALSE),0)","v":12},{"$f":"IFERROR(VLOOKUP($A82,FILTRO!$A76:$AY701,24,FALSE),0)","v":40},{"$f":"IFERROR(VLOOKUP($A82,FILTRO!$A76:$AY701,25,FALSE),0)","v":12},{"$f":"IFERROR(VLOOKUP($A82,FILTRO!$A76:$AY701,26,FALSE),0)","v":43},{"$f":"IFERROR(VLOOKUP($A82,FILTRO!$A76:$AY701,27,FALSE),0)","v":10},{"$f":"IFERROR(VLOOKUP($A82,FILTRO!$A76:$AY701,28,FALSE),0)","v":50},{"$f":"IFERROR(VLOOKUP($A82,FILTRO!$A76:$AY701,29,FALSE),0)","v":9},{"$f":"IFERROR(VLOOKUP($A82,FILTRO!$A76:$AY701,30,FALSE),0)","v":33},{"$f":"IFERROR(VLOOKUP($A82,FILTRO!$A76:$AY701,31,FALSE),0)","v":8},{"$f":"IFERROR(VLOOKUP($A82,FILTRO!$A76:$AY701,32,FALSE),0)","v":20},{"$f":"IFERROR(VLOOKUP($A82,FILTRO!$A76:$AY701,33,FALSE),0)","v":2},{"$f":"IFERROR(VLOOKUP($A82,FILTRO!$A76:$AY701,34,FALSE),0)","v":17},{"$f":"IFERROR(VLOOKUP($A82,FILTRO!$A76:$AY701,35,FALSE),0)","v":0},{"$f":"IFERROR(VLOOKUP($A82,FILTRO!$A76:$AY701,36,FALSE),0)","v":9},{"$f":"IFERROR(VLOOKUP($A82,FILTRO!$A76:$AY701,37,FALSE),0)","v":1},{"$f":"IFERROR(VLOOKUP($A82,FILTRO!$A76:$AY701,38,FALSE),0)","v":6},{"$f":"IFERROR(VLOOKUP($A82,FILTRO!$A76:$AY701,39,FALSE),0)","v":2},{"$f":"IFERROR(VLOOKUP($A82,FILTRO!$A76:$AY701,40,FALSE),0)","v":3},{"$f":"IFERROR(VLOOKUP($A82,FILTRO!$A76:$AY701,41,FALSE),0)","v":0},{"$f":"IFERROR(VLOOKUP($A82,FILTRO!$A76:$AY701,42,FALSE),0)","v":1},{"$f":"IFERROR(VLOOKUP($A82,FILTRO!$A76:$AY701,43,FALSE),0)","v":0},{"$f":"IFERROR(VLOOKUP($A82,FILTRO!$A76:$AY701,44,FALSE),0)","v":1},{"$f":"IFERROR(VLOOKUP($A82,FILTRO!$A76:$AY701,45,FALSE),0)","v":0},{"$f":"IFERROR(VLOOKUP($A82,FILTRO!$A76:$AY701,46,FALSE),0)","v":0},{"$f":"IFERROR(VLOOKUP($A82,FILTRO!$A76:$AY701,47,FALSE),0)","v":146},{"$f":"IFERROR(VLOOKUP($A82,FILTRO!$A76:$AY701,48,FALSE),0)","v":0},{"$f":"IFERROR(VLOOKUP($A82,FILTRO!$A76:$AY701,49,FALSE),0)","v":0},{"$nulls":35},{"$f":"IF($AO82>$F82,\"* La celda 'Gestantes' debe ser menor o igual al Total de Mujeres en control. \",\"\")","v":""},"",{"$f":"IF(($AQ82)>$E82,\"* La celda 'Pueblos Originarios / Hombres' debe ser menor o igual al Total de Hombres en control. \",\"\")","v":""},"",{"$f":"IF(($AS82)>$E82,\"* La celda 'Población Migrantes / Hombres' debe ser menor o igual al Total de Hombres en control. \",\"\")","v":""},"",{"$f":"IF($AV82>$D82,\"* La celda 'Población SENAME' debe ser menor o igual al Total de Personas en control. \",\"\")","v":""},{"$f":"IF(AND($D82<>0,$AO82=\"\"),\"* No olvide escribir en la celda de 'Gestantes' (Digite CERO si no tiene). \",\"\")","v":""},"",null,{"$f":"IF(AND($E82<>0,$AQ82=\"\"),\"* No olvide escribir en las celdas de 'Pueblos Originarios' (Digite CERO si no tiene). \",IF(AND($F82<>0,$AR82=\"\"),\"* No olvide escribir en las celdas de 'Pueblos Originarios' (Digite CERO si no tiene). \",\"\"))","v":""},{"$f":"IF(AND($E82<>0,$AS82=\"\"),\"* No olvide escribir en las celdas de 'Población Migrantes' (Digite CERO si no tiene). \",IF(AND($F82<>0,$AT82=\"\"),\"* No olvide escribir en las celdas de 'Población Migrantes' (Digite CERO si no tiene). \",\"\"))","v":""},{"$f":"IF(AND($D82<>0,$AV82=\"\"),\"* No olvide escribir en las celdas de 'Población SENAME' (Digite CERO si no tiene). \",\"\")","v":""},null,"","",{"$nulls":4},{"$f":"IF($AO82>$F82,1,0)","v":0},0,{"$f":"IF(($AQ82)>$E82,1,0)","v":0},0,{"$f":"IF(($AS82)>$E82,1,0)","v":0},0,{"$f":"IF($AV82>$D82,1,0)","v":0},{"$f":"IF(AND($D82<>0,$AO82=\"\"),1,0)","v":0},{"$f":"IF(AND($D82<>0,$AP82=\"\"),1,0)","v":0},null,{"$f":"IF(AND($E82<>0,$AQ82=\"\"),1,IF(AND($F82<>0,$AR82=\"\"),1,0))","v":0},{"$f":"IF(AND($E82<>0,$AS82=\"\"),1,IF(AND($F82<>0,$AT82=\"\"),1,0))","v":0},0,null,0,0]
["P6241117","TRASTORNOS MENTALES Y DEL COMPORTAMIENTO DEBIDO A CONSUMO SUSTANCIAS PSICOTROPICAS","CONSUMO PERJUDICIAL DE ALCOHOL ",{"$f":"IFERROR(VLOOKUP($A83,FILTRO!$A77:$AY702,2,FALSE),0)","v":11},{"$f":"IFERROR(VLOOKUP($A83,FILTRO!$A77:$AY702,3,FALSE),0)","v":5},{"$f":"IFERROR(VLOOKUP($A83,FILTRO!$A77:$AY702,4,FALSE),0)","v":6},{"$f":"IFERROR(VLOOKUP($A83,FILTRO!$A77:$AY702,5,FALSE),0)","v":0},{"$f":"IFERROR(VLOOKUP($A83,FILTRO!$A77:$AY702,6,FALSE),0)","v":0},{"$f":"IFERROR(VLOOKUP($A83,FILTRO!$A77:$AY702,7,FALSE),0)","v":0},{"$f":"IFERROR(VLOOKUP($A83,FILTRO!$A77:$AY702,8,FALSE),0)","v":0},{"$f":"IFERROR(VLOOKUP($A83,FILTRO!$A77:$AY702,9,FALSE),0)","v":0},{"$f":"IFERROR(VLOOKUP($A83,FILTRO!$A77:$AY702,10,FALSE),0)","v":0},{"$f":"IFERROR(VLOOKUP($A83,FILTRO!$A77:$AY702,11,FALSE),0)","v":0},{"$f":"IFERROR(VLOOKUP($A83,FILTRO!$A77:$AY702,12,FALSE),0)","v":0},{"$f":"IFERROR(VLOOKUP($A83,FILTRO!$A77:$AY702,13,FALSE),0)","v":0},{"$f":"IFERROR(VLOOKUP($A83,FILTRO!$A77:$AY702,14,FALSE),0)","v":0},{"$f":"IFERROR(VLOOKUP($A83,FILTRO!$A77:$AY702,15,FALSE),0)","v":0},{"$f":"IFERROR(VLOOKUP($A83,FILTRO!$A77:$AY702,16,FALSE),0)","v":0},{"$f":"IFERROR(VLOOKUP($A83,FILTRO!$A77:$AY702,17,FALSE),0)","v":0},{"$f":"IFERROR(VLOOKUP($A83,FILTRO!$A77:$AY702,18,FALSE),0)","v":1},{"$f":"IFERROR(VLOOKUP($A83,FILTRO!$A77:$AY702,19,FALSE),0)","v":0},{"$f":"IFERROR(VLOOKUP($A83,FILTRO!$A77:$AY702,20,FALSE),0)","v":1},{"$f":"IFERROR(VLOOKUP($A83,FILTRO!$A77:$AY702,21,FALSE),0)","v":3},{"$f":"IFERROR(VLOOKUP($A83,FILTRO!$A77:$AY702,22,FALSE),0)","v":1},{"$f":"IFERROR(VLOOKUP($A83,FILTRO!$A77:$AY702,23,FALSE),0)","v":1},{"$f":"IFERROR(VLOOKUP($A83,FILTRO!$A77:$AY702,24,FALSE),0)","v":0},{"$f":"IFERROR(VLOOKUP($A83,FILTRO!$A77:$AY702,25,FALSE),0)","v":1},{"$f":"IFERROR(VLOOKUP($A83,FILTRO!$A77:$AY702,26,FALSE),0)","v":0},{"$f":"IFERROR(VLOOKUP($A83,FILTRO!$A77:$AY702,27,FALSE),0)","v":0},{"$f":"IFERROR(VLOOKUP($A83,FILTRO!$A77:$AY702,28,FALSE),0)","v":1},{"$f":"IFERROR(VLOOKUP($A83,FILTRO!$A77:$AY702,29,FALSE),0)","v":0},{"$f":"IFERROR(VLOOKUP($A83,FILTRO!$A77:$AY702,30,FALSE),0)","v":1},{"$f":"IFERROR(VLOOKUP($A83,FILTRO!$A77:$AY702,31,FALSE),0)","v":0},{"$f":"IFERROR(VLOOKUP($A83,FILTRO!$A77:$AY702,32,FALSE),0)","v":1},{"$f":"IFERROR(VLOOKUP($A83,FILTRO!$A77:$AY702,33,FALSE),0)","v":0},{"$f":"IFERROR(VLOOKUP($A83,FILTRO!$A77:$AY702,34,FALSE),0)","v":0},{"$f":"IFERROR(VLOOKUP($A83,FILTRO!$A77:$AY702,35,FALSE),0)","v":0},{"$f":"IFERROR(VLOOKUP($A83,FILTRO!$A77:$AY702,36,FALSE),0)","v":0},{"$f":"IFERROR(VLOOKUP($A83,FILTRO!$A77:$AY702,37,FALSE),0)","v":0},{"$f":"IFERROR(VLOOKUP($A83,FILTRO!$A77:$AY702,38,FALSE),0)","v":0},{"$f":"IFERROR(VLOOKUP($A83,FILTRO!$A77:$AY702,39,FALSE),0)","v":0},{"$f":"IFERROR(VLOOKUP($A83,FILTRO!$A77:$AY702,40,FALSE),0)","v":0},{"$f":"IFERROR(VLOOKUP($A83,FILTRO!$A77:$AY702,41,FALSE),0)","v":0},{"$f":"IFERROR(VLOOKUP($A83,FILTRO!$A77:$AY702,42,FALSE),0)","v":0},{"$f":"IFERROR(VLOOKUP($A83,FILTRO!$A77:$AY702,43,FALSE),0)","v":0},{"$f":"IFERROR(VLOOKUP($A83,FILTRO!$A77:$AY702,44,FALSE),0)","v":0},{"$f":"IFERROR(VLOOKUP($A83,FILTRO!$A77:$AY702,45,FALSE),0)","v":0},{"$f":"IFERROR(VLOOKUP($A83,FILTRO!$A77:$AY702,46,FALSE),0)","v":0},{"$f":"IFERROR(VLOOKUP($A83,FILTRO!$A77:$AY702,47,FALSE),0)","v":5},{"$f":"IFERROR(VLOOKUP($A83,FILTRO!$A77:$AY702,48,FALSE),0)","v":0},{"$f":"IFERROR(VLOOKUP($A83,FILTRO!$A77:$AY702,49,FALSE),0)","v":0},{"$nulls":35},{"$f":"IF($AO83>$F83,\"* La celda 'Gestantes' debe ser menor o igual al Total de Mujeres en control. \",\"\")","v":""},"","","","","",{"$f":"IF($AV83>$D83,\"* La celda 'Población SENAME' debe ser menor o igual al Total de Personas en control. \",\"\")","v":""},{"$f":"IF(AND($D83<>0,$AO83=\"\"),\"* No olvide escribir en la celda de 'Gestantes' (Digite CERO si no tiene). \",\"\")","v":""},"",null,"","",{"$f":"IF(AND($D83<>0,$AV83=\"\"),\"* No olvide escribir en las celdas de 'Población SENAME' (Digite CERO si no tiene). \",\"\")","v":""},null,"","",{"$nulls":4},{"$f":"IF($AO83>$F83,1,0)","v":0},0,0,0,0,0,{"$f":"IF($AV83>$D83,1,0)","v":0},{"$f":"IF(AND($D83<>0,$AO83=\"\"),1,0)","v":0},{"$f":"IF(AND($D83<>0,$AP83=\"\"),1,0)","v":0},null,0,0,0,null,0,0]
["P6241118",null,"CONSUMO DEPENDIENTE DEL ALCOHOL ",{"$f":"IFERROR(VLOOKUP($A84,FILTRO!$A78:$AY703,2,FALSE),0)","v":9},{"$f":"IFERROR(VLOOKUP($A84,FILTRO!$A78:$AY703,3,FALSE),0)","v":6},{"$f":"IFERROR(VLOOKUP($A84,FILTRO!$A78:$AY703,4,FALSE),0)","v":3},{"$f":"IFERROR(VLOOKUP($A84,FILTRO!$A78:$AY703,5,FALSE),0)","v":0},{"$f":"IFERROR(VLOOKUP($A84,FILTRO!$A78:$AY703,6,FALSE),0)","v":0},{"$f":"IFERROR(VLOOKUP($A84,FILTRO!$A78:$AY703,7,FALSE),0)","v":0},{"$f":"IFERROR(VLOOKUP($A84,FILTRO!$A78:$AY703,8,FALSE),0)","v":0},{"$f":"IFERROR(VLOOKUP($A84,FILTRO!$A78:$AY703,9,FALSE),0)","v":0},{"$f":"IFERROR(VLOOKUP($A84,FILTRO!$A78:$AY703,10,FALSE),0)","v":0},{"$f":"IFERROR(VLOOKUP($A84,FILTRO!$A78:$AY703,11,FALSE),0)","v":0},{"$f":"IFERROR(VLOOKUP($A84,FILTRO!$A78:$AY703,12,FALSE),0)","v":0},{"$f":"IFERROR(VLOOKUP($A84,FILTRO!$A78:$AY703,13,FALSE),0)","v":0},{"$f":"IFERROR(VLOOKUP($A84,FILTRO!$A78:$AY703,14,FALSE),0)","v":0},{"$f":"IFERROR(VLOOKUP($A84,FILTRO!$A78:$AY703,15,FALSE),0)","v":0},{"$f":"IFERROR(VLOOKUP($A84,FILTRO!$A78:$AY703,16,FALSE),0)","v":0},{"$f":"IFERROR(VLOOKUP($A84,FILTRO!$A78:$AY703,17,FALSE),0)","v":0},{"$f":"IFERROR(VLOOKUP($A84,FILTRO!$A78:$AY703,18,FALSE),0)","v":1},{"$f":"IFERROR(VLOOKUP($A84,FILTRO!$A78:$AY703,19,FALSE),0)","v":0},{"$f":"IFERROR(VLOOKUP($A84,FILTRO!$A78:$AY703,20,FALSE),0)","v":1},{"$f":"IFERROR(VLOOKUP($A84,FILTRO!$A78:$AY703,21,FALSE),0)","v":1},{"$f":"IFERROR(VLOOKUP($A84,FILTRO!$A78:$AY703,22,FALSE),0)","v":1},{"$f":"IFERROR(VLOOKUP($A84,FILTRO!$A78:$AY703,23,FALSE),0)","v":2},{"$f":"IFERROR(VLOOKUP($A84,FILTRO!$A78:$AY703,24,FALSE),0)","v":0},{"$f":"IFERROR(VLOOKUP($A84,FILTRO!$A78:$AY703,25,FALSE),0)","v":1},{"$f":"IFERROR(VLOOKUP($A84,FILTRO!$A78:$AY703,26,FALSE),0)","v":0},{"$f":"IFERROR(VLOOKUP($A84,FILTRO!$A78:$AY703,27,FALSE),0)","v":1},{"$f":"IFERROR(VLOOKUP($A84,FILTRO!$A78:$AY703,28,FALSE),0)","v":0},{"$f":"IFERROR(VLOOKUP($A84,FILTRO!$A78:$AY703,29,FALSE),0)","v":0},{"$f":"IFERROR(VLOOKUP($A84,FILTRO!$A78:$AY703,30,FALSE),0)","v":0},{"$f":"IFERROR(VLOOKUP($A84,FILTRO!$A78:$AY703,31,FALSE),0)","v":0},{"$f":"IFERROR(VLOOKUP($A84,FILTRO!$A78:$AY703,32,FALSE),0)","v":0},{"$f":"IFERROR(VLOOKUP($A84,FILTRO!$A78:$AY703,33,FALSE),0)","v":1},{"$f":"IFERROR(VLOOKUP($A84,FILTRO!$A78:$AY703,34,FALSE),0)","v":0},{"$f":"IFERROR(VLOOKUP($A84,FILTRO!$A78:$AY703,35,FALSE),0)","v":0},{"$f":"IFERROR(VLOOKUP($A84,FILTRO!$A78:$AY703,36,FALSE),0)","v":0},{"$f":"IFERROR(VLOOKUP($A84,FILTRO!$A78:$AY703,37,FALSE),0)","v":0},{"$f":"IFERROR(VLOOKUP($A84,FILTRO!$A78:$AY703,38,FALSE),0)","v":0},{"$f":"IFERROR(VLOOKUP($A84,FILTRO!$A78:$AY703,39,FALSE),0)","v":0},{"$f":"IFERROR(VLOOKUP($A84,FILTRO!$A78:$AY703,40,FALSE),0)","v":0},{"$f":"IFERROR(VLOOKUP($A84,FILTRO!$A78:$AY703,41,FALSE),0)","v":0},{"$f":"IFERROR(VLOOKUP($A84,FILTRO!$A78:$AY703,42,FALSE),0)","v":0},{"$f":"IFERROR(VLOOKUP($A84,FILTRO!$A78:$AY703,43,FALSE),0)","v":0},{"$f":"IFERROR(VLOOKUP($A84,FILTRO!$A78:$AY703,44,FALSE),0)","v":0},{"$f":"IFERROR(VLOOKUP($A84,FILTRO!$A78:$AY703,45,FALSE),0)","v":0},{"$f":"IFERROR(VLOOKUP($A84,FILTRO!$A78:$AY703,46,FALSE),0)","v":0},{"$f":"IFERROR(VLOOKUP($A84,FILTRO!$A78:$AY703,47,FALSE),0)","v":1},{"$f":"IFERROR(VLOOKUP($A84,FILTRO!$A78:$AY703,48,FALSE),0)","v":0},{"$f":"IFERROR(VLOOKUP($A84,FILTRO!$A78:$AY703,49,FALSE),0)","v":0},{"$nulls":35},{"$f":"IF($AO84>$F84,\"* La celda 'Gestantes' debe ser menor o igual al Total de Mujeres en control. \",\"\")","v":""},"","","","","",{"$f":"IF($AV84>$D84,\"* La celda 'Población SENAME' debe ser menor o igual al Total de Personas en control. \",\"\")","v":""},{"$f":"IF(AND($D84<>0,$AO84=\"\"),\"* No olvide escribir en la celda de 'Gestantes' (Digite CERO si no tiene). \",\"\")","v":""},"",null,"","",{"$f":"IF(AND($D84<>0,$AV84=\"\"),\"* No olvide escribir en las celdas de 'Población SENAME' (Digite CERO si no tiene). \",\"\")","v":""},null,"","",{"$nulls":4},{"$f":"IF($AO84>$F84,1,0)","v":0},0,0,0,0,0,{"$f":"IF($AV84>$D84,1,0)","v":0},{"$f":"IF(AND($D84<>0,$AO84=\"\"),1,0)","v":0},{"$f":"IF(AND($D84<>0,$AP84=\"\"),1,0)","v":0},null,0,0,0,null,0,0]
["P6241119",null,"CONSUMO PERJUDICIAL DE DROGAS",{"$f":"IFERROR(VLOOKUP($A85,FILTRO!$A79:$AY704,2,FALSE),0)","v":43},{"$f":"IFERROR(VLOOKUP($A85,FILTRO!$A79:$AY704,3,FALSE),0)","v":27},{"$f":"IFERROR(VLOOKUP($A85,FILTRO!$A79:$AY704,4,FALSE),0)","v":16},{"$f":"IFERROR(VLOOKUP($A85,FILTRO!$A79:$AY704,5,FALSE),0)","v":0},{"$f":"IFERROR(VLOOKUP($A85,FILTRO!$A79:$AY704,6,FALSE),0)","v":0},{"$f":"IFERROR(VLOOKUP($A85,FILTRO!$A79:$AY704,7,FALSE),0)","v":0},{"$f":"IFERROR(VLOOKUP($A85,FILTRO!$A79:$AY704,8,FALSE),0)","v":0},{"$f":"IFERROR(VLOOKUP($A85,FILTRO!$A79:$AY704,9,FALSE),0)","v":0},{"$f":"IFERROR(VLOOKUP($A85,FILTRO!$A79:$AY704,10,FALSE),0)","v":0},{"$f":"IFERROR(VLOOKUP($A85,FILTRO!$A79:$AY704,11,FALSE),0)","v":2},{"$f":"IFERROR(VLOOKUP($A85,FILTRO!$A79:$AY704,12,FALSE),0)","v":3},{"$f":"IFERROR(VLOOKUP($A85,FILTRO!$A79:$AY704,13,FALSE),0)","v":4},{"$f":"IFERROR(VLOOKUP($A85,FILTRO!$A79:$AY704,14,FALSE),0)","v":4},{"$f":"IFERROR(VLOOKUP($A85,FILTRO!$A79:$AY704,15,FALSE),0)","v":11},{"$f":"IFERROR(VLOOKUP($A85,FILTRO!$A79:$AY704,16,FALSE),0)","v":1},{"$f":"IFERROR(VLOOKUP($A85,FILTRO!$A79:$AY704,17,FALSE),0)","v":1},{"$f":"IFERROR(VLOOKUP($A85,FILTRO!$A79:$AY704,18,FALSE),0)","v":1},{"$f":"IFERROR(VLOOKUP($A85,FILTRO!$A79:$AY704,19,FALSE),0)","v":3},{"$f":"IFERROR(VLOOKUP($A85,FILTRO!$A79:$AY704,20,FALSE),0)","v":0},{"$f":"IFERROR(VLOOKUP($A85,FILTRO!$A79:$AY704,21,FALSE),0)","v":2},{"$f":"IFERROR(VLOOKUP($A85,FILTRO!$A79:$AY704,22,FALSE),0)","v":4},{"$f":"IFERROR(VLOOKUP($A85,FILTRO!$A79:$AY704,23,FALSE),0)","v":1},{"$f":"IFERROR(VLOOKUP($A85,FILTRO!$A79:$AY704,24,FALSE),0)","v":1},{"$f":"IFERROR(VLOOKUP($A85,FILTRO!$A79:$AY704,25,FALSE),0)","v":0},{"$f":"IFERROR(VLOOKUP($A85,FILTRO!$A79:$AY704,26,FALSE),0)","v":1},{"$f":"IFERROR(VLOOKUP($A85,FILTRO!$A79:$AY704,27,FALSE),0)","v":2},{"$f":"IFERROR(VLOOKUP($A85,FILTRO!$A79:$AY704,28,FALSE),0)","v":1},{"$f":"IFERROR(VLOOKUP($A85,FILTRO!$A79:$AY704,29,FALSE),0)","v":0},{"$f":"IFERROR(VLOOKUP($A85,FILTRO!$A79:$AY704,30,FALSE),0)","v":0},{"$f":"IFERROR(VLOOKUP($A85,FILTRO!$A79:$AY704,31,FALSE),0)","v":1},{"$f":"IFERROR(VLOOKUP($A85,FILTRO!$A79:$AY704,32,FALSE),0)","v":0},{"$f":"IFERROR(VLOOKUP($A85,FILTRO!$A79:$AY704,33,FALSE),0)","v":0},{"$f":"IFERROR(VLOOKUP($A85,FILTRO!$A79:$AY704,34,FALSE),0)","v":0},{"$f":"IFERROR(VLOOKUP($A85,FILTRO!$A79:$AY704,35,FALSE),0)","v":0},{"$f":"IFERROR(VLOOKUP($A85,FILTRO!$A79:$AY704,36,FALSE),0)","v":0},{"$f":"IFERROR(VLOOKUP($A85,FILTRO!$A79:$AY704,37,FALSE),0)","v":0},{"$f":"IFERROR(VLOOKUP($A85,FILTRO!$A79:$AY704,38,FALSE),0)","v":0},{"$f":"IFERROR(VLOOKUP($A85,FILTRO!$A79:$AY704,39,FALSE),0)","v":0},{"$f":"IFERROR(VLOOKUP($A85,FILTRO!$A79:$AY704,40,FALSE),0)","v":0},{"$f":"IFERROR(VLOOKUP($A85,FILTRO!$A79:$AY704,41,FALSE),0)","v":0},{"$f":"IFERROR(VLOOKUP($A85,FILTRO!$A79:$AY704,42,FALSE),0)","v":0},{"$f":"IFERROR(VLOOKUP($A85,FILTRO!$A79:$AY704,43,FALSE),0)","v":0},{"$f":"IFERROR(VLOOKUP($A85,FILTRO!$A79:$AY704,44,FALSE),0)","v":0},{"$f":"IFERROR(VLOOKUP($A85,FILTRO!$A79:$AY704,45,FALSE),0)","v":0},{"$f":"IFERROR(VLOOKUP($A85,FILTRO!$A79:$AY704,46,FALSE),0)","v":0},{"$f":"IFERROR(VLOOKUP($A85,FILTRO!$A79:$AY704,47,FALSE),0)","v":16},{"$f":"IFERROR(VLOOKUP($A85,FILTRO!$A79:$AY704,48,FALSE),0)","v":0},{"$f":"IFERROR(VLOOKUP($A85,FILTRO!$A79:$AY704,49,FALSE),0)","v":0}]
["P6241120",null,"CONSUMO DEPENDIENTE DE DROGAS ",{"$f":"IFERROR(VLOOKUP($A86,FILTRO!$A80:$AY705,2,FALSE),0)","v":25},{"$f":"IFERROR(VLOOKUP($A86,FILTRO!$A80:$AY705,3,FALSE),0)","v":15},{"$f":"IFERROR(VLOOKUP($A86,FILTRO!$A80:$AY705,4,FALSE),0)","v":10},{"$f":"IFERROR(VLOOKUP($A86,FILTRO!$A80:$AY705,5,FALSE),0)","v":0},{"$f":"IFERROR(VLOOKUP($A86,FILTRO!$A80:$AY705,6,FALSE),0)","v":0},{"$f":"IFERROR(VLOOKUP($A86,FILTRO!$A80:$AY705,7,FALSE),0)","v":0},{"$f":"IFERROR(VLOOKUP($A86,FILTRO!$A80:$AY705,8,FALSE),0)","v":0},{"$f":"IFERROR(VLOOKUP($A86,FILTRO!$A80:$AY705,9,FALSE),0)","v":0},{"$f":"IFERROR(VLOOKUP($A86,FILTRO!$A80:$AY705,10,FALSE),0)","v":0},{"$f":"IFERROR(VLOOKUP($A86,FILTRO!$A80:$AY705,11,FALSE),0)","v":1},{"$f":"IFERROR(VLOOKUP($A86,FILTRO!$A80:$AY705,12,FALSE),0)","v":0},{"$f":"IFERROR(VLOOKUP($A86,FILTRO!$A80:$AY705,13,FALSE),0)","v":3},{"$f":"IFERROR(VLOOKUP($A86,FILTRO!$A80:$AY705,14,FALSE),0)","v":1},{"$f":"IFERROR(VLOOKUP($A86,FILTRO!$A80:$AY705,15,FALSE),0)","v":3},{"$f":"IFERROR(VLOOKUP($A86,FILTRO!$A80:$AY705,16,FALSE),0)","v":2},{"$f":"IFERROR(VLOOKUP($A86,FILTRO!$A80:$AY705,17,FALSE),0)","v":4},{"$f":"IFERROR(VLOOKUP($A86,FILTRO!$A80:$AY705,18,FALSE),0)","v":0},{"$f":"IFERROR(VLOOKUP($A86,FILTRO!$A80:$AY705,19,FALSE),0)","v":3},{"$f":"IFERROR(VLOOKUP($A86,FILTRO!$A80:$AY705,20,FALSE),0)","v":3},{"$f":"IFERROR(VLOOKUP($A86,FILTRO!$A80:$AY705,21,FALSE),0)","v":1},{"$f":"IFERROR(VLOOKUP($A86,FILTRO!$A80:$AY705,22,FALSE),0)","v":3},{"$f":"IFERROR(VLOOKUP($A86,FILTRO!$A80:$AY705,23,FALSE),0)","v":0},{"$f":"IFERROR(VLOOKUP($A86,FILTRO!$A80:$AY705,24,FALSE),0)","v":0},{"$f":"IFERROR(VLOOKUP($A86,FILTRO!$A80:$AY705,25,FALSE),0)","v":0},{"$f":"IFERROR(VLOOKUP($A86,FILTRO!$A80:$AY705,26,FALSE),0)","v":1},{"$f":"IFERROR(VLOOKUP($A86,FILTRO!$A80:$AY705,27,FALSE),0)","v":0},{"$f":"IFERROR(VLOOKUP($A86,FILTRO!$A80:$AY705,28,FALSE),0)","v":0},{"$f":"IFERROR(VLOOKUP($A86,FILTRO!$A80:$AY705,29,FALSE),0)","v":0},{"$f":"IFERROR(VLOOKUP($A86,FILTRO!$A80:$AY705,30,FALSE),0)","v":0},{"$f":"IFERROR(VLOOKUP($A86,FILTRO!$A80:$AY705,31,FALSE),0)","v":0},{"$f":"IFERROR(VLOOKUP($A86,FILTRO!$A80:$AY705,32,FALSE),0)","v":0},{"$f":"IFERROR(VLOOKUP($A86,FILTRO!$A80:$AY705,33,FALSE),0)","v":0},{"$f":"IFERROR(VLOOKUP($A86,FILTRO!$A80:$AY705,34,FALSE),0)","v":0},{"$f":"IFERROR(VLOOKUP($A86,FILTRO!$A80:$AY705,35,FALSE),0)","v":0},{"$f":"IFERROR(VLOOKUP($A86,FILTRO!$A80:$AY705,36,FALSE),0)","v":0},{"$f":"IFERROR(VLOOKUP($A86,FILTRO!$A80:$AY705,37,FALSE),0)","v":0},{"$f":"IFERROR(VLOOKUP($A86,FILTRO!$A80:$AY705,38,FALSE),0)","v":0},{"$f":"IFERROR(VLOOKUP($A86,FILTRO!$A80:$AY705,39,FALSE),0)","v":0},{"$f":"IFERROR(VLOOKUP($A86,FILTRO!$A80:$AY705,40,FALSE),0)","v":1},{"$f":"IFERROR(VLOOKUP($A86,FILTRO!$A80:$AY705,41,FALSE),0)","v":0},{"$f":"IFERROR(VLOOKUP($A86,FILTRO!$A80:$AY705,42,FALSE),0)","v":0},{"$f":"IFERROR(VLOOKUP($A86,FILTRO!$A80:$AY705,43,FALSE),0)","v":0},{"$f":"IFERROR(VLOOKUP($A86,FILTRO!$A80:$AY705,44,FALSE),0)","v":0},{"$f":"IFERROR(VLOOKUP($A86,FILTRO!$A80:$AY705,45,FALSE),0)","v":0},{"$f":"IFERROR(VLOOKUP($A86,FILTRO!$A80:$AY705,46,FALSE),0)","v":0},{"$f":"IFERROR(VLOOKUP($A86,FILTRO!$A80:$AY705,47,FALSE),0)","v":8},{"$f":"IFERROR(VLOOKUP($A86,FILTRO!$A80:$AY705,48,FALSE),0)","v":0},{"$f":"IFERROR(VLOOKUP($A86,FILTRO!$A80:$AY705,49,FALSE),0)","v":0}]
["P6241121",null,"CONSUMO DE DROGAS Y ALCOHOL ",{"$f":"IFERROR(VLOOKUP($A87,FILTRO!$A81:$AY706,2,FALSE),0)","v":23},{"$f":"IFERROR(VLOOKUP($A87,FILTRO!$A81:$AY706,3,FALSE),0)","v":16},{"$f":"IFERROR(VLOOKUP($A87,FILTRO!$A81:$AY706,4,FALSE),0)","v":7},{"$f":"IFERROR(VLOOKUP($A87,FILTRO!$A81:$AY706,5,FALSE),0)","v":0},{"$f":"IFERROR(VLOOKUP($A87,FILTRO!$A81:$AY706,6,FALSE),0)","v":0},{"$f":"IFERROR(VLOOKUP($A87,FILTRO!$A81:$AY706,7,FALSE),0)","v":0},{"$f":"IFERROR(VLOOKUP($A87,FILTRO!$A81:$AY706,8,FALSE),0)","v":0},{"$f":"IFERROR(VLOOKUP($A87,FILTRO!$A81:$AY706,9,FALSE),0)","v":0},{"$f":"IFERROR(VLOOKUP($A87,FILTRO!$A81:$AY706,10,FALSE),0)","v":0},{"$f":"IFERROR(VLOOKUP($A87,FILTRO!$A81:$AY706,11,FALSE),0)","v":0},{"$f":"IFERROR(VLOOKUP($A87,FILTRO!$A81:$AY706,12,FALSE),0)","v":0},{"$f":"IFERROR(VLOOKUP($A87,FILTRO!$A81:$AY706,13,FALSE),0)","v":5},{"$f":"IFERROR(VLOOKUP($A87,FILTRO!$A81:$AY706,14,FALSE),0)","v":0},{"$f":"IFERROR(VLOOKUP($A87,FILTRO!$A81:$AY706,15,FALSE),0)","v":1},{"$f":"IFERROR(VLOOKUP($A87,FILTRO!$A81:$AY706,16,FALSE),0)","v":2},{"$f":"IFERROR(VLOOKUP($A87,FILTRO!$A81:$AY706,17,FALSE),0)","v":2},{"$f":"IFERROR(VLOOKUP($A87,FILTRO!$A81:$AY706,18,FALSE),0)","v":0},{"$f":"IFERROR(VLOOKUP($A87,FILTRO!$A81:$AY706,19,FALSE),0)","v":2},{"$f":"IFERROR(VLOOKUP($A87,FILTRO!$A81:$AY706,20,FALSE),0)","v":0},{"$f":"IFERROR(VLOOKUP($A87,FILTRO!$A81:$AY706,21,FALSE),0)","v":0},{"$f":"IFERROR(VLOOKUP($A87,FILTRO!$A81:$AY706,22,FALSE),0)","v":2},{"$f":"IFERROR(VLOOKUP($A87,FILTRO!$A81:$AY706,23,FALSE),0)","v":2},{"$f":"IFERROR(VLOOKUP($A87,FILTRO!$A81:$AY706,24,FALSE),0)","v":0},{"$f":"IFERROR(VLOOKUP($A87,FILTRO!$A81:$AY706,25,FALSE),0)","v":4},{"$f":"IFERROR(VLOOKUP($A87,FILTRO!$A81:$AY706,26,FALSE),0)","v":0},{"$f":"IFERROR(VLOOKUP($A87,FILTRO!$A81:$AY706,27,FALSE),0)","v":0},{"$f":"IFERROR(VLOOKUP($A87,FILTRO!$A81:$AY706,28,FALSE),0)","v":3},{"$f":"IFERROR(VLOOKUP($A87,FILTRO!$A81:$AY706,29,FALSE),0)","v":0},{"$f":"IFERROR(VLOOKUP($A87,FILTRO!$A81:$AY706,30,FALSE),0)","v":0},{"$f":"IFERROR(VLOOKUP($A87,FILTRO!$A81:$AY706,31,FALSE),0)","v":0},{"$f":"IFERROR(VLOOKUP($A87,FILTRO!$A81:$AY706,32,FALSE),0)","v":0},{"$f":"IFERROR(VLOOKUP($A87,FILTRO!$A81:$AY706,33,FALSE),0)","v":0},{"$f":"IFERROR(VLOOKUP($A87,FILTRO!$A81:$AY706,34,FALSE),0)","v":0},{"$f":"IFERROR(VLOOKUP($A87,FILTRO!$A81:$AY706,35,FALSE),0)","v":0},{"$f":"IFERROR(VLOOKUP($A87,FILTRO!$A81:$AY706,36,FALSE),0)","v":0},{"$f":"IFERROR(VLOOKUP($A87,FILTRO!$A81:$AY706,37,FALSE),0)","v":0},{"$f":"IFERROR(VLOOKUP($A87,FILTRO!$A81:$AY706,38,FALSE),0)","v":0},{"$f":"IFERROR(VLOOKUP($A87,FILTRO!$A81:$AY706,39,FALSE),0)","v":0},{"$f":"IFERROR(VLOOKUP($A87,FILTRO!$A81:$AY706,40,FALSE),0)","v":0},{"$f":"IFERROR(VLOOKUP($A87,FILTRO!$A81:$AY706,41,FALSE),0)","v":0},{"$f":"IFERROR(VLOOKUP($A87,FILTRO!$A81:$AY706,42,FALSE),0)","v":0},{"$f":"IFERROR(VLOOKUP($A87,FILTRO!$A81:$AY706,43,FALSE),0)","v":0},{"$f":"IFERROR(VLOOKUP($A87,FILTRO!$A81:$AY706,44,FALSE),0)","v":0},{"$f":"IFERROR(VLOOKUP($A87,FILTRO!$A81:$AY706,45,FALSE),0)","v":0},{"$f":"IFERROR(VLOOKUP($A87,FILTRO!$A81:$AY706,46,FALSE),0)","v":0},{"$f":"IFERROR(VLOOKUP($A87,FILTRO!$A81:$AY706,47,FALSE),0)","v":3},{"$f":"IFERROR(VLOOKUP($A87,FILTRO!$A81:$AY706,48,FALSE),0)","v":0},{"$f":"IFERROR(VLOOKUP($A87,FILTRO!$A81:$AY706,49,FALSE),0)","v":0},{"$nulls":35},{"$f":"IF($AO87>$F87,\"* La celda 'Gestantes' debe ser menor o igual al Total de Mujeres en control. \",\"\")","v":""},"","","","","",{"$f":"IF($AV87>$D87,\"* La celda 'Población SENAME' debe ser menor o igual al Total de Personas en control. \",\"\")","v":""},{"$f":"IF(AND($D87<>0,$AO87=\"\"),\"* No olvide escribir en la celda de 'Gestantes' (Digite CERO si no tiene). \",\"\")","v":""},"",null,"","",{"$f":"IF(AND($D87<>0,$AV87=\"\"),\"* No olvide escribir en las celdas de 'Población SENAME' (Digite CERO si no tiene). \",\"\")","v":""},null,{"$f":"IF($AW87>$D87,\"* La celda 'Plan Cuidado Integral Elaborado' debe ser menor o igual al Total de Personas en control. \",\"\")","v":""},{"$f":"IF(AND($D87<>0,$AW87=\"\"),\"* No olvide escribir en las celdas de 'Plan Cuidado Integral Elaborado' (Digite CERO si no tiene). \",\"\")","v":""},{"$nulls":4},{"$f":"IF($AO87>$F87,1,0)","v":0},0,0,0,0,0,{"$f":"IF($AV87>$D87,1,0)","v":0},{"$f":"IF(AND($D87<>0,$AO87=\"\"),1,0)","v":0},{"$f":"IF(AND($D87<>0,$AP87=\"\"),1,0)","v":0},null,0,0,{"$f":"IF(AND($D87<>0,$AV87=\"\"),1,0)","v":0},null,{"$f":"IF($AW87>$D87,1,0)","v":0},{"$f":"IF(AND($D87<>0,$AW87=\"\"),1,0)","v":0}]
["P6223260","TRASTORNOS DEL COMPORTAMIENTO Y DE LAS EMOCIONES DE COMIENZO HABITUAL EN LA INFANCIA Y ADOLESCENCIA","TRASTORNO HIPERCINÉTICO",{"$f":"IFERROR(VLOOKUP($A88,FILTRO!$A82:$AY707,2,FALSE),0)","v":42},{"$f":"IFERROR(VLOOKUP($A88,FILTRO!$A82:$AY707,3,FALSE),0)","v":38},{"$f":"IFERROR(VLOOKUP($A88,FILTRO!$A82:$AY707,4,FALSE),0)","v":4},{"$f":"IFERROR(VLOOKUP($A88,FILTRO!$A82:$AY707,5,FALSE),0)","v":0},{"$f":"IFERROR(VLOOKUP($A88,FILTRO!$A82:$AY707,6,FALSE),0)","v":0},{"$f":"IFERROR(VLOOKUP($A88,FILTRO!$A82:$AY707,7,FALSE),0)","v":10},{"$f":"IFERROR(VLOOKUP($A88,FILTRO!$A82:$AY707,8,FALSE),0)","v":1},{"$f":"IFERROR(VLOOKUP($A88,FILTRO!$A82:$AY707,9,FALSE),0)","v":19},{"$f":"IFERROR(VLOOKUP($A88,FILTRO!$A82:$AY707,10,FALSE),0)","v":1},{"$f":"IFERROR(VLOOKUP($A88,FILTRO!$A82:$AY707,11,FALSE),0)","v":8},{"$f":"IFERROR(VLOOKUP($A88,FILTRO!$A82:$AY707,12,FALSE),0)","v":1},{"$f":"IFERROR(VLOOKUP($A88,FILTRO!$A82:$AY707,13,FALSE),0)","v":1},{"$f":"IFERROR(VLOOKUP($A88,FILTRO!$A82:$AY707,14,FALSE),0)","v":0},{"$f":"IFERROR(VLOOKUP($A88,FILTRO!$A82:$AY707,15,FALSE),0)","v":0},{"$f":"IFERROR(VLOOKUP($A88,FILTRO!$A82:$AY707,16,FALSE),0)","v":0},{"$f":"IFERROR(VLOOKUP($A88,FILTRO!$A82:$AY707,17,FALSE),0)","v":0},{"$f":"IFERROR(VLOOKUP($A88,FILTRO!$A82:$AY707,18,FALSE),0)","v":0},{"$f":"IFERROR(VLOOKUP($A88,FILTRO!$A82:$AY707,19,FALSE),0)","v":0},{"$f":"IFERROR(VLOOKUP($A88,FILTRO!$A82:$AY707,20,FALSE),0)","v":0},{"$f":"IFERROR(VLOOKUP($A88,FILTRO!$A82:$AY707,21,FALSE),0)","v":0},{"$f":"IFERROR(VLOOKUP($A88,FILTRO!$A82:$AY707,22,FALSE),0)","v":0},{"$f":"IFERROR(VLOOKUP($A88,FILTRO!$A82:$AY707,23,FALSE),0)","v":0},{"$f":"IFERROR(VLOOKUP($A88,FILTRO!$A82:$AY707,24,FALSE),0)","v":0},{"$f":"IFERROR(VLOOKUP($A88,FILTRO!$A82:$AY707,25,FALSE),0)","v":0},{"$f":"IFERROR(VLOOKUP($A88,FILTRO!$A82:$AY707,26,FALSE),0)","v":0},{"$f":"IFERROR(VLOOKUP($A88,FILTRO!$A82:$AY707,27,FALSE),0)","v":0},{"$f":"IFERROR(VLOOKUP($A88,FILTRO!$A82:$AY707,28,FALSE),0)","v":1},{"$f":"IFERROR(VLOOKUP($A88,FILTRO!$A82:$AY707,29,FALSE),0)","v":0},{"$f":"IFERROR(VLOOKUP($A88,FILTRO!$A82:$AY707,30,FALSE),0)","v":0},{"$f":"IFERROR(VLOOKUP($A88,FILTRO!$A82:$AY707,31,FALSE),0)","v":0},{"$f":"IFERROR(VLOOKUP($A88,FILTRO!$A82:$AY707,32,FALSE),0)","v":0},{"$f":"IFERROR(VLOOKUP($A88,FILTRO!$A82:$AY707,33,FALSE),0)","v":0},{"$f":"IFERROR(VLOOKUP($A88,FILTRO!$A82:$AY707,34,FALSE),0)","v":0},{"$f":"IFERROR(VLOOKUP($A88,FILTRO!$A82:$AY707,35,FALSE),0)","v":0},{"$f":"IFERROR(VLOOKUP($A88,FILTRO!$A82:$AY707,36,FALSE),0)","v":0},{"$f":"IFERROR(VLOOKUP($A88,FILTRO!$A82:$AY707,37,FALSE),0)","v":0},{"$f":"IFERROR(VLOOKUP($A88,FILTRO!$A82:$AY707,38,FALSE),0)","v":0},{"$f":"IFERROR(VLOOKUP($A88,FILTRO!$A82:$AY707,39,FALSE),0)","v":0},{"$f":"IFERROR(VLOOKUP($A88,FILTRO!$A82:$AY707,40,FALSE),0)","v":0},{"$f":"IFERROR(VLOOKUP($A88,FILTRO!$A82:$AY707,41,FALSE),0)","v":2},{"$f":"IFERROR(VLOOKUP($A88,FILTRO!$A82:$AY707,42,FALSE),0)","v":0},{"$f":"IFERROR(VLOOKUP($A88,FILTRO!$A82:$AY707,43,FALSE),0)","v":1},{"$f":"IFERROR(VLOOKUP($A88,FILTRO!$A82:$AY707,44,FALSE),0)","v":0},{"$f":"IFERROR(VLOOKUP($A88,FILTRO!$A82:$AY707,45,FALSE),0)","v":1},{"$f":"IFERROR(VLOOKUP($A88,FILTRO!$A82:$AY707,46,FALSE),0)","v":2},{"$f":"IFERROR(VLOOKUP($A88,FILTRO!$A82:$AY707,47,FALSE),0)","v":23},{"$f":"IFERROR(VLOOKUP($A88,FILTRO!$A82:$AY707,48,FALSE),0)","v":0},{"$f":"IFERROR(VLOOKUP($A88,FILTRO!$A82:$AY707,49,FALSE),0)","v":0},{"$nulls":37},"","","","","",{"$nulls":3},"","","",null,"","",{"$nulls":6},0,0,0,0,0,{"$nulls":3},0,0,0,null,0,0]
["P6223270",null,"TRASTORNO DISOCIAL DESAFIANTE Y OPOSICIONISTA",{"$f":"IFERROR(VLOOKUP($A89,FILTRO!$A83:$AY708,2,FALSE),0)","v":6},{"$f":"IFERROR(VLOOKUP($A89,FILTRO!$A83:$AY708,3,FALSE),0)","v":6},{"$f":"IFERROR(VLOOKUP($A89,FILTRO!$A83:$AY708,4,FALSE),0)","v":0},{"$f":"IFERROR(VLOOKUP($A89,FILTRO!$A83:$AY708,5,FALSE),0)","v":0},{"$f":"IFERROR(VLOOKUP($A89,FILTRO!$A83:$AY708,6,FALSE),0)","v":0},{"$f":"IFERROR(VLOOKUP($A89,FILTRO!$A83:$AY708,7,FALSE),0)","v":3},{"$f":"IFERROR(VLOOKUP($A89,FILTRO!$A83:$AY708,8,FALSE),0)","v":0},{"$f":"IFERROR(VLOOKUP($A89,FILTRO!$A83:$AY708,9,FALSE),0)","v":1},{"$f":"IFERROR(VLOOKUP($A89,FILTRO!$A83:$AY708,10,FALSE),0)","v":0},{"$f":"IFERROR(VLOOKUP($A89,FILTRO!$A83:$AY708,11,FALSE),0)","v":2},{"$f":"IFERROR(VLOOKUP($A89,FILTRO!$A83:$AY708,12,FALSE),0)","v":0},{"$f":"IFERROR(VLOOKUP($A89,FILTRO!$A83:$AY708,13,FALSE),0)","v":0},{"$f":"IFERROR(VLOOKUP($A89,FILTRO!$A83:$AY708,14,FALSE),0)","v":0},{"$f":"IFERROR(VLOOKUP($A89,FILTRO!$A83:$AY708,15,FALSE),0)","v":0},{"$f":"IFERROR(VLOOKUP($A89,FILTRO!$A83:$AY708,16,FALSE),0)","v":0},{"$f":"IFERROR(VLOOKUP($A89,FILTRO!$A83:$AY708,17,FALSE),0)","v":0},{"$f":"IFERROR(VLOOKUP($A89,FILTRO!$A83:$AY708,18,FALSE),0)","v":0},{"$f":"IFERROR(VLOOKUP($A89,FILTRO!$A83:$AY708,19,FALSE),0)","v":0},{"$f":"IFERROR(VLOOKUP($A89,FILTRO!$A83:$AY708,20,FALSE),0)","v":0},{"$f":"IFERROR(VLOOKUP($A89,FILTRO!$A83:$AY708,21,FALSE),0)","v":0},{"$f":"IFERROR(VLOOKUP($A89,FILTRO!$A83:$AY708,22,FALSE),0)","v":0},{"$f":"IFERROR(VLOOKUP($A89,FILTRO!$A83:$AY708,23,FALSE),0)","v":0},{"$f":"IFERROR(VLOOKUP($A89,FILTRO!$A83:$AY708,24,FALSE),0)","v":0},{"$f":"IFERROR(VLOOKUP($A89,FILTRO!$A83:$AY708,25,FALSE),0)","v":0},{"$f":"IFERROR(VLOOKUP($A89,FILTRO!$A83:$AY708,26,FALSE),0)","v":0},{"$f":"IFERROR(VLOOKUP($A89,FILTRO!$A83:$AY708,27,FALSE),0)","v":0},{"$f":"IFERROR(VLOOKUP($A89,FILTRO!$A83:$AY708,28,FALSE),0)","v":0},{"$f":"IFERROR(VLOOKUP($A89,FILTRO!$A83:$AY708,29,FALSE),0)","v":0},{"$f":"IFERROR(VLOOKUP($A89,FILTRO!$A83:$AY708,30,FALSE),0)","v":0},{"$f":"IFERROR(VLOOKUP($A89,FILTRO!$A83:$AY708,31,FALSE),0)","v":0},{"$f":"IFERROR(VLOOKUP($A89,FILTRO!$A83:$AY708,32,FALSE),0)","v":0},{"$f":"IFERROR(VLOOKUP($A89,FILTRO!$A83:$AY708,33,FALSE),0)","v":0},{"$f":"IFERROR(VLOOKUP($A89,FILTRO!$A83:$AY708,34,FALSE),0)","v":0},{"$f":"IFERROR(VLOOKUP($A89,FILTRO!$A83:$AY708,35,FALSE),0)","v":0},{"$f":"IFERROR(VLOOKUP($A89,FILTRO!$A83:$AY708,36,FALSE),0)","v":0},{"$f":"IFERROR(VLOOKUP($A89,FILTRO!$A83:$AY708,37,FALSE),0)","v":0},{"$f":"IFERROR(VLOOKUP($A89,FILTRO!$A83:$AY708,38,FALSE),0)","v":0},{"$f":"IFERROR(VLOOKUP($A89,FILTRO!$A83:$AY708,39,FALSE),0)","v":0},{"$f":"IFERROR(VLOOKUP($A89,FILTRO!$A83:$AY708,40,FALSE),0)","v":0},{"$f":"IFERROR(VLOOKUP($A89,FILTRO!$A83:$AY708,41,FALSE),0)","v":0},{"$f":"IFERROR(VLOOKUP($A89,FILTRO!$A83:$AY708,42,FALSE),0)","v":0},{"$f":"IFERROR(VLOOKUP($A89,FILTRO!$A83:$AY708,43,FALSE),0)","v":0},{"$f":"IFERROR(VLOOKUP($A89,FILTRO!$A83:$AY708,44,FALSE),0)","v":0},{"$f":"IFERROR(VLOOKUP($A89,FILTRO!$A83:$AY708,45,FALSE),0)","v":0},{"$f":"IFERROR(VLOOKUP($A89,FILTRO!$A83:$AY708,46,FALSE),0)","v":0},{"$f":"IFERROR(VLOOKUP($A89,FILTRO!$A83:$AY708,47,FALSE),0)","v":4},{"$f":"IFERROR(VLOOKUP($A89,FILTRO!$A83:$AY708,48,FALSE),0)","v":0},{"$f":"IFERROR(VLOOKUP($A89,FILTRO!$A83:$AY708,49,FALSE),0)","v":0},{"$nulls":37},"","","","","",{"$nulls":3},"","","",null,"","",{"$nulls":6},0,0,0,0,0,{"$nulls":3},0,0,0,null,0,0]
["P6223280",null,"TRASTORNO DE ANSIEDAD DE SEPARACIÓN EN LA INFANCIA",{"$f":"IFERROR(VLOOKUP($A90,FILTRO!$A84:$AY709,2,FALSE),0)","v":0},{"$f":"IFERROR(VLOOKUP($A90,FILTRO!$A84:$AY709,3,FALSE),0)","v":0},{"$f":"IFERROR(VLOOKUP($A90,FILTRO!$A84:$AY709,4,FALSE),0)","v":0},{"$f":"IFERROR(VLOOKUP($A90,FILTRO!$A84:$AY709,5,FALSE),0)","v":0},{"$f":"IFERROR(VLOOKUP($A90,FILTRO!$A84:$AY709,6,FALSE),0)","v":0},{"$f":"IFERROR(VLOOKUP($A90,FILTRO!$A84:$AY709,7,FALSE),0)","v":0},{"$f":"IFERROR(VLOOKUP($A90,FILTRO!$A84:$AY709,8,FALSE),0)","v":0},{"$f":"IFERROR(VLOOKUP($A90,FILTRO!$A84:$AY709,9,FALSE),0)","v":0},{"$f":"IFERROR(VLOOKUP($A90,FILTRO!$A84:$AY709,10,FALSE),0)","v":0},{"$f":"IFERROR(VLOOKUP($A90,FILTRO!$A84:$AY709,11,FALSE),0)","v":0},{"$f":"IFERROR(VLOOKUP($A90,FILTRO!$A84:$AY709,12,FALSE),0)","v":0},{"$f":"IFERROR(VLOOKUP($A90,FILTRO!$A84:$AY709,13,FALSE),0)","v":0},{"$f":"IFERROR(VLOOKUP($A90,FILTRO!$A84:$AY709,14,FALSE),0)","v":0},{"$f":"IFERROR(VLOOKUP($A90,FILTRO!$A84:$AY709,15,FALSE),0)","v":0},{"$f":"IFERROR(VLOOKUP($A90,FILTRO!$A84:$AY709,16,FALSE),0)","v":0},{"$f":"IFERROR(VLOOKUP($A90,FILTRO!$A84:$AY709,17,FALSE),0)","v":0},{"$f":"IFERROR(VLOOKUP($A90,FILTRO!$A84:$AY709,18,FALSE),0)","v":0},{"$f":"IFERROR(VLOOKUP($A90,FILTRO!$A84:$AY709,19,FALSE),0)","v":0},{"$f":"IFERROR(VLOOKUP($A90,FILTRO!$A84:$AY709,20,FALSE),0)","v":0},{"$f":"IFERROR(VLOOKUP($A90,FILTRO!$A84:$AY709,21,FALSE),0)","v":0},{"$f":"IFERROR(VLOOKUP($A90,FILTRO!$A84:$AY709,22,FALSE),0)","v":0},{"$f":"IFERROR(VLOOKUP($A90,FILTRO!$A84:$AY709,23,FALSE),0)","v":0},{"$f":"IFERROR(VLOOKUP($A90,FILTRO!$A84:$AY709,24,FALSE),0)","v":0},{"$f":"IFERROR(VLOOKUP($A90,FILTRO!$A84:$AY709,25,FALSE),0)","v":0},{"$f":"IFERROR(VLOOKUP($A90,FILTRO!$A84:$AY709,26,FALSE),0)","v":0},{"$f":"IFERROR(VLOOKUP($A90,FILTRO!$A84:$AY709,27,FALSE),0)","v":0},{"$f":"IFERROR(VLOOKUP($A90,FILTRO!$A84:$AY709,28,FALSE),0)","v":0},{"$f":"IFERROR(VLOOKUP($A90,FILTRO!$A84:$AY709,29,FALSE),0)","v":0},{"$f":"IFERROR(VLOOKUP($A90,FILTRO!$A84:$AY709,30,FALSE),0)","v":0},{"$f":"IFERROR(VLOOKUP($A90,FILTRO!$A84:$AY709,31,FALSE),0)","v":0},{"$f":"IFERROR(VLOOKUP($A90,FILTRO!$A84:$AY709,32,FALSE),0)","v":0},{"$f":"IFERROR(VLOOKUP($A90,FILTRO!$A84:$AY709,33,FALSE),0)","v":0},{"$f":"IFERROR(VLOOKUP($A90,FILTRO!$A84:$AY709,34,FALSE),0)","v":0},{"$f":"IFERROR(VLOOKUP($A90,FILTRO!$A84:$AY709,35,FALSE),0)","v":0},{"$f":"IFERROR(VLOOKUP($A90,FILTRO!$A84:$AY709,36,FALSE),0)","v":0},{"$f":"IFERROR(VLOOKUP($A90,FILTRO!$A84:$AY709,37,FALSE),0)","v":0},{"$f":"IFERROR(VLOOKUP($A90,FILTRO!$A84:$AY709,38,FALSE),0)","v":0},{"$f":"IFERROR(VLOOKUP($A90,FILTRO!$A84:$AY709,39,FALSE),0)","v":0},{"$f":"IFERROR(VLOOKUP($A90,FILTRO!$A84:$AY709,40,FALSE),0)","v":0},{"$f":"IFERROR(VLOOKUP($A90,FILTRO!$A84:$AY709,41,FALSE),0)","v":0},{"$f":"IFERROR(VLOOKUP($A90,FILTRO!$A84:$AY709,42,FALSE),0)","v":0},{"$f":"IFERROR(VLOOKUP($A90,FILTRO!$A84:$AY709,43,FALSE),0)","v":0},{"$f":"IFERROR(VLOOKUP($A90,FILTRO!$A84:$AY709,44,FALSE),0)","v":0},{"$f":"IFERROR(VLOOKUP($A90,FILTRO!$A84:$AY709,45,FALSE),0)","v":0},{"$f":"IFERROR(VLOOKUP($A90,FILTRO!$A84:$AY709,46,FALSE),0)","v":0},{"$f":"IFERROR(VLOOKUP($A90,FILTRO!$A84:$AY709,47,FALSE),0)","v":0},{"$f":"IFERROR(VLOOKUP($A90,FILTRO!$A84:$AY709,48,FALSE),0)","v":0},{"$f":"IFERROR(VLOOKUP($A90,FILTRO!$A84:$AY709,49,FALSE),0)","v":0},{"$nulls":37},"","","","","",{"$nulls":3},"","","",null,"","",{"$nulls":6},0,0,0,0,0,{"$nulls":3},0,0,0,null,0,0]
["P6223290",null,"OTROS TRASTORNOS DEL COMPORTAMIENTO Y DE LAS EMOCIONES DE COMIENZO HABITUAL EN LA INFANCIA Y ADOLESCENCIA",{"$f":"IFERROR(VLOOKUP($A91,FILTRO!$A85:$AY710,2,FALSE),0)","v":97},{"$f":"IFERROR(VLOOKUP($A91,FILTRO!$A85:$AY710,3,FALSE),0)","v":49},{"$f":"IFERROR(VLOOKUP($A91,FILTRO!$A85:$AY710,4,FALSE),0)","v":48},{"$f":"IFERROR(VLOOKUP($A91,FILTRO!$A85:$AY710,5,FALSE),0)","v":0},{"$f":"IFERROR(VLOOKUP($A91,FILTRO!$A85:$AY710,6,FALSE),0)","v":0},{"$f":"IFERROR(VLOOKUP($A91,FILTRO!$A85:$AY710,7,FALSE),0)","v":6},{"$f":"IFERROR(VLOOKUP($A91,FILTRO!$A85:$AY710,8,FALSE),0)","v":3},{"$f":"IFERROR(VLOOKUP($A91,FILTRO!$A85:$AY710,9,FALSE),0)","v":25},{"$f":"IFERROR(VLOOKUP($A91,FILTRO!$A85:$AY710,10,FALSE),0)","v":17},{"$f":"IFERROR(VLOOKUP($A91,FILTRO!$A85:$AY710,11,FALSE),0)","v":18},{"$f":"IFERROR(VLOOKUP($A91,FILTRO!$A85:$AY710,12,FALSE),0)","v":28},{"$f":"IFERROR(VLOOKUP($A91,FILTRO!$A85:$AY710,13,FALSE),0)","v":0},{"$f":"IFERROR(VLOOKUP($A91,FILTRO!$A85:$AY710,14,FALSE),0)","v":0},{"$f":"IFERROR(VLOOKUP($A91,FILTRO!$A85:$AY710,15,FALSE),0)","v":0},{"$f":"IFERROR(VLOOKUP($A91,FILTRO!$A85:$AY710,16,FALSE),0)","v":0},{"$f":"IFERROR(VLOOKUP($A91,FILTRO!$A85:$AY710,17,FALSE),0)","v":0},{"$f":"IFERROR(VLOOKUP($A91,FILTRO!$A85:$AY710,18,FALSE),0)","v":0},{"$f":"IFERROR(VLOOKUP($A91,FILTRO!$A85:$AY710,19,FALSE),0)","v":0},{"$f":"IFERROR(VLOOKUP($A91,FILTRO!$A85:$AY710,20,FALSE),0)","v":0},{"$f":"IFERROR(VLOOKUP($A91,FILTRO!$A85:$AY710,21,FALSE),0)","v":0},{"$f":"IFERROR(VLOOKUP($A91,FILTRO!$A85:$AY710,22,FALSE),0)","v":0},{"$f":"IFERROR(VLOOKUP($A91,FILTRO!$A85:$AY710,23,FALSE),0)","v":0},{"$f":"IFERROR(VLOOKUP($A91,FILTRO!$A85:$AY710,24,FALSE),0)","v":0},{"$f":"IFERROR(VLOOKUP($A91,FILTRO!$A85:$AY710,25,FALSE),0)","v":0},{"$f":"IFERROR(VLOOKUP($A91,FILTRO!$A85:$AY710,26,FALSE),0)","v":0},{"$f":"IFERROR(VLOOKUP($A91,FILTRO!$A85:$AY710,27,FALSE),0)","v":0},{"$f":"IFERROR(VLOOKUP($A91,FILTRO!$A85:$AY710,28,FALSE),0)","v":0},{"$f":"IFERROR(VLOOKUP($A91,FILTRO!$A85:$AY710,29,FALSE),0)","v":0},{"$f":"IFERROR(VLOOKUP($A91,FILTRO!$A85:$AY710,30,FALSE),0)","v":0},{"$f":"IFERROR(VLOOKUP($A91,FILTRO!$A85:$AY710,31,FALSE),0)","v":0},{"$f":"IFERROR(VLOOKUP($A91,FILTRO!$A85:$AY710,32,FALSE),0)","v":0},{"$f":"IFERROR(VLOOKUP($A91,FILTRO!$A85:$AY710,33,FALSE),0)","v":0},{"$f":"IFERROR(VLOOKUP($A91,FILTRO!$A85:$AY710,34,FALSE),0)","v":0},{"$f":"IFERROR(VLOOKUP($A91,FILTRO!$A85:$AY710,35,FALSE),0)","v":0},{"$f":"IFERROR(VLOOKUP($A91,FILTRO!$A85:$AY710,36,FALSE),0)","v":0},{"$f":"IFERROR(VLOOKUP($A91,FILTRO!$A85:$AY710,37,FALSE),0)","v":0},{"$f":"IFERROR(VLOOKUP($A91,FILTRO!$A85:$AY710,38,FALSE),0)","v":0},{"$f":"IFERROR(VLOOKUP($A91,FILTRO!$A85:$AY710,39,FALSE),0)","v":0},{"$f":"IFERROR(VLOOKUP($A91,FILTRO!$A85:$AY710,40,FALSE),0)","v":0},{"$f":"IFERROR(VLOOKUP($A91,FILTRO!$A85:$AY710,41,FALSE),0)","v":2},{"$f":"IFERROR(VLOOKUP($A91,FILTRO!$A85:$AY710,42,FALSE),0)","v":0},{"$f":"IFERROR(VLOOKUP($A91,FILTRO!$A85:$AY710,43,FALSE),0)","v":0},{"$f":"IFERROR(VLOOKUP($A91,FILTRO!$A85:$AY710,44,FALSE),0)","v":0},{"$f":"IFERROR(VLOOKUP($A91,FILTRO!$A85:$AY710,45,FALSE),0)","v":1},{"$f":"IFERROR(VLOOKUP($A91,FILTRO!$A85:$AY710,46,FALSE),0)","v":8},{"$f":"IFERROR(VLOOKUP($A91,FILTRO!$A85:$AY710,47,FALSE),0)","v":29},{"$f":"IFERROR(VLOOKUP($A91,FILTRO!$A85:$AY710,48,FALSE),0)","v":0},{"$f":"IFERROR(VLOOKUP($A91,FILTRO!$A85:$AY710,49,FALSE),0)","v":1},{"$nulls":37},"","","","","",{"$nulls":3},"","","",null,"","",{"$nulls":6},0,0,0,0,0,{"$nulls":3},0,0,0,null,0,0]
["P6232100","TRASTORNOS DE ANSIEDAD","TRASTORNO DE ESTRÉS POST TRAUMATICO",{"$f":"IFERROR(VLOOKUP($A92,FILTRO!$A86:$AY711,2,FALSE),0)","v":99},{"$f":"IFERROR(VLOOKUP($A92,FILTRO!$A86:$AY711,3,FALSE),0)","v":14},{"$f":"IFERROR(VLOOKUP($A92,FILTRO!$A86:$AY711,4,FALSE),0)","v":85},{"$f":"IFERROR(VLOOKUP($A92,FILTRO!$A86:$AY711,5,FALSE),0)","v":0},{"$f":"IFERROR(VLOOKUP($A92,FILTRO!$A86:$AY711,6,FALSE),0)","v":1},{"$f":"IFERROR(VLOOKUP($A92,FILTRO!$A86:$AY711,7,FALSE),0)","v":2},{"$f":"IFERROR(VLOOKUP($A92,FILTRO!$A86:$AY711,8,FALSE),0)","v":1},{"$f":"IFERROR(VLOOKUP($A92,FILTRO!$A86:$AY711,9,FALSE),0)","v":0},{"$f":"IFERROR(VLOOKUP($A92,FILTRO!$A86:$AY711,10,FALSE),0)","v":6},{"$f":"IFERROR(VLOOKUP($A92,FILTRO!$A86:$AY711,11,FALSE),0)","v":3},{"$f":"IFERROR(VLOOKUP($A92,FILTRO!$A86:$AY711,12,FALSE),0)","v":16},{"$f":"IFERROR(VLOOKUP($A92,FILTRO!$A86:$AY711,13,FALSE),0)","v":0},{"$f":"IFERROR(VLOOKUP($A92,FILTRO!$A86:$AY711,14,FALSE),0)","v":5},{"$f":"IFERROR(VLOOKUP($A92,FILTRO!$A86:$AY711,15,FALSE),0)","v":3},{"$f":"IFERROR(VLOOKUP($A92,FILTRO!$A86:$AY711,16,FALSE),0)","v":8},{"$f":"IFERROR(VLOOKUP($A92,FILTRO!$A86:$AY711,17,FALSE),0)","v":0},{"$f":"IFERROR(VLOOKUP($A92,FILTRO!$A86:$AY711,18,FALSE),0)","v":12},{"$f":"IFERROR(VLOOKUP($A92,FILTRO!$A86:$AY711,19,FALSE),0)","v":0},{"$f":"IFERROR(VLOOKUP($A92,FILTRO!$A86:$AY711,20,FALSE),0)","v":5},{"$f":"IFERROR(VLOOKUP($A92,FILTRO!$A86:$AY711,21,FALSE),0)","v":2},{"$f":"IFERROR(VLOOKUP($A92,FILTRO!$A86:$AY711,22,FALSE),0)","v":7},{"$f":"IFERROR(VLOOKUP($A92,FILTRO!$A86:$AY711,23,FALSE),0)","v":1},{"$f":"IFERROR(VLOOKUP($A92,FILTRO!$A86:$AY711,24,FALSE),0)","v":6},{"$f":"IFERROR(VLOOKUP($A92,FILTRO!$A86:$AY711,25,FALSE),0)","v":0},{"$f":"IFERROR(VLOOKUP($A92,FILTRO!$A86:$AY711,26,FALSE),0)","v":4},{"$f":"IFERROR(VLOOKUP($A92,FILTRO!$A86:$AY711,27,FALSE),0)","v":1},{"$f":"IFERROR(VLOOKUP($A92,FILTRO!$A86:$AY711,28,FALSE),0)","v":7},{"$f":"IFERROR(VLOOKUP($A92,FILTRO!$A86:$AY711,29,FALSE),0)","v":1},{"$f":"IFERROR(VLOOKUP($A92,FILTRO!$A86:$AY711,30,FALSE),0)","v":4},{"$f":"IFERROR(VLOOKUP($A92,FILTRO!$A86:$AY711,31,FALSE),0)","v":0},{"$f":"IFERROR(VLOOKUP($A92,FILTRO!$A86:$AY711,32,FALSE),0)","v":1},{"$f":"IFERROR(VLOOKUP($A92,FILTRO!$A86:$AY711,33,FALSE),0)","v":1},{"$f":"IFERROR(VLOOKUP($A92,FILTRO!$A86:$AY711,34,FALSE),0)","v":1},{"$f":"IFERROR(VLOOKUP($A92,FILTRO!$A86:$AY711,35,FALSE),0)","v":0},{"$f":"IFERROR(VLOOKUP($A92,FILTRO!$A86:$AY711,36,FALSE),0)","v":0},{"$f":"IFERROR(VLOOKUP($A92,FILTRO!$A86:$AY711,37,FALSE),0)","v":0},{"$f":"IFERROR(VLOOKUP($A92,FILTRO!$A86:$AY711,38,FALSE),0)","v":1},{"$f":"IFERROR(VLOOKUP($A92,FILTRO!$A86:$AY711,39,FALSE),0)","v":0},{"$f":"IFERROR(VLOOKUP($A92,FILTRO!$A86:$AY711,40,FALSE),0)","v":0},{"$f":"IFERROR(VLOOKUP($A92,FILTRO!$A86:$AY711,41,FALSE),0)","v":0},{"$f":"IFERROR(VLOOKUP($A92,FILTRO!$A86:$AY711,42,FALSE),0)","v":0},{"$f":"IFERROR(VLOOKUP($A92,FILTRO!$A86:$AY711,43,FALSE),0)","v":0},{"$f":"IFERROR(VLOOKUP($A92,FILTRO!$A86:$AY711,44,FALSE),0)","v":0},{"$f":"IFERROR(VLOOKUP($A92,FILTRO!$A86:$AY711,45,FALSE),0)","v":0},{"$f":"IFERROR(VLOOKUP($A92,FILTRO!$A86:$AY711,46,FALSE),0)","v":0},{"$f":"IFERROR(VLOOKUP($A92,FILTRO!$A86:$AY711,47,FALSE),0)","v":28},{"$f":"IFERROR(VLOOKUP($A92,FILTRO!$A86:$AY711,48,FALSE),0)","v":0},{"$f":"IFERROR(VLOOKUP($A92,FILTRO!$A86:$AY711,49,FALSE),0)","v":0},{"$nulls":35},{"$f":"IF($AO92>$F92,\"* La celda 'Gestantes' debe ser menor o igual al Total de Mujeres en control. \",\"\")","v":""},{"$f":"IF($AP92>$F92,\"* La celda 'Madres de Hijos menor de 5 años' debe ser menor o igual al Total de Mujeres en control. \",\"\")","v":""},"","","","","",{"$f":"IF(AND($D92<>0,$AO92=\"\"),\"* No olvide escribir en la celda de 'Gestantes' (Digite CERO si no tiene). \",\"\")","v":""},{"$f":"IF(AND($D92<>0,$AP92=\"\"),\"* No olvide escribir en la celda de 'Madres de Hijos menor de 5 años' (Digite CERO si no tiene). \",\"\")","v":""},null,"","","",null,"","",{"$nulls":4},{"$f":"IF($AO92>$F92,1,0)","v":0},{"$f":"IF($AP92>$F92,1,0)","v":0},0,0,0,0,0,{"$f":"IF(AND($D92<>0,$AO92=\"\"),1,0)","v":0},{"$f":"IF(AND($D92<>0,$AP92=\"\"),1,0)","v":0},null,0,0,0,null,0,0]
["P6241122",null,"TRASTORNO DE PÁNICO  ",{"$f":"IFERROR(VLOOKUP($A93,FILTRO!$A87:$AY712,2,FALSE),0)","v":11},{"$f":"IFERROR(VLOOKUP($A93,FILTRO!$A87:$AY712,3,FALSE),0)","v":1},{"$f":"IFERROR(VLOOKUP($A93,FILTRO!$A87:$AY712,4,FALSE),0)","v":10},{"$f":"IFERROR(VLOOKUP($A93,FILTRO!$A87:$AY712,5,FALSE),0)","v":0},{"$f":"IFERROR(VLOOKUP($A93,FILTRO!$A87:$AY712,6,FALSE),0)","v":0},{"$f":"IFERROR(VLOOKUP($A93,FILTRO!$A87:$AY712,7,FALSE),0)","v":0},{"$f":"IFERROR(VLOOKUP($A93,FILTRO!$A87:$AY712,8,FALSE),0)","v":0},{"$f":"IFERROR(VLOOKUP($A93,FILTRO!$A87:$AY712,9,FALSE),0)","v":0},{"$f":"IFERROR(VLOOKUP($A93,FILTRO!$A87:$AY712,10,FALSE),0)","v":0},{"$f":"IFERROR(VLOOKUP($A93,FILTRO!$A87:$AY712,11,FALSE),0)","v":0},{"$f":"IFERROR(VLOOKUP($A93,FILTRO!$A87:$AY712,12,FALSE),0)","v":1},{"$f":"IFERROR(VLOOKUP($A93,FILTRO!$A87:$AY712,13,FALSE),0)","v":0},{"$f":"IFERROR(VLOOKUP($A93,FILTRO!$A87:$AY712,14,FALSE),0)","v":1},{"$f":"IFERROR(VLOOKUP($A93,FILTRO!$A87:$AY712,15,FALSE),0)","v":0},{"$f":"IFERROR(VLOOKUP($A93,FILTRO!$A87:$AY712,16,FALSE),0)","v":0},{"$f":"IFERROR(VLOOKUP($A93,FILTRO!$A87:$AY712,17,FALSE),0)","v":1},{"$f":"IFERROR(VLOOKUP($A93,FILTRO!$A87:$AY712,18,FALSE),0)","v":1},{"$f":"IFERROR(VLOOKUP($A93,FILTRO!$A87:$AY712,19,FALSE),0)","v":0},{"$f":"IFERROR(VLOOKUP($A93,FILTRO!$A87:$AY712,20,FALSE),0)","v":0},{"$f":"IFERROR(VLOOKUP($A93,FILTRO!$A87:$AY712,21,FALSE),0)","v":0},{"$f":"IFERROR(VLOOKUP($A93,FILTRO!$A87:$AY712,22,FALSE),0)","v":4},{"$f":"IFERROR(VLOOKUP($A93,FILTRO!$A87:$AY712,23,FALSE),0)","v":0},{"$f":"IFERROR(VLOOKUP($A93,FILTRO!$A87:$AY712,24,FALSE),0)","v":0},{"$f":"IFERROR(VLOOKUP($A93,FILTRO!$A87:$AY712,25,FALSE),0)","v":0},{"$f":"IFERROR(VLOOKUP($A93,FILTRO!$A87:$AY712,26,FALSE),0)","v":0},{"$f":"IFERROR(VLOOKUP($A93,FILTRO!$A87:$AY712,27,FALSE),0)","v":0},{"$f":"IFERROR(VLOOKUP($A93,FILTRO!$A87:$AY712,28,FALSE),0)","v":1},{"$f":"IFERROR(VLOOKUP($A93,FILTRO!$A87:$AY712,29,FALSE),0)","v":0},{"$f":"IFERROR(VLOOKUP($A93,FILTRO!$A87:$AY712,30,FALSE),0)","v":0},{"$f":"IFERROR(VLOOKUP($A93,FILTRO!$A87:$AY712,31,FALSE),0)","v":0},{"$f":"IFERROR(VLOOKUP($A93,FILTRO!$A87:$AY712,32,FALSE),0)","v":2},{"$f":"IFERROR(VLOOKUP($A93,FILTRO!$A87:$AY712,33,FALSE),0)","v":0},{"$f":"IFERROR(VLOOKUP($A93,FILTRO!$A87:$AY712,34,FALSE),0)","v":0},{"$f":"IFERROR(VLOOKUP($A93,FILTRO!$A87:$AY712,35,FALSE),0)","v":0},{"$f":"IFERROR(VLOOKUP($A93,FILTRO!$A87:$AY712,36,FALSE),0)","v":0},{"$f":"IFERROR(VLOOKUP($A93,FILTRO!$A87:$AY712,37,FALSE),0)","v":0},{"$f":"IFERROR(VLOOKUP($A93,FILTRO!$A87:$AY712,38,FALSE),0)","v":0},{"$f":"IFERROR(VLOOKUP($A93,FILTRO!$A87:$AY712,39,FALSE),0)","v":0},{"$f":"IFERROR(VLOOKUP($A93,FILTRO!$A87:$AY712,40,FALSE),0)","v":0},{"$f":"IFERROR(VLOOKUP($A93,FILTRO!$A87:$AY712,41,FALSE),0)","v":0},{"$f":"IFERROR(VLOOKUP($A93,FILTRO!$A87:$AY712,42,FALSE),0)","v":0},{"$f":"IFERROR(VLOOKUP($A93,FILTRO!$A87:$AY712,43,FALSE),0)","v":0},{"$f":"IFERROR(VLOOKUP($A93,FILTRO!$A87:$AY712,44,FALSE),0)","v":0},{"$f":"IFERROR(VLOOKUP($A93,FILTRO!$A87:$AY712,45,FALSE),0)","v":0},{"$f":"IFERROR(VLOOKUP($A93,FILTRO!$A87:$AY712,46,FALSE),0)","v":0},{"$f":"IFERROR(VLOOKUP($A93,FILTRO!$A87:$AY712,47,FALSE),0)","v":3},{"$f":"IFERROR(VLOOKUP($A93,FILTRO!$A87:$AY712,48,FALSE),0)","v":0},{"$f":"IFERROR(VLOOKUP($A93,FILTRO!$A87:$AY712,49,FALSE),0)","v":0},{"$nulls":35},"","","","","","","","","",null,"","","",null,"","",{"$nulls":4},0,0,0,0,0,0,0,0,0,null,0,0,0,null,0,0]
["P6232400",null,"FOBIAS SOCIALES",{"$f":"IFERROR(VLOOKUP($A94,FILTRO!$A88:$AY713,2,FALSE),0)","v":5},{"$f":"IFERROR(VLOOKUP($A94,FILTRO!$A88:$AY713,3,FALSE),0)","v":4},{"$f":"IFERROR(VLOOKUP($A94,FILTRO!$A88:$AY713,4,FALSE),0)","v":1},{"$f":"IFERROR(VLOOKUP($A94,FILTRO!$A88:$AY713,5,FALSE),0)","v":0},{"$f":"IFERROR(VLOOKUP($A94,FILTRO!$A88:$AY713,6,FALSE),0)","v":0},{"$f":"IFERROR(VLOOKUP($A94,FILTRO!$A88:$AY713,7,FALSE),0)","v":0},{"$f":"IFERROR(VLOOKUP($A94,FILTRO!$A88:$AY713,8,FALSE),0)","v":0},{"$f":"IFERROR(VLOOKUP($A94,FILTRO!$A88:$AY713,9,FALSE),0)","v":1},{"$f":"IFERROR(VLOOKUP($A94,FILTRO!$A88:$AY713,10,FALSE),0)","v":0},{"$f":"IFERROR(VLOOKUP($A94,FILTRO!$A88:$AY713,11,FALSE),0)","v":0},{"$f":"IFERROR(VLOOKUP($A94,FILTRO!$A88:$AY713,12,FALSE),0)","v":0},{"$f":"IFERROR(VLOOKUP($A94,FILTRO!$A88:$AY713,13,FALSE),0)","v":1},{"$f":"IFERROR(VLOOKUP($A94,FILTRO!$A88:$AY713,14,FALSE),0)","v":1},{"$f":"IFERROR(VLOOKUP($A94,FILTRO!$A88:$AY713,15,FALSE),0)","v":1},{"$f":"IFERROR(VLOOKUP($A94,FILTRO!$A88:$AY713,16,FALSE),0)","v":0},{"$f":"IFERROR(VLOOKUP($A94,FILTRO!$A88:$AY713,17,FALSE),0)","v":1},{"$f":"IFERROR(VLOOKUP($A94,FILTRO!$A88:$AY713,18,FALSE),0)","v":0},{"$f":"IFERROR(VLOOKUP($A94,FILTRO!$A88:$AY713,19,FALSE),0)","v":0},{"$f":"IFERROR(VLOOKUP($A94,FILTRO!$A88:$AY713,20,FALSE),0)","v":0},{"$f":"IFERROR(VLOOKUP($A94,FILTRO!$A88:$AY713,21,FALSE),0)","v":0},{"$f":"IFERROR(VLOOKUP($A94,FILTRO!$A88:$AY713,22,FALSE),0)","v":0},{"$f":"IFERROR(VLOOKUP($A94,FILTRO!$A88:$AY713,23,FALSE),0)","v":0},{"$f":"IFERROR(VLOOKUP($A94,FILTRO!$A88:$AY713,24,FALSE),0)","v":0},{"$f":"IFERROR(VLOOKUP($A94,FILTRO!$A88:$AY713,25,FALSE),0)","v":0},{"$f":"IFERROR(VLOOKUP($A94,FILTRO!$A88:$AY713,26,FALSE),0)","v":0},{"$f":"IFERROR(VLOOKUP($A94,FILTRO!$A88:$AY713,27,FALSE),0)","v":0},{"$f":"IFERROR(VLOOKUP($A94,FILTRO!$A88:$AY713,28,FALSE),0)","v":0},{"$f":"IFERROR(VLOOKUP($A94,FILTRO!$A88:$AY713,29,FALSE),0)","v":0},{"$f":"IFERROR(VLOOKUP($A94,FILTRO!$A88:$AY713,30,FALSE),0)","v":0},{"$f":"IFERROR(VLOOKUP($A94,FILTRO!$A88:$AY713,31,FALSE),0)","v":0},{"$f":"IFERROR(VLOOKUP($A94,FILTRO!$A88:$AY713,32,FALSE),0)","v":0},{"$f":"IFERROR(VLOOKUP($A94,FILTRO!$A88:$AY713,33,FALSE),0)","v":0},{"$f":"IFERROR(VLOOKUP($A94,FILTRO!$A88:$AY713,34,FALSE),0)","v":0},{"$f":"IFERROR(VLOOKUP($A94,FILTRO!$A88:$AY713,35,FALSE),0)","v":0},{"$f":"IFERROR(VLOOKUP($A94,FILTRO!$A88:$AY713,36,FALSE),0)","v":0},{"$f":"IFERROR(VLOOKUP($A94,FILTRO!$A88:$AY713,37,FALSE),0)","v":0},{"$f":"IFERROR(VLOOKUP($A94,FILTRO!$A88:$AY713,38,FALSE),0)","v":0},{"$f":"IFERROR(VLOOKUP($A94,FILTRO!$A88:$AY713,39,FALSE),0)","v":0},{"$f":"IFERROR(VLOOKUP($A94,FILTRO!$A88:$AY713,40,FALSE),0)","v":0},{"$f":"IFERROR(VLOOKUP($A94,FILTRO!$A88:$AY713,41,FALSE),0)","v":0},{"$f":"IFERROR(VLOOKUP($A94,FILTRO!$A88:$AY713,42,FALSE),0)","v":0},{"$f":"IFERROR(VLOOKUP($A94,FILTRO!$A88:$AY713,43,FALSE),0)","v":0},{"$f":"IFERROR(VLOOKUP($A94,FILTRO!$A88:$AY713,44,FALSE),0)","v":0},{"$f":"IFERROR(VLOOKUP($A94,FILTRO!$A88:$AY713,45,FALSE),0)","v":0},{"$f":"IFERROR(VLOOKUP($A94,FILTRO!$A88:$AY713,46,FALSE),0)","v":1},{"$f":"IFERROR(VLOOKUP($A94,FILTRO!$A88:$AY713,47,FALSE),0)","v":4},{"$f":"IFERROR(VLOOKUP($A94,FILTRO!$A88:$AY713,48,FALSE),0)","v":0},{"$f":"IFERROR(VLOOKUP($A94,FILTRO!$A88:$AY713,49,FALSE),0)","v":0},{"$nulls":35},"","","","","","","","","",null,"","","",null,"","",{"$nulls":4},0,0,0,0,0,0,0,0,0,null,0,0,0,null,0,0]
["P6232500",null,"TRASTORNOS DE ANSIEDAD GENERALIZADA",{"$f":"IFERROR(VLOOKUP($A95,FILTRO!$A89:$AY714,2,FALSE),0)","v":33},{"$f":"IFERROR(VLOOKUP($A95,FILTRO!$A89:$AY714,3,FALSE),0)","v":8},{"$f":"IFERROR(VLOOKUP($A95,FILTRO!$A89:$AY714,4,FALSE),0)","v":25},{"$f":"IFERROR(VLOOKUP($A95,FILTRO!$A89:$AY714,5,FALSE),0)","v":0},{"$f":"IFERROR(VLOOKUP($A95,FILTRO!$A89:$AY714,6,FALSE),0)","v":0},{"$f":"IFERROR(VLOOKUP($A95,FILTRO!$A89:$AY714,7,FALSE),0)","v":0},{"$f":"IFERROR(VLOOKUP($A95,FILTRO!$A89:$AY714,8,FALSE),0)","v":0},{"$f":"IFERROR(VLOOKUP($A95,FILTRO!$A89:$AY714,9,FALSE),0)","v":1},{"$f":"IFERROR(VLOOKUP($A95,FILTRO!$A89:$AY714,10,FALSE),0)","v":2},{"$f":"IFERROR(VLOOKUP($A95,FILTRO!$A89:$AY714,11,FALSE),0)","v":2},{"$f":"IFERROR(VLOOKUP($A95,FILTRO!$A89:$AY714,12,FALSE),0)","v":6},{"$f":"IFERROR(VLOOKUP($A95,FILTRO!$A89:$AY714,13,FALSE),0)","v":1},{"$f":"IFERROR(VLOOKUP($A95,FILTRO!$A89:$AY714,14,FALSE),0)","v":3},{"$f":"IFERROR(VLOOKUP($A95,FILTRO!$A89:$AY714,15,FALSE),0)","v":2},{"$f":"IFERROR(VLOOKUP($A95,FILTRO!$A89:$AY714,16,FALSE),0)","v":3},{"$f":"IFERROR(VLOOKUP($A95,FILTRO!$A89:$AY714,17,FALSE),0)","v":0},{"$f":"IFERROR(VLOOKUP($A95,FILTRO!$A89:$AY714,18,FALSE),0)","v":2},{"$f":"IFERROR(VLOOKUP($A95,FILTRO!$A89:$AY714,19,FALSE),0)","v":0},{"$f":"IFERROR(VLOOKUP($A95,FILTRO!$A89:$AY714,20,FALSE),0)","v":1},{"$f":"IFERROR(VLOOKUP($A95,FILTRO!$A89:$AY714,21,FALSE),0)","v":1},{"$f":"IFERROR(VLOOKUP($A95,FILTRO!$A89:$AY714,22,FALSE),0)","v":0},{"$f":"IFERROR(VLOOKUP($A95,FILTRO!$A89:$AY714,23,FALSE),0)","v":0},{"$f":"IFERROR(VLOOKUP($A95,FILTRO!$A89:$AY714,24,FALSE),0)","v":1},{"$f":"IFERROR(VLOOKUP($A95,FILTRO!$A89:$AY714,25,FALSE),0)","v":0},{"$f":"IFERROR(VLOOKUP($A95,FILTRO!$A89:$AY714,26,FALSE),0)","v":1},{"$f":"IFERROR(VLOOKUP($A95,FILTRO!$A89:$AY714,27,FALSE),0)","v":0},{"$f":"IFERROR(VLOOKUP($A95,FILTRO!$A89:$AY714,28,FALSE),0)","v":3},{"$f":"IFERROR(VLOOKUP($A95,FILTRO!$A89:$AY714,29,FALSE),0)","v":0},{"$f":"IFERROR(VLOOKUP($A95,FILTRO!$A89:$AY714,30,FALSE),0)","v":1},{"$f":"IFERROR(VLOOKUP($A95,FILTRO!$A89:$AY714,31,FALSE),0)","v":0},{"$f":"IFERROR(VLOOKUP($A95,FILTRO!$A89:$AY714,32,FALSE),0)","v":0},{"$f":"IFERROR(VLOOKUP($A95,FILTRO!$A89:$AY714,33,FALSE),0)","v":0},{"$f":"IFERROR(VLOOKUP($A95,FILTRO!$A89:$AY714,34,FALSE),0)","v":2},{"$f":"IFERROR(VLOOKUP($A95,FILTRO!$A89:$AY714,35,FALSE),0)","v":0},{"$f":"IFERROR(VLOOKUP($A95,FILTRO!$A89:$AY714,36,FALSE),0)","v":0},{"$f":"IFERROR(VLOOKUP($A95,FILTRO!$A89:$AY714,37,FALSE),0)","v":1},{"$f":"IFERROR(VLOOKUP($A95,FILTRO!$A89:$AY714,38,FALSE),0)","v":0},{"$f":"IFERROR(VLOOKUP($A95,FILTRO!$A89:$AY714,39,FALSE),0)","v":0},{"$f":"IFERROR(VLOOKUP($A95,FILTRO!$A89:$AY714,40,FALSE),0)","v":0},{"$f":"IFERROR(VLOOKUP($A95,FILTRO!$A89:$AY714,41,FALSE),0)","v":0},{"$f":"IFERROR(VLOOKUP($A95,FILTRO!$A89:$AY714,42,FALSE),0)","v":0},{"$f":"IFERROR(VLOOKUP($A95,FILTRO!$A89:$AY714,43,FALSE),0)","v":0},{"$f":"IFERROR(VLOOKUP($A95,FILTRO!$A89:$AY714,44,FALSE),0)","v":0},{"$f":"IFERROR(VLOOKUP($A95,FILTRO!$A89:$AY714,45,FALSE),0)","v":0},{"$f":"IFERROR(VLOOKUP($A95,FILTRO!$A89:$AY714,46,FALSE),0)","v":0},{"$f":"IFERROR(VLOOKUP($A95,FILTRO!$A89:$AY714,47,FALSE),0)","v":6},{"$f":"IFERROR(VLOOKUP($A95,FILTRO!$A89:$AY714,48,FALSE),0)","v":0},{"$f":"IFERROR(VLOOKUP($A95,FILTRO!$A89:$AY714,49,FALSE),0)","v":0},{"$nulls":35},"","","","","","","","","",null,"","","",null,"","",{"$nulls":4},0,0,0,0,0,0,0,0,0,null,0,0,0,null,0,0]
["P6232600",null,"OTROS TRASTORNOS DE ANSIEDAD",{"$f":"IFERROR(VLOOKUP($A96,FILTRO!$A90:$AY715,2,FALSE),0)","v":85},{"$f":"IFERROR(VLOOKUP($A96,FILTRO!$A90:$AY715,3,FALSE),0)","v":22},{"$f":"IFERROR(VLOOKUP($A96,FILTRO!$A90:$AY715,4,FALSE),0)","v":63},{"$f":"IFERROR(VLOOKUP($A96,FILTRO!$A90:$AY715,5,FALSE),0)","v":0},{"$f":"IFERROR(VLOOKUP($A96,FILTRO!$A90:$AY715,6,FALSE),0)","v":0},{"$f":"IFERROR(VLOOKUP($A96,FILTRO!$A90:$AY715,7,FALSE),0)","v":0},{"$f":"IFERROR(VLOOKUP($A96,FILTRO!$A90:$AY715,8,FALSE),0)","v":3},{"$f":"IFERROR(VLOOKUP($A96,FILTRO!$A90:$AY715,9,FALSE),0)","v":4},{"$f":"IFERROR(VLOOKUP($A96,FILTRO!$A90:$AY715,10,FALSE),0)","v":5},{"$f":"IFERROR(VLOOKUP($A96,FILTRO!$A90:$AY715,11,FALSE),0)","v":4},{"$f":"IFERROR(VLOOKUP($A96,FILTRO!$A90:$AY715,12,FALSE),0)","v":8},{"$f":"IFERROR(VLOOKUP($A96,FILTRO!$A90:$AY715,13,FALSE),0)","v":0},{"$f":"IFERROR(VLOOKUP($A96,FILTRO!$A90:$AY715,14,FALSE),0)","v":3},{"$f":"IFERROR(VLOOKUP($A96,FILTRO!$A90:$AY715,15,FALSE),0)","v":5},{"$f":"IFERROR(VLOOKUP($A96,FILTRO!$A90:$AY715,16,FALSE),0)","v":8},{"$f":"IFERROR(VLOOKUP($A96,FILTRO!$A90:$AY715,17,FALSE),0)","v":2},{"$f":"IFERROR(VLOOKUP($A96,FILTRO!$A90:$AY715,18,FALSE),0)","v":7},{"$f":"IFERROR(VLOOKUP($A96,FILTRO!$A90:$AY715,19,FALSE),0)","v":1},{"$f":"IFERROR(VLOOKUP($A96,FILTRO!$A90:$AY715,20,FALSE),0)","v":4},{"$f":"IFERROR(VLOOKUP($A96,FILTRO!$A90:$AY715,21,FALSE),0)","v":1},{"$f":"IFERROR(VLOOKUP($A96,FILTRO!$A90:$AY715,22,FALSE),0)","v":2},{"$f":"IFERROR(VLOOKUP($A96,FILTRO!$A90:$AY715,23,FALSE),0)","v":2},{"$f":"IFERROR(VLOOKUP($A96,FILTRO!$A90:$AY715,24,FALSE),0)","v":5},{"$f":"IFERROR(VLOOKUP($A96,FILTRO!$A90:$AY715,25,FALSE),0)","v":1},{"$f":"IFERROR(VLOOKUP($A96,FILTRO!$A90:$AY715,26,FALSE),0)","v":3},{"$f":"IFERROR(VLOOKUP($A96,FILTRO!$A90:$AY715,27,FALSE),0)","v":0},{"$f":"IFERROR(VLOOKUP($A96,FILTRO!$A90:$AY715,28,FALSE),0)","v":7},{"$f":"IFERROR(VLOOKUP($A96,FILTRO!$A90:$AY715,29,FALSE),0)","v":1},{"$f":"IFERROR(VLOOKUP($A96,FILTRO!$A90:$AY715,30,FALSE),0)","v":4},{"$f":"IFERROR(VLOOKUP($A96,FILTRO!$A90:$AY715,31,FALSE),0)","v":1},{"$f":"IFERROR(VLOOKUP($A96,FILTRO!$A90:$AY715,32,FALSE),0)","v":1},{"$f":"IFERROR(VLOOKUP($A96,FILTRO!$A90:$AY715,33,FALSE),0)","v":0},{"$f":"IFERROR(VLOOKUP($A96,FILTRO!$A90:$AY715,34,FALSE),0)","v":3},{"$f":"IFERROR(VLOOKUP($A96,FILTRO!$A90:$AY715,35,FALSE),0)","v":0},{"$f":"IFERROR(VLOOKUP($A96,FILTRO!$A90:$AY715,36,FALSE),0)","v":0},{"$f":"IFERROR(VLOOKUP($A96,FILTRO!$A90:$AY715,37,FALSE),0)","v":0},{"$f":"IFERROR(VLOOKUP($A96,FILTRO!$A90:$AY715,38,FALSE),0)","v":0},{"$f":"IFERROR(VLOOKUP($A96,FILTRO!$A90:$AY715,39,FALSE),0)","v":0},{"$f":"IFERROR(VLOOKUP($A96,FILTRO!$A90:$AY715,40,FALSE),0)","v":0},{"$f":"IFERROR(VLOOKUP($A96,FILTRO!$A90:$AY715,41,FALSE),0)","v":1},{"$f":"IFERROR(VLOOKUP($A96,FILTRO!$A90:$AY715,42,FALSE),0)","v":0},{"$f":"IFERROR(VLOOKUP($A96,FILTRO!$A90:$AY715,43,FALSE),0)","v":0},{"$f":"IFERROR(VLOOKUP($A96,FILTRO!$A90:$AY715,44,FALSE),0)","v":0},{"$f":"IFERROR(VLOOKUP($A96,FILTRO!$A90:$AY715,45,FALSE),0)","v":0},{"$f":"IFERROR(VLOOKUP($A96,FILTRO!$A90:$AY715,46,FALSE),0)","v":0},{"$f":"IFERROR(VLOOKUP($A96,FILTRO!$A90:$AY715,47,FALSE),0)","v":30},{"$f":"IFERROR(VLOOKUP($A96,FILTRO!$A90:$AY715,48,FALSE),0)","v":0},{"$f":"IFERROR(VLOOKUP($A96,FILTRO!$A90:$AY715,49,FALSE),0)","v":0},{"$nulls":35},"","","","","","","","","",null,"","","",null,"","",{"$nulls":4},0,0,0,0,0,0,0,0,0,null,0,0,0,null,0,0]
["P6223310","DEMENCIAS (INCLUYE ALZHEIMER)","LEVE",{"$f":"IFERROR(VLOOKUP($A97,FILTRO!$A91:$AY716,2,FALSE),0)","v":25},{"$f":"IFERROR(VLOOKUP($A97,FILTRO!$A91:$AY716,3,FALSE),0)","v":8},{"$f":"IFERROR(VLOOKUP($A97,FILTRO!$A91:$AY716,4,FALSE),0)","v":17},{"$f":"IFERROR(VLOOKUP($A97,FILTRO!$A91:$AY716,5,FALSE),0)","v":0},{"$f":"IFERROR(VLOOKUP($A97,FILTRO!$A91:$AY716,6,FALSE),0)","v":0},{"$f":"IFERROR(VLOOKUP($A97,FILTRO!$A91:$AY716,7,FALSE),0)","v":0},{"$f":"IFERROR(VLOOKUP($A97,FILTRO!$A91:$AY716,8,FALSE),0)","v":0},{"$f":"IFERROR(VLOOKUP($A97,FILTRO!$A91:$AY716,9,FALSE),0)","v":0},{"$f":"IFERROR(VLOOKUP($A97,FILTRO!$A91:$AY716,10,FALSE),0)","v":0},{"$f":"IFERROR(VLOOKUP($A97,FILTRO!$A91:$AY716,11,FALSE),0)","v":0},{"$f":"IFERROR(VLOOKUP($A97,FILTRO!$A91:$AY716,12,FALSE),0)","v":0},{"$f":"IFERROR(VLOOKUP($A97,FILTRO!$A91:$AY716,13,FALSE),0)","v":0},{"$f":"IFERROR(VLOOKUP($A97,FILTRO!$A91:$AY716,14,FALSE),0)","v":0},{"$f":"IFERROR(VLOOKUP($A97,FILTRO!$A91:$AY716,15,FALSE),0)","v":0},{"$f":"IFERROR(VLOOKUP($A97,FILTRO!$A91:$AY716,16,FALSE),0)","v":0},{"$f":"IFERROR(VLOOKUP($A97,FILTRO!$A91:$AY716,17,FALSE),0)","v":0},{"$f":"IFERROR(VLOOKUP($A97,FILTRO!$A91:$AY716,18,FALSE),0)","v":0},{"$f":"IFERROR(VLOOKUP($A97,FILTRO!$A91:$AY716,19,FALSE),0)","v":0},{"$f":"IFERROR(VLOOKUP($A97,FILTRO!$A91:$AY716,20,FALSE),0)","v":0},{"$f":"IFERROR(VLOOKUP($A97,FILTRO!$A91:$AY716,21,FALSE),0)","v":0},{"$f":"IFERROR(VLOOKUP($A97,FILTRO!$A91:$AY716,22,FALSE),0)","v":0},{"$f":"IFERROR(VLOOKUP($A97,FILTRO!$A91:$AY716,23,FALSE),0)","v":1},{"$f":"IFERROR(VLOOKUP($A97,FILTRO!$A91:$AY716,24,FALSE),0)","v":0},{"$f":"IFERROR(VLOOKUP($A97,FILTRO!$A91:$AY716,25,FALSE),0)","v":0},{"$f":"IFERROR(VLOOKUP($A97,FILTRO!$A91:$AY716,26,FALSE),0)","v":1},{"$f":"IFERROR(VLOOKUP($A97,FILTRO!$A91:$AY716,27,FALSE),0)","v":0},{"$f":"IFERROR(VLOOKUP($A97,FILTRO!$A91:$AY716,28,FALSE),0)","v":1},{"$f":"IFERROR(VLOOKUP($A97,FILTRO!$A91:$AY716,29,FALSE),0)","v":0},{"$f":"IFERROR(VLOOKUP($A97,FILTRO!$A91:$AY716,30,FALSE),0)","v":1},{"$f":"IFERROR(VLOOKUP($A97,FILTRO!$A91:$AY716,31,FALSE),0)","v":1},{"$f":"IFERROR(VLOOKUP($A97,FILTRO!$A91:$AY716,32,FALSE),0)","v":1},{"$f":"IFERROR(VLOOKUP($A97,FILTRO!$A91:$AY716,33,FALSE),0)","v":1},{"$f":"IFERROR(VLOOKUP($A97,FILTRO!$A91:$AY716,34,FALSE),0)","v":1},{"$f":"IFERROR(VLOOKUP($A97,FILTRO!$A91:$AY716,35,FALSE),0)","v":2},{"$f":"IFERROR(VLOOKUP($A97,FILTRO!$A91:$AY716,36,FALSE),0)","v":4},{"$f":"IFERROR(VLOOKUP($A97,FILTRO!$A91:$AY716,37,FALSE),0)","v":3},{"$f":"IFERROR(VLOOKUP($A97,FILTRO!$A91:$AY716,38,FALSE),0)","v":8},{"$f":"IFERROR(VLOOKUP($A97,FILTRO!$A91:$AY716,39,FALSE),0)","v":0},{"$f":"IFERROR(VLOOKUP($A97,FILTRO!$A91:$AY716,40,FALSE),0)","v":0},{"$f":"IFERROR(VLOOKUP($A97,FILTRO!$A91:$AY716,41,FALSE),0)","v":0},{"$f":"IFERROR(VLOOKUP($A97,FILTRO!$A91:$AY716,42,FALSE),0)","v":0},{"$f":"IFERROR(VLOOKUP($A97,FILTRO!$A91:$AY716,43,FALSE),0)","v":0},{"$f":"IFERROR(VLOOKUP($A97,FILTRO!$A91:$AY716,44,FALSE),0)","v":0},{"$f":"IFERROR(VLOOKUP($A97,FILTRO!$A91:$AY716,45,FALSE),0)","v":0},{"$f":"IFERROR(VLOOKUP($A97,FILTRO!$A91:$AY716,46,FALSE),0)","v":0},{"$f":"IFERROR(VLOOKUP($A97,FILTRO!$A91:$AY716,47,FALSE),0)","v":2},{"$f":"IFERROR(VLOOKUP($A97,FILTRO!$A91:$AY716,48,FALSE),0)","v":0},{"$f":"IFERROR(VLOOKUP($A97,FILTRO!$A91:$AY716,49,FALSE),0)","v":0},{"$nulls":35},"","","","","","","",{"$nulls":13},0,0,0,0,0,0,0,{"$nulls":3},0,0,0,null,0,0]
["P6230400",null,"MODERADO",{"$f":"IFERROR(VLOOKUP($A98,FILTRO!$A92:$AY717,2,FALSE),0)","v":25},{"$f":"IFERROR(VLOOKUP($A98,FILTRO!$A92:$AY717,3,FALSE),0)","v":9},{"$f":"IFERROR(VLOOKUP($A98,FILTRO!$A92:$AY717,4,FALSE),0)","v":16},{"$f":"IFERROR(VLOOKUP($A98,FILTRO!$A92:$AY717,5,FALSE),0)","v":0},{"$f":"IFERROR(VLOOKUP($A98,FILTRO!$A92:$AY717,6,FALSE),0)","v":0},{"$f":"IFERROR(VLOOKUP($A98,FILTRO!$A92:$AY717,7,FALSE),0)","v":0},{"$f":"IFERROR(VLOOKUP($A98,FILTRO!$A92:$AY717,8,FALSE),0)","v":0},{"$f":"IFERROR(VLOOKUP($A98,FILTRO!$A92:$AY717,9,FALSE),0)","v":0},{"$f":"IFERROR(VLOOKUP($A98,FILTRO!$A92:$AY717,10,FALSE),0)","v":0},{"$f":"IFERROR(VLOOKUP($A98,FILTRO!$A92:$AY717,11,FALSE),0)","v":0},{"$f":"IFERROR(VLOOKUP($A98,FILTRO!$A92:$AY717,12,FALSE),0)","v":0},{"$f":"IFERROR(VLOOKUP($A98,FILTRO!$A92:$AY717,13,FALSE),0)","v":0},{"$f":"IFERROR(VLOOKUP($A98,FILTRO!$A92:$AY717,14,FALSE),0)","v":0},{"$f":"IFERROR(VLOOKUP($A98,FILTRO!$A92:$AY717,15,FALSE),0)","v":1},{"$f":"IFERROR(VLOOKUP($A98,FILTRO!$A92:$AY717,16,FALSE),0)","v":0},{"$f":"IFERROR(VLOOKUP($A98,FILTRO!$A92:$AY717,17,FALSE),0)","v":0},{"$f":"IFERROR(VLOOKUP($A98,FILTRO!$A92:$AY717,18,FALSE),0)","v":0},{"$f":"IFERROR(VLOOKUP($A98,FILTRO!$A92:$AY717,19,FALSE),0)","v":0},{"$f":"IFERROR(VLOOKUP($A98,FILTRO!$A92:$AY717,20,FALSE),0)","v":0},{"$f":"IFERROR(VLOOKUP($A98,FILTRO!$A92:$AY717,21,FALSE),0)","v":0},{"$f":"IFERROR(VLOOKUP($A98,FILTRO!$A92:$AY717,22,FALSE),0)","v":0},{"$f":"IFERROR(VLOOKUP($A98,FILTRO!$A92:$AY717,23,FALSE),0)","v":0},{"$f":"IFERROR(VLOOKUP($A98,FILTRO!$A92:$AY717,24,FALSE),0)","v":0},{"$f":"IFERROR(VLOOKUP($A98,FILTRO!$A92:$AY717,25,FALSE),0)","v":0},{"$f":"IFERROR(VLOOKUP($A98,FILTRO!$A92:$AY717,26,FALSE),0)","v":0},{"$f":"IFERROR(VLOOKUP($A98,FILTRO!$A92:$AY717,27,FALSE),0)","v":0},{"$f":"IFERROR(VLOOKUP($A98,FILTRO!$A92:$AY717,28,FALSE),0)","v":0},{"$f":"IFERROR(VLOOKUP($A98,FILTRO!$A92:$AY717,29,FALSE),0)","v":1},{"$f":"IFERROR(VLOOKUP($A98,FILTRO!$A92:$AY717,30,FALSE),0)","v":0},{"$f":"IFERROR(VLOOKUP($A98,FILTRO!$A92:$AY717,31,FALSE),0)","v":0},{"$f":"IFERROR(VLOOKUP($A98,FILTRO!$A92:$AY717,32,FALSE),0)","v":2},{"$f":"IFERROR(VLOOKUP($A98,FILTRO!$A92:$AY717,33,FALSE),0)","v":3},{"$f":"IFERROR(VLOOKUP($A98,FILTRO!$A92:$AY717,34,FALSE),0)","v":1},{"$f":"IFERROR(VLOOKUP($A98,FILTRO!$A92:$AY717,35,FALSE),0)","v":2},{"$f":"IFERROR(VLOOKUP($A98,FILTRO!$A92:$AY717,36,FALSE),0)","v":3},{"$f":"IFERROR(VLOOKUP($A98,FILTRO!$A92:$AY717,37,FALSE),0)","v":2},{"$f":"IFERROR(VLOOKUP($A98,FILTRO!$A92:$AY717,38,FALSE),0)","v":10},{"$f":"IFERROR(VLOOKUP($A98,FILTRO!$A92:$AY717,39,FALSE),0)","v":0},{"$f":"IFERROR(VLOOKUP($A98,FILTRO!$A92:$AY717,40,FALSE),0)","v":0},{"$f":"IFERROR(VLOOKUP($A98,FILTRO!$A92:$AY717,41,FALSE),0)","v":0},{"$f":"IFERROR(VLOOKUP($A98,FILTRO!$A92:$AY717,42,FALSE),0)","v":0},{"$f":"IFERROR(VLOOKUP($A98,FILTRO!$A92:$AY717,43,FALSE),0)","v":0},{"$f":"IFERROR(VLOOKUP($A98,FILTRO!$A92:$AY717,44,FALSE),0)","v":0},{"$f":"IFERROR(VLOOKUP($A98,FILTRO!$A92:$AY717,45,FALSE),0)","v":0},{"$f":"IFERROR(VLOOKUP($A98,FILTRO!$A92:$AY717,46,FALSE),0)","v":0},{"$f":"IFERROR(VLOOKUP($A98,FILTRO!$A92:$AY717,47,FALSE),0)","v":1},{"$f":"IFERROR(VLOOKUP($A98,FILTRO!$A92:$AY717,48,FALSE),0)","v":0},{"$f":"IFERROR(VLOOKUP($A98,FILTRO!$A92:$AY717,49,FALSE),0)","v":0},{"$nulls":35},"","","","","","","",{"$nulls":7},{"$f":"IF($AW98>$D98,\"* La celda 'Plan Cuidado Integral Elaborado' debe ser menor o igual al Total de Personas en control. \",\"\")","v":""},{"$f":"IF(AND($D98<>0,$AW98=\"\"),\"* No olvide escribir en las celdas de 'Plan Cuidado Integral Elaborado' (Digite CERO si no tiene). \",\"\")","v":""},{"$nulls":4},0,0,0,0,0,0,0,{"$nulls":3},0,0,0,null,0,0]
["P6230500",null,"AVANZADO",{"$f":"IFERROR(VLOOKUP($A99,FILTRO!$A93:$AY718,2,FALSE),0)","v":16},{"$f":"IFERROR(VLOOKUP($A99,FILTRO!$A93:$AY718,3,FALSE),0)","v":5},{"$f":"IFERROR(VLOOKUP($A99,FILTRO!$A93:$AY718,4,FALSE),0)","v":11},{"$f":"IFERROR(VLOOKUP($A99,FILTRO!$A93:$AY718,5,FALSE),0)","v":0},{"$f":"IFERROR(VLOOKUP($A99,FILTRO!$A93:$AY718,6,FALSE),0)","v":0},{"$f":"IFERROR(VLOOKUP($A99,FILTRO!$A93:$AY718,7,FALSE),0)","v":0},{"$f":"IFERROR(VLOOKUP($A99,FILTRO!$A93:$AY718,8,FALSE),0)","v":0},{"$f":"IFERROR(VLOOKUP($A99,FILTRO!$A93:$AY718,9,FALSE),0)","v":0},{"$f":"IFERROR(VLOOKUP($A99,FILTRO!$A93:$AY718,10,FALSE),0)","v":0},{"$f":"IFERROR(VLOOKUP($A99,FILTRO!$A93:$AY718,11,FALSE),0)","v":0},{"$f":"IFERROR(VLOOKUP($A99,FILTRO!$A93:$AY718,12,FALSE),0)","v":0},{"$f":"IFERROR(VLOOKUP($A99,FILTRO!$A93:$AY718,13,FALSE),0)","v":0},{"$f":"IFERROR(VLOOKUP($A99,FILTRO!$A93:$AY718,14,FALSE),0)","v":0},{"$f":"IFERROR(VLOOKUP($A99,FILTRO!$A93:$AY718,15,FALSE),0)","v":0},{"$f":"IFERROR(VLOOKUP($A99,FILTRO!$A93:$AY718,16,FALSE),0)","v":0},{"$f":"IFERROR(VLOOKUP($A99,FILTRO!$A93:$AY718,17,FALSE),0)","v":0},{"$f":"IFERROR(VLOOKUP($A99,FILTRO!$A93:$AY718,18,FALSE),0)","v":0},{"$f":"IFERROR(VLOOKUP($A99,FILTRO!$A93:$AY718,19,FALSE),0)","v":0},{"$f":"IFERROR(VLOOKUP($A99,FILTRO!$A93:$AY718,20,FALSE),0)","v":0},{"$f":"IFERROR(VLOOKUP($A99,FILTRO!$A93:$AY718,21,FALSE),0)","v":0},{"$f":"IFERROR(VLOOKUP($A99,FILTRO!$A93:$AY718,22,FALSE),0)","v":0},{"$f":"IFERROR(VLOOKUP($A99,FILTRO!$A93:$AY718,23,FALSE),0)","v":0},{"$f":"IFERROR(VLOOKUP($A99,FILTRO!$A93:$AY718,24,FALSE),0)","v":1},{"$f":"IFERROR(VLOOKUP($A99,FILTRO!$A93:$AY718,25,FALSE),0)","v":0},{"$f":"IFERROR(VLOOKUP($A99,FILTRO!$A93:$AY718,26,FALSE),0)","v":0},{"$f":"IFERROR(VLOOKUP($A99,FILTRO!$A93:$AY718,27,FALSE),0)","v":0},{"$f":"IFERROR(VLOOKUP($A99,FILTRO!$A93:$AY718,28,FALSE),0)","v":0},{"$f":"IFERROR(VLOOKUP($A99,FILTRO!$A93:$AY718,29,FALSE),0)","v":0},{"$f":"IFERROR(VLOOKUP($A99,FILTRO!$A93:$AY718,30,FALSE),0)","v":0},{"$f":"IFERROR(VLOOKUP($A99,FILTRO!$A93:$AY718,31,FALSE),0)","v":0},{"$f":"IFERROR(VLOOKUP($A99,FILTRO!$A93:$AY718,32,FALSE),0)","v":1},{"$f":"IFERROR(VLOOKUP($A99,FILTRO!$A93:$AY718,33,FALSE),0)","v":0},{"$f":"IFERROR(VLOOKUP($A99,FILTRO!$A93:$AY718,34,FALSE),0)","v":0},{"$f":"IFERROR(VLOOKUP($A99,FILTRO!$A93:$AY718,35,FALSE),0)","v":2},{"$f":"IFERROR(VLOOKUP($A99,FILTRO!$A93:$AY718,36,FALSE),0)","v":6},{"$f":"IFERROR(VLOOKUP($A99,FILTRO!$A93:$AY718,37,FALSE),0)","v":3},{"$f":"IFERROR(VLOOKUP($A99,FILTRO!$A93:$AY718,38,FALSE),0)","v":3},{"$f":"IFERROR(VLOOKUP($A99,FILTRO!$A93:$AY718,39,FALSE),0)","v":0},{"$f":"IFERROR(VLOOKUP($A99,FILTRO!$A93:$AY718,40,FALSE),0)","v":0},{"$f":"IFERROR(VLOOKUP($A99,FILTRO!$A93:$AY718,41,FALSE),0)","v":0},{"$f":"IFERROR(VLOOKUP($A99,FILTRO!$A93:$AY718,42,FALSE),0)","v":0},{"$f":"IFERROR(VLOOKUP($A99,FILTRO!$A93:$AY718,43,FALSE),0)","v":0},{"$f":"IFERROR(VLOOKUP($A99,FILTRO!$A93:$AY718,44,FALSE),0)","v":0},{"$f":"IFERROR(VLOOKUP($A99,FILTRO!$A93:$AY718,45,FALSE),0)","v":0},{"$f":"IFERROR(VLOOKUP($A99,FILTRO!$A93:$AY718,46,FALSE),0)","v":0},{"$f":"IFERROR(VLOOKUP($A99,FILTRO!$A93:$AY718,47,FALSE),0)","v":0},{"$f":"IFERROR(VLOOKUP($A99,FILTRO!$A93:$AY718,48,FALSE),0)","v":0},{"$f":"IFERROR(VLOOKUP($A99,FILTRO!$A93:$AY718,49,FALSE),0)","v":0},{"$nulls":35},"","","","","","","",{"$nulls":7},{"$f":"IF($AW99>$D99,\"* La celda 'Plan Cuidado Integral Elaborado' debe ser menor o igual al Total de Personas en control. \",\"\")","v":""},{"$f":"IF(AND($D99<>0,$AW99=\"\"),\"* No olvide escribir en las celdas de 'Plan Cuidado Integral Elaborado' (Digite CERO si no tiene). \",\"\")","v":""},{"$nulls":4},0,0,0,0,0,0,0,{"$nulls":3},0,0,0,null,0,0]
["P6223330","ESQUIZOFRENIA",null,{"$f":"IFERROR(VLOOKUP($A100,FILTRO!$A94:$AY719,2,FALSE),0)","v":755},{"$f":"IFERROR(VLOOKUP($A100,FILTRO!$A94:$AY719,3,FALSE),0)","v":511},{"$f":"IFERROR(VLOOKUP($A100,FILTRO!$A94:$AY719,4,FALSE),0)","v":244},{"$f":"IFERROR(VLOOKUP($A100,FILTRO!$A94:$AY719,5,FALSE),0)","v":0},{"$f":"IFERROR(VLOOKUP($A100,FILTRO!$A94:$AY719,6,FALSE),0)","v":0},{"$f":"IFERROR(VLOOKUP($A100,FILTRO!$A94:$AY719,7,FALSE),0)","v":0},{"$f":"IFERROR(VLOOKUP($A100,FILTRO!$A94:$AY719,8,FALSE),0)","v":0},{"$f":"IFERROR(VLOOKUP($A100,FILTRO!$A94:$AY719,9,FALSE),0)","v":0},{"$f":"IFERROR(VLOOKUP($A100,FILTRO!$A94:$AY719,10,FALSE),0)","v":1},{"$f":"IFERROR(VLOOKUP($A100,FILTRO!$A94:$AY719,11,FALSE),0)","v":12},{"$f":"IFERROR(VLOOKUP($A100,FILTRO!$A94:$AY719,12,FALSE),0)","v":2},{"$f":"IFERROR(VLOOKUP($A100,FILTRO!$A94:$AY719,13,FALSE),0)","v":51},{"$f":"IFERROR(VLOOKUP($A100,FILTRO!$A94:$AY719,14,FALSE),0)","v":13},{"$f":"IFERROR(VLOOKUP($A100,FILTRO!$A94:$AY719,15,FALSE),0)","v":75},{"$f":"IFERROR(VLOOKUP($A100,FILTRO!$A94:$AY719,16,FALSE),0)","v":23},{"$f":"IFERROR(VLOOKUP($A100,FILTRO!$A94:$AY719,17,FALSE),0)","v":81},{"$f":"IFERROR(VLOOKUP($A100,FILTRO!$A94:$AY719,18,FALSE),0)","v":18},{"$f":"IFERROR(VLOOKUP($A100,FILTRO!$A94:$AY719,19,FALSE),0)","v":55},{"$f":"IFERROR(VLOOKUP($A100,FILTRO!$A94:$AY719,20,FALSE),0)","v":24},{"$f":"IFERROR(VLOOKUP($A100,FILTRO!$A94:$AY719,21,FALSE),0)","v":55},{"$f":"IFERROR(VLOOKUP($A100,FILTRO!$A94:$AY719,22,FALSE),0)","v":20},{"$f":"IFERROR(VLOOKUP($A100,FILTRO!$A94:$AY719,23,FALSE),0)","v":55},{"$f":"IFERROR(VLOOKUP($A100,FILTRO!$A94:$AY719,24,FALSE),0)","v":22},{"$f":"IFERROR(VLOOKUP($A100,FILTRO!$A94:$AY719,25,FALSE),0)","v":43},{"$f":"IFERROR(VLOOKUP($A100,FILTRO!$A94:$AY719,26,FALSE),0)","v":27},{"$f":"IFERROR(VLOOKUP($A100,FILTRO!$A94:$AY719,27,FALSE),0)","v":42},{"$f":"IFERROR(VLOOKUP($A100,FILTRO!$A94:$AY719,28,FALSE),0)","v":30},{"$f":"IFERROR(VLOOKUP($A100,FILTRO!$A94:$AY719,29,FALSE),0)","v":20},{"$f":"IFERROR(VLOOKUP($A100,FILTRO!$A94:$AY719,30,FALSE),0)","v":27},{"$f":"IFERROR(VLOOKUP($A100,FILTRO!$A94:$AY719,31,FALSE),0)","v":9},{"$f":"IFERROR(VLOOKUP($A100,FILTRO!$A94:$AY719,32,FALSE),0)","v":16},{"$f":"IFERROR(VLOOKUP($A100,FILTRO!$A94:$AY719,33,FALSE),0)","v":7},{"$f":"IFERROR(VLOOKUP($A100,FILTRO!$A94:$AY719,34,FALSE),0)","v":8},{"$f":"IFERROR(VLOOKUP($A100,FILTRO!$A94:$AY719,35,FALSE),0)","v":4},{"$f":"IFERROR(VLOOKUP($A100,FILTRO!$A94:$AY719,36,FALSE),0)","v":9},{"$f":"IFERROR(VLOOKUP($A100,FILTRO!$A94:$AY719,37,FALSE),0)","v":2},{"$f":"IFERROR(VLOOKUP($A100,FILTRO!$A94:$AY719,38,FALSE),0)","v":4},{"$f":"IFERROR(VLOOKUP($A100,FILTRO!$A94:$AY719,39,FALSE),0)","v":0},{"$f":"IFERROR(VLOOKUP($A100,FILTRO!$A94:$AY719,40,FALSE),0)","v":0},{"$f":"IFERROR(VLOOKUP($A100,FILTRO!$A94:$AY719,41,FALSE),0)","v":2},{"$f":"IFERROR(VLOOKUP($A100,FILTRO!$A94:$AY719,42,FALSE),0)","v":4},{"$f":"IFERROR(VLOOKUP($A100,FILTRO!$A94:$AY719,43,FALSE),0)","v":1},{"$f":"IFERROR(VLOOKUP($A100,FILTRO!$A94:$AY719,44,FALSE),0)","v":0},{"$f":"IFERROR(VLOOKUP($A100,FILTRO!$A94:$AY719,45,FALSE),0)","v":0},{"$f":"IFERROR(VLOOKUP($A100,FILTRO!$A94:$AY719,46,FALSE),0)","v":1},{"$f":"IFERROR(VLOOKUP($A100,FILTRO!$A94:$AY719,47,FALSE),0)","v":217},{"$f":"IFERROR(VLOOKUP($A100,FILTRO!$A94:$AY719,48,FALSE),0)","v":0},{"$f":"IFERROR(VLOOKUP($A100,FILTRO!$A94:$AY719,49,FALSE),0)","v":0}]
["P6241123","TRASTORNO ADAPTATIVO",null,{"$f":"IFERROR(VLOOKUP($A101,FILTRO!$A95:$AY720,2,FALSE),0)","v":17},{"$f":"IFERROR(VLOOKUP($A101,FILTRO!$A95:$AY720,3,FALSE),0)","v":7},{"$f":"IFERROR(VLOOKUP($A101,FILTRO!$A95:$AY720,4,FALSE),0)","v":10},{"$f":"IFERROR(VLOOKUP($A101,FILTRO!$A95:$AY720,5,FALSE),0)","v":0},{"$f":"IFERROR(VLOOKUP($A101,FILTRO!$A95:$AY720,6,FALSE),0)","v":0},{"$f":"IFERROR(VLOOKUP($A101,FILTRO!$A95:$AY720,7,FALSE),0)","v":0},{"$f":"IFERROR(VLOOKUP($A101,FILTRO!$A95:$AY720,8,FALSE),0)","v":1},{"$f":"IFERROR(VLOOKUP($A101,FILTRO!$A95:$AY720,9,FALSE),0)","v":1},{"$f":"IFERROR(VLOOKUP($A101,FILTRO!$A95:$AY720,10,FALSE),0)","v":1},{"$f":"IFERROR(VLOOKUP($A101,FILTRO!$A95:$AY720,11,FALSE),0)","v":2},{"$f":"IFERROR(VLOOKUP($A101,FILTRO!$A95:$AY720,12,FALSE),0)","v":1},{"$f":"IFERROR(VLOOKUP($A101,FILTRO!$A95:$AY720,13,FALSE),0)","v":0},{"$f":"IFERROR(VLOOKUP($A101,FILTRO!$A95:$AY720,14,FALSE),0)","v":1},{"$f":"IFERROR(VLOOKUP($A101,FILTRO!$A95:$AY720,15,FALSE),0)","v":1},{"$f":"IFERROR(VLOOKUP($A101,FILTRO!$A95:$AY720,16,FALSE),0)","v":1},{"$f":"IFERROR(VLOOKUP($A101,FILTRO!$A95:$AY720,17,FALSE),0)","v":1},{"$f":"IFERROR(VLOOKUP($A101,FILTRO!$A95:$AY720,18,FALSE),0)","v":1},{"$f":"IFERROR(VLOOKUP($A101,FILTRO!$A95:$AY720,19,FALSE),0)","v":0},{"$f":"IFERROR(VLOOKUP($A101,FILTRO!$A95:$AY720,20,FALSE),0)","v":0},{"$f":"IFERROR(VLOOKUP($A101,FILTRO!$A95:$AY720,21,FALSE),0)","v":0},{"$f":"IFERROR(VLOOKUP($A101,FILTRO!$A95:$AY720,22,FALSE),0)","v":0},{"$f":"IFERROR(VLOOKUP($A101,FILTRO!$A95:$AY720,23,FALSE),0)","v":0},{"$f":"IFERROR(VLOOKUP($A101,FILTRO!$A95:$AY720,24,FALSE),0)","v":0},{"$f":"IFERROR(VLOOKUP($A101,FILTRO!$A95:$AY720,25,FALSE),0)","v":1},{"$f":"IFERROR(VLOOKUP($A101,FILTRO!$A95:$AY720,26,FALSE),0)","v":1},{"$f":"IFERROR(VLOOKUP($A101,FILTRO!$A95:$AY720,27,FALSE),0)","v":0},{"$f":"IFERROR(VLOOKUP($A101,FILTRO!$A95:$AY720,28,FALSE),0)","v":1},{"$f":"IFERROR(VLOOKUP($A101,FILTRO!$A95:$AY720,29,FALSE),0)","v":0},{"$f":"IFERROR(VLOOKUP($A101,FILTRO!$A95:$AY720,30,FALSE),0)","v":0},{"$f":"IFERROR(VLOOKUP($A101,FILTRO!$A95:$AY720,31,FALSE),0)","v":1},{"$f":"IFERROR(VLOOKUP($A101,FILTRO!$A95:$AY720,32,FALSE),0)","v":0},{"$f":"IFERROR(VLOOKUP($A101,FILTRO!$A95:$AY720,33,FALSE),0)","v":0},{"$f":"IFERROR(VLOOKUP($A101,FILTRO!$A95:$AY720,34,FALSE),0)","v":0},{"$f":"IFERROR(VLOOKUP($A101,FILTRO!$A95:$AY720,35,FALSE),0)","v":0},{"$f":"IFERROR(VLOOKUP($A101,FILTRO!$A95:$AY720,36,FALSE),0)","v":2},{"$f":"IFERROR(VLOOKUP($A101,FILTRO!$A95:$AY720,37,FALSE),0)","v":0},{"$f":"IFERROR(VLOOKUP($A101,FILTRO!$A95:$AY720,38,FALSE),0)","v":0},{"$f":"IFERROR(VLOOKUP($A101,FILTRO!$A95:$AY720,39,FALSE),0)","v":0},{"$f":"IFERROR(VLOOKUP($A101,FILTRO!$A95:$AY720,40,FALSE),0)","v":0},{"$f":"IFERROR(VLOOKUP($A101,FILTRO!$A95:$AY720,41,FALSE),0)","v":0},{"$f":"IFERROR(VLOOKUP($A101,FILTRO!$A95:$AY720,42,FALSE),0)","v":0},{"$f":"IFERROR(VLOOKUP($A101,FILTRO!$A95:$AY720,43,FALSE),0)","v":1},{"$f":"IFERROR(VLOOKUP($A101,FILTRO!$A95:$AY720,44,FALSE),0)","v":0},{"$f":"IFERROR(VLOOKUP($A101,FILTRO!$A95:$AY720,45,FALSE),0)","v":0},{"$f":"IFERROR(VLOOKUP($A101,FILTRO!$A95:$AY720,46,FALSE),0)","v":0},{"$f":"IFERROR(VLOOKUP($A101,FILTRO!$A95:$AY720,47,FALSE),0)","v":6},{"$f":"IFERROR(VLOOKUP($A101,FILTRO!$A95:$AY720,48,FALSE),0)","v":0},{"$f":"IFERROR(VLOOKUP($A101,FILTRO!$A95:$AY720,49,FALSE),0)","v":0}]
["P6223350","TRASTORNOS DE LA CONDUCTA ALIMENTARIA",null,{"$f":"IFERROR(VLOOKUP($A102,FILTRO!$A96:$AY721,2,FALSE),0)","v":78},{"$f":"IFERROR(VLOOKUP($A102,FILTRO!$A96:$AY721,3,FALSE),0)","v":5},{"$f":"IFERROR(VLOOKUP($A102,FILTRO!$A96:$AY721,4,FALSE),0)","v":73},{"$f":"IFERROR(VLOOKUP($A102,FILTRO!$A96:$AY721,5,FALSE),0)","v":0},{"$f":"IFERROR(VLOOKUP($A102,FILTRO!$A96:$AY721,6,FALSE),0)","v":0},{"$f":"IFERROR(VLOOKUP($A102,FILTRO!$A96:$AY721,7,FALSE),0)","v":0},{"$f":"IFERROR(VLOOKUP($A102,FILTRO!$A96:$AY721,8,FALSE),0)","v":0},{"$f":"IFERROR(VLOOKUP($A102,FILTRO!$A96:$AY721,9,FALSE),0)","v":2},{"$f":"IFERROR(VLOOKUP($A102,FILTRO!$A96:$AY721,10,FALSE),0)","v":16},{"$f":"IFERROR(VLOOKUP($A102,FILTRO!$A96:$AY721,11,FALSE),0)","v":3},{"$f":"IFERROR(VLOOKUP($A102,FILTRO!$A96:$AY721,12,FALSE),0)","v":41},{"$f":"IFERROR(VLOOKUP($A102,FILTRO!$A96:$AY721,13,FALSE),0)","v":0},{"$f":"IFERROR(VLOOKUP($A102,FILTRO!$A96:$AY721,14,FALSE),0)","v":7},{"$f":"IFERROR(VLOOKUP($A102,FILTRO!$A96:$AY721,15,FALSE),0)","v":0},{"$f":"IFERROR(VLOOKUP($A102,FILTRO!$A96:$AY721,16,FALSE),0)","v":1},{"$f":"IFERROR(VLOOKUP($A102,FILTRO!$A96:$AY721,17,FALSE),0)","v":0},{"$f":"IFERROR(VLOOKUP($A102,FILTRO!$A96:$AY721,18,FALSE),0)","v":2},{"$f":"IFERROR(VLOOKUP($A102,FILTRO!$A96:$AY721,19,FALSE),0)","v":0},{"$f":"IFERROR(VLOOKUP($A102,FILTRO!$A96:$AY721,20,FALSE),0)","v":3},{"$f":"IFERROR(VLOOKUP($A102,FILTRO!$A96:$AY721,21,FALSE),0)","v":0},{"$f":"IFERROR(VLOOKUP($A102,FILTRO!$A96:$AY721,22,FALSE),0)","v":2},{"$f":"IFERROR(VLOOKUP($A102,FILTRO!$A96:$AY721,23,FALSE),0)","v":0},{"$f":"IFERROR(VLOOKUP($A102,FILTRO!$A96:$AY721,24,FALSE),0)","v":1},{"$f":"IFERROR(VLOOKUP($A102,FILTRO!$A96:$AY721,25,FALSE),0)","v":0},{"$f":"IFERROR(VLOOKUP($A102,FILTRO!$A96:$AY721,26,FALSE),0)","v":0},{"$f":"IFERROR(VLOOKUP($A102,FILTRO!$A96:$AY721,27,FALSE),0)","v":0},{"$f":"IFERROR(VLOOKUP($A102,FILTRO!$A96:$AY721,28,FALSE),0)","v":0},{"$f":"IFERROR(VLOOKUP($A102,FILTRO!$A96:$AY721,29,FALSE),0)","v":0},{"$f":"IFERROR(VLOOKUP($A102,FILTRO!$A96:$AY721,30,FALSE),0)","v":0},{"$f":"IFERROR(VLOOKUP($A102,FILTRO!$A96:$AY721,31,FALSE),0)","v":0},{"$f":"IFERROR(VLOOKUP($A102,FILTRO!$A96:$AY721,32,FALSE),0)","v":0},{"$f":"IFERROR(VLOOKUP($A102,FILTRO!$A96:$AY721,33,FALSE),0)","v":0},{"$f":"IFERROR(VLOOKUP($A102,FILTRO!$A96:$AY721,34,FALSE),0)","v":0},{"$f":"IFERROR(VLOOKUP($A102,FILTRO!$A96:$AY721,35,FALSE),0)","v":0},{"$f":"IFERROR(VLOOKUP($A102,FILTRO!$A96:$AY721,36,FALSE),0)","v":0},{"$f":"IFERROR(VLOOKUP($A102,FILTRO!$A96:$AY721,37,FALSE),0)","v":0},{"$f":"IFERROR(VLOOKUP($A102,FILTRO!$A96:$AY721,38,FALSE),0)","v":0},{"$f":"IFERROR(VLOOKUP($A102,FILTRO!$A96:$AY721,39,FALSE),0)","v":1},{"$f":"IFERROR(VLOOKUP($A102,FILTRO!$A96:$AY721,40,FALSE),0)","v":2},{"$f":"IFERROR(VLOOKUP($A102,FILTRO!$A96:$AY721,41,FALSE),0)","v":0},{"$f":"IFERROR(VLOOKUP($A102,FILTRO!$A96:$AY721,42,FALSE),0)","v":0},{"$f":"IFERROR(VLOOKUP($A102,FILTRO!$A96:$AY721,43,FALSE),0)","v":0},{"$f":"IFERROR(VLOOKUP($A102,FILTRO!$A96:$AY721,44,FALSE),0)","v":0},{"$f":"IFERROR(VLOOKUP($A102,FILTRO!$A96:$AY721,45,FALSE),0)","v":0},{"$f":"IFERROR(VLOOKUP($A102,FILTRO!$A96:$AY721,46,FALSE),0)","v":3},{"$f":"IFERROR(VLOOKUP($A102,FILTRO!$A96:$AY721,47,FALSE),0)","v":36},{"$f":"IFERROR(VLOOKUP($A102,FILTRO!$A96:$AY721,48,FALSE),0)","v":0},{"$f":"IFERROR(VLOOKUP($A102,FILTRO!$A96:$AY721,49,FALSE),0)","v":0},{"$nulls":35},"","","","","","",{"$f":"IF($AV102>$D102,\"* La celda 'Población SENAME' debe ser menor o igual al Total de Personas en control. \",\"\")","v":""},"","",null,"","",{"$f":"IF(AND($D102<>0,$AV102=\"\"),\"* No olvide escribir en las celdas de 'Población SENAME' (Digite CERO si no tiene). \",\"\")","v":""},null,{"$f":"IF($AW102>$D102,\"* La celda 'Plan Cuidado Integral Elaborado' debe ser menor o igual al Total de Personas en control. \",\"\")","v":""},{"$f":"IF(AND($D102<>0,$AW102=\"\"),\"* No olvide escribir en las celdas de 'Plan Cuidado Integral Elaborado' (Digite CERO si no tiene). \",\"\")","v":""},{"$nulls":4},0,0,0,0,0,0,{"$f":"IF($AV102>$D102,1,0)","v":0},0,0,null,0,0,{"$f":"IF(AND($D102<>0,$AV102=\"\"),1,0)","v":0},null,{"$f":"IF($AW102>$D102,1,0)","v":0},{"$f":"IF(AND($D102<>0,$AW102=\"\"),1,0)","v":0}]
["P6223360","RETRASO MENTAL",null,{"$f":"IFERROR(VLOOKUP($A103,FILTRO!$A97:$AY722,2,FALSE),0)","v":109},{"$f":"IFERROR(VLOOKUP($A103,FILTRO!$A97:$AY722,3,FALSE),0)","v":65},{"$f":"IFERROR(VLOOKUP($A103,FILTRO!$A97:$AY722,4,FALSE),0)","v":44},{"$f":"IFERROR(VLOOKUP($A103,FILTRO!$A97:$AY722,5,FALSE),0)","v":0},{"$f":"IFERROR(VLOOKUP($A103,FILTRO!$A97:$AY722,6,FALSE),0)","v":0},{"$f":"IFERROR(VLOOKUP($A103,FILTRO!$A97:$AY722,7,FALSE),0)","v":1},{"$f":"IFERROR(VLOOKUP($A103,FILTRO!$A97:$AY722,8,FALSE),0)","v":0},{"$f":"IFERROR(VLOOKUP($A103,FILTRO!$A97:$AY722,9,FALSE),0)","v":7},{"$f":"IFERROR(VLOOKUP($A103,FILTRO!$A97:$AY722,10,FALSE),0)","v":3},{"$f":"IFERROR(VLOOKUP($A103,FILTRO!$A97:$AY722,11,FALSE),0)","v":6},{"$f":"IFERROR(VLOOKUP($A103,FILTRO!$A97:$AY722,12,FALSE),0)","v":6},{"$f":"IFERROR(VLOOKUP($A103,FILTRO!$A97:$AY722,13,FALSE),0)","v":11},{"$f":"IFERROR(VLOOKUP($A103,FILTRO!$A97:$AY722,14,FALSE),0)","v":6},{"$f":"IFERROR(VLOOKUP($A103,FILTRO!$A97:$AY722,15,FALSE),0)","v":4},{"$f":"IFERROR(VLOOKUP($A103,FILTRO!$A97:$AY722,16,FALSE),0)","v":1},{"$f":"IFERROR(VLOOKUP($A103,FILTRO!$A97:$AY722,17,FALSE),0)","v":9},{"$f":"IFERROR(VLOOKUP($A103,FILTRO!$A97:$AY722,18,FALSE),0)","v":3},{"$f":"IFERROR(VLOOKUP($A103,FILTRO!$A97:$AY722,19,FALSE),0)","v":11},{"$f":"IFERROR(VLOOKUP($A103,FILTRO!$A97:$AY722,20,FALSE),0)","v":1},{"$f":"IFERROR(VLOOKUP($A103,FILTRO!$A97:$AY722,21,FALSE),0)","v":4},{"$f":"IFERROR(VLOOKUP($A103,FILTRO!$A97:$AY722,22,FALSE),0)","v":1},{"$f":"IFERROR(VLOOKUP($A103,FILTRO!$A97:$AY722,23,FALSE),0)","v":4},{"$f":"IFERROR(VLOOKUP($A103,FILTRO!$A97:$AY722,24,FALSE),0)","v":7},{"$f":"IFERROR(VLOOKUP($A103,FILTRO!$A97:$AY722,25,FALSE),0)","v":3},{"$f":"IFERROR(VLOOKUP($A103,FILTRO!$A97:$AY722,26,FALSE),0)","v":4},{"$f":"IFERROR(VLOOKUP($A103,FILTRO!$A97:$AY722,27,FALSE),0)","v":2},{"$f":"IFERROR(VLOOKUP($A103,FILTRO!$A97:$AY722,28,FALSE),0)","v":3},{"$f":"IFERROR(VLOOKUP($A103,FILTRO!$A97:$AY722,29,FALSE),0)","v":3},{"$f":"IFERROR(VLOOKUP($A103,FILTRO!$A97:$AY722,30,FALSE),0)","v":1},{"$f":"IFERROR(VLOOKUP($A103,FILTRO!$A97:$AY722,31,FALSE),0)","v":0},{"$f":"IFERROR(VLOOKUP($A103,FILTRO!$A97:$AY722,32,FALSE),0)","v":6},{"$f":"IFERROR(VLOOKUP($A103,FILTRO!$A97:$AY722,33,FALSE),0)","v":0},{"$f":"IFERROR(VLOOKUP($A103,FILTRO!$A97:$AY722,34,FALSE),0)","v":2},{"$f":"IFERROR(VLOOKUP($A103,FILTRO!$A97:$AY722,35,FALSE),0)","v":0},{"$f":"IFERROR(VLOOKUP($A103,FILTRO!$A97:$AY722,36,FALSE),0)","v":0},{"$f":"IFERROR(VLOOKUP($A103,FILTRO!$A97:$AY722,37,FALSE),0)","v":0},{"$f":"IFERROR(VLOOKUP($A103,FILTRO!$A97:$AY722,38,FALSE),0)","v":0},{"$f":"IFERROR(VLOOKUP($A103,FILTRO!$A97:$AY722,39,FALSE),0)","v":0},{"$f":"IFERROR(VLOOKUP($A103,FILTRO!$A97:$AY722,40,FALSE),0)","v":0},{"$f":"IFERROR(VLOOKUP($A103,FILTRO!$A97:$AY722,41,FALSE),0)","v":0},{"$f":"IFERROR(VLOOKUP($A103,FILTRO!$A97:$AY722,42,FALSE),0)","v":0},{"$f":"IFERROR(VLOOKUP($A103,FILTRO!$A97:$AY722,43,FALSE),0)","v":0},{"$f":"IFERROR(VLOOKUP($A103,FILTRO!$A97:$AY722,44,FALSE),0)","v":0},{"$f":"IFERROR(VLOOKUP($A103,FILTRO!$A97:$AY722,45,FALSE),0)","v":0},{"$f":"IFERROR(VLOOKUP($A103,FILTRO!$A97:$AY722,46,FALSE),0)","v":1},{"$f":"IFERROR(VLOOKUP($A103,FILTRO!$A97:$AY722,47,FALSE),0)","v":26},{"$f":"IFERROR(VLOOKUP($A103,FILTRO!$A97:$AY722,48,FALSE),0)","v":0},{"$f":"IFERROR(VLOOKUP($A103,FILTRO!$A97:$AY722,49,FALSE),0)","v":0},{"$nulls":35},"","","","","","",{"$f":"IF($AV103>$D103,\"* La celda 'Población SENAME' debe ser menor o igual al Total de Personas en control. \",\"\")","v":""},"","",null,"","",{"$f":"IF(AND($D103<>0,$AV103=\"\"),\"* No olvide escribir en las celdas de 'Población SENAME' (Digite CERO si no tiene). \",\"\")","v":""},null,{"$f":"IF($AW103>$D103,\"* La celda 'Plan Cuidado Integral Elaborado' debe ser menor o igual al Total de Personas en control. \",\"\")","v":""},{"$f":"IF(AND($D103<>0,$AW103=\"\"),\"* No olvide escribir en las celdas de 'Plan Cuidado Integral Elaborado' (Digite CERO si no tiene). \",\"\")","v":""},{"$nulls":4},0,0,0,0,0,0,{"$f":"IF($AV103>$D103,1,0)","v":0},0,0,null,0,0,{"$f":"IF(AND($D103<>0,$AV103=\"\"),1,0)","v":0},null,{"$f":"IF($AW103>$D103,1,0)","v":0},{"$f":"IF(AND($D103<>0,$AW103=\"\"),1,0)","v":0}]
["P6223370","TRASTORNO DE PERSONALIDAD",null,{"$f":"IFERROR(VLOOKUP($A104,FILTRO!$A98:$AY723,2,FALSE),0)","v":421},{"$f":"IFERROR(VLOOKUP($A104,FILTRO!$A98:$AY723,3,FALSE),0)","v":72},{"$f":"IFERROR(VLOOKUP($A104,FILTRO!$A98:$AY723,4,FALSE),0)","v":349},{"$f":"IFERROR(VLOOKUP($A104,FILTRO!$A98:$AY723,5,FALSE),0)","v":0},{"$f":"IFERROR(VLOOKUP($A104,FILTRO!$A98:$AY723,6,FALSE),0)","v":0},{"$f":"IFERROR(VLOOKUP($A104,FILTRO!$A98:$AY723,7,FALSE),0)","v":0},{"$f":"IFERROR(VLOOKUP($A104,FILTRO!$A98:$AY723,8,FALSE),0)","v":0},{"$f":"IFERROR(VLOOKUP($A104,FILTRO!$A98:$AY723,9,FALSE),0)","v":5},{"$f":"IFERROR(VLOOKUP($A104,FILTRO!$A98:$AY723,10,FALSE),0)","v":6},{"$f":"IFERROR(VLOOKUP($A104,FILTRO!$A98:$AY723,11,FALSE),0)","v":2},{"$f":"IFERROR(VLOOKUP($A104,FILTRO!$A98:$AY723,12,FALSE),0)","v":49},{"$f":"IFERROR(VLOOKUP($A104,FILTRO!$A98:$AY723,13,FALSE),0)","v":5},{"$f":"IFERROR(VLOOKUP($A104,FILTRO!$A98:$AY723,14,FALSE),0)","v":31},{"$f":"IFERROR(VLOOKUP($A104,FILTRO!$A98:$AY723,15,FALSE),0)","v":8},{"$f":"IFERROR(VLOOKUP($A104,FILTRO!$A98:$AY723,16,FALSE),0)","v":33},{"$f":"IFERROR(VLOOKUP($A104,FILTRO!$A98:$AY723,17,FALSE),0)","v":9},{"$f":"IFERROR(VLOOKUP($A104,FILTRO!$A98:$AY723,18,FALSE),0)","v":35},{"$f":"IFERROR(VLOOKUP($A104,FILTRO!$A98:$AY723,19,FALSE),0)","v":7},{"$f":"IFERROR(VLOOKUP($A104,FILTRO!$A98:$AY723,20,FALSE),0)","v":20},{"$f":"IFERROR(VLOOKUP($A104,FILTRO!$A98:$AY723,21,FALSE),0)","v":4},{"$f":"IFERROR(VLOOKUP($A104,FILTRO!$A98:$AY723,22,FALSE),0)","v":25},{"$f":"IFERROR(VLOOKUP($A104,FILTRO!$A98:$AY723,23,FALSE),0)","v":6},{"$f":"IFERROR(VLOOKUP($A104,FILTRO!$A98:$AY723,24,FALSE),0)","v":21},{"$f":"IFERROR(VLOOKUP($A104,FILTRO!$A98:$AY723,25,FALSE),0)","v":12},{"$f":"IFERROR(VLOOKUP($A104,FILTRO!$A98:$AY723,26,FALSE),0)","v":26},{"$f":"IFERROR(VLOOKUP($A104,FILTRO!$A98:$AY723,27,FALSE),0)","v":5},{"$f":"IFERROR(VLOOKUP($A104,FILTRO!$A98:$AY723,28,FALSE),0)","v":38},{"$f":"IFERROR(VLOOKUP($A104,FILTRO!$A98:$AY723,29,FALSE),0)","v":5},{"$f":"IFERROR(VLOOKUP($A104,FILTRO!$A98:$AY723,30,FALSE),0)","v":26},{"$f":"IFERROR(VLOOKUP($A104,FILTRO!$A98:$AY723,31,FALSE),0)","v":2},{"$f":"IFERROR(VLOOKUP($A104,FILTRO!$A98:$AY723,32,FALSE),0)","v":20},{"$f":"IFERROR(VLOOKUP($A104,FILTRO!$A98:$AY723,33,FALSE),0)","v":0},{"$f":"IFERROR(VLOOKUP($A104,FILTRO!$A98:$AY723,34,FALSE),0)","v":12},{"$f":"IFERROR(VLOOKUP($A104,FILTRO!$A98:$AY723,35,FALSE),0)","v":2},{"$f":"IFERROR(VLOOKUP($A104,FILTRO!$A98:$AY723,36,FALSE),0)","v":6},{"$f":"IFERROR(VLOOKUP($A104,FILTRO!$A98:$AY723,37,FALSE),0)","v":0},{"$f":"IFERROR(VLOOKUP($A104,FILTRO!$A98:$AY723,38,FALSE),0)","v":1},{"$f":"IFERROR(VLOOKUP($A104,FILTRO!$A98:$AY723,39,FALSE),0)","v":1},{"$f":"IFERROR(VLOOKUP($A104,FILTRO!$A98:$AY723,40,FALSE),0)","v":2},{"$f":"IFERROR(VLOOKUP($A104,FILTRO!$A98:$AY723,41,FALSE),0)","v":0},{"$f":"IFERROR(VLOOKUP($A104,FILTRO!$A98:$AY723,42,FALSE),0)","v":3},{"$f":"IFERROR(VLOOKUP($A104,FILTRO!$A98:$AY723,43,FALSE),0)","v":0},{"$f":"IFERROR(VLOOKUP($A104,FILTRO!$A98:$AY723,44,FALSE),0)","v":0},{"$f":"IFERROR(VLOOKUP($A104,FILTRO!$A98:$AY723,45,FALSE),0)","v":0},{"$f":"IFERROR(VLOOKUP($A104,FILTRO!$A98:$AY723,46,FALSE),0)","v":1},{"$f":"IFERROR(VLOOKUP($A104,FILTRO!$A98:$AY723,47,FALSE),0)","v":132},{"$f":"IFERROR(VLOOKUP($A104,FILTRO!$A98:$AY723,48,FALSE),0)","v":2},{"$f":"IFERROR(VLOOKUP($A104,FILTRO!$A98:$AY723,49,FALSE),0)","v":1},{"$nulls":35},"","","","","","",{"$f":"IF($AV104>$D104,\"* La celda 'Población SENAME' debe ser menor o igual al Total de Personas en control. \",\"\")","v":""},"","",null,"","",{"$f":"IF(AND($D104<>0,$AV104=\"\"),\"* No olvide escribir en las celdas de 'Población SENAME' (Digite CERO si no tiene). \",\"\")","v":""},null,{"$f":"IF($AW104>$D104,\"* La celda 'Plan Cuidado Integral Elaborado' debe ser menor o igual al Total de Personas en control. \",\"\")","v":""},{"$f":"IF(AND($D104<>0,$AW104=\"\"),\"* No olvide escribir en las celdas de 'Plan Cuidado Integral Elaborado' (Digite CERO si no tiene). \",\"\")","v":""},{"$nulls":4},0,0,0,0,0,0,{"$f":"IF($AV104>$D104,1,0)","v":0},0,0,null,0,0,{"$f":"IF(AND($D104<>0,$AV104=\"\"),1,0)","v":0},null,{"$f":"IF($AW104>$D104,1,0)","v":0},{"$f":"IF(AND($D104<>0,$AW104=\"\"),1,0)","v":0}]
["P6241060","TRASTORNO GENERALIZADOS DEL DESARROLLO","AUTISMO",{"$f":"IFERROR(VLOOKUP($A105,FILTRO!$A99:$AY724,2,FALSE),0)","v":113},{"$f":"IFERROR(VLOOKUP($A105,FILTRO!$A99:$AY724,3,FALSE),0)","v":87},{"$f":"IFERROR(VLOOKUP($A105,FILTRO!$A99:$AY724,4,FALSE),0)","v":26},{"$f":"IFERROR(VLOOKUP($A105,FILTRO!$A99:$AY724,5,FALSE),0)","v":1},{"$f":"IFERROR(VLOOKUP($A105,FILTRO!$A99:$AY724,6,FALSE),0)","v":1},{"$f":"IFERROR(VLOOKUP($A105,FILTRO!$A99:$AY724,7,FALSE),0)","v":26},{"$f":"IFERROR(VLOOKUP($A105,FILTRO!$A99:$AY724,8,FALSE),0)","v":3},{"$f":"IFERROR(VLOOKUP($A105,FILTRO!$A99:$AY724,9,FALSE),0)","v":20},{"$f":"IFERROR(VLOOKUP($A105,FILTRO!$A99:$AY724,10,FALSE),0)","v":7},{"$f":"IFERROR(VLOOKUP($A105,FILTRO!$A99:$AY724,11,FALSE),0)","v":12},{"$f":"IFERROR(VLOOKUP($A105,FILTRO!$A99:$AY724,12,FALSE),0)","v":8},{"$f":"IFERROR(VLOOKUP($A105,FILTRO!$A99:$AY724,13,FALSE),0)","v":13},{"$f":"IFERROR(VLOOKUP($A105,FILTRO!$A99:$AY724,14,FALSE),0)","v":1},{"$f":"IFERROR(VLOOKUP($A105,FILTRO!$A99:$AY724,15,FALSE),0)","v":8},{"$f":"IFERROR(VLOOKUP($A105,FILTRO!$A99:$AY724,16,FALSE),0)","v":5},{"$f":"IFERROR(VLOOKUP($A105,FILTRO!$A99:$AY724,17,FALSE),0)","v":2},{"$f":"IFERROR(VLOOKUP($A105,FILTRO!$A99:$AY724,18,FALSE),0)","v":1},{"$f":"IFERROR(VLOOKUP($A105,FILTRO!$A99:$AY724,19,FALSE),0)","v":4},{"$f":"IFERROR(VLOOKUP($A105,FILTRO!$A99:$AY724,20,FALSE),0)","v":0},{"$f":"IFERROR(VLOOKUP($A105,FILTRO!$A99:$AY724,21,FALSE),0)","v":0},{"$f":"IFERROR(VLOOKUP($A105,FILTRO!$A99:$AY724,22,FALSE),0)","v":0},{"$f":"IFERROR(VLOOKUP($A105,FILTRO!$A99:$AY724,23,FALSE),0)","v":1},{"$f":"IFERROR(VLOOKUP($A105,FILTRO!$A99:$AY724,24,FALSE),0)","v":0},{"$f":"IFERROR(VLOOKUP($A105,FILTRO!$A99:$AY724,25,FALSE),0)","v":0},{"$f":"IFERROR(VLOOKUP($A105,FILTRO!$A99:$AY724,26,FALSE),0)","v":0},{"$f":"IFERROR(VLOOKUP($A105,FILTRO!$A99:$AY724,27,FALSE),0)","v":0},{"$f":"IFERROR(VLOOKUP($A105,FILTRO!$A99:$AY724,28,FALSE),0)","v":0},{"$f":"IFERROR(VLOOKUP($A105,FILTRO!$A99:$AY724,29,FALSE),0)","v":0},{"$f":"IFERROR(VLOOKUP($A105,FILTRO!$A99:$AY724,30,FALSE),0)","v":0},{"$f":"IFERROR(VLOOKUP($A105,FILTRO!$A99:$AY724,31,FALSE),0)","v":0},{"$f":"IFERROR(VLOOKUP($A105,FILTRO!$A99:$AY724,32,FALSE),0)","v":0},{"$f":"IFERROR(VLOOKUP($A105,FILTRO!$A99:$AY724,33,FALSE),0)","v":0},{"$f":"IFERROR(VLOOKUP($A105,FILTRO!$A99:$AY724,34,FALSE),0)","v":0},{"$f":"IFERROR(VLOOKUP($A105,FILTRO!$A99:$AY724,35,FALSE),0)","v":0},{"$f":"IFERROR(VLOOKUP($A105,FILTRO!$A99:$AY724,36,FALSE),0)","v":0},{"$f":"IFERROR(VLOOKUP($A105,FILTRO!$A99:$AY724,37,FALSE),0)","v":0},{"$f":"IFERROR(VLOOKUP($A105,FILTRO!$A99:$AY724,38,FALSE),0)","v":0},{"$f":"IFERROR(VLOOKUP($A105,FILTRO!$A99:$AY724,39,FALSE),0)","v":0},{"$f":"IFERROR(VLOOKUP($A105,FILTRO!$A99:$AY724,40,FALSE),0)","v":0},{"$f":"IFERROR(VLOOKUP($A105,FILTRO!$A99:$AY724,41,FALSE),0)","v":0},{"$f":"IFERROR(VLOOKUP($A105,FILTRO!$A99:$AY724,42,FALSE),0)","v":0},{"$f":"IFERROR(VLOOKUP($A105,FILTRO!$A99:$AY724,43,FALSE),0)","v":0},{"$f":"IFERROR(VLOOKUP($A105,FILTRO!$A99:$AY724,44,FALSE),0)","v":0},{"$f":"IFERROR(VLOOKUP($A105,FILTRO!$A99:$AY724,45,FALSE),0)","v":0},{"$f":"IFERROR(VLOOKUP($A105,FILTRO!$A99:$AY724,46,FALSE),0)","v":0},{"$f":"IFERROR(VLOOKUP($A105,FILTRO!$A99:$AY724,47,FALSE),0)","v":17},{"$f":"IFERROR(VLOOKUP($A105,FILTRO!$A99:$AY724,48,FALSE),0)","v":0},{"$f":"IFERROR(VLOOKUP($A105,FILTRO!$A99:$AY724,49,FALSE),0)","v":1}]
["P6241070",null,"ASPERGER",{"$f":"IFERROR(VLOOKUP($A106,FILTRO!$A100:$AY725,2,FALSE),0)","v":7},{"$f":"IFERROR(VLOOKUP($A106,FILTRO!$A100:$AY725,3,FALSE),0)","v":5},{"$f":"IFERROR(VLOOKUP($A106,FILTRO!$A100:$AY725,4,FALSE),0)","v":2},{"$f":"IFERROR(VLOOKUP($A106,FILTRO!$A100:$AY725,5,FALSE),0)","v":0},{"$f":"IFERROR(VLOOKUP($A106,FILTRO!$A100:$AY725,6,FALSE),0)","v":0},{"$f":"IFERROR(VLOOKUP($A106,FILTRO!$A100:$AY725,7,FALSE),0)","v":1},{"$f":"IFERROR(VLOOKUP($A106,FILTRO!$A100:$AY725,8,FALSE),0)","v":0},{"$f":"IFERROR(VLOOKUP($A106,FILTRO!$A100:$AY725,9,FALSE),0)","v":2},{"$f":"IFERROR(VLOOKUP($A106,FILTRO!$A100:$AY725,10,FALSE),0)","v":1},{"$f":"IFERROR(VLOOKUP($A106,FILTRO!$A100:$AY725,11,FALSE),0)","v":0},{"$f":"IFERROR(VLOOKUP($A106,FILTRO!$A100:$AY725,12,FALSE),0)","v":1},{"$f":"IFERROR(VLOOKUP($A106,FILTRO!$A100:$AY725,13,FALSE),0)","v":1},{"$f":"IFERROR(VLOOKUP($A106,FILTRO!$A100:$AY725,14,FALSE),0)","v":0},{"$f":"IFERROR(VLOOKUP($A106,FILTRO!$A100:$AY725,15,FALSE),0)","v":0},{"$f":"IFERROR(VLOOKUP($A106,FILTRO!$A100:$AY725,16,FALSE),0)","v":0},{"$f":"IFERROR(VLOOKUP($A106,FILTRO!$A100:$AY725,17,FALSE),0)","v":0},{"$f":"IFERROR(VLOOKUP($A106,FILTRO!$A100:$AY725,18,FALSE),0)","v":0},{"$f":"IFERROR(VLOOKUP($A106,FILTRO!$A100:$AY725,19,FALSE),0)","v":1},{"$f":"IFERROR(VLOOKUP($A106,FILTRO!$A100:$AY725,20,FALSE),0)","v":0},{"$f":"IFERROR(VLOOKUP($A106,FILTRO!$A100:$AY725,21,FALSE),0)","v":0},{"$f":"IFERROR(VLOOKUP($A106,FILTRO!$A100:$AY725,22,FALSE),0)","v":0},{"$f":"IFERROR(VLOOKUP($A106,FILTRO!$A100:$AY725,23,FALSE),0)","v":0},{"$f":"IFERROR(VLOOKUP($A106,FILTRO!$A100:$AY725,24,FALSE),0)","v":0},{"$f":"IFERROR(VLOOKUP($A106,FILTRO!$A100:$AY725,25,FALSE),0)","v":0},{"$f":"IFERROR(VLOOKUP($A106,FILTRO!$A100:$AY725,26,FALSE),0)","v":0},{"$f":"IFERROR(VLOOKUP($A106,FILTRO!$A100:$AY725,27,FALSE),0)","v":0},{"$f":"IFERROR(VLOOKUP($A106,FILTRO!$A100:$AY725,28,FALSE),0)","v":0},{"$f":"IFERROR(VLOOKUP($A106,FILTRO!$A100:$AY725,29,FALSE),0)","v":0},{"$f":"IFERROR(VLOOKUP($A106,FILTRO!$A100:$AY725,30,FALSE),0)","v":0},{"$f":"IFERROR(VLOOKUP($A106,FILTRO!$A100:$AY725,31,FALSE),0)","v":0},{"$f":"IFERROR(VLOOKUP($A106,FILTRO!$A100:$AY725,32,FALSE),0)","v":0},{"$f":"IFERROR(VLOOKUP($A106,FILTRO!$A100:$AY725,33,FALSE),0)","v":0},{"$f":"IFERROR(VLOOKUP($A106,FILTRO!$A100:$AY725,34,FALSE),0)","v":0},{"$f":"IFERROR(VLOOKUP($A106,FILTRO!$A100:$AY725,35,FALSE),0)","v":0},{"$f":"IFERROR(VLOOKUP($A106,FILTRO!$A100:$AY725,36,FALSE),0)","v":0},{"$f":"IFERROR(VLOOKUP($A106,FILTRO!$A100:$AY725,37,FALSE),0)","v":0},{"$f":"IFERROR(VLOOKUP($A106,FILTRO!$A100:$AY725,38,FALSE),0)","v":0},{"$f":"IFERROR(VLOOKUP($A106,FILTRO!$A100:$AY725,39,FALSE),0)","v":0},{"$f":"IFERROR(VLOOKUP($A106,FILTRO!$A100:$AY725,40,FALSE),0)","v":0},{"$f":"IFERROR(VLOOKUP($A106,FILTRO!$A100:$AY725,41,FALSE),0)","v":0},{"$f":"IFERROR(VLOOKUP($A106,FILTRO!$A100:$AY725,42,FALSE),0)","v":0},{"$f":"IFERROR(VLOOKUP($A106,FILTRO!$A100:$AY725,43,FALSE),0)","v":0},{"$f":"IFERROR(VLOOKUP($A106,FILTRO!$A100:$AY725,44,FALSE),0)","v":0},{"$f":"IFERROR(VLOOKUP($A106,FILTRO!$A100:$AY725,45,FALSE),0)","v":0},{"$f":"IFERROR(VLOOKUP($A106,FILTRO!$A100:$AY725,46,FALSE),0)","v":2},{"$f":"IFERROR(VLOOKUP($A106,FILTRO!$A100:$AY725,47,FALSE),0)","v":1},{"$f":"IFERROR(VLOOKUP($A106,FILTRO!$A100:$AY725,48,FALSE),0)","v":0},{"$f":"IFERROR(VLOOKUP($A106,FILTRO!$A100:$AY725,49,FALSE),0)","v":0}]
["P6241080",null,"SÍNDROME DE RETT",{"$f":"IFERROR(VLOOKUP($A107,FILTRO!$A101:$AY726,2,FALSE),0)","v":0},{"$f":"IFERROR(VLOOKUP($A107,FILTRO!$A101:$AY726,3,FALSE),0)","v":0},{"$f":"IFERROR(VLOOKUP($A107,FILTRO!$A101:$AY726,4,FALSE),0)","v":0},{"$f":"IFERROR(VLOOKUP($A107,FILTRO!$A101:$AY726,5,FALSE),0)","v":0},{"$f":"IFERROR(VLOOKUP($A107,FILTRO!$A101:$AY726,6,FALSE),0)","v":0},{"$f":"IFERROR(VLOOKUP($A107,FILTRO!$A101:$AY726,7,FALSE),0)","v":0},{"$f":"IFERROR(VLOOKUP($A107,FILTRO!$A101:$AY726,8,FALSE),0)","v":0},{"$f":"IFERROR(VLOOKUP($A107,FILTRO!$A101:$AY726,9,FALSE),0)","v":0},{"$f":"IFERROR(VLOOKUP($A107,FILTRO!$A101:$AY726,10,FALSE),0)","v":0},{"$f":"IFERROR(VLOOKUP($A107,FILTRO!$A101:$AY726,11,FALSE),0)","v":0},{"$f":"IFERROR(VLOOKUP($A107,FILTRO!$A101:$AY726,12,FALSE),0)","v":0},{"$f":"IFERROR(VLOOKUP($A107,FILTRO!$A101:$AY726,13,FALSE),0)","v":0},{"$f":"IFERROR(VLOOKUP($A107,FILTRO!$A101:$AY726,14,FALSE),0)","v":0},{"$f":"IFERROR(VLOOKUP($A107,FILTRO!$A101:$AY726,15,FALSE),0)","v":0},{"$f":"IFERROR(VLOOKUP($A107,FILTRO!$A101:$AY726,16,FALSE),0)","v":0},{"$f":"IFERROR(VLOOKUP($A107,FILTRO!$A101:$AY726,17,FALSE),0)","v":0},{"$f":"IFERROR(VLOOKUP($A107,FILTRO!$A101:$AY726,18,FALSE),0)","v":0},{"$f":"IFERROR(VLOOKUP($A107,FILTRO!$A101:$AY726,19,FALSE),0)","v":0},{"$f":"IFERROR(VLOOKUP($A107,FILTRO!$A101:$AY726,20,FALSE),0)","v":0},{"$f":"IFERROR(VLOOKUP($A107,FILTRO!$A101:$AY726,21,FALSE),0)","v":0},{"$f":"IFERROR(VLOOKUP($A107,FILTRO!$A101:$AY726,22,FALSE),0)","v":0},{"$f":"IFERROR(VLOOKUP($A107,FILTRO!$A101:$AY726,23,FALSE),0)","v":0},{"$f":"IFERROR(VLOOKUP($A107,FILTRO!$A101:$AY726,24,FALSE),0)","v":0},{"$f":"IFERROR(VLOOKUP($A107,FILTRO!$A101:$AY726,25,FALSE),0)","v":0},{"$f":"IFERROR(VLOOKUP($A107,FILTRO!$A101:$AY726,26,FALSE),0)","v":0},{"$f":"IFERROR(VLOOKUP($A107,FILTRO!$A101:$AY726,27,FALSE),0)","v":0},{"$f":"IFERROR(VLOOKUP($A107,FILTRO!$A101:$AY726,28,FALSE),0)","v":0},{"$f":"IFERROR(VLOOKUP($A107,FILTRO!$A101:$AY726,29,FALSE),0)","v":0},{"$f":"IFERROR(VLOOKUP($A107,FILTRO!$A101:$AY726,30,FALSE),0)","v":0},{"$f":"IFERROR(VLOOKUP($A107,FILTRO!$A101:$AY726,31,FALSE),0)","v":0},{"$f":"IFERROR(VLOOKUP($A107,FILTRO!$A101:$AY726,32,FALSE),0)","v":0},{"$f":"IFERROR(VLOOKUP($A107,FILTRO!$A101:$AY726,33,FALSE),0)","v":0},{"$f":"IFERROR(VLOOKUP($A107,FILTRO!$A101:$AY726,34,FALSE),0)","v":0},{"$f":"IFERROR(VLOOKUP($A107,FILTRO!$A101:$AY726,35,FALSE),0)","v":0},{"$f":"IFERROR(VLOOKUP($A107,FILTRO!$A101:$AY726,36,FALSE),0)","v":0},{"$f":"IFERROR(VLOOKUP($A107,FILTRO!$A101:$AY726,37,FALSE),0)","v":0},{"$f":"IFERROR(VLOOKUP($A107,FILTRO!$A101:$AY726,38,FALSE),0)","v":0},{"$f":"IFERROR(VLOOKUP($A107,FILTRO!$A101:$AY726,39,FALSE),0)","v":0},{"$f":"IFERROR(VLOOKUP($A107,FILTRO!$A101:$AY726,40,FALSE),0)","v":0},{"$f":"IFERROR(VLOOKUP($A107,FILTRO!$A101:$AY726,41,FALSE),0)","v":0},{"$f":"IFERROR(VLOOKUP($A107,FILTRO!$A101:$AY726,42,FALSE),0)","v":0},{"$f":"IFERROR(VLOOKUP($A107,FILTRO!$A101:$AY726,43,FALSE),0)","v":0},{"$f":"IFERROR(VLOOKUP($A107,FILTRO!$A101:$AY726,44,FALSE),0)","v":0},{"$f":"IFERROR(VLOOKUP($A107,FILTRO!$A101:$AY726,45,FALSE),0)","v":0},{"$f":"IFERROR(VLOOKUP($A107,FILTRO!$A101:$AY726,46,FALSE),0)","v":0},{"$f":"IFERROR(VLOOKUP($A107,FILTRO!$A101:$AY726,47,FALSE),0)","v":0},{"$f":"IFERROR(VLOOKUP($A107,FILTRO!$A101:$AY726,48,FALSE),0)","v":0},{"$f":"IFERROR(VLOOKUP($A107,FILTRO!$A101:$AY726,49,FALSE),0)","v":0}]
["P6241090",null,"TRASTORNO DESINTEGRATIVO DE LA INFANCIA",{"$f":"IFERROR(VLOOKUP($A108,FILTRO!$A102:$AY727,2,FALSE),0)","v":2},{"$f":"IFERROR(VLOOKUP($A108,FILTRO!$A102:$AY727,3,FALSE),0)","v":1},{"$f":"IFERROR(VLOOKUP($A108,FILTRO!$A102:$AY727,4,FALSE),0)","v":1},{"$f":"IFERROR(VLOOKUP($A108,FILTRO!$A102:$AY727,5,FALSE),0)","v":0},{"$f":"IFERROR(VLOOKUP($A108,FILTRO!$A102:$AY727,6,FALSE),0)","v":0},{"$f":"IFERROR(VLOOKUP($A108,FILTRO!$A102:$AY727,7,FALSE),0)","v":0},{"$f":"IFERROR(VLOOKUP($A108,FILTRO!$A102:$AY727,8,FALSE),0)","v":0},{"$f":"IFERROR(VLOOKUP($A108,FILTRO!$A102:$AY727,9,FALSE),0)","v":1},{"$f":"IFERROR(VLOOKUP($A108,FILTRO!$A102:$AY727,10,FALSE),0)","v":0},{"$f":"IFERROR(VLOOKUP($A108,FILTRO!$A102:$AY727,11,FALSE),0)","v":0},{"$f":"IFERROR(VLOOKUP($A108,FILTRO!$A102:$AY727,12,FALSE),0)","v":1},{"$f":"IFERROR(VLOOKUP($A108,FILTRO!$A102:$AY727,13,FALSE),0)","v":0},{"$f":"IFERROR(VLOOKUP($A108,FILTRO!$A102:$AY727,14,FALSE),0)","v":0},{"$f":"IFERROR(VLOOKUP($A108,FILTRO!$A102:$AY727,15,FALSE),0)","v":0},{"$f":"IFERROR(VLOOKUP($A108,FILTRO!$A102:$AY727,16,FALSE),0)","v":0},{"$f":"IFERROR(VLOOKUP($A108,FILTRO!$A102:$AY727,17,FALSE),0)","v":0},{"$f":"IFERROR(VLOOKUP($A108,FILTRO!$A102:$AY727,18,FALSE),0)","v":0},{"$f":"IFERROR(VLOOKUP($A108,FILTRO!$A102:$AY727,19,FALSE),0)","v":0},{"$f":"IFERROR(VLOOKUP($A108,FILTRO!$A102:$AY727,20,FALSE),0)","v":0},{"$f":"IFERROR(VLOOKUP($A108,FILTRO!$A102:$AY727,21,FALSE),0)","v":0},{"$f":"IFERROR(VLOOKUP($A108,FILTRO!$A102:$AY727,22,FALSE),0)","v":0},{"$f":"IFERROR(VLOOKUP($A108,FILTRO!$A102:$AY727,23,FALSE),0)","v":0},{"$f":"IFERROR(VLOOKUP($A108,FILTRO!$A102:$AY727,24,FALSE),0)","v":0},{"$f":"IFERROR(VLOOKUP($A108,FILTRO!$A102:$AY727,25,FALSE),0)","v":0},{"$f":"IFERROR(VLOOKUP($A108,FILTRO!$A102:$AY727,26,FALSE),0)","v":0},{"$f":"IFERROR(VLOOKUP($A108,FILTRO!$A102:$AY727,27,FALSE),0)","v":0},{"$f":"IFERROR(VLOOKUP($A108,FILTRO!$A102:$AY727,28,FALSE),0)","v":0},{"$f":"IFERROR(VLOOKUP($A108,FILTRO!$A102:$AY727,29,FALSE),0)","v":0},{"$f":"IFERROR(VLOOKUP($A108,FILTRO!$A102:$AY727,30,FALSE),0)","v":0},{"$f":"IFERROR(VLOOKUP($A108,FILTRO!$A102:$AY727,31,FALSE),0)","v":0},{"$f":"IFERROR(VLOOKUP($A108,FILTRO!$A102:$AY727,32,FALSE),0)","v":0},{"$f":"IFERROR(VLOOKUP($A108,FILTRO!$A102:$AY727,33,FALSE),0)","v":0},{"$f":"IFERROR(VLOOKUP($A108,FILTRO!$A102:$AY727,34,FALSE),0)","v":0},{"$f":"IFERROR(VLOOKUP($A108,FILTRO!$A102:$AY727,35,FALSE),0)","v":0},{"$f":"IFERROR(VLOOKUP($A108,FILTRO!$A102:$AY727,36,FALSE),0)","v":0},{"$f":"IFERROR(VLOOKUP($A108,FILTRO!$A102:$AY727,37,FALSE),0)","v":0},{"$f":"IFERROR(VLOOKUP($A108,FILTRO!$A102:$AY727,38,FALSE),0)","v":0},{"$f":"IFERROR(VLOOKUP($A108,FILTRO!$A102:$AY727,39,FALSE),0)","v":0},{"$f":"IFERROR(VLOOKUP($A108,FILTRO!$A102:$AY727,40,FALSE),0)","v":0},{"$f":"IFERROR(VLOOKUP($A108,FILTRO!$A102:$AY727,41,FALSE),0)","v":0},{"$f":"IFERROR(VLOOKUP($A108,FILTRO!$A102:$AY727,42,FALSE),0)","v":0},{"$f":"IFERROR(VLOOKUP($A108,FILTRO!$A102:$AY727,43,FALSE),0)","v":0},{"$f":"IFERROR(VLOOKUP($A108,FILTRO!$A102:$AY727,44,FALSE),0)","v":0},{"$f":"IFERROR(VLOOKUP($A108,FILTRO!$A102:$AY727,45,FALSE),0)","v":0},{"$f":"IFERROR(VLOOKUP($A108,FILTRO!$A102:$AY727,46,FALSE),0)","v":0},{"$f":"IFERROR(VLOOKUP($A108,FILTRO!$A102:$AY727,47,FALSE),0)","v":0},{"$f":"IFERROR(VLOOKUP($A108,FILTRO!$A102:$AY727,48,FALSE),0)","v":0},{"$f":"IFERROR(VLOOKUP($A108,FILTRO!$A102:$AY727,49,FALSE),0)","v":0}]
["P6241100",null,"TRASTONO GENERALIZADO DEL DESARROLLO NO ESPECÍFICO",{"$f":"IFERROR(VLOOKUP($A109,FILTRO!$A103:$AY728,2,FALSE),0)","v":7},{"$f":"IFERROR(VLOOKUP($A109,FILTRO!$A103:$AY728,3,FALSE),0)","v":6},{"$f":"IFERROR(VLOOKUP($A109,FILTRO!$A103:$AY728,4,FALSE),0)","v":1},{"$f":"IFERROR(VLOOKUP($A109,FILTRO!$A103:$AY728,5,FALSE),0)","v":0},{"$f":"IFERROR(VLOOKUP($A109,FILTRO!$A103:$AY728,6,FALSE),0)","v":0},{"$f":"IFERROR(VLOOKUP($A109,FILTRO!$A103:$AY728,7,FALSE),0)","v":0},{"$f":"IFERROR(VLOOKUP($A109,FILTRO!$A103:$AY728,8,FALSE),0)","v":0},{"$f":"IFERROR(VLOOKUP($A109,FILTRO!$A103:$AY728,9,FALSE),0)","v":2},{"$f":"IFERROR(VLOOKUP($A109,FILTRO!$A103:$AY728,10,FALSE),0)","v":0},{"$f":"IFERROR(VLOOKUP($A109,FILTRO!$A103:$AY728,11,FALSE),0)","v":1},{"$f":"IFERROR(VLOOKUP($A109,FILTRO!$A103:$AY728,12,FALSE),0)","v":1},{"$f":"IFERROR(VLOOKUP($A109,FILTRO!$A103:$AY728,13,FALSE),0)","v":2},{"$f":"IFERROR(VLOOKUP($A109,FILTRO!$A103:$AY728,14,FALSE),0)","v":0},{"$f":"IFERROR(VLOOKUP($A109,FILTRO!$A103:$AY728,15,FALSE),0)","v":1},{"$f":"IFERROR(VLOOKUP($A109,FILTRO!$A103:$AY728,16,FALSE),0)","v":0},{"$f":"IFERROR(VLOOKUP($A109,FILTRO!$A103:$AY728,17,FALSE),0)","v":0},{"$f":"IFERROR(VLOOKUP($A109,FILTRO!$A103:$AY728,18,FALSE),0)","v":0},{"$f":"IFERROR(VLOOKUP($A109,FILTRO!$A103:$AY728,19,FALSE),0)","v":0},{"$f":"IFERROR(VLOOKUP($A109,FILTRO!$A103:$AY728,20,FALSE),0)","v":0},{"$f":"IFERROR(VLOOKUP($A109,FILTRO!$A103:$AY728,21,FALSE),0)","v":0},{"$f":"IFERROR(VLOOKUP($A109,FILTRO!$A103:$AY728,22,FALSE),0)","v":0},{"$f":"IFERROR(VLOOKUP($A109,FILTRO!$A103:$AY728,23,FALSE),0)","v":0},{"$f":"IFERROR(VLOOKUP($A109,FILTRO!$A103:$AY728,24,FALSE),0)","v":0},{"$f":"IFERROR(VLOOKUP($A109,FILTRO!$A103:$AY728,25,FALSE),0)","v":0},{"$f":"IFERROR(VLOOKUP($A109,FILTRO!$A103:$AY728,26,FALSE),0)","v":0},{"$f":"IFERROR(VLOOKUP($A109,FILTRO!$A103:$AY728,27,FALSE),0)","v":0},{"$f":"IFERROR(VLOOKUP($A109,FILTRO!$A103:$AY728,28,FALSE),0)","v":0},{"$f":"IFERROR(VLOOKUP($A109,FILTRO!$A103:$AY728,29,FALSE),0)","v":0},{"$f":"IFERROR(VLOOKUP($A109,FILTRO!$A103:$AY728,30,FALSE),0)","v":0},{"$f":"IFERROR(VLOOKUP($A109,FILTRO!$A103:$AY728,31,FALSE),0)","v":0},{"$f":"IFERROR(VLOOKUP($A109,FILTRO!$A103:$AY728,32,FALSE),0)","v":0},{"$f":"IFERROR(VLOOKUP($A109,FILTRO!$A103:$AY728,33,FALSE),0)","v":0},{"$f":"IFERROR(VLOOKUP($A109,FILTRO!$A103:$AY728,34,FALSE),0)","v":0},{"$f":"IFERROR(VLOOKUP($A109,FILTRO!$A103:$AY728,35,FALSE),0)","v":0},{"$f":"IFERROR(VLOOKUP($A109,FILTRO!$A103:$AY728,36,FALSE),0)","v":0},{"$f":"IFERROR(VLOOKUP($A109,FILTRO!$A103:$AY728,37,FALSE),0)","v":0},{"$f":"IFERROR(VLOOKUP($A109,FILTRO!$A103:$AY728,38,FALSE),0)","v":0},{"$f":"IFERROR(VLOOKUP($A109,FILTRO!$A103:$AY728,39,FALSE),0)","v":0},{"$f":"IFERROR(VLOOKUP($A109,FILTRO!$A103:$AY728,40,FALSE),0)","v":0},{"$f":"IFERROR(VLOOKUP($A109,FILTRO!$A103:$AY728,41,FALSE),0)","v":0},{"$f":"IFERROR(VLOOKUP($A109,FILTRO!$A103:$AY728,42,FALSE),0)","v":0},{"$f":"IFERROR(VLOOKUP($A109,FILTRO!$A103:$AY728,43,FALSE),0)","v":0},{"$f":"IFERROR(VLOOKUP($A109,FILTRO!$A103:$AY728,44,FALSE),0)","v":0},{"$f":"IFERROR(VLOOKUP($A109,FILTRO!$A103:$AY728,45,FALSE),0)","v":0},{"$f":"IFERROR(VLOOKUP($A109,FILTRO!$A103:$AY728,46,FALSE),0)","v":1},{"$f":"IFERROR(VLOOKUP($A109,FILTRO!$A103:$AY728,47,FALSE),0)","v":3},{"$f":"IFERROR(VLOOKUP($A109,FILTRO!$A103:$AY728,48,FALSE),0)","v":0},{"$f":"IFERROR(VLOOKUP($A109,FILTRO!$A103:$AY728,49,FALSE),0)","v":0},{"$nulls":35},"","","","","","",{"$f":"IF($AV109>$D109,\"* La celda 'Población SENAME' debe ser menor o igual al Total de Personas en control. \",\"\")","v":""},"","",null,"","",{"$f":"IF(AND($D109<>0,$AV109=\"\"),\"* No olvide escribir en las celdas de 'Población SENAME' (Digite CERO si no tiene). \",\"\")","v":""},null,{"$f":"IF($AW109>$D109,\"* La celda 'Plan Cuidado Integral Elaborado' debe ser menor o igual al Total de Personas en control. \",\"\")","v":""},{"$f":"IF(AND($D109<>0,$AW109=\"\"),\"* No olvide escribir en las celdas de 'Plan Cuidado Integral Elaborado' (Digite CERO si no tiene). \",\"\")","v":""},{"$nulls":4},0,0,0,0,0,0,{"$f":"IF($AV109>$D109,1,0)","v":0},0,0,null,0,0,{"$f":"IF(AND($D109<>0,$AV109=\"\"),1,0)","v":0},null,{"$f":"IF($AW109>$D109,1,0)","v":0},{"$f":"IF(AND($D109<>0,$AW109=\"\"),1,0)","v":0}]
["P6232700","EPILEPSIA",null,{"$f":"IFERROR(VLOOKUP($A110,FILTRO!$A104:$AY729,2,FALSE),0)","v":8},{"$f":"IFERROR(VLOOKUP($A110,FILTRO!$A104:$AY729,3,FALSE),0)","v":4},{"$f":"IFERROR(VLOOKUP($A110,FILTRO!$A104:$AY729,4,FALSE),0)","v":4},{"$f":"IFERROR(VLOOKUP($A110,FILTRO!$A104:$AY729,5,FALSE),0)","v":0},{"$f":"IFERROR(VLOOKUP($A110,FILTRO!$A104:$AY729,6,FALSE),0)","v":0},{"$f":"IFERROR(VLOOKUP($A110,FILTRO!$A104:$AY729,7,FALSE),0)","v":0},{"$f":"IFERROR(VLOOKUP($A110,FILTRO!$A104:$AY729,8,FALSE),0)","v":0},{"$f":"IFERROR(VLOOKUP($A110,FILTRO!$A104:$AY729,9,FALSE),0)","v":0},{"$f":"IFERROR(VLOOKUP($A110,FILTRO!$A104:$AY729,10,FALSE),0)","v":0},{"$f":"IFERROR(VLOOKUP($A110,FILTRO!$A104:$AY729,11,FALSE),0)","v":1},{"$f":"IFERROR(VLOOKUP($A110,FILTRO!$A104:$AY729,12,FALSE),0)","v":0},{"$f":"IFERROR(VLOOKUP($A110,FILTRO!$A104:$AY729,13,FALSE),0)","v":0},{"$f":"IFERROR(VLOOKUP($A110,FILTRO!$A104:$AY729,14,FALSE),0)","v":0},{"$f":"IFERROR(VLOOKUP($A110,FILTRO!$A104:$AY729,15,FALSE),0)","v":1},{"$f":"IFERROR(VLOOKUP($A110,FILTRO!$A104:$AY729,16,FALSE),0)","v":0},{"$f":"IFERROR(VLOOKUP($A110,FILTRO!$A104:$AY729,17,FALSE),0)","v":1},{"$f":"IFERROR(VLOOKUP($A110,FILTRO!$A104:$AY729,18,FALSE),0)","v":0},{"$f":"IFERROR(VLOOKUP($A110,FILTRO!$A104:$AY729,19,FALSE),0)","v":1},{"$f":"IFERROR(VLOOKUP($A110,FILTRO!$A104:$AY729,20,FALSE),0)","v":1},{"$f":"IFERROR(VLOOKUP($A110,FILTRO!$A104:$AY729,21,FALSE),0)","v":0},{"$f":"IFERROR(VLOOKUP($A110,FILTRO!$A104:$AY729,22,FALSE),0)","v":1},{"$f":"IFERROR(VLOOKUP($A110,FILTRO!$A104:$AY729,23,FALSE),0)","v":0},{"$f":"IFERROR(VLOOKUP($A110,FILTRO!$A104:$AY729,24,FALSE),0)","v":0},{"$f":"IFERROR(VLOOKUP($A110,FILTRO!$A104:$AY729,25,FALSE),0)","v":0},{"$f":"IFERROR(VLOOKUP($A110,FILTRO!$A104:$AY729,26,FALSE),0)","v":1},{"$f":"IFERROR(VLOOKUP($A110,FILTRO!$A104:$AY729,27,FALSE),0)","v":0},{"$f":"IFERROR(VLOOKUP($A110,FILTRO!$A104:$AY729,28,FALSE),0)","v":0},{"$f":"IFERROR(VLOOKUP($A110,FILTRO!$A104:$AY729,29,FALSE),0)","v":0},{"$f":"IFERROR(VLOOKUP($A110,FILTRO!$A104:$AY729,30,FALSE),0)","v":0},{"$f":"IFERROR(VLOOKUP($A110,FILTRO!$A104:$AY729,31,FALSE),0)","v":0},{"$f":"IFERROR(VLOOKUP($A110,FILTRO!$A104:$AY729,32,FALSE),0)","v":0},{"$f":"IFERROR(VLOOKUP($A110,FILTRO!$A104:$AY729,33,FALSE),0)","v":0},{"$f":"IFERROR(VLOOKUP($A110,FILTRO!$A104:$AY729,34,FALSE),0)","v":1},{"$f":"IFERROR(VLOOKUP($A110,FILTRO!$A104:$AY729,35,FALSE),0)","v":0},{"$f":"IFERROR(VLOOKUP($A110,FILTRO!$A104:$AY729,36,FALSE),0)","v":0},{"$f":"IFERROR(VLOOKUP($A110,FILTRO!$A104:$AY729,37,FALSE),0)","v":0},{"$f":"IFERROR(VLOOKUP($A110,FILTRO!$A104:$AY729,38,FALSE),0)","v":0},{"$f":"IFERROR(VLOOKUP($A110,FILTRO!$A104:$AY729,39,FALSE),0)","v":0},{"$f":"IFERROR(VLOOKUP($A110,FILTRO!$A104:$AY729,40,FALSE),0)","v":0},{"$f":"IFERROR(VLOOKUP($A110,FILTRO!$A104:$AY729,41,FALSE),0)","v":0},{"$f":"IFERROR(VLOOKUP($A110,FILTRO!$A104:$AY729,42,FALSE),0)","v":0},{"$f":"IFERROR(VLOOKUP($A110,FILTRO!$A104:$AY729,43,FALSE),0)","v":0},{"$f":"IFERROR(VLOOKUP($A110,FILTRO!$A104:$AY729,44,FALSE),0)","v":0},{"$f":"IFERROR(VLOOKUP($A110,FILTRO!$A104:$AY729,45,FALSE),0)","v":0},{"$f":"IFERROR(VLOOKUP($A110,FILTRO!$A104:$AY729,46,FALSE),0)","v":0},{"$f":"IFERROR(VLOOKUP($A110,FILTRO!$A104:$AY729,47,FALSE),0)","v":1},{"$f":"IFERROR(VLOOKUP($A110,FILTRO!$A104:$AY729,48,FALSE),0)","v":0},{"$f":"IFERROR(VLOOKUP($A110,FILTRO!$A104:$AY729,49,FALSE),0)","v":0},{"$nulls":35},"","","","","","",{"$f":"IF($AV110>$D110,\"* La celda 'Población SENAME' debe ser menor o igual al Total de Personas en control. \",\"\")","v":""},"","",null,"","",{"$f":"IF(AND($D110<>0,$AV110=\"\"),\"* No olvide escribir en las celdas de 'Población SENAME' (Digite CERO si no tiene). \",\"\")","v":""},null,{"$f":"IF($AW110>$D110,\"* La celda 'Plan Cuidado Integral Elaborado' debe ser menor o igual al Total de Personas en control. \",\"\")","v":""},{"$f":"IF(AND($D110<>0,$AW110=\"\"),\"* No olvide escribir en las celdas de 'Plan Cuidado Integral Elaborado' (Digite CERO si no tiene). \",\"\")","v":""},{"$nulls":4},0,0,0,0,0,0,{"$f":"IF($AV110>$D110,1,0)","v":0},0,0,null,0,0,{"$f":"IF(AND($D110<>0,$AV110=\"\"),1,0)","v":0},null,{"$f":"IF($AW110>$D110,1,0)","v":0},{"$f":"IF(AND($D110<>0,$AW110=\"\"),1,0)","v":0}]
["P6227603","OTRAS",null,{"$f":"IFERROR(VLOOKUP($A111,FILTRO!$A105:$AY730,2,FALSE),0)","v":213},{"$f":"IFERROR(VLOOKUP($A111,FILTRO!$A105:$AY730,3,FALSE),0)","v":100},{"$f":"IFERROR(VLOOKUP($A111,FILTRO!$A105:$AY730,4,FALSE),0)","v":113},{"$f":"IFERROR(VLOOKUP($A111,FILTRO!$A105:$AY730,5,FALSE),0)","v":0},{"$f":"IFERROR(VLOOKUP($A111,FILTRO!$A105:$AY730,6,FALSE),0)","v":0},{"$f":"IFERROR(VLOOKUP($A111,FILTRO!$A105:$AY730,7,FALSE),0)","v":1},{"$f":"IFERROR(VLOOKUP($A111,FILTRO!$A105:$AY730,8,FALSE),0)","v":1},{"$f":"IFERROR(VLOOKUP($A111,FILTRO!$A105:$AY730,9,FALSE),0)","v":6},{"$f":"IFERROR(VLOOKUP($A111,FILTRO!$A105:$AY730,10,FALSE),0)","v":5},{"$f":"IFERROR(VLOOKUP($A111,FILTRO!$A105:$AY730,11,FALSE),0)","v":5},{"$f":"IFERROR(VLOOKUP($A111,FILTRO!$A105:$AY730,12,FALSE),0)","v":17},{"$f":"IFERROR(VLOOKUP($A111,FILTRO!$A105:$AY730,13,FALSE),0)","v":23},{"$f":"IFERROR(VLOOKUP($A111,FILTRO!$A105:$AY730,14,FALSE),0)","v":8},{"$f":"IFERROR(VLOOKUP($A111,FILTRO!$A105:$AY730,15,FALSE),0)","v":9},{"$f":"IFERROR(VLOOKUP($A111,FILTRO!$A105:$AY730,16,FALSE),0)","v":9},{"$f":"IFERROR(VLOOKUP($A111,FILTRO!$A105:$AY730,17,FALSE),0)","v":11},{"$f":"IFERROR(VLOOKUP($A111,FILTRO!$A105:$AY730,18,FALSE),0)","v":7},{"$f":"IFERROR(VLOOKUP($A111,FILTRO!$A105:$AY730,19,FALSE),0)","v":4},{"$f":"IFERROR(VLOOKUP($A111,FILTRO!$A105:$AY730,20,FALSE),0)","v":8},{"$f":"IFERROR(VLOOKUP($A111,FILTRO!$A105:$AY730,21,FALSE),0)","v":5},{"$f":"IFERROR(VLOOKUP($A111,FILTRO!$A105:$AY730,22,FALSE),0)","v":7},{"$f":"IFERROR(VLOOKUP($A111,FILTRO!$A105:$AY730,23,FALSE),0)","v":5},{"$f":"IFERROR(VLOOKUP($A111,FILTRO!$A105:$AY730,24,FALSE),0)","v":6},{"$f":"IFERROR(VLOOKUP($A111,FILTRO!$A105:$AY730,25,FALSE),0)","v":7},{"$f":"IFERROR(VLOOKUP($A111,FILTRO!$A105:$AY730,26,FALSE),0)","v":12},{"$f":"IFERROR(VLOOKUP($A111,FILTRO!$A105:$AY730,27,FALSE),0)","v":7},{"$f":"IFERROR(VLOOKUP($A111,FILTRO!$A105:$AY730,28,FALSE),0)","v":10},{"$f":"IFERROR(VLOOKUP($A111,FILTRO!$A105:$AY730,29,FALSE),0)","v":1},{"$f":"IFERROR(VLOOKUP($A111,FILTRO!$A105:$AY730,30,FALSE),0)","v":11},{"$f":"IFERROR(VLOOKUP($A111,FILTRO!$A105:$AY730,31,FALSE),0)","v":10},{"$f":"IFERROR(VLOOKUP($A111,FILTRO!$A105:$AY730,32,FALSE),0)","v":6},{"$f":"IFERROR(VLOOKUP($A111,FILTRO!$A105:$AY730,33,FALSE),0)","v":1},{"$f":"IFERROR(VLOOKUP($A111,FILTRO!$A105:$AY730,34,FALSE),0)","v":3},{"$f":"IFERROR(VLOOKUP($A111,FILTRO!$A105:$AY730,35,FALSE),0)","v":5},{"$f":"IFERROR(VLOOKUP($A111,FILTRO!$A105:$AY730,36,FALSE),0)","v":2},{"$f":"IFERROR(VLOOKUP($A111,FILTRO!$A105:$AY730,37,FALSE),0)","v":0},{"$f":"IFERROR(VLOOKUP($A111,FILTRO!$A105:$AY730,38,FALSE),0)","v":1},{"$f":"IFERROR(VLOOKUP($A111,FILTRO!$A105:$AY730,39,FALSE),0)","v":0},{"$f":"IFERROR(VLOOKUP($A111,FILTRO!$A105:$AY730,40,FALSE),0)","v":0},{"$f":"IFERROR(VLOOKUP($A111,FILTRO!$A105:$AY730,41,FALSE),0)","v":3},{"$f":"IFERROR(VLOOKUP($A111,FILTRO!$A105:$AY730,42,FALSE),0)","v":1},{"$f":"IFERROR(VLOOKUP($A111,FILTRO!$A105:$AY730,43,FALSE),0)","v":0},{"$f":"IFERROR(VLOOKUP($A111,FILTRO!$A105:$AY730,44,FALSE),0)","v":0},{"$f":"IFERROR(VLOOKUP($A111,FILTRO!$A105:$AY730,45,FALSE),0)","v":1},{"$f":"IFERROR(VLOOKUP($A111,FILTRO!$A105:$AY730,46,FALSE),0)","v":2},{"$f":"IFERROR(VLOOKUP($A111,FILTRO!$A105:$AY730,47,FALSE),0)","v":87},{"$f":"IFERROR(VLOOKUP($A111,FILTRO!$A105:$AY730,48,FALSE),0)","v":0},{"$f":"IFERROR(VLOOKUP($A111,FILTRO!$A105:$AY730,49,FALSE),0)","v":2},{"$nulls":37},"","","","",{"$f":"IF($AV111>$D111,\"* La celda 'Población SENAME' debe ser menor o igual al Total de Personas en control. \",\"\")","v":""},{"$nulls":3},"","",{"$f":"IF(AND($D111<>0,$AV111=\"\"),\"* No olvide escribir en las celdas de 'Población SENAME' (Digite CERO si no tiene). \",\"\")","v":""},null,{"$f":"IF($AW111>$D111,\"* La celda 'Plan Cuidado Integral Elaborado' debe ser menor o igual al Total de Personas en control. \",\"\")","v":""},{"$f":"IF(AND($D111<>0,$AW111=\"\"),\"* No olvide escribir en las celdas de 'Plan Cuidado Integral Elaborado' (Digite CERO si no tiene). \",\"\")","v":""},{"$nulls":6},0,0,0,0,{"$f":"IF($AV111>$D111,1,0)","v":0},{"$nulls":3},0,0,{"$f":"IF(AND($D111<>0,$AV111=\"\"),1,0)","v":0},null,{"$f":"IF($AW111>$D111,1,0)","v":0},{"$f":"IF(AND($D111<>0,$AW111=\"\"),1,0)","v":0}]
[null,"SECCION B.2: PROGRAMA DE REHABILITACIÓN EN ESPECIALIDAD (PERSONAS CON TRANSTORNOS PSIQUIÁTRICO)"]
[null,"TIPO","RUBRO","T O T A L",null,null,"GRUPO DE EDAD (en años)"]
[{"$nulls":6},"0 a 4 años",null,"5 a 9 años",null,"10 a 14 años",null,"15 a 19 años",null,"20 a 24 años",null,"25 a 29 años",null,"30 a 34 años",null,"35 a 39 años",null,"40 a 44 años",null,"45 a 49 años",null,"50 a 54 años",null,"55 a 59 años",null,"60 a 64 años",null,"65 a 69 años",null,"70 a 74 años",null,"75 a 79 años",null,"80 y más años"]
[{"$nulls":3},"Ambos\nsexos","Hombres","Mujeres","Hombres","Mujeres","Hombres","Mujeres","Hombres","Mujeres","Hombres","Mujeres","Hombres","Mujeres","Hombres","Mujeres","Hombres","Mujeres","Hombres","Mujeres","Hombres","Mujeres","Hombres","Mujeres","Hombres","Mujeres","Hombres","Mujeres","Hombres","Mujeres","Hombres","Mujeres","Hombres","Mujeres","Hombres","Mujeres","Hombres","Mujeres"]
["P6223390","PROGRAMA DE REHABILITACIÓN TIPO I","NÚMERO DE PERSONAS EN CONTROL EN EL PROGRAMA",{"$f":"IFERROR(VLOOKUP($A116,FILTRO!$A110:$AY735,2,FALSE),0)","v":0},{"$f":"IFERROR(VLOOKUP($A116,FILTRO!$A110:$AY735,3,FALSE),0)","v":0},{"$f":"IFERROR(VLOOKUP($A116,FILTRO!$A110:$AY735,4,FALSE),0)","v":0},{"$f":"IFERROR(VLOOKUP($A116,FILTRO!$A110:$AY735,5,FALSE),0)","v":0},{"$f":"IFERROR(VLOOKUP($A116,FILTRO!$A110:$AY735,6,FALSE),0)","v":0},{"$f":"IFERROR(VLOOKUP($A116,FILTRO!$A110:$AY735,7,FALSE),0)","v":0},{"$f":"IFERROR(VLOOKUP($A116,FILTRO!$A110:$AY735,8,FALSE),0)","v":0},{"$f":"IFERROR(VLOOKUP($A116,FILTRO!$A110:$AY735,9,FALSE),0)","v":0},{"$f":"IFERROR(VLOOKUP($A116,FILTRO!$A110:$AY735,10,FALSE),0)","v":0},{"$f":"IFERROR(VLOOKUP($A116,FILTRO!$A110:$AY735,11,FALSE),0)","v":0},{"$f":"IFERROR(VLOOKUP($A116,FILTRO!$A110:$AY735,12,FALSE),0)","v":0},{"$f":"IFERROR(VLOOKUP($A116,FILTRO!$A110:$AY735,13,FALSE),0)","v":0},{"$f":"IFERROR(VLOOKUP($A116,FILTRO!$A110:$AY735,14,FALSE),0)","v":0},{"$f":"IFERROR(VLOOKUP($A116,FILTRO!$A110:$AY735,15,FALSE),0)","v":0},{"$f":"IFERROR(VLOOKUP($A116,FILTRO!$A110:$AY735,16,FALSE),0)","v":0},{"$f":"IFERROR(VLOOKUP($A116,FILTRO!$A110:$AY735,17,FALSE),0)","v":0},{"$f":"IFERROR(VLOOKUP($A116,FILTRO!$A110:$AY735,18,FALSE),0)","v":0},{"$f":"IFERROR(VLOOKUP($A116,FILTRO!$A110:$AY735,19,FALSE),0)","v":0},{"$f":"IFERROR(VLOOKUP($A116,FILTRO!$A110:$AY735,20,FALSE),0)","v":0},{"$f":"IFERROR(VLOOKUP($A116,FILTRO!$A110:$AY735,21,FALSE),0)","v":0},{"$f":"IFERROR(VLOOKUP($A116,FILTRO!$A110:$AY735,22,FALSE),0)","v":0},{"$f":"IFERROR(VLOOKUP($A116,FILTRO!$A110:$AY735,23,FALSE),0)","v":0},{"$f":"IFERROR(VLOOKUP($A116,FILTRO!$A110:$AY735,24,FALSE),0)","v":0},{"$f":"IFERROR(VLOOKUP($A116,FILTRO!$A110:$AY735,25,FALSE),0)","v":0},{"$f":"IFERROR(VLOOKUP($A116,FILTRO!$A110:$AY735,26,FALSE),0)","v":0},{"$f":"IFERROR(VLOOKUP($A116,FILTRO!$A110:$AY735,27,FALSE),0)","v":0},{"$f":"IFERROR(VLOOKUP($A116,FILTRO!$A110:$AY735,28,FALSE),0)","v":0},{"$f":"IFERROR(VLOOKUP($A116,FILTRO!$A110:$AY735,29,FALSE),0)","v":0},{"$f":"IFERROR(VLOOKUP($A116,FILTRO!$A110:$AY735,30,FALSE),0)","v":0},{"$f":"IFERROR(VLOOKUP($A116,FILTRO!$A110:$AY735,31,FALSE),0)","v":0},{"$f":"IFERROR(VLOOKUP($A116,FILTRO!$A110:$AY735,32,FALSE),0)","v":0},{"$f":"IFERROR(VLOOKUP($A116,FILTRO!$A110:$AY735,33,FALSE),0)","v":0},{"$f":"IFERROR(VLOOKUP($A116,FILTRO!$A110:$AY735,34,FALSE),0)","v":0},{"$f":"IFERROR(VLOOKUP($A116,FILTRO!$A110:$AY735,35,FALSE),0)","v":0},{"$f":"IFERROR(VLOOKUP($A116,FILTRO!$A110:$AY735,36,FALSE),0)","v":0},{"$f":"IFERROR(VLOOKUP($A116,FILTRO!$A110:$AY735,37,FALSE),0)","v":0},{"$f":"IFERROR(VLOOKUP($A116,FILTRO!$A110:$AY735,38,FALSE),0)","v":0}]
["P6223400","PROGRAMA DE REHABILITACIÓN TIPO II","NÚMERO DE PERSONAS EN CONTROL EN EL PROGRAMA",{"$f":"IFERROR(VLOOKUP($A117,FILTRO!$A111:$AY736,2,FALSE),0)","v":0},{"$f":"IFERROR(VLOOKUP($A117,FILTRO!$A111:$AY736,3,FALSE),0)","v":0},{"$f":"IFERROR(VLOOKUP($A117,FILTRO!$A111:$AY736,4,FALSE),0)","v":0},{"$f":"IFERROR(VLOOKUP($A117,FILTRO!$A111:$AY736,5,FALSE),0)","v":0},{"$f":"IFERROR(VLOOKUP($A117,FILTRO!$A111:$AY736,6,FALSE),0)","v":0},{"$f":"IFERROR(VLOOKUP($A117,FILTRO!$A111:$AY736,7,FALSE),0)","v":0},{"$f":"IFERROR(VLOOKUP($A117,FILTRO!$A111:$AY736,8,FALSE),0)","v":0},{"$f":"IFERROR(VLOOKUP($A117,FILTRO!$A111:$AY736,9,FALSE),0)","v":0},{"$f":"IFERROR(VLOOKUP($A117,FILTRO!$A111:$AY736,10,FALSE),0)","v":0},{"$f":"IFERROR(VLOOKUP($A117,FILTRO!$A111:$AY736,11,FALSE),0)","v":0},{"$f":"IFERROR(VLOOKUP($A117,FILTRO!$A111:$AY736,12,FALSE),0)","v":0},{"$f":"IFERROR(VLOOKUP($A117,FILTRO!$A111:$AY736,13,FALSE),0)","v":0},{"$f":"IFERROR(VLOOKUP($A117,FILTRO!$A111:$AY736,14,FALSE),0)","v":0},{"$f":"IFERROR(VLOOKUP($A117,FILTRO!$A111:$AY736,15,FALSE),0)","v":0},{"$f":"IFERROR(VLOOKUP($A117,FILTRO!$A111:$AY736,16,FALSE),0)","v":0},{"$f":"IFERROR(VLOOKUP($A117,FILTRO!$A111:$AY736,17,FALSE),0)","v":0},{"$f":"IFERROR(VLOOKUP($A117,FILTRO!$A111:$AY736,18,FALSE),0)","v":0},{"$f":"IFERROR(VLOOKUP($A117,FILTRO!$A111:$AY736,19,FALSE),0)","v":0},{"$f":"IFERROR(VLOOKUP($A117,FILTRO!$A111:$AY736,20,FALSE),0)","v":0},{"$f":"IFERROR(VLOOKUP($A117,FILTRO!$A111:$AY736,21,FALSE),0)","v":0},{"$f":"IFERROR(VLOOKUP($A117,FILTRO!$A111:$AY736,22,FALSE),0)","v":0},{"$f":"IFERROR(VLOOKUP($A117,FILTRO!$A111:$AY736,23,FALSE),0)","v":0},{"$f":"IFERROR(VLOOKUP($A117,FILTRO!$A111:$AY736,24,FALSE),0)","v":0},{"$f":"IFERROR(VLOOKUP($A117,FILTRO!$A111:$AY736,25,FALSE),0)","v":0},{"$f":"IFERROR(VLOOKUP($A117,FILTRO!$A111:$AY736,26,FALSE),0)","v":0},{"$f":"IFERROR(VLOOKUP($A117,FILTRO!$A111:$AY736,27,FALSE),0)","v":0},{"$f":"IFERROR(VLOOKUP($A117,FILTRO!$A111:$AY736,28,FALSE),0)","v":0},{"$f":"IFERROR(VLOOKUP($A117,FILTRO!$A111:$AY736,29,FALSE),0)","v":0},{"$f":"IFERROR(VLOOKUP($A117,FILTRO!$A111:$AY736,30,FALSE),0)","v":0},{"$f":"IFERROR(VLOOKUP($A117,FILTRO!$A111:$AY736,31,FALSE),0)","v":0},{"$f":"IFERROR(VLOOKUP($A117,FILTRO!$A111:$AY736,32,FALSE),0)","v":0},{"$f":"IFERROR(VLOOKUP($A117,FILTRO!$A111:$AY736,33,FALSE),0)","v":0},{"$f":"IFERROR(VLOOKUP($A117,FILTRO!$A111:$AY736,34,FALSE),0)","v":0},{"$f":"IFERROR(VLOOKUP($A117,FILTRO!$A111:$AY736,35,FALSE),0)","v":0},{"$f":"IFERROR(VLOOKUP($A117,FILTRO!$A111:$AY736,36,FALSE),0)","v":0},{"$f":"IFERROR(VLOOKUP($A117,FILTRO!$A111:$AY736,37,FALSE),0)","v":0},{"$f":"IFERROR(VLOOKUP($A117,FILTRO!$A111:$AY736,38,FALSE),0)","v":0}]
[]
[]
["CODIGOS ELIMINADOS"]
["P6221900"]
["P6222000"]
["P6222100"]
["P6231100"]
["P6231200"]
["P6227400"]
["P6223230"]
["P6223240"]
["P6223250"]
["P6232200"]
["P6232300"]
["P6223340"]
[]
[]
["CODIGOS NUEVOS"]
[]
["CODIGOS NUEVOS",{"$f":"SUM(B13:AV117)","v":388208},"datos"]
["P6241110",{"$f":"SUM(CZ10:DQ117)","v":0},"errores"]
["P6241111"]
["P6241112"]
["P6241113"]
["P6241114"]
["P6241115"]
["P6241116"]
["P6241117"]
["P6241118"]
["P6241119"]
["P6241120"]
["P6241121"]
["P6241122"]
["P6241123"]

{"sheet":"P7","index":8,"n_rows":56,"n_cols":13,"rows_kept":56,"merged":[[6,1,6,10],[22,1,22,3],[23,1,23,3],[24,1,26,1],[24,2,24,3],[25,2,25,3],[26,2,26,3],[27,1,31,1],[27,2,27,3],[28,2,28,3],[29,2,29,3],[30,2,30,3],[31,2,31,3]]}
[null,"DATOS DEL ESTABLECIMIENTO"]
[null,{"$f":"CONCATENATE(\"COMUNA: \",NOMBRE!$B$2,\" - \",\"( \",NOMBRE!$C$2,NOMBRE!$D$2,NOMBRE!$E$2,NOMBRE!$F$2,NOMBRE!$G$2,\" )\")","v":"COMUNA:  - (  )"}]
[null,{"$f":"CONCATENATE(\"ESTABLECIMIENTO/ESTRATEGIA: \",NOMBRE!$B$3,\" - \",\"( \",NOMBRE!$C$3,NOMBRE!$D$3,NOMBRE!$E$3,NOMBRE!$F$3,NOMBRE!$G$3,NOMBRE!$H$3,\" )\")","v":"ESTABLECIMIENTO/ESTRATEGIA:  - (  )"}]
[null,{"$f":"CONCATENATE(\"MES: \",NOMBRE!$B$6,\" - \",\"( \",NOMBRE!$C$6,NOMBRE!$D$6,\" )\")","v":"MES:  - (  )"}]
[null,{"$f":"CONCATENATE(\"AÑO: \",NOMBRE!$B$7)","v":"AÑO: 2023"}]
[]
[null,"REM-P7. FAMILIAS EN CONTROL DE SALUD FAMILIAR"]
[null,"SECCIÓN A. CLASIFICACIÓN DE LAS FAMILIAS SECTOR URBANO"]
[null,"CLASIFICACIÓN DE LAS FAMILIAS POR SECTOR","TOTAL","SECTOR 1","SECTOR 2","SECTOR 3","SECTOR 4","SECTOR 5","SECTOR 6","SECTOR 7","SECTOR 8"]
["P7010100","N° FAMILIAS INSCRITAS ",{"$f":"IFERROR(VLOOKUP($A10,FILTRO!$A4:$AY629,2,FALSE),0)","v":128245},{"$f":"IFERROR(VLOOKUP($A10,FILTRO!$A4:$AY629,3,FALSE),0)","v":61296},{"$f":"IFERROR(VLOOKUP($A10,FILTRO!$A4:$AY629,4,FALSE),0)","v":49699},{"$f":"IFERROR(VLOOKUP($A10,FILTRO!$A4:$AY629,5,FALSE),0)","v":17250},{"$f":"IFERROR(VLOOKUP($A10,FILTRO!$A4:$AY629,6,FALSE),0)","v":0},{"$f":"IFERROR(VLOOKUP($A10,FILTRO!$A4:$AY629,7,FALSE),0)","v":0},{"$f":"IFERROR(VLOOKUP($A10,FILTRO!$A4:$AY629,8,FALSE),0)","v":0},{"$f":"IFERROR(VLOOKUP($A10,FILTRO!$A4:$AY629,9,FALSE),0)","v":0},{"$f":"IFERROR(VLOOKUP($A10,FILTRO!$A4:$AY629,10,FALSE),0)","v":0}]
["P7010200","N° FAMILIAS EVALUADAS CON CARTOLA/ENCUESTA FAMILIAR",{"$f":"IFERROR(VLOOKUP($A11,FILTRO!$A5:$AY630,2,FALSE),0)","v":19252},{"$f":"IFERROR(VLOOKUP($A11,FILTRO!$A5:$AY630,3,FALSE),0)","v":10739},{"$f":"IFERROR(VLOOKUP($A11,FILTRO!$A5:$AY630,4,FALSE),0)","v":6922},{"$f":"IFERROR(VLOOKUP($A11,FILTRO!$A5:$AY630,5,FALSE),0)","v":1591},{"$f":"IFERROR(VLOOKUP($A11,FILTRO!$A5:$AY630,6,FALSE),0)","v":0},{"$f":"IFERROR(VLOOKUP($A11,FILTRO!$A5:$AY630,7,FALSE),0)","v":0},{"$f":"IFERROR(VLOOKUP($A11,FILTRO!$A5:$AY630,8,FALSE),0)","v":0},{"$f":"IFERROR(VLOOKUP($A11,FILTRO!$A5:$AY630,9,FALSE),0)","v":0},{"$f":"IFERROR(VLOOKUP($A11,FILTRO!$A5:$AY630,10,FALSE),0)","v":0}]
["P7010300","N° DE FAMILIAS EN RIESGO BAJO",{"$f":"IFERROR(VLOOKUP($A12,FILTRO!$A6:$AY631,2,FALSE),0)","v":12773},{"$f":"IFERROR(VLOOKUP($A12,FILTRO!$A6:$AY631,3,FALSE),0)","v":7208},{"$f":"IFERROR(VLOOKUP($A12,FILTRO!$A6:$AY631,4,FALSE),0)","v":4645},{"$f":"IFERROR(VLOOKUP($A12,FILTRO!$A6:$AY631,5,FALSE),0)","v":920},{"$f":"IFERROR(VLOOKUP($A12,FILTRO!$A6:$AY631,6,FALSE),0)","v":0},{"$f":"IFERROR(VLOOKUP($A12,FILTRO!$A6:$AY631,7,FALSE),0)","v":0},{"$f":"IFERROR(VLOOKUP($A12,FILTRO!$A6:$AY631,8,FALSE),0)","v":0},{"$f":"IFERROR(VLOOKUP($A12,FILTRO!$A6:$AY631,9,FALSE),0)","v":0},{"$f":"IFERROR(VLOOKUP($A12,FILTRO!$A6:$AY631,10,FALSE),0)","v":0}]
["P7200100","N° DE FAMILIAS EN RIESGO MEDIO",{"$f":"IFERROR(VLOOKUP($A13,FILTRO!$A7:$AY632,2,FALSE),0)","v":3794},{"$f":"IFERROR(VLOOKUP($A13,FILTRO!$A7:$AY632,3,FALSE),0)","v":2027},{"$f":"IFERROR(VLOOKUP($A13,FILTRO!$A7:$AY632,4,FALSE),0)","v":1215},{"$f":"IFERROR(VLOOKUP($A13,FILTRO!$A7:$AY632,5,FALSE),0)","v":552},{"$f":"IFERROR(VLOOKUP($A13,FILTRO!$A7:$AY632,6,FALSE),0)","v":0},{"$f":"IFERROR(VLOOKUP($A13,FILTRO!$A7:$AY632,7,FALSE),0)","v":0},{"$f":"IFERROR(VLOOKUP($A13,FILTRO!$A7:$AY632,8,FALSE),0)","v":0},{"$f":"IFERROR(VLOOKUP($A13,FILTRO!$A7:$AY632,9,FALSE),0)","v":0},{"$f":"IFERROR(VLOOKUP($A13,FILTRO!$A7:$AY632,10,FALSE),0)","v":0}]
["P7200200","N° DE FAMILIAS EN RIESGO ALTO",{"$f":"IFERROR(VLOOKUP($A14,FILTRO!$A8:$AY633,2,FALSE),0)","v":1250},{"$f":"IFERROR(VLOOKUP($A14,FILTRO!$A8:$AY633,3,FALSE),0)","v":776},{"$f":"IFERROR(VLOOKUP($A14,FILTRO!$A8:$AY633,4,FALSE),0)","v":355},{"$f":"IFERROR(VLOOKUP($A14,FILTRO!$A8:$AY633,5,FALSE),0)","v":119},{"$f":"IFERROR(VLOOKUP($A14,FILTRO!$A8:$AY633,6,FALSE),0)","v":0},{"$f":"IFERROR(VLOOKUP($A14,FILTRO!$A8:$AY633,7,FALSE),0)","v":5},{"$f":"IFERROR(VLOOKUP($A14,FILTRO!$A8:$AY633,8,FALSE),0)","v":0},{"$f":"IFERROR(VLOOKUP($A14,FILTRO!$A8:$AY633,9,FALSE),0)","v":0},{"$f":"IFERROR(VLOOKUP($A14,FILTRO!$A8:$AY633,10,FALSE),0)","v":0}]
[null,"SECCIÓN A.1 CLASIFICACIÓN DE LAS FAMILIAS SECTOR RURAL"]
[null,"CLASIFICACIÓN DE LAS FAMILIAS POR SECTOR","TOTAL","SECTOR 1","SECTOR 2","SECTOR 3","SECTOR 4","SECTOR 5","SECTOR 6","SECTOR 7","SECTOR 8"]
["P7010400","N° FAMILIAS INSCRITAS ",{"$f":"IFERROR(VLOOKUP($A17,FILTRO!$A11:$AY636,2,FALSE),0)","v":44636},{"$f":"IFERROR(VLOOKUP($A17,FILTRO!$A11:$AY636,3,FALSE),0)","v":39108},{"$f":"IFERROR(VLOOKUP($A17,FILTRO!$A11:$AY636,4,FALSE),0)","v":4546},{"$f":"IFERROR(VLOOKUP($A17,FILTRO!$A11:$AY636,5,FALSE),0)","v":982},{"$f":"IFERROR(VLOOKUP($A17,FILTRO!$A11:$AY636,6,FALSE),0)","v":0},{"$f":"IFERROR(VLOOKUP($A17,FILTRO!$A11:$AY636,7,FALSE),0)","v":0},{"$f":"IFERROR(VLOOKUP($A17,FILTRO!$A11:$AY636,8,FALSE),0)","v":0},{"$f":"IFERROR(VLOOKUP($A17,FILTRO!$A11:$AY636,9,FALSE),0)","v":0},{"$f":"IFERROR(VLOOKUP($A17,FILTRO!$A11:$AY636,10,FALSE),0)","v":0}]
["P7010500","N° FAMILIAS EVALUADAS CON CARTOLA/ENCUESTA FAMILIAR",{"$f":"IFERROR(VLOOKUP($A18,FILTRO!$A12:$AY637,2,FALSE),0)","v":11282},{"$f":"IFERROR(VLOOKUP($A18,FILTRO!$A12:$AY637,3,FALSE),0)","v":8957},{"$f":"IFERROR(VLOOKUP($A18,FILTRO!$A12:$AY637,4,FALSE),0)","v":1860},{"$f":"IFERROR(VLOOKUP($A18,FILTRO!$A12:$AY637,5,FALSE),0)","v":465},{"$f":"IFERROR(VLOOKUP($A18,FILTRO!$A12:$AY637,6,FALSE),0)","v":0},{"$f":"IFERROR(VLOOKUP($A18,FILTRO!$A12:$AY637,7,FALSE),0)","v":0},{"$f":"IFERROR(VLOOKUP($A18,FILTRO!$A12:$AY637,8,FALSE),0)","v":0},{"$f":"IFERROR(VLOOKUP($A18,FILTRO!$A12:$AY637,9,FALSE),0)","v":0},{"$f":"IFERROR(VLOOKUP($A18,FILTRO!$A12:$AY637,10,FALSE),0)","v":0}]
["P7010600","N° DE FAMILIAS EN RIESGO BAJO",{"$f":"IFERROR(VLOOKUP($A19,FILTRO!$A13:$AY638,2,FALSE),0)","v":5890},{"$f":"IFERROR(VLOOKUP($A19,FILTRO!$A13:$AY638,3,FALSE),0)","v":4964},{"$f":"IFERROR(VLOOKUP($A19,FILTRO!$A13:$AY638,4,FALSE),0)","v":528},{"$f":"IFERROR(VLOOKUP($A19,FILTRO!$A13:$AY638,5,FALSE),0)","v":398},{"$f":"IFERROR(VLOOKUP($A19,FILTRO!$A13:$AY638,6,FALSE),0)","v":0},{"$f":"IFERROR(VLOOKUP($A19,FILTRO!$A13:$AY638,7,FALSE),0)","v":0},{"$f":"IFERROR(VLOOKUP($A19,FILTRO!$A13:$AY638,8,FALSE),0)","v":0},{"$f":"IFERROR(VLOOKUP($A19,FILTRO!$A13:$AY638,9,FALSE),0)","v":0},{"$f":"IFERROR(VLOOKUP($A19,FILTRO!$A13:$AY638,10,FALSE),0)","v":0}]
["P7200300","N° DE FAMILIAS EN RIESGO MEDIO",{"$f":"IFERROR(VLOOKUP($A20,FILTRO!$A14:$AY639,2,FALSE),0)","v":1605},{"$f":"IFERROR(VLOOKUP($A20,FILTRO!$A14:$AY639,3,FALSE),0)","v":1324},{"$f":"IFERROR(VLOOKUP($A20,FILTRO!$A14:$AY639,4,FALSE),0)","v":233},{"$f":"IFERROR(VLOOKUP($A20,FILTRO!$A14:$AY639,5,FALSE),0)","v":48},{"$f":"IFERROR(VLOOKUP($A20,FILTRO!$A14:$AY639,6,FALSE),0)","v":0},{"$f":"IFERROR(VLOOKUP($A20,FILTRO!$A14:$AY639,7,FALSE),0)","v":0},{"$f":"IFERROR(VLOOKUP($A20,FILTRO!$A14:$AY639,8,FALSE),0)","v":0},{"$f":"IFERROR(VLOOKUP($A20,FILTRO!$A14:$AY639,9,FALSE),0)","v":0},{"$f":"IFERROR(VLOOKUP($A20,FILTRO!$A14:$AY639,10,FALSE),0)","v":0}]
["P7200400","N° DE FAMILIAS EN RIESGO ALTO",{"$f":"IFERROR(VLOOKUP($A21,FILTRO!$A15:$AY640,2,FALSE),0)","v":637},{"$f":"IFERROR(VLOOKUP($A21,FILTRO!$A15:$AY640,3,FALSE),0)","v":556},{"$f":"IFERROR(VLOOKUP($A21,FILTRO!$A15:$AY640,4,FALSE),0)","v":62},{"$f":"IFERROR(VLOOKUP($A21,FILTRO!$A15:$AY640,5,FALSE),0)","v":19},{"$f":"IFERROR(VLOOKUP($A21,FILTRO!$A15:$AY640,6,FALSE),0)","v":0},{"$f":"IFERROR(VLOOKUP($A21,FILTRO!$A15:$AY640,7,FALSE),0)","v":0},{"$f":"IFERROR(VLOOKUP($A21,FILTRO!$A15:$AY640,8,FALSE),0)","v":0},{"$f":"IFERROR(VLOOKUP($A21,FILTRO!$A15:$AY640,9,FALSE),0)","v":0},{"$f":"IFERROR(VLOOKUP($A21,FILTRO!$A15:$AY640,10,FALSE),0)","v":0}]
[null,"SECCIÓN B. INTERVENCIÓN EN FAMILIAS SECTOR URBANO Y RURAL"]
[null,"INTERVENCIÓN EN FAMILIAS",null,null,"TOTAL","SECTOR 1","SECTOR 2","SECTOR 3","SECTOR 4","SECTOR 5","SECTOR 6","SECTOR 7","SECTOR 8"]
["P7200500","N° FAMILIAS CON PLAN DE INTERVENCIÓN",null,null,{"$f":"IFERROR(VLOOKUP($A24,FILTRO!$A18:$AY643,2,FALSE),0)","v":8300},{"$f":"IFERROR(VLOOKUP($A24,FILTRO!$A18:$AY643,3,FALSE),0)","v":4342},{"$f":"IFERROR(VLOOKUP($A24,FILTRO!$A18:$AY643,4,FALSE),0)","v":2476},{"$f":"IFERROR(VLOOKUP($A24,FILTRO!$A18:$AY643,5,FALSE),0)","v":1482},{"$f":"IFERROR(VLOOKUP($A24,FILTRO!$A18:$AY643,6,FALSE),0)","v":0},{"$f":"IFERROR(VLOOKUP($A24,FILTRO!$A18:$AY643,7,FALSE),0)","v":0},{"$f":"IFERROR(VLOOKUP($A24,FILTRO!$A18:$AY643,8,FALSE),0)","v":0},{"$f":"IFERROR(VLOOKUP($A24,FILTRO!$A18:$AY643,9,FALSE),0)","v":0},{"$f":"IFERROR(VLOOKUP($A24,FILTRO!$A18:$AY643,10,FALSE),0)","v":0}]
["P7201300","N° FAMILIAS SIN PLAN DE INTERVENCIÓN","RIESGO BAJO",null,{"$f":"IFERROR(VLOOKUP($A25,FILTRO!$A19:$AY644,2,FALSE),0)","v":8350},{"$f":"IFERROR(VLOOKUP($A25,FILTRO!$A19:$AY644,3,FALSE),0)","v":6089},{"$f":"IFERROR(VLOOKUP($A25,FILTRO!$A19:$AY644,4,FALSE),0)","v":1881},{"$f":"IFERROR(VLOOKUP($A25,FILTRO!$A19:$AY644,5,FALSE),0)","v":414},{"$f":"IFERROR(VLOOKUP($A25,FILTRO!$A19:$AY644,6,FALSE),0)","v":0},{"$f":"IFERROR(VLOOKUP($A25,FILTRO!$A19:$AY644,7,FALSE),0)","v":0},{"$f":"IFERROR(VLOOKUP($A25,FILTRO!$A19:$AY644,8,FALSE),0)","v":0},{"$f":"IFERROR(VLOOKUP($A25,FILTRO!$A19:$AY644,9,FALSE),0)","v":0},{"$f":"IFERROR(VLOOKUP($A25,FILTRO!$A19:$AY644,10,FALSE),0)","v":0}]
["P7201400",null,"RIESGO MEDIO",null,{"$f":"IFERROR(VLOOKUP($A26,FILTRO!$A20:$AY645,2,FALSE),0)","v":1665},{"$f":"IFERROR(VLOOKUP($A26,FILTRO!$A20:$AY645,3,FALSE),0)","v":1113},{"$f":"IFERROR(VLOOKUP($A26,FILTRO!$A20:$AY645,4,FALSE),0)","v":426},{"$f":"IFERROR(VLOOKUP($A26,FILTRO!$A20:$AY645,5,FALSE),0)","v":129},{"$f":"IFERROR(VLOOKUP($A26,FILTRO!$A20:$AY645,6,FALSE),0)","v":0},{"$f":"IFERROR(VLOOKUP($A26,FILTRO!$A20:$AY645,7,FALSE),0)","v":0},{"$f":"IFERROR(VLOOKUP($A26,FILTRO!$A20:$AY645,8,FALSE),0)","v":0},{"$f":"IFERROR(VLOOKUP($A26,FILTRO!$A20:$AY645,9,FALSE),0)","v":0},{"$f":"IFERROR(VLOOKUP($A26,FILTRO!$A20:$AY645,10,FALSE),0)","v":0}]
["P7201500",null,"RIESGO ALTO",null,{"$f":"IFERROR(VLOOKUP($A27,FILTRO!$A21:$AY646,2,FALSE),0)","v":632},{"$f":"IFERROR(VLOOKUP($A27,FILTRO!$A21:$AY646,3,FALSE),0)","v":389},{"$f":"IFERROR(VLOOKUP($A27,FILTRO!$A21:$AY646,4,FALSE),0)","v":155},{"$f":"IFERROR(VLOOKUP($A27,FILTRO!$A21:$AY646,5,FALSE),0)","v":88},{"$f":"IFERROR(VLOOKUP($A27,FILTRO!$A21:$AY646,6,FALSE),0)","v":0},{"$f":"IFERROR(VLOOKUP($A27,FILTRO!$A21:$AY646,7,FALSE),0)","v":0},{"$f":"IFERROR(VLOOKUP($A27,FILTRO!$A21:$AY646,8,FALSE),0)","v":0},{"$f":"IFERROR(VLOOKUP($A27,FILTRO!$A21:$AY646,9,FALSE),0)","v":0},{"$f":"IFERROR(VLOOKUP($A27,FILTRO!$A21:$AY646,10,FALSE),0)","v":0}]
["P7200700","N° FAMILIAS EGRESADAS DE PLANES DE INTERVENCIÓN","TOTAL DE EGRESOS",null,{"$f":"IFERROR(VLOOKUP($A28,FILTRO!$A22:$AY647,2,FALSE),0)","v":1836},{"$f":"IFERROR(VLOOKUP($A28,FILTRO!$A22:$AY647,3,FALSE),0)","v":731},{"$f":"IFERROR(VLOOKUP($A28,FILTRO!$A22:$AY647,4,FALSE),0)","v":707},{"$f":"IFERROR(VLOOKUP($A28,FILTRO!$A22:$AY647,5,FALSE),0)","v":398},{"$f":"IFERROR(VLOOKUP($A28,FILTRO!$A22:$AY647,6,FALSE),0)","v":0},{"$f":"IFERROR(VLOOKUP($A28,FILTRO!$A22:$AY647,7,FALSE),0)","v":0},{"$f":"IFERROR(VLOOKUP($A28,FILTRO!$A22:$AY647,8,FALSE),0)","v":0},{"$f":"IFERROR(VLOOKUP($A28,FILTRO!$A22:$AY647,9,FALSE),0)","v":0},{"$f":"IFERROR(VLOOKUP($A28,FILTRO!$A22:$AY647,10,FALSE),0)","v":0}]
["P7200800",null,"ALTA POR CUMPLIR PLAN DE INTERVENCIÓN",null,{"$f":"IFERROR(VLOOKUP($A29,FILTRO!$A23:$AY648,2,FALSE),0)","v":862},{"$f":"IFERROR(VLOOKUP($A29,FILTRO!$A23:$AY648,3,FALSE),0)","v":304},{"$f":"IFERROR(VLOOKUP($A29,FILTRO!$A23:$AY648,4,FALSE),0)","v":414},{"$f":"IFERROR(VLOOKUP($A29,FILTRO!$A23:$AY648,5,FALSE),0)","v":144},{"$f":"IFERROR(VLOOKUP($A29,FILTRO!$A23:$AY648,6,FALSE),0)","v":0},{"$f":"IFERROR(VLOOKUP($A29,FILTRO!$A23:$AY648,7,FALSE),0)","v":0},{"$f":"IFERROR(VLOOKUP($A29,FILTRO!$A23:$AY648,8,FALSE),0)","v":0},{"$f":"IFERROR(VLOOKUP($A29,FILTRO!$A23:$AY648,9,FALSE),0)","v":0},{"$f":"IFERROR(VLOOKUP($A29,FILTRO!$A23:$AY648,10,FALSE),0)","v":0}]
["P7200900",null,"TRASLADO DE ESTABLECIMIENTO",null,{"$f":"IFERROR(VLOOKUP($A30,FILTRO!$A24:$AY649,2,FALSE),0)","v":574},{"$f":"IFERROR(VLOOKUP($A30,FILTRO!$A24:$AY649,3,FALSE),0)","v":303},{"$f":"IFERROR(VLOOKUP($A30,FILTRO!$A24:$AY649,4,FALSE),0)","v":126},{"$f":"IFERROR(VLOOKUP($A30,FILTRO!$A24:$AY649,5,FALSE),0)","v":145},{"$f":"IFERROR(VLOOKUP($A30,FILTRO!$A24:$AY649,6,FALSE),0)","v":0},{"$f":"IFERROR(VLOOKUP($A30,FILTRO!$A24:$AY649,7,FALSE),0)","v":0},{"$f":"IFERROR(VLOOKUP($A30,FILTRO!$A24:$AY649,8,FALSE),0)","v":0},{"$f":"IFERROR(VLOOKUP($A30,FILTRO!$A24:$AY649,9,FALSE),0)","v":0},{"$f":"IFERROR(VLOOKUP($A30,FILTRO!$A24:$AY649,10,FALSE),0)","v":0}]
["P7201000",null,"DERIVACIÓN POR COMPLEJIDAD DEL CASO",null,{"$f":"IFERROR(VLOOKUP($A31,FILTRO!$A25:$AY650,2,FALSE),0)","v":133},{"$f":"IFERROR(VLOOKUP($A31,FILTRO!$A25:$AY650,3,FALSE),0)","v":52},{"$f":"IFERROR(VLOOKUP($A31,FILTRO!$A25:$AY650,4,FALSE),0)","v":52},{"$f":"IFERROR(VLOOKUP($A31,FILTRO!$A25:$AY650,5,FALSE),0)","v":29},{"$f":"IFERROR(VLOOKUP($A31,FILTRO!$A25:$AY650,6,FALSE),0)","v":0},{"$f":"IFERROR(VLOOKUP($A31,FILTRO!$A25:$AY650,7,FALSE),0)","v":0},{"$f":"IFERROR(VLOOKUP($A31,FILTRO!$A25:$AY650,8,FALSE),0)","v":0},{"$f":"IFERROR(VLOOKUP($A31,FILTRO!$A25:$AY650,9,FALSE),0)","v":0},{"$f":"IFERROR(VLOOKUP($A31,FILTRO!$A25:$AY650,10,FALSE),0)","v":0}]
["P7201100",null,"POR ABANDONO",null,{"$f":"IFERROR(VLOOKUP($A32,FILTRO!$A26:$AY651,2,FALSE),0)","v":133},{"$f":"IFERROR(VLOOKUP($A32,FILTRO!$A26:$AY651,3,FALSE),0)","v":51},{"$f":"IFERROR(VLOOKUP($A32,FILTRO!$A26:$AY651,4,FALSE),0)","v":60},{"$f":"IFERROR(VLOOKUP($A32,FILTRO!$A26:$AY651,5,FALSE),0)","v":22},{"$f":"IFERROR(VLOOKUP($A32,FILTRO!$A26:$AY651,6,FALSE),0)","v":0},{"$f":"IFERROR(VLOOKUP($A32,FILTRO!$A26:$AY651,7,FALSE),0)","v":0},{"$f":"IFERROR(VLOOKUP($A32,FILTRO!$A26:$AY651,8,FALSE),0)","v":0},{"$f":"IFERROR(VLOOKUP($A32,FILTRO!$A26:$AY651,9,FALSE),0)","v":0},{"$f":"IFERROR(VLOOKUP($A32,FILTRO!$A26:$AY651,10,FALSE),0)","v":0}]
{"$rows_empty":16}
[null,{"$f":"SUM(C10:K14,C17:K21,E24:M32)","v":503740},"datos"]
[null,{"$f":"SUM(0)","v":0},"errores"]
[]
[]
[]
[]
[]
[null,{"$f":"SUM(B8:K29)","v":502060}]

{"sheet":"P9","index":9,"n_rows":126,"n_cols":52,"rows_kept":126,"merged":[[6,3,6,17],[9,1,10,2],[9,3,9,5],[9,6,9,8],[9,9,9,11],[9,12,9,14],[9,15,9,17],[11,1,11,2],[12,1,19,1],[20,1,26,1],[27,1,30,1],[31,1,39,1],[41,1,44,2],[41,3,43,5],[41,6,43,8],[41,9,43,11],[41,12,43,14],[41,15,43,17],[45,1,45,2],[46,1,46,2],[47,1,47,2],[48,1,48,2],[49,1,49,2],[50,1,50,2],[52,1,55,2],[52,3,54,5],[52,6,54,8],[52,9,54,11],[52,12,54,14],[52,15,54,17],[57,1,57,2],[62,1,62,2],[63,1,63,2],[64,1,64,2],[65,1,65,2],[67,1,70,2],[67,3,69,5],[67,6,69,8],[67,9,69,11],[67,12,69,14],[67,15,69,17],[71,1,71,2],[72,1,72,2],[73,1,73,2],[74,1,74,2],[75,1,75,2],[76,1,76,2],[77,1,77,2],[78,1,78,2],[79,1,79,2],[80,1,80,2],[82,1,84,1],[82,2,84,2],[82,3,83,5],[82,6,83,8],[82,9,83,11],[82,12,83,14],[85,1,86,1],[87,1,88,1],[89,1,90,1],[91,1,92,1],[93,1,94,1],[95,1,96,1],[97,1,98,1]]}
[null,"DATOS DEL ESTABLECIMIENTO"]
[null,{"$f":"CONCATENATE(\"COMUNA: \",NOMBRE!$B$2,\" - \",\"( \",NOMBRE!$C$2,NOMBRE!$D$2,NOMBRE!$E$2,NOMBRE!$F$2,NOMBRE!$G$2,\" )\")","v":"COMUNA:  - (  )"}]
[null,{"$f":"CONCATENATE(\"ESTABLECIMIENTO/ESTRATEGIA: \",NOMBRE!$B$3,\" - \",\"( \",NOMBRE!$C$3,NOMBRE!$D$3,NOMBRE!$E$3,NOMBRE!$F$3,NOMBRE!$G$3,NOMBRE!$H$3,\" )\")","v":"ESTABLECIMIENTO/ESTRATEGIA:  - (  )"}]
[null,{"$f":"CONCATENATE(\"MES: \",NOMBRE!$B$6,\" - \",\"( \",NOMBRE!$C$6,NOMBRE!$D$6,\" )\")","v":"MES:  - (  )"}]
[null,{"$f":"CONCATENATE(\"AÑO: \",NOMBRE!$B$7)","v":"AÑO: 2023"}]
[]
[{"$nulls":3},"REM-P9. POBLACIÓN EN CONTROL DEL ADOLESCENTE",{"$nulls":14},{"$f":"AL7 & AM7 & AN7 & AO7 & AL6 & AM6 & AN6 & AO6","v":""}]
[]
[null,"SECCION A: POBLACIÓN EN CONTROL DE SALUD INTEGRAL DE ADOLESCENTES, SEGÚN ESTADO NUTRICIONAL"]
[null,"INDICADOR NUTRICIONAL\nY\nPARÁMETROS DE MEDICIÓN",null,"TOTAL",null,null,"Adolescentes 10 a 14 años",null,null,"Adolescentes 15 a 19 años",null,null," Pueblos Originarios",null,null," Migrantes"]
[{"$nulls":3},"Ambos\nsexos","Hombres","Mujeres","Ambos\nsexos","Hombres","Mujeres","Ambos\nsexos","Hombres","Mujeres","Ambos\nsexos","Hombres","Mujeres","Ambos\nsexos","Hombres","Mujeres",{"$f":"AL11 & AM11 & AN11 & AO11","v":""}]
["P9100100","TOTAL ADOLESCENTES EN CONTROL",null,{"$f":"IFERROR(VLOOKUP($A12,FILTRO!$A6:$AY631,2,FALSE),0)","v":7880},{"$f":"IFERROR(VLOOKUP($A12,FILTRO!$A6:$AY631,3,FALSE),0)","v":3477},{"$f":"IFERROR(VLOOKUP($A12,FILTRO!$A6:$AY631,4,FALSE),0)","v":4403},{"$f":"IFERROR(VLOOKUP($A12,FILTRO!$A6:$AY631,5,FALSE),0)","v":5883},{"$f":"IFERROR(VLOOKUP($A12,FILTRO!$A6:$AY631,6,FALSE),0)","v":2729},{"$f":"IFERROR(VLOOKUP($A12,FILTRO!$A6:$AY631,7,FALSE),0)","v":3154},{"$f":"IFERROR(VLOOKUP($A12,FILTRO!$A6:$AY631,8,FALSE),0)","v":1997},{"$f":"IFERROR(VLOOKUP($A12,FILTRO!$A6:$AY631,9,FALSE),0)","v":748},{"$f":"IFERROR(VLOOKUP($A12,FILTRO!$A6:$AY631,10,FALSE),0)","v":1249},{"$f":"IFERROR(VLOOKUP($A12,FILTRO!$A6:$AY631,11,FALSE),0)","v":478},{"$f":"IFERROR(VLOOKUP($A12,FILTRO!$A6:$AY631,12,FALSE),0)","v":197},{"$f":"IFERROR(VLOOKUP($A12,FILTRO!$A6:$AY631,13,FALSE),0)","v":281},{"$f":"IFERROR(VLOOKUP($A12,FILTRO!$A6:$AY631,14,FALSE),0)","v":249},{"$f":"IFERROR(VLOOKUP($A12,FILTRO!$A6:$AY631,15,FALSE),0)","v":97},{"$f":"IFERROR(VLOOKUP($A12,FILTRO!$A6:$AY631,16,FALSE),0)","v":152},{"$f":"AL12 & AM12 & AN12 & AO12","v":""},{"$nulls":18},{"$f":"IF($D12<$M12, \"* El Total de 'Adolescentes de Pueblos Originarios' debe ser menor o igual al Total Adolecentes 'Ambos sexos'. \", \"\")","v":""},{"$f":"IF($D12<$P12, \"* El total de 'Adolescentes de Migrantes' debe ser menor o igual al Total Adolecentes 'Ambos sexos'. \", \"\")","v":""},{"$f":"IF(AND(E12<>0,N12=\"\"),\"* No olvide escribir en la celda de 'Pueblos Originarios' (Digite CERO si no tiene). \",IF(AND(F12<>0,O12=\"\"),\"* No olvide escribir en la celda de 'Pueblos Originarios' (Digite CERO si no tiene). \",\"\"))","v":""},{"$f":"IF(AND(E12<>0,Q12=\"\"),\"* No olvide escribir en la celda de 'Población Migrantes' (Digite CERO si no tiene). \",IF(AND(F12<>0,R12=\"\"),\"* No olvide escribir en la celda de 'Población Migrantes' (Digite CERO si no tiene). \",\"\"))","v":""},{"$nulls":7},{"$f":"IF($D12<$M12, 1,0)","v":0},{"$f":"IF($D12<$P12, 1,0)","v":0},{"$f":"IF(AND(E12<>0,N12=\"\"),1,IF(AND(F12<>0,O12=\"\"),1,0))","v":0},{"$f":"IF(AND(E12<>0,Q12=\"\"),1,IF(AND(F12<>0,R12=\"\"),1,0))","v":0}]
["P9100110","INDICADOR IMC / EDAD",">+ 3 D.E. (Obesidad Severa)",{"$f":"IFERROR(VLOOKUP($A13,FILTRO!$A7:$AY632,2,FALSE),0)","v":365},{"$f":"IFERROR(VLOOKUP($A13,FILTRO!$A7:$AY632,3,FALSE),0)","v":195},{"$f":"IFERROR(VLOOKUP($A13,FILTRO!$A7:$AY632,4,FALSE),0)","v":170},{"$f":"IFERROR(VLOOKUP($A13,FILTRO!$A7:$AY632,5,FALSE),0)","v":266},{"$f":"IFERROR(VLOOKUP($A13,FILTRO!$A7:$AY632,6,FALSE),0)","v":153},{"$f":"IFERROR(VLOOKUP($A13,FILTRO!$A7:$AY632,7,FALSE),0)","v":113},{"$f":"IFERROR(VLOOKUP($A13,FILTRO!$A7:$AY632,8,FALSE),0)","v":99},{"$f":"IFERROR(VLOOKUP($A13,FILTRO!$A7:$AY632,9,FALSE),0)","v":42},{"$f":"IFERROR(VLOOKUP($A13,FILTRO!$A7:$AY632,10,FALSE),0)","v":57},{"$f":"IFERROR(VLOOKUP($A13,FILTRO!$A7:$AY632,11,FALSE),0)","v":27},{"$f":"IFERROR(VLOOKUP($A13,FILTRO!$A7:$AY632,12,FALSE),0)","v":13},{"$f":"IFERROR(VLOOKUP($A13,FILTRO!$A7:$AY632,13,FALSE),0)","v":14},{"$f":"IFERROR(VLOOKUP($A13,FILTRO!$A7:$AY632,14,FALSE),0)","v":4},{"$f":"IFERROR(VLOOKUP($A13,FILTRO!$A7:$AY632,15,FALSE),0)","v":1},{"$f":"IFERROR(VLOOKUP($A13,FILTRO!$A7:$AY632,16,FALSE),0)","v":3},{"$f":"AL13 & AM13 & AN13 & AO13","v":""},{"$nulls":18},{"$f":"IF($D13<$M13, \"* El Total de 'Adolescentes de Pueblos Originarios' debe ser menor o igual al Total Adolecentes 'Ambos sexos'. \", \"\")","v":""},{"$f":"IF($D13<$P13, \"* El total de 'Adolescentes de Migrantes' debe ser menor o igual al Total Adolecentes 'Ambos sexos'. \", \"\")","v":""},{"$f":"IF(AND(E13<>0,N13=\"\"),\"* No olvide escribir en la celda de 'Pueblos Originarios' (Digite CERO si no tiene). \",IF(AND(F13<>0,O13=\"\"),\"* No olvide escribir en la celda de 'Pueblos Originarios' (Digite CERO si no tiene). \",\"\"))","v":""},{"$f":"IF(AND(E13<>0,Q13=\"\"),\"* No olvide escribir en la celda de 'Población Migrantes' (Digite CERO si no tiene). \",IF(AND(F13<>0,R13=\"\"),\"* No olvide escribir en la celda de 'Población Migrantes' (Digite CERO si no tiene). \",\"\"))","v":""},{"$nulls":7},{"$f":"IF($D13<$M13, 1,0)","v":0},{"$f":"IF($D13<$P13, 1,0)","v":0},{"$f":"IF(AND(E13<>0,N13=\"\"),1,IF(AND(F13<>0,O13=\"\"),1,0))","v":0},{"$f":"IF(AND(E13<>0,Q13=\"\"),1,IF(AND(F13<>0,R13=\"\"),1,0))","v":0}]
["P9100120",null,"≥ +2.0 a+2,9 D.E. (Obesidad)",{"$f":"IFERROR(VLOOKUP($A14,FILTRO!$A8:$AY633,2,FALSE),0)","v":1625},{"$f":"IFERROR(VLOOKUP($A14,FILTRO!$A8:$AY633,3,FALSE),0)","v":769},{"$f":"IFERROR(VLOOKUP($A14,FILTRO!$A8:$AY633,4,FALSE),0)","v":856},{"$f":"IFERROR(VLOOKUP($A14,FILTRO!$A8:$AY633,5,FALSE),0)","v":1238},{"$f":"IFERROR(VLOOKUP($A14,FILTRO!$A8:$AY633,6,FALSE),0)","v":636},{"$f":"IFERROR(VLOOKUP($A14,FILTRO!$A8:$AY633,7,FALSE),0)","v":602},{"$f":"IFERROR(VLOOKUP($A14,FILTRO!$A8:$AY633,8,FALSE),0)","v":387},{"$f":"IFERROR(VLOOKUP($A14,FILTRO!$A8:$AY633,9,FALSE),0)","v":133},{"$f":"IFERROR(VLOOKUP($A14,FILTRO!$A8:$AY633,10,FALSE),0)","v":254},{"$f":"IFERROR(VLOOKUP($A14,FILTRO!$A8:$AY633,11,FALSE),0)","v":105},{"$f":"IFERROR(VLOOKUP($A14,FILTRO!$A8:$AY633,12,FALSE),0)","v":34},{"$f":"IFERROR(VLOOKUP($A14,FILTRO!$A8:$AY633,13,FALSE),0)","v":71},{"$f":"IFERROR(VLOOKUP($A14,FILTRO!$A8:$AY633,14,FALSE),0)","v":25},{"$f":"IFERROR(VLOOKUP($A14,FILTRO!$A8:$AY633,15,FALSE),0)","v":6},{"$f":"IFERROR(VLOOKUP($A14,FILTRO!$A8:$AY633,16,FALSE),0)","v":19},{"$f":"AL14 & AM14 & AN14 & AO14","v":""},{"$nulls":18},{"$f":"IF($D14<$M14, \"* El Total de 'Adolescentes de Pueblos Originarios' debe ser menor o igual al Total Adolecentes 'Ambos sexos'. \", \"\")","v":""},{"$f":"IF($D14<$P14, \"* El total de 'Adolescentes de Migrantes' debe ser menor o igual al Total Adolecentes 'Ambos sexos'. \", \"\")","v":""},{"$f":"IF(AND(E14<>0,N14=\"\"),\"* No olvide escribir en la celda de 'Pueblos Originarios' (Digite CERO si no tiene). \",IF(AND(F14<>0,O14=\"\"),\"* No olvide escribir en la celda de 'Pueblos Originarios' (Digite CERO si no tiene). \",\"\"))","v":""},{"$f":"IF(AND(E14<>0,Q14=\"\"),\"* No olvide escribir en la celda de 'Población Migrantes' (Digite CERO si no tiene). \",IF(AND(F14<>0,R14=\"\"),\"* No olvide escribir en la celda de 'Población Migrantes' (Digite CERO si no tiene). \",\"\"))","v":""},{"$nulls":7},0,0,{"$f":"IF(AND(E14<>0,N14=\"\"),1,IF(AND(F14<>0,O14=\"\"),1,0))","v":0},{"$f":"IF(AND(E14<>0,Q14=\"\"),1,IF(AND(F14<>0,R14=\"\"),1,0))","v":0}]
["P9100130",null,"≥ +1.0 a+1,9 D.E.(Sobrepeso) ",{"$f":"IFERROR(VLOOKUP($A15,FILTRO!$A9:$AY634,2,FALSE),0)","v":2061},{"$f":"IFERROR(VLOOKUP($A15,FILTRO!$A9:$AY634,3,FALSE),0)","v":811},{"$f":"IFERROR(VLOOKUP($A15,FILTRO!$A9:$AY634,4,FALSE),0)","v":1250},{"$f":"IFERROR(VLOOKUP($A15,FILTRO!$A9:$AY634,5,FALSE),0)","v":1561},{"$f":"IFERROR(VLOOKUP($A15,FILTRO!$A9:$AY634,6,FALSE),0)","v":652},{"$f":"IFERROR(VLOOKUP($A15,FILTRO!$A9:$AY634,7,FALSE),0)","v":909},{"$f":"IFERROR(VLOOKUP($A15,FILTRO!$A9:$AY634,8,FALSE),0)","v":500},{"$f":"IFERROR(VLOOKUP($A15,FILTRO!$A9:$AY634,9,FALSE),0)","v":159},{"$f":"IFERROR(VLOOKUP($A15,FILTRO!$A9:$AY634,10,FALSE),0)","v":341},{"$f":"IFERROR(VLOOKUP($A15,FILTRO!$A9:$AY634,11,FALSE),0)","v":140},{"$f":"IFERROR(VLOOKUP($A15,FILTRO!$A9:$AY634,12,FALSE),0)","v":55},{"$f":"IFERROR(VLOOKUP($A15,FILTRO!$A9:$AY634,13,FALSE),0)","v":85},{"$f":"IFERROR(VLOOKUP($A15,FILTRO!$A9:$AY634,14,FALSE),0)","v":65},{"$f":"IFERROR(VLOOKUP($A15,FILTRO!$A9:$AY634,15,FALSE),0)","v":28},{"$f":"IFERROR(VLOOKUP($A15,FILTRO!$A9:$AY634,16,FALSE),0)","v":37},{"$nulls":19},{"$f":"IF($D15<$M15, \"* El Total de 'Adolescentes de Pueblos Originarios' debe ser menor o igual al Total Adolecentes 'Ambos sexos'. \", \"\")","v":""},{"$f":"IF($D15<$P15, \"* El total de 'Adolescentes de Migrantes' debe ser menor o igual al Total Adolecentes 'Ambos sexos'. \", \"\")","v":""},{"$f":"IF(AND(E15<>0,N15=\"\"),\"* No olvide escribir en la celda de 'Pueblos Originarios' (Digite CERO si no tiene). \",IF(AND(F15<>0,O15=\"\"),\"* No olvide escribir en la celda de 'Pueblos Originarios' (Digite CERO si no tiene). \",\"\"))","v":""},{"$f":"IF(AND(E15<>0,Q15=\"\"),\"* No olvide escribir en la celda de 'Población Migrantes' (Digite CERO si no tiene). \",IF(AND(F15<>0,R15=\"\"),\"* No olvide escribir en la celda de 'Población Migrantes' (Digite CERO si no tiene). \",\"\"))","v":""},{"$nulls":7},0,0,{"$f":"IF(AND(E15<>0,N15=\"\"),1,IF(AND(F15<>0,O15=\"\"),1,0))","v":0},{"$f":"IF(AND(E15<>0,Q15=\"\"),1,IF(AND(F15<>0,R15=\"\"),1,0))","v":0}]
[null,null,"SUBTOTAL",{"$f":"SUM(D12:D15)","v":11931},{"$f":"SUM(E12:E15)","v":5252},6679,8948,4170,4778,2983,1082,1901,750,299,451,343,132,211,{"$f":"AL15 & AM15 & AN15 & AO15","v":""}]
["P9100140",null,"≤ -1.0 a-1,9 D.E.(Bajo peso)",{"$f":"IFERROR(VLOOKUP($A17,FILTRO!$A11:$AY636,2,FALSE),0)","v":411},{"$f":"IFERROR(VLOOKUP($A17,FILTRO!$A11:$AY636,3,FALSE),0)","v":217},{"$f":"IFERROR(VLOOKUP($A17,FILTRO!$A11:$AY636,4,FALSE),0)","v":194},{"$f":"IFERROR(VLOOKUP($A17,FILTRO!$A11:$AY636,5,FALSE),0)","v":286},{"$f":"IFERROR(VLOOKUP($A17,FILTRO!$A11:$AY636,6,FALSE),0)","v":149},{"$f":"IFERROR(VLOOKUP($A17,FILTRO!$A11:$AY636,7,FALSE),0)","v":137},{"$f":"IFERROR(VLOOKUP($A17,FILTRO!$A11:$AY636,8,FALSE),0)","v":125},{"$f":"IFERROR(VLOOKUP($A17,FILTRO!$A11:$AY636,9,FALSE),0)","v":68},{"$f":"IFERROR(VLOOKUP($A17,FILTRO!$A11:$AY636,10,FALSE),0)","v":57},{"$f":"IFERROR(VLOOKUP($A17,FILTRO!$A11:$AY636,11,FALSE),0)","v":24},{"$f":"IFERROR(VLOOKUP($A17,FILTRO!$A11:$AY636,12,FALSE),0)","v":13},{"$f":"IFERROR(VLOOKUP($A17,FILTRO!$A11:$AY636,13,FALSE),0)","v":11},{"$f":"IFERROR(VLOOKUP($A17,FILTRO!$A11:$AY636,14,FALSE),0)","v":14},{"$f":"IFERROR(VLOOKUP($A17,FILTRO!$A11:$AY636,15,FALSE),0)","v":6},{"$f":"IFERROR(VLOOKUP($A17,FILTRO!$A11:$AY636,16,FALSE),0)","v":8},{"$f":"AL17 & AM17 & AN17 & AO17","v":""},{"$nulls":18},{"$f":"IF($D17<$M17, \"* El Total de 'Adolescentes de Pueblos Originarios' debe ser menor o igual al Total Adolecentes 'Ambos sexos'. \", \"\")","v":""},{"$f":"IF($D17<$P17, \"* El total de 'Adolescentes de Migrantes' debe ser menor o igual al Total Adolecentes 'Ambos sexos'. \", \"\")","v":""},{"$f":"IF(AND(E17<>0,N17=\"\"),\"* No olvide escribir en la celda de 'Pueblos Originarios' (Digite CERO si no tiene). \",IF(AND(F17<>0,O17=\"\"),\"* No olvide escribir en la celda de 'Pueblos Originarios' (Digite CERO si no tiene). \",\"\"))","v":""},{"$f":"IF(AND(E17<>0,Q17=\"\"),\"* No olvide escribir en la celda de 'Población Migrantes' (Digite CERO si no tiene). \",IF(AND(F17<>0,R17=\"\"),\"* No olvide escribir en la celda de 'Población Migrantes' (Digite CERO si no tiene). \",\"\"))","v":""},{"$nulls":7},0,0,{"$f":"IF(AND(E17<>0,N17=\"\"),1,IF(AND(F17<>0,O17=\"\"),1,0))","v":0},{"$f":"IF(AND(E17<>0,Q17=\"\"),1,IF(AND(F17<>0,R17=\"\"),1,0))","v":0}]
["P9100150",null,"≤ -2.0 D.E. (Desnutrición)",{"$f":"IFERROR(VLOOKUP($A18,FILTRO!$A12:$AY637,2,FALSE),0)","v":75},{"$f":"IFERROR(VLOOKUP($A18,FILTRO!$A12:$AY637,3,FALSE),0)","v":46},{"$f":"IFERROR(VLOOKUP($A18,FILTRO!$A12:$AY637,4,FALSE),0)","v":29},{"$f":"IFERROR(VLOOKUP($A18,FILTRO!$A12:$AY637,5,FALSE),0)","v":54},{"$f":"IFERROR(VLOOKUP($A18,FILTRO!$A12:$AY637,6,FALSE),0)","v":33},{"$f":"IFERROR(VLOOKUP($A18,FILTRO!$A12:$AY637,7,FALSE),0)","v":21},{"$f":"IFERROR(VLOOKUP($A18,FILTRO!$A12:$AY637,8,FALSE),0)","v":21},{"$f":"IFERROR(VLOOKUP($A18,FILTRO!$A12:$AY637,9,FALSE),0)","v":13},{"$f":"IFERROR(VLOOKUP($A18,FILTRO!$A12:$AY637,10,FALSE),0)","v":8},{"$f":"IFERROR(VLOOKUP($A18,FILTRO!$A12:$AY637,11,FALSE),0)","v":6},{"$f":"IFERROR(VLOOKUP($A18,FILTRO!$A12:$AY637,12,FALSE),0)","v":3},{"$f":"IFERROR(VLOOKUP($A18,FILTRO!$A12:$AY637,13,FALSE),0)","v":3},{"$f":"IFERROR(VLOOKUP($A18,FILTRO!$A12:$AY637,14,FALSE),0)","v":1},{"$f":"IFERROR(VLOOKUP($A18,FILTRO!$A12:$AY637,15,FALSE),0)","v":1},{"$f":"IFERROR(VLOOKUP($A18,FILTRO!$A12:$AY637,16,FALSE),0)","v":0},{"$f":"AL18 & AM18 & AN18 & AO18","v":""},{"$nulls":18},{"$f":"IF($D18<$M18, \"* El Total de 'Adolescentes de Pueblos Originarios' debe ser menor o igual al Total Adolecentes 'Ambos sexos'. \", \"\")","v":""},{"$f":"IF($D18<$P18, \"* El total de 'Adolescentes de Migrantes' debe ser menor o igual al Total Adolecentes 'Ambos sexos'. \", \"\")","v":""},{"$f":"IF(AND(E18<>0,N18=\"\"),\"* No olvide escribir en la celda de 'Pueblos Originarios' (Digite CERO si no tiene). \",IF(AND(F18<>0,O18=\"\"),\"* No olvide escribir en la celda de 'Pueblos Originarios' (Digite CERO si no tiene). \",\"\"))","v":""},{"$f":"IF(AND(E18<>0,Q18=\"\"),\"* No olvide escribir en la celda de 'Población Migrantes' (Digite CERO si no tiene). \",IF(AND(F18<>0,R18=\"\"),\"* No olvide escribir en la celda de 'Población Migrantes' (Digite CERO si no tiene). \",\"\"))","v":""},{"$nulls":7},0,0,{"$f":"IF(AND(E18<>0,N18=\"\"),1,IF(AND(F18<>0,O18=\"\"),1,0))","v":0},{"$f":"IF(AND(E18<>0,Q18=\"\"),1,IF(AND(F18<>0,R18=\"\"),1,0))","v":0}]
[null,null,"SUBTOTAL",{"$f":"SUM(D17:D18)","v":486},{"$f":"SUM(E17:E18)","v":263},223,340,182,158,146,81,65,30,16,14,15,7,8]
["P9100160",null," -0.9 a+ 0.9 D.E. (Peso Normal)",{"$f":"IFERROR(VLOOKUP($A20,FILTRO!$A14:$AY639,2,FALSE),0)","v":3185},{"$f":"IFERROR(VLOOKUP($A20,FILTRO!$A14:$AY639,3,FALSE),0)","v":1340},{"$f":"IFERROR(VLOOKUP($A20,FILTRO!$A14:$AY639,4,FALSE),0)","v":1845},{"$f":"IFERROR(VLOOKUP($A20,FILTRO!$A14:$AY639,5,FALSE),0)","v":2349},{"$f":"IFERROR(VLOOKUP($A20,FILTRO!$A14:$AY639,6,FALSE),0)","v":1016},{"$f":"IFERROR(VLOOKUP($A20,FILTRO!$A14:$AY639,7,FALSE),0)","v":1333},{"$f":"IFERROR(VLOOKUP($A20,FILTRO!$A14:$AY639,8,FALSE),0)","v":836},{"$f":"IFERROR(VLOOKUP($A20,FILTRO!$A14:$AY639,9,FALSE),0)","v":324},{"$f":"IFERROR(VLOOKUP($A20,FILTRO!$A14:$AY639,10,FALSE),0)","v":512},{"$f":"IFERROR(VLOOKUP($A20,FILTRO!$A14:$AY639,11,FALSE),0)","v":179},{"$f":"IFERROR(VLOOKUP($A20,FILTRO!$A14:$AY639,12,FALSE),0)","v":77},{"$f":"IFERROR(VLOOKUP($A20,FILTRO!$A14:$AY639,13,FALSE),0)","v":102},{"$f":"IFERROR(VLOOKUP($A20,FILTRO!$A14:$AY639,14,FALSE),0)","v":143},{"$f":"IFERROR(VLOOKUP($A20,FILTRO!$A14:$AY639,15,FALSE),0)","v":61},{"$f":"IFERROR(VLOOKUP($A20,FILTRO!$A14:$AY639,16,FALSE),0)","v":82},{"$f":"AL20 & AM20 & AN20 & AO20","v":""},{"$nulls":18},{"$f":"IF($D20<$M20, \"* El Total de 'Adolescentes de Pueblos Originarios' debe ser menor o igual al Total Adolecentes 'Ambos sexos'. \", \"\")","v":""},{"$f":"IF($D20<$P20, \"* El total de 'Adolescentes de Migrantes' debe ser menor o igual al Total Adolecentes 'Ambos sexos'. \", \"\")","v":""},{"$f":"IF(AND(E20<>0,N20=\"\"),\"* No olvide escribir en la celda de 'Pueblos Originarios' (Digite CERO si no tiene). \",IF(AND(F20<>0,O20=\"\"),\"* No olvide escribir en la celda de 'Pueblos Originarios' (Digite CERO si no tiene). \",\"\"))","v":""},{"$f":"IF(AND(E20<>0,Q20=\"\"),\"* No olvide escribir en la celda de 'Población Migrantes' (Digite CERO si no tiene). \",IF(AND(F20<>0,R20=\"\"),\"* No olvide escribir en la celda de 'Población Migrantes' (Digite CERO si no tiene). \",\"\"))","v":""},{"$nulls":7},0,0,{"$f":"IF(AND(E20<>0,N20=\"\"),1,IF(AND(F20<>0,O20=\"\"),1,0))","v":0},{"$f":"IF(AND(E20<>0,Q20=\"\"),1,IF(AND(F20<>0,R20=\"\"),1,0))","v":0}]
["P9100170","INDICADOR TALLA/EDAD","≥+ 2.0 D.E.(Talla Alta)",{"$f":"IFERROR(VLOOKUP($A21,FILTRO!$A15:$AY640,2,FALSE),0)","v":269},{"$f":"IFERROR(VLOOKUP($A21,FILTRO!$A15:$AY640,3,FALSE),0)","v":163},{"$f":"IFERROR(VLOOKUP($A21,FILTRO!$A15:$AY640,4,FALSE),0)","v":106},{"$f":"IFERROR(VLOOKUP($A21,FILTRO!$A15:$AY640,5,FALSE),0)","v":245},{"$f":"IFERROR(VLOOKUP($A21,FILTRO!$A15:$AY640,6,FALSE),0)","v":152},{"$f":"IFERROR(VLOOKUP($A21,FILTRO!$A15:$AY640,7,FALSE),0)","v":93},{"$f":"IFERROR(VLOOKUP($A21,FILTRO!$A15:$AY640,8,FALSE),0)","v":24},{"$f":"IFERROR(VLOOKUP($A21,FILTRO!$A15:$AY640,9,FALSE),0)","v":11},{"$f":"IFERROR(VLOOKUP($A21,FILTRO!$A15:$AY640,10,FALSE),0)","v":13},{"$f":"IFERROR(VLOOKUP($A21,FILTRO!$A15:$AY640,11,FALSE),0)","v":13},{"$f":"IFERROR(VLOOKUP($A21,FILTRO!$A15:$AY640,12,FALSE),0)","v":7},{"$f":"IFERROR(VLOOKUP($A21,FILTRO!$A15:$AY640,13,FALSE),0)","v":6},{"$f":"IFERROR(VLOOKUP($A21,FILTRO!$A15:$AY640,14,FALSE),0)","v":5},{"$f":"IFERROR(VLOOKUP($A21,FILTRO!$A15:$AY640,15,FALSE),0)","v":3},{"$f":"IFERROR(VLOOKUP($A21,FILTRO!$A15:$AY640,16,FALSE),0)","v":2},{"$f":"AL21 & AM21 & AN21 & AO21","v":""},{"$nulls":18},{"$f":"IF($D21<$M21, \"* El Total de 'Adolescentes de Pueblos Originarios' debe ser menor o igual al Total Adolecentes 'Ambos sexos'. \", \"\")","v":""},{"$f":"IF($D21<$P21, \"* El total de 'Adolescentes de Migrantes' debe ser menor o igual al Total Adolecentes 'Ambos sexos'. \", \"\")","v":""},{"$f":"IF(AND(E21<>0,N21=\"\"),\"* No olvide escribir en la celda de 'Pueblos Originarios' (Digite CERO si no tiene). \",IF(AND(F21<>0,O21=\"\"),\"* No olvide escribir en la celda de 'Pueblos Originarios' (Digite CERO si no tiene). \",\"\"))","v":""},{"$f":"IF(AND(E21<>0,Q21=\"\"),\"* No olvide escribir en la celda de 'Población Migrantes' (Digite CERO si no tiene). \",IF(AND(F21<>0,R21=\"\"),\"* No olvide escribir en la celda de 'Población Migrantes' (Digite CERO si no tiene). \",\"\"))","v":""},{"$nulls":7},0,0,{"$f":"IF(AND(E21<>0,N21=\"\"),1,IF(AND(F21<>0,O21=\"\"),1,0))","v":0},{"$f":"IF(AND(E21<>0,Q21=\"\"),1,IF(AND(F21<>0,R21=\"\"),1,0))","v":0}]
["P9100180",null,"+ 1.0 a+ 1.9 D.E. (Talla Normal Alta)",{"$f":"IFERROR(VLOOKUP($A22,FILTRO!$A16:$AY641,2,FALSE),0)","v":1032},{"$f":"IFERROR(VLOOKUP($A22,FILTRO!$A16:$AY641,3,FALSE),0)","v":526},{"$f":"IFERROR(VLOOKUP($A22,FILTRO!$A16:$AY641,4,FALSE),0)","v":506},{"$f":"IFERROR(VLOOKUP($A22,FILTRO!$A16:$AY641,5,FALSE),0)","v":913},{"$f":"IFERROR(VLOOKUP($A22,FILTRO!$A16:$AY641,6,FALSE),0)","v":466},{"$f":"IFERROR(VLOOKUP($A22,FILTRO!$A16:$AY641,7,FALSE),0)","v":447},{"$f":"IFERROR(VLOOKUP($A22,FILTRO!$A16:$AY641,8,FALSE),0)","v":119},{"$f":"IFERROR(VLOOKUP($A22,FILTRO!$A16:$AY641,9,FALSE),0)","v":60},{"$f":"IFERROR(VLOOKUP($A22,FILTRO!$A16:$AY641,10,FALSE),0)","v":59},{"$f":"IFERROR(VLOOKUP($A22,FILTRO!$A16:$AY641,11,FALSE),0)","v":56},{"$f":"IFERROR(VLOOKUP($A22,FILTRO!$A16:$AY641,12,FALSE),0)","v":25},{"$f":"IFERROR(VLOOKUP($A22,FILTRO!$A16:$AY641,13,FALSE),0)","v":31},{"$f":"IFERROR(VLOOKUP($A22,FILTRO!$A16:$AY641,14,FALSE),0)","v":27},{"$f":"IFERROR(VLOOKUP($A22,FILTRO!$A16:$AY641,15,FALSE),0)","v":15},{"$f":"IFERROR(VLOOKUP($A22,FILTRO!$A16:$AY641,16,FALSE),0)","v":12},{"$f":"AL22 & AM22 & AN22 & AO22","v":""},{"$nulls":18},{"$f":"IF($D22<$M22, \"* El Total de 'Adolescentes de Pueblos Originarios' debe ser menor o igual al Total Adolecentes 'Ambos sexos'. \", \"\")","v":""},{"$f":"IF($D22<$P22, \"* El total de 'Adolescentes de Migrantes' debe ser menor o igual al Total Adolecentes 'Ambos sexos'. \", \"\")","v":""},{"$f":"IF(AND(E22<>0,N22=\"\"),\"* No olvide escribir en la celda de 'Pueblos Originarios' (Digite CERO si no tiene). \",IF(AND(F22<>0,O22=\"\"),\"* No olvide escribir en la celda de 'Pueblos Originarios' (Digite CERO si no tiene). \",\"\"))","v":""},{"$f":"IF(AND(E22<>0,Q22=\"\"),\"* No olvide escribir en la celda de 'Población Migrantes' (Digite CERO si no tiene). \",IF(AND(F22<>0,R22=\"\"),\"* No olvide escribir en la celda de 'Población Migrantes' (Digite CERO si no tiene). \",\"\"))","v":""},{"$nulls":7},0,0,{"$f":"IF(AND(E22<>0,N22=\"\"),1,IF(AND(F22<>0,O22=\"\"),1,0))","v":0},{"$f":"IF(AND(E22<>0,Q22=\"\"),1,IF(AND(F22<>0,R22=\"\"),1,0))","v":0}]
[null,null,"SUBTOTAL",{"$f":"SUM(D20:D22)","v":4486},{"$f":"SUM(E20:E22)","v":2029},2457,3507,1634,1873,979,395,584,248,109,139,175,79,96]
["P9100190",null,"- 1.0 a -1.9 D.E. (Talla Normal Baja)",{"$f":"IFERROR(VLOOKUP($A24,FILTRO!$A18:$AY643,2,FALSE),0)","v":993},{"$f":"IFERROR(VLOOKUP($A24,FILTRO!$A18:$AY643,3,FALSE),0)","v":345},{"$f":"IFERROR(VLOOKUP($A24,FILTRO!$A18:$AY643,4,FALSE),0)","v":648},{"$f":"IFERROR(VLOOKUP($A24,FILTRO!$A18:$AY643,5,FALSE),0)","v":627},{"$f":"IFERROR(VLOOKUP($A24,FILTRO!$A18:$AY643,6,FALSE),0)","v":254},{"$f":"IFERROR(VLOOKUP($A24,FILTRO!$A18:$AY643,7,FALSE),0)","v":373},{"$f":"IFERROR(VLOOKUP($A24,FILTRO!$A18:$AY643,8,FALSE),0)","v":366},{"$f":"IFERROR(VLOOKUP($A24,FILTRO!$A18:$AY643,9,FALSE),0)","v":91},{"$f":"IFERROR(VLOOKUP($A24,FILTRO!$A18:$AY643,10,FALSE),0)","v":275},{"$f":"IFERROR(VLOOKUP($A24,FILTRO!$A18:$AY643,11,FALSE),0)","v":50},{"$f":"IFERROR(VLOOKUP($A24,FILTRO!$A18:$AY643,12,FALSE),0)","v":18},{"$f":"IFERROR(VLOOKUP($A24,FILTRO!$A18:$AY643,13,FALSE),0)","v":32},{"$f":"IFERROR(VLOOKUP($A24,FILTRO!$A18:$AY643,14,FALSE),0)","v":34},{"$f":"IFERROR(VLOOKUP($A24,FILTRO!$A18:$AY643,15,FALSE),0)","v":12},{"$f":"IFERROR(VLOOKUP($A24,FILTRO!$A18:$AY643,16,FALSE),0)","v":22},{"$f":"AL24 & AM24 & AN24 & AO24","v":""},{"$nulls":18},{"$f":"IF($D24<$M24, \"* El Total de 'Adolescentes de Pueblos Originarios' debe ser menor o igual al Total Adolecentes 'Ambos sexos'. \", \"\")","v":""},{"$f":"IF($D24<$P24, \"* El total de 'Adolescentes de Migrantes' debe ser menor o igual al Total Adolecentes 'Ambos sexos'. \", \"\")","v":""},{"$f":"IF(AND(E24<>0,N24=\"\"),\"* No olvide escribir en la celda de 'Pueblos Originarios' (Digite CERO si no tiene). \",IF(AND(F24<>0,O24=\"\"),\"* No olvide escribir en la celda de 'Pueblos Originarios' (Digite CERO si no tiene). \",\"\"))","v":""},{"$f":"IF(AND(E24<>0,Q24=\"\"),\"* No olvide escribir en la celda de 'Población Migrantes' (Digite CERO si no tiene). \",IF(AND(F24<>0,R24=\"\"),\"* No olvide escribir en la celda de 'Población Migrantes' (Digite CERO si no tiene). \",\"\"))","v":""},{"$nulls":7},0,0,{"$f":"IF(AND(E24<>0,N24=\"\"),1,IF(AND(F24<>0,O24=\"\"),1,0))","v":0},{"$f":"IF(AND(E24<>0,Q24=\"\"),1,IF(AND(F24<>0,R24=\"\"),1,0))","v":0}]
["P9100200",null,"< 2 D.E. (Talla Baja)",{"$f":"IFERROR(VLOOKUP($A25,FILTRO!$A19:$AY644,2,FALSE),0)","v":183},{"$f":"IFERROR(VLOOKUP($A25,FILTRO!$A19:$AY644,3,FALSE),0)","v":66},{"$f":"IFERROR(VLOOKUP($A25,FILTRO!$A19:$AY644,4,FALSE),0)","v":117},{"$f":"IFERROR(VLOOKUP($A25,FILTRO!$A19:$AY644,5,FALSE),0)","v":118},{"$f":"IFERROR(VLOOKUP($A25,FILTRO!$A19:$AY644,6,FALSE),0)","v":53},{"$f":"IFERROR(VLOOKUP($A25,FILTRO!$A19:$AY644,7,FALSE),0)","v":65},{"$f":"IFERROR(VLOOKUP($A25,FILTRO!$A19:$AY644,8,FALSE),0)","v":65},{"$f":"IFERROR(VLOOKUP($A25,FILTRO!$A19:$AY644,9,FALSE),0)","v":13},{"$f":"IFERROR(VLOOKUP($A25,FILTRO!$A19:$AY644,10,FALSE),0)","v":52},{"$f":"IFERROR(VLOOKUP($A25,FILTRO!$A19:$AY644,11,FALSE),0)","v":17},{"$f":"IFERROR(VLOOKUP($A25,FILTRO!$A19:$AY644,12,FALSE),0)","v":6},{"$f":"IFERROR(VLOOKUP($A25,FILTRO!$A19:$AY644,13,FALSE),0)","v":11},{"$f":"IFERROR(VLOOKUP($A25,FILTRO!$A19:$AY644,14,FALSE),0)","v":13},{"$f":"IFERROR(VLOOKUP($A25,FILTRO!$A19:$AY644,15,FALSE),0)","v":6},{"$f":"IFERROR(VLOOKUP($A25,FILTRO!$A19:$AY644,16,FALSE),0)","v":7},{"$f":"AL25 & AM25 & AN25 & AO25","v":""},{"$nulls":18},{"$f":"IF($D25<$M25, \"* El Total de 'Adolescentes de Pueblos Originarios' debe ser menor o igual al Total Adolecentes 'Ambos sexos'. \", \"\")","v":""},{"$f":"IF($D25<$P25, \"* El total de 'Adolescentes de Migrantes' debe ser menor o igual al Total Adolecentes 'Ambos sexos'. \", \"\")","v":""},{"$f":"IF(AND(E25<>0,N25=\"\"),\"* No olvide escribir en la celda de 'Pueblos Originarios' (Digite CERO si no tiene). \",IF(AND(F25<>0,O25=\"\"),\"* No olvide escribir en la celda de 'Pueblos Originarios' (Digite CERO si no tiene). \",\"\"))","v":""},{"$f":"IF(AND(E25<>0,Q25=\"\"),\"* No olvide escribir en la celda de 'Población Migrantes' (Digite CERO si no tiene). \",IF(AND(F25<>0,R25=\"\"),\"* No olvide escribir en la celda de 'Población Migrantes' (Digite CERO si no tiene). \",\"\"))","v":""},{"$nulls":7},0,0,{"$f":"IF(AND(E25<>0,N25=\"\"),1,IF(AND(F25<>0,O25=\"\"),1,0))","v":0},{"$f":"IF(AND(E25<>0,Q25=\"\"),1,IF(AND(F25<>0,R25=\"\"),1,0))","v":0}]
[null,null,"SUBTOTAL",{"$f":"SUM(D24:D25)","v":1176},{"$f":"SUM(E24:E25)","v":411},765,745,307,438,431,104,327,67,24,43,47,18,29]
["P9100210",null,"-0.9 a+ 0.9 D.E. (Talla Normal)",{"$f":"IFERROR(VLOOKUP($A27,FILTRO!$A21:$AY646,2,FALSE),0)","v":4656},{"$f":"IFERROR(VLOOKUP($A27,FILTRO!$A21:$AY646,3,FALSE),0)","v":2079},{"$f":"IFERROR(VLOOKUP($A27,FILTRO!$A21:$AY646,4,FALSE),0)","v":2577},{"$f":"IFERROR(VLOOKUP($A27,FILTRO!$A21:$AY646,5,FALSE),0)","v":3433},{"$f":"IFERROR(VLOOKUP($A27,FILTRO!$A21:$AY646,6,FALSE),0)","v":1559},{"$f":"IFERROR(VLOOKUP($A27,FILTRO!$A21:$AY646,7,FALSE),0)","v":1874},{"$f":"IFERROR(VLOOKUP($A27,FILTRO!$A21:$AY646,8,FALSE),0)","v":1223},{"$f":"IFERROR(VLOOKUP($A27,FILTRO!$A21:$AY646,9,FALSE),0)","v":520},{"$f":"IFERROR(VLOOKUP($A27,FILTRO!$A21:$AY646,10,FALSE),0)","v":703},{"$f":"IFERROR(VLOOKUP($A27,FILTRO!$A21:$AY646,11,FALSE),0)","v":290},{"$f":"IFERROR(VLOOKUP($A27,FILTRO!$A21:$AY646,12,FALSE),0)","v":118},{"$f":"IFERROR(VLOOKUP($A27,FILTRO!$A21:$AY646,13,FALSE),0)","v":172},{"$f":"IFERROR(VLOOKUP($A27,FILTRO!$A21:$AY646,14,FALSE),0)","v":151},{"$f":"IFERROR(VLOOKUP($A27,FILTRO!$A21:$AY646,15,FALSE),0)","v":58},{"$f":"IFERROR(VLOOKUP($A27,FILTRO!$A21:$AY646,16,FALSE),0)","v":93},{"$f":"AL27 & AM27 & AN27 & AO27","v":""},{"$nulls":18},{"$f":"IF($D27<$M27, \"* El Total de 'Adolescentes de Pueblos Originarios' debe ser menor o igual al Total Adolecentes 'Ambos sexos'. \", \"\")","v":""},{"$f":"IF($D27<$P27, \"* El total de 'Adolescentes de Migrantes' debe ser menor o igual al Total Adolecentes 'Ambos sexos'. \", \"\")","v":""},{"$f":"IF(AND(E27<>0,N27=\"\"),\"* No olvide escribir en la celda de 'Pueblos Originarios' (Digite CERO si no tiene). \",IF(AND(F27<>0,O27=\"\"),\"* No olvide escribir en la celda de 'Pueblos Originarios' (Digite CERO si no tiene). \",\"\"))","v":""},{"$f":"IF(AND(E27<>0,Q27=\"\"),\"* No olvide escribir en la celda de 'Población Migrantes' (Digite CERO si no tiene). \",IF(AND(F27<>0,R27=\"\"),\"* No olvide escribir en la celda de 'Población Migrantes' (Digite CERO si no tiene). \",\"\"))","v":""},{"$nulls":7},0,0,{"$f":"IF(AND(E27<>0,N27=\"\"),1,IF(AND(F27<>0,O27=\"\"),1,0))","v":0},{"$f":"IF(AND(E27<>0,Q27=\"\"),1,IF(AND(F27<>0,R27=\"\"),1,0))","v":0}]
["P9100220","RANGOS PERCENTILARES PARA CIRCUNFERENCIA DE CINTURA","NORMAL (p<75)",{"$f":"IFERROR(VLOOKUP($A28,FILTRO!$A22:$AY647,2,FALSE),0)","v":3889},{"$f":"IFERROR(VLOOKUP($A28,FILTRO!$A22:$AY647,3,FALSE),0)","v":1674},{"$f":"IFERROR(VLOOKUP($A28,FILTRO!$A22:$AY647,4,FALSE),0)","v":2215},{"$f":"IFERROR(VLOOKUP($A28,FILTRO!$A22:$AY647,5,FALSE),0)","v":2836},{"$f":"IFERROR(VLOOKUP($A28,FILTRO!$A22:$AY647,6,FALSE),0)","v":1249},{"$f":"IFERROR(VLOOKUP($A28,FILTRO!$A22:$AY647,7,FALSE),0)","v":1587},{"$f":"IFERROR(VLOOKUP($A28,FILTRO!$A22:$AY647,8,FALSE),0)","v":1053},{"$f":"IFERROR(VLOOKUP($A28,FILTRO!$A22:$AY647,9,FALSE),0)","v":425},{"$f":"IFERROR(VLOOKUP($A28,FILTRO!$A22:$AY647,10,FALSE),0)","v":628},{"$f":"IFERROR(VLOOKUP($A28,FILTRO!$A22:$AY647,11,FALSE),0)","v":231},{"$f":"IFERROR(VLOOKUP($A28,FILTRO!$A22:$AY647,12,FALSE),0)","v":99},{"$f":"IFERROR(VLOOKUP($A28,FILTRO!$A22:$AY647,13,FALSE),0)","v":132},{"$f":"IFERROR(VLOOKUP($A28,FILTRO!$A22:$AY647,14,FALSE),0)","v":177},{"$f":"IFERROR(VLOOKUP($A28,FILTRO!$A22:$AY647,15,FALSE),0)","v":73},{"$f":"IFERROR(VLOOKUP($A28,FILTRO!$A22:$AY647,16,FALSE),0)","v":104},{"$f":"AL28 & AM28 & AN28 & AO28","v":""},{"$nulls":18},{"$f":"IF($D28<$M28, \"* El Total de 'Adolescentes de Pueblos Originarios' debe ser menor o igual al Total Adolecentes 'Ambos sexos'. \", \"\")","v":""},{"$f":"IF($D28<$P28, \"* El total de 'Adolescentes de Migrantes' debe ser menor o igual al Total Adolecentes 'Ambos sexos'. \", \"\")","v":""},{"$f":"IF(AND(E28<>0,N28=\"\"),\"* No olvide escribir en la celda de 'Pueblos Originarios' (Digite CERO si no tiene). \",IF(AND(F28<>0,O28=\"\"),\"* No olvide escribir en la celda de 'Pueblos Originarios' (Digite CERO si no tiene). \",\"\"))","v":""},{"$f":"IF(AND(E28<>0,Q28=\"\"),\"* No olvide escribir en la celda de 'Población Migrantes' (Digite CERO si no tiene). \",IF(AND(F28<>0,R28=\"\"),\"* No olvide escribir en la celda de 'Población Migrantes' (Digite CERO si no tiene). \",\"\"))","v":""},{"$nulls":7},0,0,{"$f":"IF(AND(E28<>0,N28=\"\"),1,IF(AND(F28<>0,O28=\"\"),1,0))","v":0},{"$f":"IF(AND(E28<>0,Q28=\"\"),1,IF(AND(F28<>0,R28=\"\"),1,0))","v":0}]
["P9100230",null,"RIESGO DE OBESIDAD (p75<p<90)",{"$f":"IFERROR(VLOOKUP($A29,FILTRO!$A23:$AY648,2,FALSE),0)","v":1663},{"$f":"IFERROR(VLOOKUP($A29,FILTRO!$A23:$AY648,3,FALSE),0)","v":737},{"$f":"IFERROR(VLOOKUP($A29,FILTRO!$A23:$AY648,4,FALSE),0)","v":926},{"$f":"IFERROR(VLOOKUP($A29,FILTRO!$A23:$AY648,5,FALSE),0)","v":1272},{"$f":"IFERROR(VLOOKUP($A29,FILTRO!$A23:$AY648,6,FALSE),0)","v":604},{"$f":"IFERROR(VLOOKUP($A29,FILTRO!$A23:$AY648,7,FALSE),0)","v":668},{"$f":"IFERROR(VLOOKUP($A29,FILTRO!$A23:$AY648,8,FALSE),0)","v":391},{"$f":"IFERROR(VLOOKUP($A29,FILTRO!$A23:$AY648,9,FALSE),0)","v":133},{"$f":"IFERROR(VLOOKUP($A29,FILTRO!$A23:$AY648,10,FALSE),0)","v":258},{"$f":"IFERROR(VLOOKUP($A29,FILTRO!$A23:$AY648,11,FALSE),0)","v":98},{"$f":"IFERROR(VLOOKUP($A29,FILTRO!$A23:$AY648,12,FALSE),0)","v":36},{"$f":"IFERROR(VLOOKUP($A29,FILTRO!$A23:$AY648,13,FALSE),0)","v":62},{"$f":"IFERROR(VLOOKUP($A29,FILTRO!$A23:$AY648,14,FALSE),0)","v":44},{"$f":"IFERROR(VLOOKUP($A29,FILTRO!$A23:$AY648,15,FALSE),0)","v":21},{"$f":"IFERROR(VLOOKUP($A29,FILTRO!$A23:$AY648,16,FALSE),0)","v":23},{"$f":"AL29 & AM29 & AN29 & AO29","v":""},{"$nulls":18},{"$f":"IF($D29<$M29, \"* El Total de 'Adolescentes de Pueblos Originarios' debe ser menor o igual al Total Adolecentes 'Ambos sexos'. \", \"\")","v":""},{"$f":"IF($D29<$P29, \"* El total de 'Adolescentes de Migrantes' debe ser menor o igual al Total Adolecentes 'Ambos sexos'. \", \"\")","v":""},{"$f":"IF(AND(E29<>0,N29=\"\"),\"* No olvide escribir en la celda de 'Pueblos Originarios' (Digite CERO si no tiene). \",IF(AND(F29<>0,O29=\"\"),\"* No olvide escribir en la celda de 'Pueblos Originarios' (Digite CERO si no tiene). \",\"\"))","v":""},{"$f":"IF(AND(E29<>0,Q29=\"\"),\"* No olvide escribir en la celda de 'Población Migrantes' (Digite CERO si no tiene). \",IF(AND(F29<>0,R29=\"\"),\"* No olvide escribir en la celda de 'Población Migrantes' (Digite CERO si no tiene). \",\"\"))","v":""},{"$nulls":7},0,0,{"$f":"IF(AND(E29<>0,N29=\"\"),1,IF(AND(F29<>0,O29=\"\"),1,0))","v":0},{"$f":"IF(AND(E29<>0,Q29=\"\"),1,IF(AND(F29<>0,R29=\"\"),1,0))","v":0}]
["P9100240",null,"OBESIDAD ABDOMINAL p>90)",{"$f":"IFERROR(VLOOKUP($A30,FILTRO!$A24:$AY649,2,FALSE),0)","v":1736},{"$f":"IFERROR(VLOOKUP($A30,FILTRO!$A24:$AY649,3,FALSE),0)","v":835},{"$f":"IFERROR(VLOOKUP($A30,FILTRO!$A24:$AY649,4,FALSE),0)","v":901},{"$f":"IFERROR(VLOOKUP($A30,FILTRO!$A24:$AY649,5,FALSE),0)","v":1380},{"$f":"IFERROR(VLOOKUP($A30,FILTRO!$A24:$AY649,6,FALSE),0)","v":700},{"$f":"IFERROR(VLOOKUP($A30,FILTRO!$A24:$AY649,7,FALSE),0)","v":680},{"$f":"IFERROR(VLOOKUP($A30,FILTRO!$A24:$AY649,8,FALSE),0)","v":356},{"$f":"IFERROR(VLOOKUP($A30,FILTRO!$A24:$AY649,9,FALSE),0)","v":135},{"$f":"IFERROR(VLOOKUP($A30,FILTRO!$A24:$AY649,10,FALSE),0)","v":221},{"$f":"IFERROR(VLOOKUP($A30,FILTRO!$A24:$AY649,11,FALSE),0)","v":120},{"$f":"IFERROR(VLOOKUP($A30,FILTRO!$A24:$AY649,12,FALSE),0)","v":45},{"$f":"IFERROR(VLOOKUP($A30,FILTRO!$A24:$AY649,13,FALSE),0)","v":75},{"$f":"IFERROR(VLOOKUP($A30,FILTRO!$A24:$AY649,14,FALSE),0)","v":21},{"$f":"IFERROR(VLOOKUP($A30,FILTRO!$A24:$AY649,15,FALSE),0)","v":8},{"$f":"IFERROR(VLOOKUP($A30,FILTRO!$A24:$AY649,16,FALSE),0)","v":13},{"$f":"AL30 & AM30 & AN30 & AO30","v":""},{"$nulls":18},{"$f":"IF($D30<$M30, \"* El Total de 'Adolescentes de Pueblos Originarios' debe ser menor o igual al Total Adolecentes 'Ambos sexos'. \", \"\")","v":""},{"$f":"IF($D30<$P30, \"* El total de 'Adolescentes de Migrantes' debe ser menor o igual al Total Adolecentes 'Ambos sexos'. \", \"\")","v":""},{"$f":"IF(AND(E30<>0,N30=\"\"),\"* No olvide escribir en la celda de 'Pueblos Originarios' (Digite CERO si no tiene). \",IF(AND(F30<>0,O30=\"\"),\"* No olvide escribir en la celda de 'Pueblos Originarios' (Digite CERO si no tiene). \",\"\"))","v":""},{"$f":"IF(AND(E30<>0,Q30=\"\"),\"* No olvide escribir en la celda de 'Población Migrantes' (Digite CERO si no tiene). \",IF(AND(F30<>0,R30=\"\"),\"* No olvide escribir en la celda de 'Población Migrantes' (Digite CERO si no tiene). \",\"\"))","v":""},{"$nulls":7},0,0,{"$f":"IF(AND(E30<>0,N30=\"\"),1,IF(AND(F30<>0,O30=\"\"),1,0))","v":0},{"$f":"IF(AND(E30<>0,Q30=\"\"),1,IF(AND(F30<>0,R30=\"\"),1,0))","v":0}]
[null,null,"TOTAL",{"$f":"SUM(D27:D30)","v":11944},{"$f":"SUM(E27:E30)","v":5325},6619,8921,4112,4809,3023,1213,1810,739,298,441,393,160,233]
["P9100250","DIAGNOSTICO NUTRICIONAL INTEGRADO","DEFICIT PONDERADO BAJO PESO",{"$f":"IFERROR(VLOOKUP($A32,FILTRO!$A26:$AY651,2,FALSE),0)","v":408},{"$f":"IFERROR(VLOOKUP($A32,FILTRO!$A26:$AY651,3,FALSE),0)","v":214},{"$f":"IFERROR(VLOOKUP($A32,FILTRO!$A26:$AY651,4,FALSE),0)","v":194},{"$f":"IFERROR(VLOOKUP($A32,FILTRO!$A26:$AY651,5,FALSE),0)","v":283},{"$f":"IFERROR(VLOOKUP($A32,FILTRO!$A26:$AY651,6,FALSE),0)","v":144},{"$f":"IFERROR(VLOOKUP($A32,FILTRO!$A26:$AY651,7,FALSE),0)","v":139},{"$f":"IFERROR(VLOOKUP($A32,FILTRO!$A26:$AY651,8,FALSE),0)","v":125},{"$f":"IFERROR(VLOOKUP($A32,FILTRO!$A26:$AY651,9,FALSE),0)","v":70},{"$f":"IFERROR(VLOOKUP($A32,FILTRO!$A26:$AY651,10,FALSE),0)","v":55},{"$f":"IFERROR(VLOOKUP($A32,FILTRO!$A26:$AY651,11,FALSE),0)","v":23},{"$f":"IFERROR(VLOOKUP($A32,FILTRO!$A26:$AY651,12,FALSE),0)","v":14},{"$f":"IFERROR(VLOOKUP($A32,FILTRO!$A26:$AY651,13,FALSE),0)","v":9},{"$f":"IFERROR(VLOOKUP($A32,FILTRO!$A26:$AY651,14,FALSE),0)","v":13},{"$f":"IFERROR(VLOOKUP($A32,FILTRO!$A26:$AY651,15,FALSE),0)","v":6},{"$f":"IFERROR(VLOOKUP($A32,FILTRO!$A26:$AY651,16,FALSE),0)","v":7},{"$f":"AL32 & AM32 & AN32 & AO32","v":""},{"$nulls":18},{"$f":"IF($D32<$M32, \"* El Total de 'Adolescentes de Pueblos Originarios' debe ser menor o igual al Total Adolecentes 'Ambos sexos'. \", \"\")","v":""},{"$f":"IF($D32<$P32, \"* El total de 'Adolescentes de Migrantes' debe ser menor o igual al Total Adolecentes 'Ambos sexos'. \", \"\")","v":""},{"$f":"IF(AND(E32<>0,N32=\"\"),\"* No olvide escribir en la celda de 'Pueblos Originarios' (Digite CERO si no tiene). \",IF(AND(F32<>0,O32=\"\"),\"* No olvide escribir en la celda de 'Pueblos Originarios' (Digite CERO si no tiene). \",\"\"))","v":""},{"$f":"IF(AND(E32<>0,Q32=\"\"),\"* No olvide escribir en la celda de 'Población Migrantes' (Digite CERO si no tiene). \",IF(AND(F32<>0,R32=\"\"),\"* No olvide escribir en la celda de 'Población Migrantes' (Digite CERO si no tiene). \",\"\"))","v":""},{"$nulls":7},0,0,{"$f":"IF(AND(E32<>0,N32=\"\"),1,IF(AND(F32<>0,O32=\"\"),1,0))","v":0},{"$f":"IF(AND(E32<>0,Q32=\"\"),1,IF(AND(F32<>0,R32=\"\"),1,0))","v":0}]
["P9100260",null,"DESNUTRIDO",{"$f":"IFERROR(VLOOKUP($A33,FILTRO!$A27:$AY652,2,FALSE),0)","v":73},{"$f":"IFERROR(VLOOKUP($A33,FILTRO!$A27:$AY652,3,FALSE),0)","v":45},{"$f":"IFERROR(VLOOKUP($A33,FILTRO!$A27:$AY652,4,FALSE),0)","v":28},{"$f":"IFERROR(VLOOKUP($A33,FILTRO!$A27:$AY652,5,FALSE),0)","v":51},{"$f":"IFERROR(VLOOKUP($A33,FILTRO!$A27:$AY652,6,FALSE),0)","v":31},{"$f":"IFERROR(VLOOKUP($A33,FILTRO!$A27:$AY652,7,FALSE),0)","v":20},{"$f":"IFERROR(VLOOKUP($A33,FILTRO!$A27:$AY652,8,FALSE),0)","v":22},{"$f":"IFERROR(VLOOKUP($A33,FILTRO!$A27:$AY652,9,FALSE),0)","v":14},{"$f":"IFERROR(VLOOKUP($A33,FILTRO!$A27:$AY652,10,FALSE),0)","v":8},{"$f":"IFERROR(VLOOKUP($A33,FILTRO!$A27:$AY652,11,FALSE),0)","v":7},{"$f":"IFERROR(VLOOKUP($A33,FILTRO!$A27:$AY652,12,FALSE),0)","v":3},{"$f":"IFERROR(VLOOKUP($A33,FILTRO!$A27:$AY652,13,FALSE),0)","v":4},{"$f":"IFERROR(VLOOKUP($A33,FILTRO!$A27:$AY652,14,FALSE),0)","v":1},{"$f":"IFERROR(VLOOKUP($A33,FILTRO!$A27:$AY652,15,FALSE),0)","v":1},{"$f":"IFERROR(VLOOKUP($A33,FILTRO!$A27:$AY652,16,FALSE),0)","v":0},"",{"$nulls":18},"","","","",{"$nulls":7},0,0,0,0]
["P9100270",null,"SOBREPESO / RIESGO OBESIDAD",{"$f":"IFERROR(VLOOKUP($A34,FILTRO!$A28:$AY653,2,FALSE),0)","v":2077},{"$f":"IFERROR(VLOOKUP($A34,FILTRO!$A28:$AY653,3,FALSE),0)","v":814},{"$f":"IFERROR(VLOOKUP($A34,FILTRO!$A28:$AY653,4,FALSE),0)","v":1263},{"$f":"IFERROR(VLOOKUP($A34,FILTRO!$A28:$AY653,5,FALSE),0)","v":1578},{"$f":"IFERROR(VLOOKUP($A34,FILTRO!$A28:$AY653,6,FALSE),0)","v":659},{"$f":"IFERROR(VLOOKUP($A34,FILTRO!$A28:$AY653,7,FALSE),0)","v":919},{"$f":"IFERROR(VLOOKUP($A34,FILTRO!$A28:$AY653,8,FALSE),0)","v":499},{"$f":"IFERROR(VLOOKUP($A34,FILTRO!$A28:$AY653,9,FALSE),0)","v":155},{"$f":"IFERROR(VLOOKUP($A34,FILTRO!$A28:$AY653,10,FALSE),0)","v":344},{"$f":"IFERROR(VLOOKUP($A34,FILTRO!$A28:$AY653,11,FALSE),0)","v":132},{"$f":"IFERROR(VLOOKUP($A34,FILTRO!$A28:$AY653,12,FALSE),0)","v":52},{"$f":"IFERROR(VLOOKUP($A34,FILTRO!$A28:$AY653,13,FALSE),0)","v":80},{"$f":"IFERROR(VLOOKUP($A34,FILTRO!$A28:$AY653,14,FALSE),0)","v":67},{"$f":"IFERROR(VLOOKUP($A34,FILTRO!$A28:$AY653,15,FALSE),0)","v":30},{"$f":"IFERROR(VLOOKUP($A34,FILTRO!$A28:$AY653,16,FALSE),0)","v":37},"",{"$nulls":18},"","","","",{"$nulls":7},0,0,0,0]
["P9100280",null,"OBESO",{"$f":"IFERROR(VLOOKUP($A35,FILTRO!$A29:$AY654,2,FALSE),0)","v":1603},{"$f":"IFERROR(VLOOKUP($A35,FILTRO!$A29:$AY654,3,FALSE),0)","v":748},{"$f":"IFERROR(VLOOKUP($A35,FILTRO!$A29:$AY654,4,FALSE),0)","v":855},{"$f":"IFERROR(VLOOKUP($A35,FILTRO!$A29:$AY654,5,FALSE),0)","v":1221},{"$f":"IFERROR(VLOOKUP($A35,FILTRO!$A29:$AY654,6,FALSE),0)","v":618},{"$f":"IFERROR(VLOOKUP($A35,FILTRO!$A29:$AY654,7,FALSE),0)","v":603},{"$f":"IFERROR(VLOOKUP($A35,FILTRO!$A29:$AY654,8,FALSE),0)","v":382},{"$f":"IFERROR(VLOOKUP($A35,FILTRO!$A29:$AY654,9,FALSE),0)","v":130},{"$f":"IFERROR(VLOOKUP($A35,FILTRO!$A29:$AY654,10,FALSE),0)","v":252},{"$f":"IFERROR(VLOOKUP($A35,FILTRO!$A29:$AY654,11,FALSE),0)","v":108},{"$f":"IFERROR(VLOOKUP($A35,FILTRO!$A29:$AY654,12,FALSE),0)","v":38},{"$f":"IFERROR(VLOOKUP($A35,FILTRO!$A29:$AY654,13,FALSE),0)","v":70},{"$f":"IFERROR(VLOOKUP($A35,FILTRO!$A29:$AY654,14,FALSE),0)","v":25},{"$f":"IFERROR(VLOOKUP($A35,FILTRO!$A29:$AY654,15,FALSE),0)","v":8},{"$f":"IFERROR(VLOOKUP($A35,FILTRO!$A29:$AY654,16,FALSE),0)","v":17},"",{"$nulls":18},"","","","",{"$nulls":7},0,0,0,0]
["P9100290",null,"OBESO SEVERO",{"$f":"IFERROR(VLOOKUP($A36,FILTRO!$A30:$AY655,2,FALSE),0)","v":339},{"$f":"IFERROR(VLOOKUP($A36,FILTRO!$A30:$AY655,3,FALSE),0)","v":188},{"$f":"IFERROR(VLOOKUP($A36,FILTRO!$A30:$AY655,4,FALSE),0)","v":151},{"$f":"IFERROR(VLOOKUP($A36,FILTRO!$A30:$AY655,5,FALSE),0)","v":247},{"$f":"IFERROR(VLOOKUP($A36,FILTRO!$A30:$AY655,6,FALSE),0)","v":152},{"$f":"IFERROR(VLOOKUP($A36,FILTRO!$A30:$AY655,7,FALSE),0)","v":95},{"$f":"IFERROR(VLOOKUP($A36,FILTRO!$A30:$AY655,8,FALSE),0)","v":92},{"$f":"IFERROR(VLOOKUP($A36,FILTRO!$A30:$AY655,9,FALSE),0)","v":36},{"$f":"IFERROR(VLOOKUP($A36,FILTRO!$A30:$AY655,10,FALSE),0)","v":56},{"$f":"IFERROR(VLOOKUP($A36,FILTRO!$A30:$AY655,11,FALSE),0)","v":28},{"$f":"IFERROR(VLOOKUP($A36,FILTRO!$A30:$AY655,12,FALSE),0)","v":15},{"$f":"IFERROR(VLOOKUP($A36,FILTRO!$A30:$AY655,13,FALSE),0)","v":13},{"$f":"IFERROR(VLOOKUP($A36,FILTRO!$A30:$AY655,14,FALSE),0)","v":4},{"$f":"IFERROR(VLOOKUP($A36,FILTRO!$A30:$AY655,15,FALSE),0)","v":1},{"$f":"IFERROR(VLOOKUP($A36,FILTRO!$A30:$AY655,16,FALSE),0)","v":3},"",{"$nulls":18},"","","","",{"$nulls":7},0,0,0,0]
["P9100300",null,"NORMAL O EUTROFIA",{"$f":"IFERROR(VLOOKUP($A37,FILTRO!$A31:$AY656,2,FALSE),0)","v":3226},{"$f":"IFERROR(VLOOKUP($A37,FILTRO!$A31:$AY656,3,FALSE),0)","v":1381},{"$f":"IFERROR(VLOOKUP($A37,FILTRO!$A31:$AY656,4,FALSE),0)","v":1845},{"$f":"IFERROR(VLOOKUP($A37,FILTRO!$A31:$AY656,5,FALSE),0)","v":2415},{"$f":"IFERROR(VLOOKUP($A37,FILTRO!$A31:$AY656,6,FALSE),0)","v":1066},{"$f":"IFERROR(VLOOKUP($A37,FILTRO!$A31:$AY656,7,FALSE),0)","v":1349},{"$f":"IFERROR(VLOOKUP($A37,FILTRO!$A31:$AY656,8,FALSE),0)","v":811},{"$f":"IFERROR(VLOOKUP($A37,FILTRO!$A31:$AY656,9,FALSE),0)","v":315},{"$f":"IFERROR(VLOOKUP($A37,FILTRO!$A31:$AY656,10,FALSE),0)","v":496},{"$f":"IFERROR(VLOOKUP($A37,FILTRO!$A31:$AY656,11,FALSE),0)","v":185},{"$f":"IFERROR(VLOOKUP($A37,FILTRO!$A31:$AY656,12,FALSE),0)","v":74},{"$f":"IFERROR(VLOOKUP($A37,FILTRO!$A31:$AY656,13,FALSE),0)","v":111},{"$f":"IFERROR(VLOOKUP($A37,FILTRO!$A31:$AY656,14,FALSE),0)","v":148},{"$f":"IFERROR(VLOOKUP($A37,FILTRO!$A31:$AY656,15,FALSE),0)","v":62},{"$f":"IFERROR(VLOOKUP($A37,FILTRO!$A31:$AY656,16,FALSE),0)","v":86},"",{"$nulls":18},"","","","",{"$nulls":7},0,0,0,0]
[null,null,"SUBTOTAL",{"$f":"SUM(D32:D37)","v":7726},{"$f":"SUM(E32:E37)","v":3390},4336,5795,2670,3125,1931,720,1211,483,196,287,258,108,150]
["P9100310",null,"DESNUTRICIÓN \nSECUNDARIA",{"$f":"SUM(D32:D37)","v":7726},{"$f":"SUM(E32:E37)","v":3390},4336,5795,2670,3125,1931,720,1211,483,196,287,258,108,150,{"$f":"AL39 & AM39 & AN39 & AO39","v":""},{"$nulls":18},{"$f":"IF($D39<$M39, \"* El Total de 'Adolescentes de Pueblos Originarios' debe ser menor o igual al Total Adolecentes 'Ambos sexos'. \", \"\")","v":""},{"$f":"IF($D39<$P39, \"* El total de 'Adolescentes de Migrantes' debe ser menor o igual al Total Adolecentes 'Ambos sexos'. \", \"\")","v":""},{"$f":"IF(AND(E39<>0,N39=\"\"),\"* No olvide escribir en la celda de 'Pueblos Originarios' (Digite CERO si no tiene). \",IF(AND(F39<>0,O39=\"\"),\"* No olvide escribir en la celda de 'Pueblos Originarios' (Digite CERO si no tiene). \",\"\"))","v":""},{"$f":"IF(AND(E39<>0,Q39=\"\"),\"* No olvide escribir en la celda de 'Población Migrantes' (Digite CERO si no tiene). \",IF(AND(F39<>0,R39=\"\"),\"* No olvide escribir en la celda de 'Población Migrantes' (Digite CERO si no tiene). \",\"\"))","v":""},{"$nulls":7},0,0,{"$f":"IF(AND(E39<>0,N39=\"\"),1,IF(AND(F39<>0,O39=\"\"),1,0))","v":0},{"$f":"IF(AND(E39<>0,Q39=\"\"),1,IF(AND(F39<>0,R39=\"\"),1,0))","v":0}]
[null,null,"T O T A L",{"$f":"SUM(D32:D37)+D39","v":15452},{"$f":"SUM(E32:E37)+E39","v":6780},8672,11590,{"$f":"SUM(H32:H37)+H39","v":5340},6250,3862,{"$f":"SUM(K32:K37)+K39","v":1440},2422,966,392,574,516,216,300]
[null,"SECCION B: POBLACIÓN EN CONTROL SALUD INTEGRAL DE ADOLESCENTES, SEGÚN EDUCACIÓN Y TRABAJO"]
[null,"Estudio/trabajo",null,"TOTAL",null,null,"Adolescentes 10-14 años",null,null,"Adolescentes 15 - 19 años",null,null," Pueblos Originarios",null,null," Migrantes"]
[]
[]
[{"$nulls":3},"Ambos sexos","Hombre","Mujer","Ambos sexos","Hombre","Mujer","Ambos sexos","Hombre","Mujer","Ambos sexos","Hombre","Mujer","Ambos sexos","Hombre","Mujer"]
["P9100320","ESTUDIA",null,{"$f":"IFERROR(VLOOKUP($A46,FILTRO!$A40:$AY665,2,FALSE),0)","v":7707},{"$f":"IFERROR(VLOOKUP($A46,FILTRO!$A40:$AY665,3,FALSE),0)","v":3400},{"$f":"IFERROR(VLOOKUP($A46,FILTRO!$A40:$AY665,4,FALSE),0)","v":4307},{"$f":"IFERROR(VLOOKUP($A46,FILTRO!$A40:$AY665,5,FALSE),0)","v":5797},{"$f":"IFERROR(VLOOKUP($A46,FILTRO!$A40:$AY665,6,FALSE),0)","v":2682},{"$f":"IFERROR(VLOOKUP($A46,FILTRO!$A40:$AY665,7,FALSE),0)","v":3115},{"$f":"IFERROR(VLOOKUP($A46,FILTRO!$A40:$AY665,8,FALSE),0)","v":1910},{"$f":"IFERROR(VLOOKUP($A46,FILTRO!$A40:$AY665,9,FALSE),0)","v":718},{"$f":"IFERROR(VLOOKUP($A46,FILTRO!$A40:$AY665,10,FALSE),0)","v":1192},{"$f":"IFERROR(VLOOKUP($A46,FILTRO!$A40:$AY665,11,FALSE),0)","v":468},{"$f":"IFERROR(VLOOKUP($A46,FILTRO!$A40:$AY665,12,FALSE),0)","v":183},{"$f":"IFERROR(VLOOKUP($A46,FILTRO!$A40:$AY665,13,FALSE),0)","v":285},{"$f":"IFERROR(VLOOKUP($A46,FILTRO!$A40:$AY665,14,FALSE),0)","v":265},{"$f":"IFERROR(VLOOKUP($A46,FILTRO!$A40:$AY665,15,FALSE),0)","v":106},{"$f":"IFERROR(VLOOKUP($A46,FILTRO!$A40:$AY665,16,FALSE),0)","v":159},{"$f":"AK46 & \" \" & AL46 & AM46 & AN46 & AO46","v":" "},{"$nulls":17},{"$f":"IF($D$12<$D46, \"* El total de Adolescentes según educacion y trabajono puede ser mayor al total de Adolescentes en control. \", \"\")","v":""},{"$f":"IF($D46<$M46, \"* El total de Adolescentes de Pueblos Originarios no puede ser mayor al total de Adolescentes. \", \"\")","v":""},{"$f":"IF($D46<$P46, \"* El total de Adolescentes de Migrantes no puede ser mayor al total de Adolescentes. \", \"\")","v":""},{"$f":"IF(AND(E46<>0,N46=\"\"),\"* No olvide escribir en la celda de Pueblos Originarios (Digite CERO si no tiene). \",IF(AND(F46<>0,O46=\"\"),\"* No olvide escribir en la celda de Pueblos Originarios (Digite CERO si no tiene). \",\"\"))","v":""},{"$f":"IF(AND(E46<>0,Q46=\"\"),\"* No olvide escribir en la celda de Población Migrantes (Digite CERO si no tiene). \",IF(AND(F46<>0,R46=\"\"),\"* No olvide escribir en la celda de Población Migrantes (Digite CERO si no tiene). \",\"\"))","v":""},{"$nulls":6},{"$f":"IF($D$12<$D46, 1,0)","v":0},{"$f":"IF($D46<$M46, 1,0)","v":0},{"$f":"IF($D46<$P46, 1,0)","v":0},{"$f":"IF(AND(E46<>0,N46=\"\"),1,IF(AND(F46<>0,O46=\"\"),1,0))","v":0},{"$f":"IF(AND(E46<>0,Q46=\"\"),1,IF(AND(F46<>0,R46=\"\"),1,0))","v":0}]
["P9100330","DESERCIÓN ESCOLAR",null,{"$f":"IFERROR(VLOOKUP($A47,FILTRO!$A41:$AY666,2,FALSE),0)","v":67},{"$f":"IFERROR(VLOOKUP($A47,FILTRO!$A41:$AY666,3,FALSE),0)","v":33},{"$f":"IFERROR(VLOOKUP($A47,FILTRO!$A41:$AY666,4,FALSE),0)","v":34},{"$f":"IFERROR(VLOOKUP($A47,FILTRO!$A41:$AY666,5,FALSE),0)","v":24},{"$f":"IFERROR(VLOOKUP($A47,FILTRO!$A41:$AY666,6,FALSE),0)","v":14},{"$f":"IFERROR(VLOOKUP($A47,FILTRO!$A41:$AY666,7,FALSE),0)","v":10},{"$f":"IFERROR(VLOOKUP($A47,FILTRO!$A41:$AY666,8,FALSE),0)","v":43},{"$f":"IFERROR(VLOOKUP($A47,FILTRO!$A41:$AY666,9,FALSE),0)","v":19},{"$f":"IFERROR(VLOOKUP($A47,FILTRO!$A41:$AY666,10,FALSE),0)","v":24},{"$f":"IFERROR(VLOOKUP($A47,FILTRO!$A41:$AY666,11,FALSE),0)","v":8},{"$f":"IFERROR(VLOOKUP($A47,FILTRO!$A41:$AY666,12,FALSE),0)","v":6},{"$f":"IFERROR(VLOOKUP($A47,FILTRO!$A41:$AY666,13,FALSE),0)","v":2},{"$f":"IFERROR(VLOOKUP($A47,FILTRO!$A41:$AY666,14,FALSE),0)","v":5},{"$f":"IFERROR(VLOOKUP($A47,FILTRO!$A41:$AY666,15,FALSE),0)","v":2},{"$f":"IFERROR(VLOOKUP($A47,FILTRO!$A41:$AY666,16,FALSE),0)","v":3}," ",{"$nulls":17},{"$f":"IF($D$12<$D47, \"* El total de Adolescentes según educacion y trabajo no puede ser mayor al total de Adolescentes en control. \", \"\")","v":""},"","","","",{"$nulls":6},{"$f":"IF($D$12<$D47, 1,0)","v":0},0,0,0,0]
["P9100340","TRABAJO INFANTIL",null,{"$f":"IFERROR(VLOOKUP($A48,FILTRO!$A42:$AY667,2,FALSE),0)","v":7},{"$f":"IFERROR(VLOOKUP($A48,FILTRO!$A42:$AY667,3,FALSE),0)","v":5},{"$f":"IFERROR(VLOOKUP($A48,FILTRO!$A42:$AY667,4,FALSE),0)","v":2},{"$f":"IFERROR(VLOOKUP($A48,FILTRO!$A42:$AY667,5,FALSE),0)","v":7},{"$f":"IFERROR(VLOOKUP($A48,FILTRO!$A42:$AY667,6,FALSE),0)","v":5},{"$f":"IFERROR(VLOOKUP($A48,FILTRO!$A42:$AY667,7,FALSE),0)","v":2},{"$f":"IFERROR(VLOOKUP($A48,FILTRO!$A42:$AY667,8,FALSE),0)","v":0},{"$f":"IFERROR(VLOOKUP($A48,FILTRO!$A42:$AY667,9,FALSE),0)","v":0},{"$f":"IFERROR(VLOOKUP($A48,FILTRO!$A42:$AY667,10,FALSE),0)","v":0},{"$f":"IFERROR(VLOOKUP($A48,FILTRO!$A42:$AY667,11,FALSE),0)","v":1},{"$f":"IFERROR(VLOOKUP($A48,FILTRO!$A42:$AY667,12,FALSE),0)","v":1},{"$f":"IFERROR(VLOOKUP($A48,FILTRO!$A42:$AY667,13,FALSE),0)","v":0},{"$f":"IFERROR(VLOOKUP($A48,FILTRO!$A42:$AY667,14,FALSE),0)","v":1},{"$f":"IFERROR(VLOOKUP($A48,FILTRO!$A42:$AY667,15,FALSE),0)","v":1},{"$f":"IFERROR(VLOOKUP($A48,FILTRO!$A42:$AY667,16,FALSE),0)","v":0}," ",{"$nulls":17},{"$f":"IF($D$12<$D48, \"* El total de Adolescentes según educacion y trabajo no puede ser mayor al total de Adolescentes en control. \", \"\")","v":""},"","","","",{"$nulls":6},0,0,0,0,0]
["P9100350","TRABAJO JUVENIL",null,{"$f":"IFERROR(VLOOKUP($A49,FILTRO!$A43:$AY668,2,FALSE),0)","v":105},{"$f":"IFERROR(VLOOKUP($A49,FILTRO!$A43:$AY668,3,FALSE),0)","v":53},{"$f":"IFERROR(VLOOKUP($A49,FILTRO!$A43:$AY668,4,FALSE),0)","v":52},{"$f":"IFERROR(VLOOKUP($A49,FILTRO!$A43:$AY668,5,FALSE),0)","v":0},{"$f":"IFERROR(VLOOKUP($A49,FILTRO!$A43:$AY668,6,FALSE),0)","v":0},{"$f":"IFERROR(VLOOKUP($A49,FILTRO!$A43:$AY668,7,FALSE),0)","v":0},{"$f":"IFERROR(VLOOKUP($A49,FILTRO!$A43:$AY668,8,FALSE),0)","v":105},{"$f":"IFERROR(VLOOKUP($A49,FILTRO!$A43:$AY668,9,FALSE),0)","v":53},{"$f":"IFERROR(VLOOKUP($A49,FILTRO!$A43:$AY668,10,FALSE),0)","v":52},{"$f":"IFERROR(VLOOKUP($A49,FILTRO!$A43:$AY668,11,FALSE),0)","v":8},{"$f":"IFERROR(VLOOKUP($A49,FILTRO!$A43:$AY668,12,FALSE),0)","v":5},{"$f":"IFERROR(VLOOKUP($A49,FILTRO!$A43:$AY668,13,FALSE),0)","v":3},{"$f":"IFERROR(VLOOKUP($A49,FILTRO!$A43:$AY668,14,FALSE),0)","v":2},{"$f":"IFERROR(VLOOKUP($A49,FILTRO!$A43:$AY668,15,FALSE),0)","v":0},{"$f":"IFERROR(VLOOKUP($A49,FILTRO!$A43:$AY668,16,FALSE),0)","v":2}," ",{"$nulls":17},{"$f":"IF($D$12<$D49, \"* El total de Adolescentes según educacion y trabajo no puede ser mayor al total de Adolescentes en control. \", \"\")","v":""},"","","","",{"$nulls":6},0,0,0,0,0]
["P9100360","PEORES FORMAS DE TRABAJO INFANTIL",null,{"$f":"IFERROR(VLOOKUP($A50,FILTRO!$A44:$AY669,2,FALSE),0)","v":1},{"$f":"IFERROR(VLOOKUP($A50,FILTRO!$A44:$AY669,3,FALSE),0)","v":1},{"$f":"IFERROR(VLOOKUP($A50,FILTRO!$A44:$AY669,4,FALSE),0)","v":0},{"$f":"IFERROR(VLOOKUP($A50,FILTRO!$A44:$AY669,5,FALSE),0)","v":1},{"$f":"IFERROR(VLOOKUP($A50,FILTRO!$A44:$AY669,6,FALSE),0)","v":1},{"$f":"IFERROR(VLOOKUP($A50,FILTRO!$A44:$AY669,7,FALSE),0)","v":0},{"$f":"IFERROR(VLOOKUP($A50,FILTRO!$A44:$AY669,8,FALSE),0)","v":0},{"$f":"IFERROR(VLOOKUP($A50,FILTRO!$A44:$AY669,9,FALSE),0)","v":0},{"$f":"IFERROR(VLOOKUP($A50,FILTRO!$A44:$AY669,10,FALSE),0)","v":0},{"$f":"IFERROR(VLOOKUP($A50,FILTRO!$A44:$AY669,11,FALSE),0)","v":0},{"$f":"IFERROR(VLOOKUP($A50,FILTRO!$A44:$AY669,12,FALSE),0)","v":0},{"$f":"IFERROR(VLOOKUP($A50,FILTRO!$A44:$AY669,13,FALSE),0)","v":0},{"$f":"IFERROR(VLOOKUP($A50,FILTRO!$A44:$AY669,14,FALSE),0)","v":0},{"$f":"IFERROR(VLOOKUP($A50,FILTRO!$A44:$AY669,15,FALSE),0)","v":0},{"$f":"IFERROR(VLOOKUP($A50,FILTRO!$A44:$AY669,16,FALSE),0)","v":0}," ",{"$nulls":17},{"$f":"IF($D$12<$D50, \"* El total de Adolescentes según educacion y trabajo no puede ser mayor al total de Adolescentes en control. \", \"\")","v":""},"","","","",{"$nulls":6},0,0,0,0,0]
["P9100370","SERVICIO DOMESTICO NO REMUNERADO PELIGROSO",null,{"$f":"IFERROR(VLOOKUP($A51,FILTRO!$A45:$AY670,2,FALSE),0)","v":0},{"$f":"IFERROR(VLOOKUP($A51,FILTRO!$A45:$AY670,3,FALSE),0)","v":0},{"$f":"IFERROR(VLOOKUP($A51,FILTRO!$A45:$AY670,4,FALSE),0)","v":0},{"$f":"IFERROR(VLOOKUP($A51,FILTRO!$A45:$AY670,5,FALSE),0)","v":0},{"$f":"IFERROR(VLOOKUP($A51,FILTRO!$A45:$AY670,6,FALSE),0)","v":0},{"$f":"IFERROR(VLOOKUP($A51,FILTRO!$A45:$AY670,7,FALSE),0)","v":0},{"$f":"IFERROR(VLOOKUP($A51,FILTRO!$A45:$AY670,8,FALSE),0)","v":0},{"$f":"IFERROR(VLOOKUP($A51,FILTRO!$A45:$AY670,9,FALSE),0)","v":0},{"$f":"IFERROR(VLOOKUP($A51,FILTRO!$A45:$AY670,10,FALSE),0)","v":0},{"$f":"IFERROR(VLOOKUP($A51,FILTRO!$A45:$AY670,11,FALSE),0)","v":0},{"$f":"IFERROR(VLOOKUP($A51,FILTRO!$A45:$AY670,12,FALSE),0)","v":0},{"$f":"IFERROR(VLOOKUP($A51,FILTRO!$A45:$AY670,13,FALSE),0)","v":0},{"$f":"IFERROR(VLOOKUP($A51,FILTRO!$A45:$AY670,14,FALSE),0)","v":0},{"$f":"IFERROR(VLOOKUP($A51,FILTRO!$A45:$AY670,15,FALSE),0)","v":0},{"$f":"IFERROR(VLOOKUP($A51,FILTRO!$A45:$AY670,16,FALSE),0)","v":0}," ",{"$nulls":17},{"$f":"IF($D$12<$D51, \"* El total de Adolescentes según educacion y trabajo no puede ser mayor al total de Adolescentes en control. \", \"\")","v":""},"","","","",{"$nulls":6},0,0,0,0,0]
[null,"SECCION C: POBLACIÓN EN CONTROL SALUD INTEGRAL DE ADOLESCENTES, SEGÚN ÁREAS DE RIESGO"]
[null,"Áreas de Riesgo",null,"TOTAL",null,null,"Adolescentes 10-14 años",null,null,"Adolescentes 15 - 19 años",null,null,"Pueblos Originarios",null,null,"Migrantes"]
[]
[]
[{"$nulls":3},"Ambos sexos","Hombre","Mujer","Ambos sexos","Hombre","Mujer","Ambos sexos","Hombre","Mujer","Ambos sexos","Hombre","Mujer","Ambos sexos","Hombre","Mujer"]
["P9100710","RIESGO SSR",null,{"$f":"IFERROR(VLOOKUP($A57,FILTRO!$A51:$AY676,2,FALSE),0)","v":656},{"$f":"IFERROR(VLOOKUP($A57,FILTRO!$A51:$AY676,3,FALSE),0)","v":192},{"$f":"IFERROR(VLOOKUP($A57,FILTRO!$A51:$AY676,4,FALSE),0)","v":464},{"$f":"IFERROR(VLOOKUP($A57,FILTRO!$A51:$AY676,5,FALSE),0)","v":225},{"$f":"IFERROR(VLOOKUP($A57,FILTRO!$A51:$AY676,6,FALSE),0)","v":57},{"$f":"IFERROR(VLOOKUP($A57,FILTRO!$A51:$AY676,7,FALSE),0)","v":168},{"$f":"IFERROR(VLOOKUP($A57,FILTRO!$A51:$AY676,8,FALSE),0)","v":431},{"$f":"IFERROR(VLOOKUP($A57,FILTRO!$A51:$AY676,9,FALSE),0)","v":135},{"$f":"IFERROR(VLOOKUP($A57,FILTRO!$A51:$AY676,10,FALSE),0)","v":296},{"$f":"IFERROR(VLOOKUP($A57,FILTRO!$A51:$AY676,11,FALSE),0)","v":35},{"$f":"IFERROR(VLOOKUP($A57,FILTRO!$A51:$AY676,12,FALSE),0)","v":5},{"$f":"IFERROR(VLOOKUP($A57,FILTRO!$A51:$AY676,13,FALSE),0)","v":30},{"$f":"IFERROR(VLOOKUP($A57,FILTRO!$A51:$AY676,14,FALSE),0)","v":12},{"$f":"IFERROR(VLOOKUP($A57,FILTRO!$A51:$AY676,15,FALSE),0)","v":2},{"$f":"IFERROR(VLOOKUP($A57,FILTRO!$A51:$AY676,16,FALSE),0)","v":10}]
["P9100711","RIESGO SUICIDA",null,{"$f":"IFERROR(VLOOKUP($A58,FILTRO!$A52:$AY677,2,FALSE),0)","v":432},{"$f":"IFERROR(VLOOKUP($A58,FILTRO!$A52:$AY677,3,FALSE),0)","v":87},{"$f":"IFERROR(VLOOKUP($A58,FILTRO!$A52:$AY677,4,FALSE),0)","v":345},{"$f":"IFERROR(VLOOKUP($A58,FILTRO!$A52:$AY677,5,FALSE),0)","v":266},{"$f":"IFERROR(VLOOKUP($A58,FILTRO!$A52:$AY677,6,FALSE),0)","v":48},{"$f":"IFERROR(VLOOKUP($A58,FILTRO!$A52:$AY677,7,FALSE),0)","v":218},{"$f":"IFERROR(VLOOKUP($A58,FILTRO!$A52:$AY677,8,FALSE),0)","v":166},{"$f":"IFERROR(VLOOKUP($A58,FILTRO!$A52:$AY677,9,FALSE),0)","v":39},{"$f":"IFERROR(VLOOKUP($A58,FILTRO!$A52:$AY677,10,FALSE),0)","v":127},{"$f":"IFERROR(VLOOKUP($A58,FILTRO!$A52:$AY677,11,FALSE),0)","v":26},{"$f":"IFERROR(VLOOKUP($A58,FILTRO!$A52:$AY677,12,FALSE),0)","v":4},{"$f":"IFERROR(VLOOKUP($A58,FILTRO!$A52:$AY677,13,FALSE),0)","v":22},{"$f":"IFERROR(VLOOKUP($A58,FILTRO!$A52:$AY677,14,FALSE),0)","v":9},{"$f":"IFERROR(VLOOKUP($A58,FILTRO!$A52:$AY677,15,FALSE),0)","v":1},{"$f":"IFERROR(VLOOKUP($A58,FILTRO!$A52:$AY677,16,FALSE),0)","v":8},{"$f":"AK58 & \" \" & AL58 & AM58 & AN58 & AO58","v":" "},{"$nulls":17},{"$f":"IF($D$12<$D58, \"* El total de Adolescentes según areas de riesgo no puede ser mayor al total de Adolescentes en control. \", \"\")","v":""},{"$f":"IF($D58<$M58, \"* El total de Adolescentes de Pueblos Originarios no puede ser mayor al total de Adolescentes. \", \"\")","v":""},{"$f":"IF($D58<$P58, \"* El total de Adolescentes de Migrantes no puede ser mayor al total de Adolescentes. \", \"\")","v":""},{"$f":"IF(AND(E58<>0,N58=\"\"),\"* No olvide escribir en la celda de Pueblos Originarios (Digite CERO si no tiene). \",IF(AND(F58<>0,O58=\"\"),\"* No olvide escribir en la celda de Pueblos Originarios (Digite CERO si no tiene). \",\"\"))","v":""},{"$f":"IF(AND(E58<>0,Q58=\"\"),\"* No olvide escribir en la celda de Población Migrantes (Digite CERO si no tiene). \",IF(AND(F58<>0,R58=\"\"),\"* No olvide escribir en la celda de Población Migrantes (Digite CERO si no tiene). \",\"\"))","v":""},{"$nulls":6},0,{"$f":"IF($D58<$M58, 1,0)","v":0},{"$f":"IF($D58<$P58, 1,0)","v":0},{"$f":"IF(AND(E58<>0,N58=\"\"),1,IF(AND(F58<>0,O58=\"\"),1,0))","v":0},{"$f":"IF(AND(E58<>0,Q58=\"\"),1,IF(AND(F58<>0,R58=\"\"),1,0))","v":0}]
["P9100712","RIESGO SOCIAL",null,{"$f":"IFERROR(VLOOKUP($A59,FILTRO!$A53:$AY678,2,FALSE),0)","v":125},{"$f":"IFERROR(VLOOKUP($A59,FILTRO!$A53:$AY678,3,FALSE),0)","v":51},{"$f":"IFERROR(VLOOKUP($A59,FILTRO!$A53:$AY678,4,FALSE),0)","v":74},{"$f":"IFERROR(VLOOKUP($A59,FILTRO!$A53:$AY678,5,FALSE),0)","v":72},{"$f":"IFERROR(VLOOKUP($A59,FILTRO!$A53:$AY678,6,FALSE),0)","v":30},{"$f":"IFERROR(VLOOKUP($A59,FILTRO!$A53:$AY678,7,FALSE),0)","v":42},{"$f":"IFERROR(VLOOKUP($A59,FILTRO!$A53:$AY678,8,FALSE),0)","v":53},{"$f":"IFERROR(VLOOKUP($A59,FILTRO!$A53:$AY678,9,FALSE),0)","v":21},{"$f":"IFERROR(VLOOKUP($A59,FILTRO!$A53:$AY678,10,FALSE),0)","v":32},{"$f":"IFERROR(VLOOKUP($A59,FILTRO!$A53:$AY678,11,FALSE),0)","v":14},{"$f":"IFERROR(VLOOKUP($A59,FILTRO!$A53:$AY678,12,FALSE),0)","v":6},{"$f":"IFERROR(VLOOKUP($A59,FILTRO!$A53:$AY678,13,FALSE),0)","v":8},{"$f":"IFERROR(VLOOKUP($A59,FILTRO!$A53:$AY678,14,FALSE),0)","v":5},{"$f":"IFERROR(VLOOKUP($A59,FILTRO!$A53:$AY678,15,FALSE),0)","v":3},{"$f":"IFERROR(VLOOKUP($A59,FILTRO!$A53:$AY678,16,FALSE),0)","v":2}]
["P9100713","RIESGO PSICOEMOCIONAL",null,{"$f":"IFERROR(VLOOKUP($A60,FILTRO!$A54:$AY679,2,FALSE),0)","v":868},{"$f":"IFERROR(VLOOKUP($A60,FILTRO!$A54:$AY679,3,FALSE),0)","v":285},{"$f":"IFERROR(VLOOKUP($A60,FILTRO!$A54:$AY679,4,FALSE),0)","v":583},{"$f":"IFERROR(VLOOKUP($A60,FILTRO!$A54:$AY679,5,FALSE),0)","v":537},{"$f":"IFERROR(VLOOKUP($A60,FILTRO!$A54:$AY679,6,FALSE),0)","v":186},{"$f":"IFERROR(VLOOKUP($A60,FILTRO!$A54:$AY679,7,FALSE),0)","v":351},{"$f":"IFERROR(VLOOKUP($A60,FILTRO!$A54:$AY679,8,FALSE),0)","v":331},{"$f":"IFERROR(VLOOKUP($A60,FILTRO!$A54:$AY679,9,FALSE),0)","v":99},{"$f":"IFERROR(VLOOKUP($A60,FILTRO!$A54:$AY679,10,FALSE),0)","v":232},{"$f":"IFERROR(VLOOKUP($A60,FILTRO!$A54:$AY679,11,FALSE),0)","v":60},{"$f":"IFERROR(VLOOKUP($A60,FILTRO!$A54:$AY679,12,FALSE),0)","v":17},{"$f":"IFERROR(VLOOKUP($A60,FILTRO!$A54:$AY679,13,FALSE),0)","v":43},{"$f":"IFERROR(VLOOKUP($A60,FILTRO!$A54:$AY679,14,FALSE),0)","v":23},{"$f":"IFERROR(VLOOKUP($A60,FILTRO!$A54:$AY679,15,FALSE),0)","v":4},{"$f":"IFERROR(VLOOKUP($A60,FILTRO!$A54:$AY679,16,FALSE),0)","v":19}]
["P9100714","VIOLENCIA",null,{"$f":"IFERROR(VLOOKUP($A61,FILTRO!$A55:$AY680,2,FALSE),0)","v":370},{"$f":"IFERROR(VLOOKUP($A61,FILTRO!$A55:$AY680,3,FALSE),0)","v":139},{"$f":"IFERROR(VLOOKUP($A61,FILTRO!$A55:$AY680,4,FALSE),0)","v":231},{"$f":"IFERROR(VLOOKUP($A61,FILTRO!$A55:$AY680,5,FALSE),0)","v":288},{"$f":"IFERROR(VLOOKUP($A61,FILTRO!$A55:$AY680,6,FALSE),0)","v":124},{"$f":"IFERROR(VLOOKUP($A61,FILTRO!$A55:$AY680,7,FALSE),0)","v":164},{"$f":"IFERROR(VLOOKUP($A61,FILTRO!$A55:$AY680,8,FALSE),0)","v":82},{"$f":"IFERROR(VLOOKUP($A61,FILTRO!$A55:$AY680,9,FALSE),0)","v":15},{"$f":"IFERROR(VLOOKUP($A61,FILTRO!$A55:$AY680,10,FALSE),0)","v":67},{"$f":"IFERROR(VLOOKUP($A61,FILTRO!$A55:$AY680,11,FALSE),0)","v":41},{"$f":"IFERROR(VLOOKUP($A61,FILTRO!$A55:$AY680,12,FALSE),0)","v":15},{"$f":"IFERROR(VLOOKUP($A61,FILTRO!$A55:$AY680,13,FALSE),0)","v":26},{"$f":"IFERROR(VLOOKUP($A61,FILTRO!$A55:$AY680,14,FALSE),0)","v":7},{"$f":"IFERROR(VLOOKUP($A61,FILTRO!$A55:$AY680,15,FALSE),0)","v":1},{"$f":"IFERROR(VLOOKUP($A61,FILTRO!$A55:$AY680,16,FALSE),0)","v":6}]
["P9100715","RIESGO OH/DROGAS",null,{"$f":"IFERROR(VLOOKUP($A62,FILTRO!$A56:$AY681,2,FALSE),0)","v":297},{"$f":"IFERROR(VLOOKUP($A62,FILTRO!$A56:$AY681,3,FALSE),0)","v":112},{"$f":"IFERROR(VLOOKUP($A62,FILTRO!$A56:$AY681,4,FALSE),0)","v":185},{"$f":"IFERROR(VLOOKUP($A62,FILTRO!$A56:$AY681,5,FALSE),0)","v":84},{"$f":"IFERROR(VLOOKUP($A62,FILTRO!$A56:$AY681,6,FALSE),0)","v":31},{"$f":"IFERROR(VLOOKUP($A62,FILTRO!$A56:$AY681,7,FALSE),0)","v":53},{"$f":"IFERROR(VLOOKUP($A62,FILTRO!$A56:$AY681,8,FALSE),0)","v":213},{"$f":"IFERROR(VLOOKUP($A62,FILTRO!$A56:$AY681,9,FALSE),0)","v":81},{"$f":"IFERROR(VLOOKUP($A62,FILTRO!$A56:$AY681,10,FALSE),0)","v":132},{"$f":"IFERROR(VLOOKUP($A62,FILTRO!$A56:$AY681,11,FALSE),0)","v":14},{"$f":"IFERROR(VLOOKUP($A62,FILTRO!$A56:$AY681,12,FALSE),0)","v":0},{"$f":"IFERROR(VLOOKUP($A62,FILTRO!$A56:$AY681,13,FALSE),0)","v":14},{"$f":"IFERROR(VLOOKUP($A62,FILTRO!$A56:$AY681,14,FALSE),0)","v":8},{"$f":"IFERROR(VLOOKUP($A62,FILTRO!$A56:$AY681,15,FALSE),0)","v":3},{"$f":"IFERROR(VLOOKUP($A62,FILTRO!$A56:$AY681,16,FALSE),0)","v":5}]
["P9100716","MALNUTRICION POR DEFICIT",null,{"$f":"IFERROR(VLOOKUP($A63,FILTRO!$A57:$AY682,2,FALSE),0)","v":382},{"$f":"IFERROR(VLOOKUP($A63,FILTRO!$A57:$AY682,3,FALSE),0)","v":203},{"$f":"IFERROR(VLOOKUP($A63,FILTRO!$A57:$AY682,4,FALSE),0)","v":179},{"$f":"IFERROR(VLOOKUP($A63,FILTRO!$A57:$AY682,5,FALSE),0)","v":266},{"$f":"IFERROR(VLOOKUP($A63,FILTRO!$A57:$AY682,6,FALSE),0)","v":138},{"$f":"IFERROR(VLOOKUP($A63,FILTRO!$A57:$AY682,7,FALSE),0)","v":128},{"$f":"IFERROR(VLOOKUP($A63,FILTRO!$A57:$AY682,8,FALSE),0)","v":116},{"$f":"IFERROR(VLOOKUP($A63,FILTRO!$A57:$AY682,9,FALSE),0)","v":65},{"$f":"IFERROR(VLOOKUP($A63,FILTRO!$A57:$AY682,10,FALSE),0)","v":51},{"$f":"IFERROR(VLOOKUP($A63,FILTRO!$A57:$AY682,11,FALSE),0)","v":27},{"$f":"IFERROR(VLOOKUP($A63,FILTRO!$A57:$AY682,12,FALSE),0)","v":14},{"$f":"IFERROR(VLOOKUP($A63,FILTRO!$A57:$AY682,13,FALSE),0)","v":13},{"$f":"IFERROR(VLOOKUP($A63,FILTRO!$A57:$AY682,14,FALSE),0)","v":11},{"$f":"IFERROR(VLOOKUP($A63,FILTRO!$A57:$AY682,15,FALSE),0)","v":6},{"$f":"IFERROR(VLOOKUP($A63,FILTRO!$A57:$AY682,16,FALSE),0)","v":5},{"$f":"AK63 & \" \" & AL63 & AM63 & AN63 & AO63","v":" "},{"$nulls":17},{"$f":"IF($D$12<$D63, \"* El total de Adolescentes según areas de riesgo no puede ser mayor al total de Adolescentes en control. \", \"\")","v":""},{"$f":"IF($D63<$M63, \"* El total de Adolescentes de Pueblos Originarios no puede ser mayor al total de Adolescentes. \", \"\")","v":""},"","","",{"$nulls":6},0,0,0,0,0]
["P9100717","MALNUTRICION POR EXCESO",null,{"$f":"IFERROR(VLOOKUP($A64,FILTRO!$A58:$AY683,2,FALSE),0)","v":3439},{"$f":"IFERROR(VLOOKUP($A64,FILTRO!$A58:$AY683,3,FALSE),0)","v":1482},{"$f":"IFERROR(VLOOKUP($A64,FILTRO!$A58:$AY683,4,FALSE),0)","v":1957},{"$f":"IFERROR(VLOOKUP($A64,FILTRO!$A58:$AY683,5,FALSE),0)","v":2670},{"$f":"IFERROR(VLOOKUP($A64,FILTRO!$A58:$AY683,6,FALSE),0)","v":1222},{"$f":"IFERROR(VLOOKUP($A64,FILTRO!$A58:$AY683,7,FALSE),0)","v":1448},{"$f":"IFERROR(VLOOKUP($A64,FILTRO!$A58:$AY683,8,FALSE),0)","v":769},{"$f":"IFERROR(VLOOKUP($A64,FILTRO!$A58:$AY683,9,FALSE),0)","v":260},{"$f":"IFERROR(VLOOKUP($A64,FILTRO!$A58:$AY683,10,FALSE),0)","v":509},{"$f":"IFERROR(VLOOKUP($A64,FILTRO!$A58:$AY683,11,FALSE),0)","v":228},{"$f":"IFERROR(VLOOKUP($A64,FILTRO!$A58:$AY683,12,FALSE),0)","v":84},{"$f":"IFERROR(VLOOKUP($A64,FILTRO!$A58:$AY683,13,FALSE),0)","v":144},{"$f":"IFERROR(VLOOKUP($A64,FILTRO!$A58:$AY683,14,FALSE),0)","v":87},{"$f":"IFERROR(VLOOKUP($A64,FILTRO!$A58:$AY683,15,FALSE),0)","v":36},{"$f":"IFERROR(VLOOKUP($A64,FILTRO!$A58:$AY683,16,FALSE),0)","v":51}]
["P9100718","RIESGO DESERCIÓN ESCOLAR",null,{"$f":"IFERROR(VLOOKUP($A65,FILTRO!$A59:$AY684,2,FALSE),0)","v":44},{"$f":"IFERROR(VLOOKUP($A65,FILTRO!$A59:$AY684,3,FALSE),0)","v":25},{"$f":"IFERROR(VLOOKUP($A65,FILTRO!$A59:$AY684,4,FALSE),0)","v":19},{"$f":"IFERROR(VLOOKUP($A65,FILTRO!$A59:$AY684,5,FALSE),0)","v":14},{"$f":"IFERROR(VLOOKUP($A65,FILTRO!$A59:$AY684,6,FALSE),0)","v":10},{"$f":"IFERROR(VLOOKUP($A65,FILTRO!$A59:$AY684,7,FALSE),0)","v":4},{"$f":"IFERROR(VLOOKUP($A65,FILTRO!$A59:$AY684,8,FALSE),0)","v":30},{"$f":"IFERROR(VLOOKUP($A65,FILTRO!$A59:$AY684,9,FALSE),0)","v":15},{"$f":"IFERROR(VLOOKUP($A65,FILTRO!$A59:$AY684,10,FALSE),0)","v":15},{"$f":"IFERROR(VLOOKUP($A65,FILTRO!$A59:$AY684,11,FALSE),0)","v":4},{"$f":"IFERROR(VLOOKUP($A65,FILTRO!$A59:$AY684,12,FALSE),0)","v":3},{"$f":"IFERROR(VLOOKUP($A65,FILTRO!$A59:$AY684,13,FALSE),0)","v":1},{"$f":"IFERROR(VLOOKUP($A65,FILTRO!$A59:$AY684,14,FALSE),0)","v":3},{"$f":"IFERROR(VLOOKUP($A65,FILTRO!$A59:$AY684,15,FALSE),0)","v":2},{"$f":"IFERROR(VLOOKUP($A65,FILTRO!$A59:$AY684,16,FALSE),0)","v":1}]
["P9100719","OTRO",null,{"$f":"IFERROR(VLOOKUP($A66,FILTRO!$A60:$AY685,2,FALSE),0)","v":1353},{"$f":"IFERROR(VLOOKUP($A66,FILTRO!$A60:$AY685,3,FALSE),0)","v":600},{"$f":"IFERROR(VLOOKUP($A66,FILTRO!$A60:$AY685,4,FALSE),0)","v":753},{"$f":"IFERROR(VLOOKUP($A66,FILTRO!$A60:$AY685,5,FALSE),0)","v":1003},{"$f":"IFERROR(VLOOKUP($A66,FILTRO!$A60:$AY685,6,FALSE),0)","v":468},{"$f":"IFERROR(VLOOKUP($A66,FILTRO!$A60:$AY685,7,FALSE),0)","v":535},{"$f":"IFERROR(VLOOKUP($A66,FILTRO!$A60:$AY685,8,FALSE),0)","v":350},{"$f":"IFERROR(VLOOKUP($A66,FILTRO!$A60:$AY685,9,FALSE),0)","v":132},{"$f":"IFERROR(VLOOKUP($A66,FILTRO!$A60:$AY685,10,FALSE),0)","v":218},{"$f":"IFERROR(VLOOKUP($A66,FILTRO!$A60:$AY685,11,FALSE),0)","v":75},{"$f":"IFERROR(VLOOKUP($A66,FILTRO!$A60:$AY685,12,FALSE),0)","v":31},{"$f":"IFERROR(VLOOKUP($A66,FILTRO!$A60:$AY685,13,FALSE),0)","v":44},{"$f":"IFERROR(VLOOKUP($A66,FILTRO!$A60:$AY685,14,FALSE),0)","v":46},{"$f":"IFERROR(VLOOKUP($A66,FILTRO!$A60:$AY685,15,FALSE),0)","v":17},{"$f":"IFERROR(VLOOKUP($A66,FILTRO!$A60:$AY685,16,FALSE),0)","v":29}," ",{"$nulls":17},{"$f":"IF($D$12<$D66, \"* El total de Adolescentes según areas de riesgo no puede ser mayor al total de Adolescentes en control. \", \"\")","v":""},"","","","",{"$nulls":6},0,0,0,0,0]
[null,"SECCION D:POBLACIÓN EN CONTROL SALUD INTEGRAL DE ADOLESCENTES, SEGÚN AMBITOS GINECO-UROLOGICO/SEXUALIDAD"]
[null,"Gineco/urologico/sexualidad",null,"TOTAL",null,null,"Adolescentes 10-14 años",null,null,"Adolescentes 15 - 19 años",null,null," Pueblos Originarios",null,null," Migrantes"]
[]
[]
[{"$nulls":3},"Ambos sexos","Hombre","Mujer","Ambos sexos","Hombre","Mujer","Ambos sexos","Hombre","Mujer","Ambos sexos","Hombre","Mujer","Ambos sexos","Hombre","Mujer"]
["P9100440","ADOLESCENTES CON CONDUCTA POSTERGADORA",null,{"$f":"IFERROR(VLOOKUP($A72,FILTRO!$A66:$AY691,2,FALSE),0)","v":6565},{"$f":"IFERROR(VLOOKUP($A72,FILTRO!$A66:$AY691,3,FALSE),0)","v":2940},{"$f":"IFERROR(VLOOKUP($A72,FILTRO!$A66:$AY691,4,FALSE),0)","v":3625},{"$f":"IFERROR(VLOOKUP($A72,FILTRO!$A66:$AY691,5,FALSE),0)","v":5465},{"$f":"IFERROR(VLOOKUP($A72,FILTRO!$A66:$AY691,6,FALSE),0)","v":2527},{"$f":"IFERROR(VLOOKUP($A72,FILTRO!$A66:$AY691,7,FALSE),0)","v":2938},{"$f":"IFERROR(VLOOKUP($A72,FILTRO!$A66:$AY691,8,FALSE),0)","v":1100},{"$f":"IFERROR(VLOOKUP($A72,FILTRO!$A66:$AY691,9,FALSE),0)","v":413},{"$f":"IFERROR(VLOOKUP($A72,FILTRO!$A66:$AY691,10,FALSE),0)","v":687},{"$f":"IFERROR(VLOOKUP($A72,FILTRO!$A66:$AY691,11,FALSE),0)","v":429},{"$f":"IFERROR(VLOOKUP($A72,FILTRO!$A66:$AY691,12,FALSE),0)","v":171},{"$f":"IFERROR(VLOOKUP($A72,FILTRO!$A66:$AY691,13,FALSE),0)","v":258},{"$f":"IFERROR(VLOOKUP($A72,FILTRO!$A66:$AY691,14,FALSE),0)","v":245},{"$f":"IFERROR(VLOOKUP($A72,FILTRO!$A66:$AY691,15,FALSE),0)","v":99},{"$f":"IFERROR(VLOOKUP($A72,FILTRO!$A66:$AY691,16,FALSE),0)","v":146},{"$f":"AK72 & \" \" & AL72 & AM72 & AN72 & AO72","v":" "},{"$nulls":17},{"$f":"IF($D$12<$D72, \"* El total de Adolescentes según ambitos no puede ser mayor al total de Adolescentes en control. \", \"\")","v":""},{"$f":"IF($D72<$M72, \"* El total de Adolescentes de Pueblos Originarios no puede ser mayor al total de Adolescentes. \", \"\")","v":""},{"$f":"IF($D72<$P72, \"* El total de Adolescentes de Migrantes no puede ser mayor al total de Adolescentes. \", \"\")","v":""},{"$f":"IF(AND(E72<>0,N72=\"\"),\"* No olvide escribir en la celda de Pueblos Originarios (Digite CERO si no tiene). \",IF(AND(F72<>0,O72=\"\"),\"* No olvide escribir en la celda de Pueblos Originarios (Digite CERO si no tiene). \",\"\"))","v":""},{"$f":"IF(AND(E72<>0,Q72=\"\"),\"* No olvide escribir en la celda de Población Migrantes (Digite CERO si no tiene). \",IF(AND(F72<>0,R72=\"\"),\"* No olvide escribir en la celda de Población Migrantes (Digite CERO si no tiene). \",\"\"))","v":""},{"$nulls":6},0,{"$f":"IF($D72<$M72, 1,0)","v":0},{"$f":"IF($D72<$P72, 1,0)","v":0},{"$f":"IF(AND(E72<>0,N72=\"\"),1,IF(AND(F72<>0,O72=\"\"),1,0))","v":0},{"$f":"IF(AND(E72<>0,Q72=\"\"),1,IF(AND(F72<>0,R72=\"\"),1,0))","v":0}]
["P9100450","ADOLESCENTES CON CONDUCTA ANTICIPADORA",null,{"$f":"IFERROR(VLOOKUP($A73,FILTRO!$A67:$AY692,2,FALSE),0)","v":217},{"$f":"IFERROR(VLOOKUP($A73,FILTRO!$A67:$AY692,3,FALSE),0)","v":66},{"$f":"IFERROR(VLOOKUP($A73,FILTRO!$A67:$AY692,4,FALSE),0)","v":151},{"$f":"IFERROR(VLOOKUP($A73,FILTRO!$A67:$AY692,5,FALSE),0)","v":73},{"$f":"IFERROR(VLOOKUP($A73,FILTRO!$A67:$AY692,6,FALSE),0)","v":29},{"$f":"IFERROR(VLOOKUP($A73,FILTRO!$A67:$AY692,7,FALSE),0)","v":44},{"$f":"IFERROR(VLOOKUP($A73,FILTRO!$A67:$AY692,8,FALSE),0)","v":144},{"$f":"IFERROR(VLOOKUP($A73,FILTRO!$A67:$AY692,9,FALSE),0)","v":37},{"$f":"IFERROR(VLOOKUP($A73,FILTRO!$A67:$AY692,10,FALSE),0)","v":107},{"$f":"IFERROR(VLOOKUP($A73,FILTRO!$A67:$AY692,11,FALSE),0)","v":6},{"$f":"IFERROR(VLOOKUP($A73,FILTRO!$A67:$AY692,12,FALSE),0)","v":2},{"$f":"IFERROR(VLOOKUP($A73,FILTRO!$A67:$AY692,13,FALSE),0)","v":4},{"$f":"IFERROR(VLOOKUP($A73,FILTRO!$A67:$AY692,14,FALSE),0)","v":7},{"$f":"IFERROR(VLOOKUP($A73,FILTRO!$A67:$AY692,15,FALSE),0)","v":1},{"$f":"IFERROR(VLOOKUP($A73,FILTRO!$A67:$AY692,16,FALSE),0)","v":6}," ",{"$nulls":17},"","","","","",{"$nulls":6},0,0,0,0,0]
["P9100460","ADOLESCENTES CON CONDUCTA ACTIVA",null,{"$f":"IFERROR(VLOOKUP($A74,FILTRO!$A68:$AY693,2,FALSE),0)","v":783},{"$f":"IFERROR(VLOOKUP($A74,FILTRO!$A68:$AY693,3,FALSE),0)","v":266},{"$f":"IFERROR(VLOOKUP($A74,FILTRO!$A68:$AY693,4,FALSE),0)","v":517},{"$f":"IFERROR(VLOOKUP($A74,FILTRO!$A68:$AY693,5,FALSE),0)","v":97},{"$f":"IFERROR(VLOOKUP($A74,FILTRO!$A68:$AY693,6,FALSE),0)","v":25},{"$f":"IFERROR(VLOOKUP($A74,FILTRO!$A68:$AY693,7,FALSE),0)","v":72},{"$f":"IFERROR(VLOOKUP($A74,FILTRO!$A68:$AY693,8,FALSE),0)","v":686},{"$f":"IFERROR(VLOOKUP($A74,FILTRO!$A68:$AY693,9,FALSE),0)","v":241},{"$f":"IFERROR(VLOOKUP($A74,FILTRO!$A68:$AY693,10,FALSE),0)","v":445},{"$f":"IFERROR(VLOOKUP($A74,FILTRO!$A68:$AY693,11,FALSE),0)","v":51},{"$f":"IFERROR(VLOOKUP($A74,FILTRO!$A68:$AY693,12,FALSE),0)","v":24},{"$f":"IFERROR(VLOOKUP($A74,FILTRO!$A68:$AY693,13,FALSE),0)","v":27},{"$f":"IFERROR(VLOOKUP($A74,FILTRO!$A68:$AY693,14,FALSE),0)","v":20},{"$f":"IFERROR(VLOOKUP($A74,FILTRO!$A68:$AY693,15,FALSE),0)","v":4},{"$f":"IFERROR(VLOOKUP($A74,FILTRO!$A68:$AY693,16,FALSE),0)","v":16}," ",{"$nulls":17},"","","","","",{"$nulls":6},0,0,0,0,0]
["P9100470","USO ACTUAL DE METODO ANTICONCEPTIVO",null,{"$f":"IFERROR(VLOOKUP($A75,FILTRO!$A69:$AY694,2,FALSE),0)","v":662},{"$f":"IFERROR(VLOOKUP($A75,FILTRO!$A69:$AY694,3,FALSE),0)","v":148},{"$f":"IFERROR(VLOOKUP($A75,FILTRO!$A69:$AY694,4,FALSE),0)","v":514},{"$f":"IFERROR(VLOOKUP($A75,FILTRO!$A69:$AY694,5,FALSE),0)","v":87},{"$f":"IFERROR(VLOOKUP($A75,FILTRO!$A69:$AY694,6,FALSE),0)","v":13},{"$f":"IFERROR(VLOOKUP($A75,FILTRO!$A69:$AY694,7,FALSE),0)","v":74},{"$f":"IFERROR(VLOOKUP($A75,FILTRO!$A69:$AY694,8,FALSE),0)","v":575},{"$f":"IFERROR(VLOOKUP($A75,FILTRO!$A69:$AY694,9,FALSE),0)","v":135},{"$f":"IFERROR(VLOOKUP($A75,FILTRO!$A69:$AY694,10,FALSE),0)","v":440},{"$f":"IFERROR(VLOOKUP($A75,FILTRO!$A69:$AY694,11,FALSE),0)","v":35},{"$f":"IFERROR(VLOOKUP($A75,FILTRO!$A69:$AY694,12,FALSE),0)","v":11},{"$f":"IFERROR(VLOOKUP($A75,FILTRO!$A69:$AY694,13,FALSE),0)","v":24},{"$f":"IFERROR(VLOOKUP($A75,FILTRO!$A69:$AY694,14,FALSE),0)","v":13},{"$f":"IFERROR(VLOOKUP($A75,FILTRO!$A69:$AY694,15,FALSE),0)","v":2},{"$f":"IFERROR(VLOOKUP($A75,FILTRO!$A69:$AY694,16,FALSE),0)","v":11}," ",{"$nulls":17},"","","","","",{"$nulls":6},0,0,0,0,0]
["P9100480","USO ACTUAL DE DOBLE PROTECCIÓN",null,{"$f":"IFERROR(VLOOKUP($A76,FILTRO!$A70:$AY695,2,FALSE),0)","v":322},{"$f":"IFERROR(VLOOKUP($A76,FILTRO!$A70:$AY695,3,FALSE),0)","v":88},{"$f":"IFERROR(VLOOKUP($A76,FILTRO!$A70:$AY695,4,FALSE),0)","v":234},{"$f":"IFERROR(VLOOKUP($A76,FILTRO!$A70:$AY695,5,FALSE),0)","v":26},{"$f":"IFERROR(VLOOKUP($A76,FILTRO!$A70:$AY695,6,FALSE),0)","v":5},{"$f":"IFERROR(VLOOKUP($A76,FILTRO!$A70:$AY695,7,FALSE),0)","v":21},{"$f":"IFERROR(VLOOKUP($A76,FILTRO!$A70:$AY695,8,FALSE),0)","v":296},{"$f":"IFERROR(VLOOKUP($A76,FILTRO!$A70:$AY695,9,FALSE),0)","v":83},{"$f":"IFERROR(VLOOKUP($A76,FILTRO!$A70:$AY695,10,FALSE),0)","v":213},{"$f":"IFERROR(VLOOKUP($A76,FILTRO!$A70:$AY695,11,FALSE),0)","v":16},{"$f":"IFERROR(VLOOKUP($A76,FILTRO!$A70:$AY695,12,FALSE),0)","v":6},{"$f":"IFERROR(VLOOKUP($A76,FILTRO!$A70:$AY695,13,FALSE),0)","v":10},{"$f":"IFERROR(VLOOKUP($A76,FILTRO!$A70:$AY695,14,FALSE),0)","v":2},{"$f":"IFERROR(VLOOKUP($A76,FILTRO!$A70:$AY695,15,FALSE),0)","v":0},{"$f":"IFERROR(VLOOKUP($A76,FILTRO!$A70:$AY695,16,FALSE),0)","v":2}," ",{"$nulls":17},"","","","","",{"$nulls":6},0,0,0,0,0]
["P9100490","ADOLESCENTE CON ANTECEDENTE DE UN PRIMER EMBARAZO",null,{"$f":"IFERROR(VLOOKUP($A77,FILTRO!$A71:$AY696,2,FALSE),0)","v":28},{"$f":"IFERROR(VLOOKUP($A77,FILTRO!$A71:$AY696,3,FALSE),0)","v":2},{"$f":"IFERROR(VLOOKUP($A77,FILTRO!$A71:$AY696,4,FALSE),0)","v":26},{"$f":"IFERROR(VLOOKUP($A77,FILTRO!$A71:$AY696,5,FALSE),0)","v":0},{"$f":"IFERROR(VLOOKUP($A77,FILTRO!$A71:$AY696,6,FALSE),0)","v":0},{"$f":"IFERROR(VLOOKUP($A77,FILTRO!$A71:$AY696,7,FALSE),0)","v":0},{"$f":"IFERROR(VLOOKUP($A77,FILTRO!$A71:$AY696,8,FALSE),0)","v":28},{"$f":"IFERROR(VLOOKUP($A77,FILTRO!$A71:$AY696,9,FALSE),0)","v":2},{"$f":"IFERROR(VLOOKUP($A77,FILTRO!$A71:$AY696,10,FALSE),0)","v":26},{"$f":"IFERROR(VLOOKUP($A77,FILTRO!$A71:$AY696,11,FALSE),0)","v":0},{"$f":"IFERROR(VLOOKUP($A77,FILTRO!$A71:$AY696,12,FALSE),0)","v":0},{"$f":"IFERROR(VLOOKUP($A77,FILTRO!$A71:$AY696,13,FALSE),0)","v":0},{"$f":"IFERROR(VLOOKUP($A77,FILTRO!$A71:$AY696,14,FALSE),0)","v":2},{"$f":"IFERROR(VLOOKUP($A77,FILTRO!$A71:$AY696,15,FALSE),0)","v":0},{"$f":"IFERROR(VLOOKUP($A77,FILTRO!$A71:$AY696,16,FALSE),0)","v":2}," ",{"$nulls":17},"","","","","",{"$nulls":6},0,0,0,0,0]
["P9100500","ADOLESCENTE CON ANTECEDENTE DE MAS DE UN EMBARAZO",null,{"$f":"IFERROR(VLOOKUP($A78,FILTRO!$A72:$AY697,2,FALSE),0)","v":2},{"$f":"IFERROR(VLOOKUP($A78,FILTRO!$A72:$AY697,3,FALSE),0)","v":0},{"$f":"IFERROR(VLOOKUP($A78,FILTRO!$A72:$AY697,4,FALSE),0)","v":2},{"$f":"IFERROR(VLOOKUP($A78,FILTRO!$A72:$AY697,5,FALSE),0)","v":0},{"$f":"IFERROR(VLOOKUP($A78,FILTRO!$A72:$AY697,6,FALSE),0)","v":0},{"$f":"IFERROR(VLOOKUP($A78,FILTRO!$A72:$AY697,7,FALSE),0)","v":0},{"$f":"IFERROR(VLOOKUP($A78,FILTRO!$A72:$AY697,8,FALSE),0)","v":2},{"$f":"IFERROR(VLOOKUP($A78,FILTRO!$A72:$AY697,9,FALSE),0)","v":0},{"$f":"IFERROR(VLOOKUP($A78,FILTRO!$A72:$AY697,10,FALSE),0)","v":2},{"$f":"IFERROR(VLOOKUP($A78,FILTRO!$A72:$AY697,11,FALSE),0)","v":0},{"$f":"IFERROR(VLOOKUP($A78,FILTRO!$A72:$AY697,12,FALSE),0)","v":0},{"$f":"IFERROR(VLOOKUP($A78,FILTRO!$A72:$AY697,13,FALSE),0)","v":0},{"$f":"IFERROR(VLOOKUP($A78,FILTRO!$A72:$AY697,14,FALSE),0)","v":0},{"$f":"IFERROR(VLOOKUP($A78,FILTRO!$A72:$AY697,15,FALSE),0)","v":0},{"$f":"IFERROR(VLOOKUP($A78,FILTRO!$A72:$AY697,16,FALSE),0)","v":0}]
["P9100510","ADOLESCENTE CON ANTECEDENTE DE ABORTO",null,{"$f":"IFERROR(VLOOKUP($A79,FILTRO!$A73:$AY698,2,FALSE),0)","v":12},{"$f":"IFERROR(VLOOKUP($A79,FILTRO!$A73:$AY698,3,FALSE),0)","v":0},{"$f":"IFERROR(VLOOKUP($A79,FILTRO!$A73:$AY698,4,FALSE),0)","v":12},{"$f":"IFERROR(VLOOKUP($A79,FILTRO!$A73:$AY698,5,FALSE),0)","v":1},{"$f":"IFERROR(VLOOKUP($A79,FILTRO!$A73:$AY698,6,FALSE),0)","v":0},{"$f":"IFERROR(VLOOKUP($A79,FILTRO!$A73:$AY698,7,FALSE),0)","v":1},{"$f":"IFERROR(VLOOKUP($A79,FILTRO!$A73:$AY698,8,FALSE),0)","v":11},{"$f":"IFERROR(VLOOKUP($A79,FILTRO!$A73:$AY698,9,FALSE),0)","v":0},{"$f":"IFERROR(VLOOKUP($A79,FILTRO!$A73:$AY698,10,FALSE),0)","v":11},{"$f":"IFERROR(VLOOKUP($A79,FILTRO!$A73:$AY698,11,FALSE),0)","v":0},{"$f":"IFERROR(VLOOKUP($A79,FILTRO!$A73:$AY698,12,FALSE),0)","v":0},{"$f":"IFERROR(VLOOKUP($A79,FILTRO!$A73:$AY698,13,FALSE),0)","v":0},{"$f":"IFERROR(VLOOKUP($A79,FILTRO!$A73:$AY698,14,FALSE),0)","v":0},{"$f":"IFERROR(VLOOKUP($A79,FILTRO!$A73:$AY698,15,FALSE),0)","v":0},{"$f":"IFERROR(VLOOKUP($A79,FILTRO!$A73:$AY698,16,FALSE),0)","v":0}]
["P9100520","ADOLESCENTE QUE PRESENTA VIOLENCIA DE PAREJA/POLOLO",null,{"$f":"IFERROR(VLOOKUP($A80,FILTRO!$A74:$AY699,2,FALSE),0)","v":10},{"$f":"IFERROR(VLOOKUP($A80,FILTRO!$A74:$AY699,3,FALSE),0)","v":1},{"$f":"IFERROR(VLOOKUP($A80,FILTRO!$A74:$AY699,4,FALSE),0)","v":9},{"$f":"IFERROR(VLOOKUP($A80,FILTRO!$A74:$AY699,5,FALSE),0)","v":1},{"$f":"IFERROR(VLOOKUP($A80,FILTRO!$A74:$AY699,6,FALSE),0)","v":0},{"$f":"IFERROR(VLOOKUP($A80,FILTRO!$A74:$AY699,7,FALSE),0)","v":1},{"$f":"IFERROR(VLOOKUP($A80,FILTRO!$A74:$AY699,8,FALSE),0)","v":9},{"$f":"IFERROR(VLOOKUP($A80,FILTRO!$A74:$AY699,9,FALSE),0)","v":1},{"$f":"IFERROR(VLOOKUP($A80,FILTRO!$A74:$AY699,10,FALSE),0)","v":8},{"$f":"IFERROR(VLOOKUP($A80,FILTRO!$A74:$AY699,11,FALSE),0)","v":0},{"$f":"IFERROR(VLOOKUP($A80,FILTRO!$A74:$AY699,12,FALSE),0)","v":0},{"$f":"IFERROR(VLOOKUP($A80,FILTRO!$A74:$AY699,13,FALSE),0)","v":0},{"$f":"IFERROR(VLOOKUP($A80,FILTRO!$A74:$AY699,14,FALSE),0)","v":0},{"$f":"IFERROR(VLOOKUP($A80,FILTRO!$A74:$AY699,15,FALSE),0)","v":0},{"$f":"IFERROR(VLOOKUP($A80,FILTRO!$A74:$AY699,16,FALSE),0)","v":0}," ",{"$nulls":17},"","","","","",{"$nulls":6},0,0,0,0,0]
["P9100530","ADOLESCENTE QUE PRESENTA O HA SIDO VICTIMA DE VIOLENCIA SEXUAL",null,{"$f":"IFERROR(VLOOKUP($A81,FILTRO!$A75:$AY700,2,FALSE),0)","v":84},{"$f":"IFERROR(VLOOKUP($A81,FILTRO!$A75:$AY700,3,FALSE),0)","v":10},{"$f":"IFERROR(VLOOKUP($A81,FILTRO!$A75:$AY700,4,FALSE),0)","v":74},{"$f":"IFERROR(VLOOKUP($A81,FILTRO!$A75:$AY700,5,FALSE),0)","v":42},{"$f":"IFERROR(VLOOKUP($A81,FILTRO!$A75:$AY700,6,FALSE),0)","v":6},{"$f":"IFERROR(VLOOKUP($A81,FILTRO!$A75:$AY700,7,FALSE),0)","v":36},{"$f":"IFERROR(VLOOKUP($A81,FILTRO!$A75:$AY700,8,FALSE),0)","v":42},{"$f":"IFERROR(VLOOKUP($A81,FILTRO!$A75:$AY700,9,FALSE),0)","v":4},{"$f":"IFERROR(VLOOKUP($A81,FILTRO!$A75:$AY700,10,FALSE),0)","v":38},{"$f":"IFERROR(VLOOKUP($A81,FILTRO!$A75:$AY700,11,FALSE),0)","v":3},{"$f":"IFERROR(VLOOKUP($A81,FILTRO!$A75:$AY700,12,FALSE),0)","v":2},{"$f":"IFERROR(VLOOKUP($A81,FILTRO!$A75:$AY700,13,FALSE),0)","v":1},{"$f":"IFERROR(VLOOKUP($A81,FILTRO!$A75:$AY700,14,FALSE),0)","v":3},{"$f":"IFERROR(VLOOKUP($A81,FILTRO!$A75:$AY700,15,FALSE),0)","v":0},{"$f":"IFERROR(VLOOKUP($A81,FILTRO!$A75:$AY700,16,FALSE),0)","v":3}," ",{"$nulls":17},"","","","","",{"$nulls":6},0,0,0,0,0]
[null,"SECCION E:POBLACIÓN ADOLESCENTE QUE RECIBE CONSEJERÍA"]
[null,"ACTIVIDAD Y AREA TEMATICA","Grupos de Edad","Total de Adolescentes que reciben Consejería",null,null," Pueblos Originarios",null,null," Migrantes",null,null,"Espacios Amigables"]
[]
[{"$nulls":3},"Ambos sexos","Hombre","Mujer","Ambos sexos","Hombre","Mujer","Ambos sexos","Hombre","Mujer","Ambos sexos","Hombre","Mujer"]
["P9100570","ACTIVIDAD FÍSICA","10-14 años",{"$f":"IFERROR(VLOOKUP($A86,FILTRO!$A80:$AY705,2,FALSE),0)","v":4493},{"$f":"IFERROR(VLOOKUP($A86,FILTRO!$A80:$AY705,3,FALSE),0)","v":2118},{"$f":"IFERROR(VLOOKUP($A86,FILTRO!$A80:$AY705,4,FALSE),0)","v":2375},{"$f":"IFERROR(VLOOKUP($A86,FILTRO!$A80:$AY705,5,FALSE),0)","v":231},{"$f":"IFERROR(VLOOKUP($A86,FILTRO!$A80:$AY705,6,FALSE),0)","v":99},{"$f":"IFERROR(VLOOKUP($A86,FILTRO!$A80:$AY705,7,FALSE),0)","v":132},{"$f":"IFERROR(VLOOKUP($A86,FILTRO!$A80:$AY705,8,FALSE),0)","v":152},{"$f":"IFERROR(VLOOKUP($A86,FILTRO!$A80:$AY705,9,FALSE),0)","v":72},{"$f":"IFERROR(VLOOKUP($A86,FILTRO!$A80:$AY705,10,FALSE),0)","v":80},{"$f":"IFERROR(VLOOKUP($A86,FILTRO!$A80:$AY705,11,FALSE),0)","v":575},{"$f":"IFERROR(VLOOKUP($A86,FILTRO!$A80:$AY705,12,FALSE),0)","v":255},{"$f":"IFERROR(VLOOKUP($A86,FILTRO!$A80:$AY705,13,FALSE),0)","v":320},{"$f":"AJ86 & AK86 & AL86 & AM86 & AN86 & AO86","v":""},{"$nulls":19},{"$f":"IF($D86<$G86, \"* El total de Adolescentes de Pueblos Originarios no puede ser mayor al total de Adolescentes. \", \"\")","v":""},{"$f":"IF($D86<$J86, \"* El total de Adolescentes de Migrantes no puede ser mayor al total de Adolescentes. \", \"\")","v":""},{"$f":"IF($D86<$M86, \"* El total de Adolescentes de Espacios Amigables no puede ser mayor al total de Adolescentes. \", \"\")","v":""},{"$f":"IF(AND(E86<>0,H86=\"\"),\"* No olvide escribir en la celda de Pueblos Originarios (Digite CERO si no tiene). \",IF(AND(F86<>0,I86=\"\"),\"* No olvide escribir en la celda de Pueblos Originarios (Digite CERO si no tiene). \",\"\"))","v":""},{"$f":"IF(AND(E86<>0,K86=\"\"),\"* No olvide escribir en la celda de Población Migrantes (Digite CERO si no tiene). \",IF(AND(F86<>0,L86=\"\"),\"* No olvide escribir en la celda de Población Migrantes (Digite CERO si no tiene). \",\"\"))","v":""},{"$f":"IF(AND(E86<>0,N86=\"\"),\"* No olvide escribir en la celda de Espacios Amigables (Digite CERO si no tiene). \",IF(AND(F86<>0,O86=\"\"),\"* No olvide escribir en la celda de Espacios Amigables (Digite CERO si no tiene). \",\"\"))","v":""},{"$nulls":5},{"$f":"IF($D86<$G86, 1,0)","v":0},{"$f":"IF($D86<$J86, 1,0)","v":0},{"$f":"IF($D86<$M86, 1,0)","v":0},{"$f":"IF(AND(E86<>0,H86=\"\"),1,IF(AND(F86<>0,I86=\"\"),1,0))","v":0},{"$f":"IF(AND(E86<>0,K86=\"\"),1,IF(AND(F86<>0,L86=\"\"),1,0))","v":0},{"$f":"IF(AND(E86<>0,N86=\"\"),1,IF(AND(F86<>0,O86=\"\"),1,0))","v":0}]
["P9100580",null,"15 - 19 años",{"$f":"IFERROR(VLOOKUP($A87,FILTRO!$A81:$AY706,2,FALSE),0)","v":1461},{"$f":"IFERROR(VLOOKUP($A87,FILTRO!$A81:$AY706,3,FALSE),0)","v":525},{"$f":"IFERROR(VLOOKUP($A87,FILTRO!$A81:$AY706,4,FALSE),0)","v":936},{"$f":"IFERROR(VLOOKUP($A87,FILTRO!$A81:$AY706,5,FALSE),0)","v":77},{"$f":"IFERROR(VLOOKUP($A87,FILTRO!$A81:$AY706,6,FALSE),0)","v":25},{"$f":"IFERROR(VLOOKUP($A87,FILTRO!$A81:$AY706,7,FALSE),0)","v":52},{"$f":"IFERROR(VLOOKUP($A87,FILTRO!$A81:$AY706,8,FALSE),0)","v":50},{"$f":"IFERROR(VLOOKUP($A87,FILTRO!$A81:$AY706,9,FALSE),0)","v":11},{"$f":"IFERROR(VLOOKUP($A87,FILTRO!$A81:$AY706,10,FALSE),0)","v":39},{"$f":"IFERROR(VLOOKUP($A87,FILTRO!$A81:$AY706,11,FALSE),0)","v":237},{"$f":"IFERROR(VLOOKUP($A87,FILTRO!$A81:$AY706,12,FALSE),0)","v":63},{"$f":"IFERROR(VLOOKUP($A87,FILTRO!$A81:$AY706,13,FALSE),0)","v":174},{"$f":"AJ87 & AK87 & AL87 & AM87 & AN87 & AO87","v":""},{"$nulls":19},"","",{"$f":"IF($D87<$M87, \"* El total de Adolescentes de Espacios Amigables no puede ser mayor al total de Adolescentes. \", \"\")","v":""},"","",{"$f":"IF(AND(E87<>0,N87=\"\"),\"* No olvide escribir en la celda de Espacios Amigables (Digite CERO si no tiene). \",IF(AND(F87<>0,O87=\"\"),\"* No olvide escribir en la celda de Espacios Amigables (Digite CERO si no tiene). \",\"\"))","v":""},{"$nulls":5},{"$f":"IF($D87<$G87, 1,0)","v":0},{"$f":"IF($D87<$J87, 1,0)","v":0},{"$f":"IF($D87<$M87, 1,0)","v":0},0,0,{"$f":"IF(AND(E87<>0,N87=\"\"),1,IF(AND(F87<>0,O87=\"\"),1,0))","v":0}]
["P9100590","ALIMENTACION SALUDABLE","10-14 años",{"$f":"IFERROR(VLOOKUP($A88,FILTRO!$A82:$AY707,2,FALSE),0)","v":4204},{"$f":"IFERROR(VLOOKUP($A88,FILTRO!$A82:$AY707,3,FALSE),0)","v":2011},{"$f":"IFERROR(VLOOKUP($A88,FILTRO!$A82:$AY707,4,FALSE),0)","v":2193},{"$f":"IFERROR(VLOOKUP($A88,FILTRO!$A82:$AY707,5,FALSE),0)","v":212},{"$f":"IFERROR(VLOOKUP($A88,FILTRO!$A82:$AY707,6,FALSE),0)","v":91},{"$f":"IFERROR(VLOOKUP($A88,FILTRO!$A82:$AY707,7,FALSE),0)","v":121},{"$f":"IFERROR(VLOOKUP($A88,FILTRO!$A82:$AY707,8,FALSE),0)","v":138},{"$f":"IFERROR(VLOOKUP($A88,FILTRO!$A82:$AY707,9,FALSE),0)","v":57},{"$f":"IFERROR(VLOOKUP($A88,FILTRO!$A82:$AY707,10,FALSE),0)","v":81},{"$f":"IFERROR(VLOOKUP($A88,FILTRO!$A82:$AY707,11,FALSE),0)","v":534},{"$f":"IFERROR(VLOOKUP($A88,FILTRO!$A82:$AY707,12,FALSE),0)","v":247},{"$f":"IFERROR(VLOOKUP($A88,FILTRO!$A82:$AY707,13,FALSE),0)","v":287},"",{"$nulls":19},"","","","","","",{"$nulls":5},0,0,0,0,0,0]
["P9100600",null,"15 - 19 años",{"$f":"IFERROR(VLOOKUP($A89,FILTRO!$A83:$AY708,2,FALSE),0)","v":1273},{"$f":"IFERROR(VLOOKUP($A89,FILTRO!$A83:$AY708,3,FALSE),0)","v":505},{"$f":"IFERROR(VLOOKUP($A89,FILTRO!$A83:$AY708,4,FALSE),0)","v":768},{"$f":"IFERROR(VLOOKUP($A89,FILTRO!$A83:$AY708,5,FALSE),0)","v":75},{"$f":"IFERROR(VLOOKUP($A89,FILTRO!$A83:$AY708,6,FALSE),0)","v":27},{"$f":"IFERROR(VLOOKUP($A89,FILTRO!$A83:$AY708,7,FALSE),0)","v":48},{"$f":"IFERROR(VLOOKUP($A89,FILTRO!$A83:$AY708,8,FALSE),0)","v":48},{"$f":"IFERROR(VLOOKUP($A89,FILTRO!$A83:$AY708,9,FALSE),0)","v":16},{"$f":"IFERROR(VLOOKUP($A89,FILTRO!$A83:$AY708,10,FALSE),0)","v":32},{"$f":"IFERROR(VLOOKUP($A89,FILTRO!$A83:$AY708,11,FALSE),0)","v":250},{"$f":"IFERROR(VLOOKUP($A89,FILTRO!$A83:$AY708,12,FALSE),0)","v":92},{"$f":"IFERROR(VLOOKUP($A89,FILTRO!$A83:$AY708,13,FALSE),0)","v":158},"",{"$nulls":19},"","","","","","",{"$nulls":5},0,0,0,0,0,0]
["P9100610","TABAQUISMO","10-14 años",{"$f":"IFERROR(VLOOKUP($A90,FILTRO!$A84:$AY709,2,FALSE),0)","v":1322},{"$f":"IFERROR(VLOOKUP($A90,FILTRO!$A84:$AY709,3,FALSE),0)","v":599},{"$f":"IFERROR(VLOOKUP($A90,FILTRO!$A84:$AY709,4,FALSE),0)","v":723},{"$f":"IFERROR(VLOOKUP($A90,FILTRO!$A84:$AY709,5,FALSE),0)","v":57},{"$f":"IFERROR(VLOOKUP($A90,FILTRO!$A84:$AY709,6,FALSE),0)","v":17},{"$f":"IFERROR(VLOOKUP($A90,FILTRO!$A84:$AY709,7,FALSE),0)","v":40},{"$f":"IFERROR(VLOOKUP($A90,FILTRO!$A84:$AY709,8,FALSE),0)","v":62},{"$f":"IFERROR(VLOOKUP($A90,FILTRO!$A84:$AY709,9,FALSE),0)","v":27},{"$f":"IFERROR(VLOOKUP($A90,FILTRO!$A84:$AY709,10,FALSE),0)","v":35},{"$f":"IFERROR(VLOOKUP($A90,FILTRO!$A84:$AY709,11,FALSE),0)","v":278},{"$f":"IFERROR(VLOOKUP($A90,FILTRO!$A84:$AY709,12,FALSE),0)","v":133},{"$f":"IFERROR(VLOOKUP($A90,FILTRO!$A84:$AY709,13,FALSE),0)","v":145},"",{"$nulls":19},"","","","","","",{"$nulls":5},0,0,0,0,0,0]
["P9100620",null,"15 - 19 años",{"$f":"IFERROR(VLOOKUP($A91,FILTRO!$A85:$AY710,2,FALSE),0)","v":471},{"$f":"IFERROR(VLOOKUP($A91,FILTRO!$A85:$AY710,3,FALSE),0)","v":193},{"$f":"IFERROR(VLOOKUP($A91,FILTRO!$A85:$AY710,4,FALSE),0)","v":278},{"$f":"IFERROR(VLOOKUP($A91,FILTRO!$A85:$AY710,5,FALSE),0)","v":29},{"$f":"IFERROR(VLOOKUP($A91,FILTRO!$A85:$AY710,6,FALSE),0)","v":13},{"$f":"IFERROR(VLOOKUP($A91,FILTRO!$A85:$AY710,7,FALSE),0)","v":16},{"$f":"IFERROR(VLOOKUP($A91,FILTRO!$A85:$AY710,8,FALSE),0)","v":29},{"$f":"IFERROR(VLOOKUP($A91,FILTRO!$A85:$AY710,9,FALSE),0)","v":7},{"$f":"IFERROR(VLOOKUP($A91,FILTRO!$A85:$AY710,10,FALSE),0)","v":22},{"$f":"IFERROR(VLOOKUP($A91,FILTRO!$A85:$AY710,11,FALSE),0)","v":76},{"$f":"IFERROR(VLOOKUP($A91,FILTRO!$A85:$AY710,12,FALSE),0)","v":28},{"$f":"IFERROR(VLOOKUP($A91,FILTRO!$A85:$AY710,13,FALSE),0)","v":48},"",{"$nulls":19},"","","","","","",{"$nulls":5},0,0,0,0,0,0]
["P9100630","CONSUMO DE DROGAS","10-14 años",{"$f":"IFERROR(VLOOKUP($A92,FILTRO!$A86:$AY711,2,FALSE),0)","v":1209},{"$f":"IFERROR(VLOOKUP($A92,FILTRO!$A86:$AY711,3,FALSE),0)","v":566},{"$f":"IFERROR(VLOOKUP($A92,FILTRO!$A86:$AY711,4,FALSE),0)","v":643},{"$f":"IFERROR(VLOOKUP($A92,FILTRO!$A86:$AY711,5,FALSE),0)","v":40},{"$f":"IFERROR(VLOOKUP($A92,FILTRO!$A86:$AY711,6,FALSE),0)","v":11},{"$f":"IFERROR(VLOOKUP($A92,FILTRO!$A86:$AY711,7,FALSE),0)","v":29},{"$f":"IFERROR(VLOOKUP($A92,FILTRO!$A86:$AY711,8,FALSE),0)","v":52},{"$f":"IFERROR(VLOOKUP($A92,FILTRO!$A86:$AY711,9,FALSE),0)","v":21},{"$f":"IFERROR(VLOOKUP($A92,FILTRO!$A86:$AY711,10,FALSE),0)","v":31},{"$f":"IFERROR(VLOOKUP($A92,FILTRO!$A86:$AY711,11,FALSE),0)","v":285},{"$f":"IFERROR(VLOOKUP($A92,FILTRO!$A86:$AY711,12,FALSE),0)","v":139},{"$f":"IFERROR(VLOOKUP($A92,FILTRO!$A86:$AY711,13,FALSE),0)","v":146},"",{"$nulls":19},"","","","","","",{"$nulls":5},0,0,0,0,0,0]
["P9100640",null,"15 - 19 años",{"$f":"IFERROR(VLOOKUP($A93,FILTRO!$A87:$AY712,2,FALSE),0)","v":440},{"$f":"IFERROR(VLOOKUP($A93,FILTRO!$A87:$AY712,3,FALSE),0)","v":170},{"$f":"IFERROR(VLOOKUP($A93,FILTRO!$A87:$AY712,4,FALSE),0)","v":270},{"$f":"IFERROR(VLOOKUP($A93,FILTRO!$A87:$AY712,5,FALSE),0)","v":17},{"$f":"IFERROR(VLOOKUP($A93,FILTRO!$A87:$AY712,6,FALSE),0)","v":6},{"$f":"IFERROR(VLOOKUP($A93,FILTRO!$A87:$AY712,7,FALSE),0)","v":11},{"$f":"IFERROR(VLOOKUP($A93,FILTRO!$A87:$AY712,8,FALSE),0)","v":11},{"$f":"IFERROR(VLOOKUP($A93,FILTRO!$A87:$AY712,9,FALSE),0)","v":2},{"$f":"IFERROR(VLOOKUP($A93,FILTRO!$A87:$AY712,10,FALSE),0)","v":9},{"$f":"IFERROR(VLOOKUP($A93,FILTRO!$A87:$AY712,11,FALSE),0)","v":98},{"$f":"IFERROR(VLOOKUP($A93,FILTRO!$A87:$AY712,12,FALSE),0)","v":38},{"$f":"IFERROR(VLOOKUP($A93,FILTRO!$A87:$AY712,13,FALSE),0)","v":60},"",{"$nulls":19},"","","","","","",{"$nulls":5},0,0,0,0,0,0]
["P9100650","SALUD SEXUAL REPRODUCTIVA","10-14 años",{"$f":"IFERROR(VLOOKUP($A94,FILTRO!$A88:$AY713,2,FALSE),0)","v":2011},{"$f":"IFERROR(VLOOKUP($A94,FILTRO!$A88:$AY713,3,FALSE),0)","v":812},{"$f":"IFERROR(VLOOKUP($A94,FILTRO!$A88:$AY713,4,FALSE),0)","v":1199},{"$f":"IFERROR(VLOOKUP($A94,FILTRO!$A88:$AY713,5,FALSE),0)","v":65},{"$f":"IFERROR(VLOOKUP($A94,FILTRO!$A88:$AY713,6,FALSE),0)","v":19},{"$f":"IFERROR(VLOOKUP($A94,FILTRO!$A88:$AY713,7,FALSE),0)","v":46},{"$f":"IFERROR(VLOOKUP($A94,FILTRO!$A88:$AY713,8,FALSE),0)","v":66},{"$f":"IFERROR(VLOOKUP($A94,FILTRO!$A88:$AY713,9,FALSE),0)","v":23},{"$f":"IFERROR(VLOOKUP($A94,FILTRO!$A88:$AY713,10,FALSE),0)","v":43},{"$f":"IFERROR(VLOOKUP($A94,FILTRO!$A88:$AY713,11,FALSE),0)","v":488},{"$f":"IFERROR(VLOOKUP($A94,FILTRO!$A88:$AY713,12,FALSE),0)","v":194},{"$f":"IFERROR(VLOOKUP($A94,FILTRO!$A88:$AY713,13,FALSE),0)","v":294},"",{"$nulls":19},"","","","","","",{"$nulls":5},0,0,0,0,0,0]
["P9100660",null,"15 - 19 años",{"$f":"IFERROR(VLOOKUP($A95,FILTRO!$A89:$AY714,2,FALSE),0)","v":1328},{"$f":"IFERROR(VLOOKUP($A95,FILTRO!$A89:$AY714,3,FALSE),0)","v":237},{"$f":"IFERROR(VLOOKUP($A95,FILTRO!$A89:$AY714,4,FALSE),0)","v":1091},{"$f":"IFERROR(VLOOKUP($A95,FILTRO!$A89:$AY714,5,FALSE),0)","v":53},{"$f":"IFERROR(VLOOKUP($A95,FILTRO!$A89:$AY714,6,FALSE),0)","v":12},{"$f":"IFERROR(VLOOKUP($A95,FILTRO!$A89:$AY714,7,FALSE),0)","v":41},{"$f":"IFERROR(VLOOKUP($A95,FILTRO!$A89:$AY714,8,FALSE),0)","v":55},{"$f":"IFERROR(VLOOKUP($A95,FILTRO!$A89:$AY714,9,FALSE),0)","v":8},{"$f":"IFERROR(VLOOKUP($A95,FILTRO!$A89:$AY714,10,FALSE),0)","v":47},{"$f":"IFERROR(VLOOKUP($A95,FILTRO!$A89:$AY714,11,FALSE),0)","v":331},{"$f":"IFERROR(VLOOKUP($A95,FILTRO!$A89:$AY714,12,FALSE),0)","v":67},{"$f":"IFERROR(VLOOKUP($A95,FILTRO!$A89:$AY714,13,FALSE),0)","v":264},"",{"$nulls":19},"","","","","","",{"$nulls":5},0,0,0,0,0,0]
["P9100670","REGULACION DE FECUNDIDAD","10-14 años",{"$f":"IFERROR(VLOOKUP($A96,FILTRO!$A90:$AY715,2,FALSE),0)","v":1086},{"$f":"IFERROR(VLOOKUP($A96,FILTRO!$A90:$AY715,3,FALSE),0)","v":387},{"$f":"IFERROR(VLOOKUP($A96,FILTRO!$A90:$AY715,4,FALSE),0)","v":699},{"$f":"IFERROR(VLOOKUP($A96,FILTRO!$A90:$AY715,5,FALSE),0)","v":23},{"$f":"IFERROR(VLOOKUP($A96,FILTRO!$A90:$AY715,6,FALSE),0)","v":2},{"$f":"IFERROR(VLOOKUP($A96,FILTRO!$A90:$AY715,7,FALSE),0)","v":21},{"$f":"IFERROR(VLOOKUP($A96,FILTRO!$A90:$AY715,8,FALSE),0)","v":42},{"$f":"IFERROR(VLOOKUP($A96,FILTRO!$A90:$AY715,9,FALSE),0)","v":15},{"$f":"IFERROR(VLOOKUP($A96,FILTRO!$A90:$AY715,10,FALSE),0)","v":27},{"$f":"IFERROR(VLOOKUP($A96,FILTRO!$A90:$AY715,11,FALSE),0)","v":294},{"$f":"IFERROR(VLOOKUP($A96,FILTRO!$A90:$AY715,12,FALSE),0)","v":112},{"$f":"IFERROR(VLOOKUP($A96,FILTRO!$A90:$AY715,13,FALSE),0)","v":182},"",{"$nulls":19},"","","","","","",{"$nulls":5},0,0,0,0,0,0]
["P9100680",null,"15 - 19 años",{"$f":"IFERROR(VLOOKUP($A97,FILTRO!$A91:$AY716,2,FALSE),0)","v":1339},{"$f":"IFERROR(VLOOKUP($A97,FILTRO!$A91:$AY716,3,FALSE),0)","v":136},{"$f":"IFERROR(VLOOKUP($A97,FILTRO!$A91:$AY716,4,FALSE),0)","v":1203},{"$f":"IFERROR(VLOOKUP($A97,FILTRO!$A91:$AY716,5,FALSE),0)","v":30},{"$f":"IFERROR(VLOOKUP($A97,FILTRO!$A91:$AY716,6,FALSE),0)","v":2},{"$f":"IFERROR(VLOOKUP($A97,FILTRO!$A91:$AY716,7,FALSE),0)","v":28},{"$f":"IFERROR(VLOOKUP($A97,FILTRO!$A91:$AY716,8,FALSE),0)","v":40},{"$f":"IFERROR(VLOOKUP($A97,FILTRO!$A91:$AY716,9,FALSE),0)","v":3},{"$f":"IFERROR(VLOOKUP($A97,FILTRO!$A91:$AY716,10,FALSE),0)","v":37},{"$f":"IFERROR(VLOOKUP($A97,FILTRO!$A91:$AY716,11,FALSE),0)","v":332},{"$f":"IFERROR(VLOOKUP($A97,FILTRO!$A91:$AY716,12,FALSE),0)","v":61},{"$f":"IFERROR(VLOOKUP($A97,FILTRO!$A91:$AY716,13,FALSE),0)","v":271},"",{"$nulls":19},"","","","","","",{"$nulls":5},0,0,0,0,0,0]
["P9100690","PREVENCION VIH-ITS","10-14 años",{"$f":"IFERROR(VLOOKUP($A98,FILTRO!$A92:$AY717,2,FALSE),0)","v":1025},{"$f":"IFERROR(VLOOKUP($A98,FILTRO!$A92:$AY717,3,FALSE),0)","v":453},{"$f":"IFERROR(VLOOKUP($A98,FILTRO!$A92:$AY717,4,FALSE),0)","v":572},{"$f":"IFERROR(VLOOKUP($A98,FILTRO!$A92:$AY717,5,FALSE),0)","v":27},{"$f":"IFERROR(VLOOKUP($A98,FILTRO!$A92:$AY717,6,FALSE),0)","v":7},{"$f":"IFERROR(VLOOKUP($A98,FILTRO!$A92:$AY717,7,FALSE),0)","v":20},{"$f":"IFERROR(VLOOKUP($A98,FILTRO!$A92:$AY717,8,FALSE),0)","v":35},{"$f":"IFERROR(VLOOKUP($A98,FILTRO!$A92:$AY717,9,FALSE),0)","v":14},{"$f":"IFERROR(VLOOKUP($A98,FILTRO!$A92:$AY717,10,FALSE),0)","v":21},{"$f":"IFERROR(VLOOKUP($A98,FILTRO!$A92:$AY717,11,FALSE),0)","v":313},{"$f":"IFERROR(VLOOKUP($A98,FILTRO!$A92:$AY717,12,FALSE),0)","v":145},{"$f":"IFERROR(VLOOKUP($A98,FILTRO!$A92:$AY717,13,FALSE),0)","v":168},"",{"$nulls":19},"","","","","","",{"$nulls":5},0,0,0,0,0,0]
["P9100700",null,"15 - 19 años",{"$f":"IFERROR(VLOOKUP($A99,FILTRO!$A93:$AY718,2,FALSE),0)","v":575},{"$f":"IFERROR(VLOOKUP($A99,FILTRO!$A93:$AY718,3,FALSE),0)","v":108},{"$f":"IFERROR(VLOOKUP($A99,FILTRO!$A93:$AY718,4,FALSE),0)","v":467},{"$f":"IFERROR(VLOOKUP($A99,FILTRO!$A93:$AY718,5,FALSE),0)","v":26},{"$f":"IFERROR(VLOOKUP($A99,FILTRO!$A93:$AY718,6,FALSE),0)","v":2},{"$f":"IFERROR(VLOOKUP($A99,FILTRO!$A93:$AY718,7,FALSE),0)","v":24},{"$f":"IFERROR(VLOOKUP($A99,FILTRO!$A93:$AY718,8,FALSE),0)","v":23},{"$f":"IFERROR(VLOOKUP($A99,FILTRO!$A93:$AY718,9,FALSE),0)","v":1},{"$f":"IFERROR(VLOOKUP($A99,FILTRO!$A93:$AY718,10,FALSE),0)","v":22},{"$f":"IFERROR(VLOOKUP($A99,FILTRO!$A93:$AY718,11,FALSE),0)","v":190},{"$f":"IFERROR(VLOOKUP($A99,FILTRO!$A93:$AY718,12,FALSE),0)","v":53},{"$f":"IFERROR(VLOOKUP($A99,FILTRO!$A93:$AY718,13,FALSE),0)","v":137},"",{"$nulls":19},"","","","","","",{"$nulls":5},0,0,0,0,0,0]
[]
[]
[]
[]
[]
[null,{"$f":"SUM(D12:R40,D46:R51,D57:R66,D72:R81,D86:O99)","v":572710},"datos"]
[null,{"$f":"SUM(AU11:AZ100)","v":0},"errores"]
[]
["CODIGOS ELIMINADOS"]
["P9100380"]
["P9100390"]
["P9100400"]
["P9100410"]
["P9100420"]
["P9100430"]
[]
["CODIGOS NUEVOS"]
["P9100710"]
["P9100711"]
["P9100712"]
["P9100713"]
["P9100714"]
["P9100715"]
["P9100716"]
["P9100717"]
["P9100718"]
["P9100719"]

{"sheet":"P11","index":10,"n_rows":34,"n_cols":75,"rows_kept":34,"merged":[[6,1,6,17],[8,1,10,3],[8,4,9,6],[8,7,8,44],[8,45,9,46],[8,47,10,47],[8,48,10,48],[8,49,10,49],[8,50,10,50],[8,55,9,56],[8,57,10,57],[8,58,10,58],[8,59,10,59],[8,60,9,60],[8,61,9,61],[8,62,9,62],[8,63,9,63],[8,66,9,67],[8,68,10,68],[8,69,10,69],[8,70,10,70],[8,71,9,71],[8,72,9,72],[8,73,9,73],[8,74,9,74],[9,7,9,8],[9,9,9,10],[9,11,9,12],[9,13,9,14],[9,15,9,16],[9,17,9,18],[9,19,9,20],[9,21,9,22],[9,23,9,24],[9,25,9,26],[9,27,9,28],[9,29,9,30],[9,31,9,32],[9,33,9,34],[9,35,9,36],[9,37,9,38],[9,39,9,40],[9,41,9,42],[9,43,9,44],[11,1,14,1],[11,2,12,2],[13,2,14,2],[15,1,16,1],[18,1,20,1],[18,2,19,4],[18,5,18,32],[18,33,19,34],[18,35,20,35],[18,36,20,36],[18,56,19,57],[18,58,20,58],[18,59,20,59],[18,60,19,60],[18,61,19,61],[18,62,19,62],[18,67,19,68],[18,69,20,69],[18,70,20,70],[18,71,19,71],[18,72,19,72],[18,73,19,73],[19,5,19,6],[19,7,19,8],[19,9,19,10],[19,11,19,12],[19,13,19,14],[19,15,19,16],[19,17,19,18],[19,19,19,20],[19,21,19,22],[19,23,19,24],[19,25,19,26],[19,27,19,28],[19,29,19,30],[19,31,19,32]]}
[null,"DATOS DEL ESTABLECIMIENTO"]
[null,{"$f":"CONCATENATE(\"COMUNA: \",NOMBRE!$B$2,\" - \",\"( \",NOMBRE!$C$2,NOMBRE!$D$2,NOMBRE!$E$2,NOMBRE!$F$2,NOMBRE!$G$2,\" )\")","v":"COMUNA:  - (  )"}]
[null,{"$f":"CONCATENATE(\"ESTABLECIMIENTO/ESTRATEGIA: \",NOMBRE!$B$3,\" - \",\"( \",NOMBRE!$C$3,NOMBRE!$D$3,NOMBRE!$E$3,NOMBRE!$F$3,NOMBRE!$G$3,NOMBRE!$H$3,\" )\")","v":"ESTABLECIMIENTO/ESTRATEGIA:  - (  )"}]
[null,{"$f":"CONCATENATE(\"MES: \",NOMBRE!$B$6,\" - \",\"( \",NOMBRE!$C$6,NOMBRE!$D$6,\" )\")","v":"MES:  - (  )"}]
[null,{"$f":"CONCATENATE(\"AÑO: \",NOMBRE!$B$7)","v":"AÑO: 2023"}]
[]
[null,"REM-P11. POBLACIÓN EN CONTROL PROGRAMA DE INFECCIONES DE TRASMISIÓN SEXUAL - VIH / SIDA"]
[null,"SECCION A: POBLACIÓN EN CONTROL DEL PROGRAMA DE VIH/SIDA (Uso exclusivo Centros de Atención VIH-SIDA)"]
[null,"CONCEPTO",null,null,"TOTAL",null,null,"GRUPOS DE EDAD (en años)",{"$nulls":37},"TRANS",null,"Pueblos Originarios","Migrantes","Niños, Niñas, Adolescentes y Jóvenes SENAME","Niños, Niñas, Adolescentes y Jóvenes Mejor Niñez",{"$nulls":4},"TRANS",null,"Pueblos Originarios","Población Migrantes","Población SENAME","TRANS","Pueblos Originarios","Población Migrantes","Población SENAME",null,null,"TRANS",null,"Pueblos Originarios","Población Migrantes","Población SENAME","TRANS","Pueblos Originarios","Población Migrantes","Población SENAME"]
[{"$nulls":7},"Menor 1 Año",null,"1 año",null,"2 a 4 años",null,"5 a 9 años",null,"10 a 14 años",null,"15 a 19 años",null,"20 a 24 años",null,"25 a 29 años",null,"30 a 34 años",null,"35 a 39 años",null,"40 a 44 años",null,"45 a 49 años",null,"50 a 54 años",null,"55 a 59 años",null,"60 a 64 años",null,"65 a 69 años",null,"70 a 74 años",null,"75 a 79 años",null,"80 y más años"]
[{"$nulls":4},"Ambos\nsexos","Hombres","Mujeres","Hombres ","Mujeres","Hombres ","Mujeres","Hombres ","Mujeres","Hombres ","Mujeres","Hombres ","Mujeres","Hombres ","Mujeres","Hombres ","Mujeres","Hombres ","Mujeres","Hombres ","Mujeres","Hombres ","Mujeres","Hombres ","Mujeres","Hombres ","Mujeres","Hombres ","Mujeres","Hombres ","Mujeres","Hombres ","Mujeres","Hombres ","Mujeres","Hombres ","Mujeres","Hombres ","Mujeres","Hombres ","Mujeres","Masculino","Femenino",{"$nulls":8},"Masculino","Femenino (NO)",{"$nulls":3},"No Olvide","No Olvide","No Olvide","No Olvide",null,null,"Masculino","Femenino (NO)",{"$nulls":3},"No Olvide","No Olvide","No Olvide","No Olvide"]
["P11000150","Nº TOTAL DE PERSONAS CON VIH/SIDA","GESTANTES","Inicia TARV en este embarazo",{"$f":"IFERROR(VLOOKUP($A12,FILTRO!$A6:$AY631,2,FALSE),0)","v":4},{"$f":"IFERROR(VLOOKUP($A12,FILTRO!$A6:$AY631,3,FALSE),0)","v":0},{"$f":"IFERROR(VLOOKUP($A12,FILTRO!$A6:$AY631,4,FALSE),0)","v":4},{"$f":"IFERROR(VLOOKUP($A12,FILTRO!$A6:$AY631,5,FALSE),0)","v":0},{"$f":"IFERROR(VLOOKUP($A12,FILTRO!$A6:$AY631,6,FALSE),0)","v":0},{"$f":"IFERROR(VLOOKUP($A12,FILTRO!$A6:$AY631,7,FALSE),0)","v":0},{"$f":"IFERROR(VLOOKUP($A12,FILTRO!$A6:$AY631,8,FALSE),0)","v":0},{"$f":"IFERROR(VLOOKUP($A12,FILTRO!$A6:$AY631,9,FALSE),0)","v":0},{"$f":"IFERROR(VLOOKUP($A12,FILTRO!$A6:$AY631,10,FALSE),0)","v":0},{"$f":"IFERROR(VLOOKUP($A12,FILTRO!$A6:$AY631,11,FALSE),0)","v":0},{"$f":"IFERROR(VLOOKUP($A12,FILTRO!$A6:$AY631,12,FALSE),0)","v":0},{"$f":"IFERROR(VLOOKUP($A12,FILTRO!$A6:$AY631,13,FALSE),0)","v":0},{"$f":"IFERROR(VLOOKUP($A12,FILTRO!$A6:$AY631,14,FALSE),0)","v":0},{"$f":"IFERROR(VLOOKUP($A12,FILTRO!$A6:$AY631,15,FALSE),0)","v":0},{"$f":"IFERROR(VLOOKUP($A12,FILTRO!$A6:$AY631,16,FALSE),0)","v":0},{"$f":"IFERROR(VLOOKUP($A12,FILTRO!$A6:$AY631,17,FALSE),0)","v":0},{"$f":"IFERROR(VLOOKUP($A12,FILTRO!$A6:$AY631,18,FALSE),0)","v":1},{"$f":"IFERROR(VLOOKUP($A12,FILTRO!$A6:$AY631,19,FALSE),0)","v":0},{"$f":"IFERROR(VLOOKUP($A12,FILTRO!$A6:$AY631,20,FALSE),0)","v":0},{"$f":"IFERROR(VLOOKUP($A12,FILTRO!$A6:$AY631,21,FALSE),0)","v":0},{"$f":"IFERROR(VLOOKUP($A12,FILTRO!$A6:$AY631,22,FALSE),0)","v":2},{"$f":"IFERROR(VLOOKUP($A12,FILTRO!$A6:$AY631,23,FALSE),0)","v":0},{"$f":"IFERROR(VLOOKUP($A12,FILTRO!$A6:$AY631,24,FALSE),0)","v":1},{"$f":"IFERROR(VLOOKUP($A12,FILTRO!$A6:$AY631,25,FALSE),0)","v":0},{"$f":"IFERROR(VLOOKUP($A12,FILTRO!$A6:$AY631,26,FALSE),0)","v":0},{"$f":"IFERROR(VLOOKUP($A12,FILTRO!$A6:$AY631,27,FALSE),0)","v":0},{"$f":"IFERROR(VLOOKUP($A12,FILTRO!$A6:$AY631,28,FALSE),0)","v":0},{"$f":"IFERROR(VLOOKUP($A12,FILTRO!$A6:$AY631,29,FALSE),0)","v":0},{"$f":"IFERROR(VLOOKUP($A12,FILTRO!$A6:$AY631,30,FALSE),0)","v":0},{"$f":"IFERROR(VLOOKUP($A12,FILTRO!$A6:$AY631,31,FALSE),0)","v":0},{"$f":"IFERROR(VLOOKUP($A12,FILTRO!$A6:$AY631,32,FALSE),0)","v":0},{"$f":"IFERROR(VLOOKUP($A12,FILTRO!$A6:$AY631,33,FALSE),0)","v":0},{"$f":"IFERROR(VLOOKUP($A12,FILTRO!$A6:$AY631,34,FALSE),0)","v":0},{"$f":"IFERROR(VLOOKUP($A12,FILTRO!$A6:$AY631,35,FALSE),0)","v":0},{"$f":"IFERROR(VLOOKUP($A12,FILTRO!$A6:$AY631,36,FALSE),0)","v":0},{"$f":"IFERROR(VLOOKUP($A12,FILTRO!$A6:$AY631,37,FALSE),0)","v":0},{"$f":"IFERROR(VLOOKUP($A12,FILTRO!$A6:$AY631,38,FALSE),0)","v":0},{"$f":"IFERROR(VLOOKUP($A12,FILTRO!$A6:$AY631,39,FALSE),0)","v":0},{"$f":"IFERROR(VLOOKUP($A12,FILTRO!$A6:$AY631,40,FALSE),0)","v":0},{"$f":"IFERROR(VLOOKUP($A12,FILTRO!$A6:$AY631,41,FALSE),0)","v":0},{"$f":"IFERROR(VLOOKUP($A12,FILTRO!$A6:$AY631,42,FALSE),0)","v":0},{"$f":"IFERROR(VLOOKUP($A12,FILTRO!$A6:$AY631,43,FALSE),0)","v":0},{"$f":"IFERROR(VLOOKUP($A12,FILTRO!$A6:$AY631,44,FALSE),0)","v":0},{"$f":"IFERROR(VLOOKUP($A12,FILTRO!$A6:$AY631,45,FALSE),0)","v":1},{"$f":"IFERROR(VLOOKUP($A12,FILTRO!$A6:$AY631,46,FALSE),0)","v":1},{"$f":"IFERROR(VLOOKUP($A12,FILTRO!$A6:$AY631,47,FALSE),0)","v":0},{"$f":"IFERROR(VLOOKUP($A12,FILTRO!$A6:$AY631,48,FALSE),0)","v":0},{"$nulls":4},{"$f":"IF(($AT12+$AU12)<=$G12,\"\",\"* La suma de las celdas 'Trans' no debe ser mayor al Total de personas bajo control. \")","v":""},null,{"$f":"IF($AV12<=$G12,\"\",\"* La celda de 'Pueblos Originarios' no debe ser mayor al Total de personas bajo control. \")","v":""},{"$f":"IF($AW12<=$G12,\"\",\"* La celda de 'Población Migrantes' no debe ser mayor al Total de personas bajo control. \")","v":""},{"$f":"IF($AX12<=$G12,\"\",\"* La celda de 'Población SENAME' no debe ser mayor al Total de personas bajo control. \")","v":""},{"$f":"IF(AND($G12<>0,$AU12=\"\"),\"* No olvide escribir en la celda de Trans (Digite CERO si no tiene). \",IF(AND(E12<>0,AT12=\"\"),\"* No olvide escribir en la celda Trans (Digite CERO si no tiene). \",\"\"))","v":""},{"$f":"IF(AND($G12<>0,$AV12=\"\"),\"* No olvide escribir en la celda de Pueblos Originarios (Digite CERO si no tiene). \",\"\")","v":""},{"$f":"IF(AND($G12<>0,$AW12=\"\"),\"* No olvide escribir en la celda de Población Migrantes (Digite CERO si no tiene). \",\"\")","v":""},{"$f":"IF(AND($G12<>0,$AX12=\"\"),\"* No olvide escribir en la celda de Población SENAME (Digite CERO si no tiene). \",\"\")","v":""},null,null,{"$f":"IF(($AT12+$AU12)<=$G12,0,1)","v":0},null,{"$f":"IF($AV12<=$G12,0,1)","v":0},{"$f":"IF($AW12<=$G12,0,1)","v":0},{"$f":"IF($AX12<=$G12,0,1)","v":0},{"$f":"IF(AND($G12<>0,$AU12=\"\"),1,0)","v":0},{"$f":"IF(AND($G12<>0,$AV12=\"\"),1,0)","v":0},{"$f":"IF(AND($G12<>0,$AW12=\"\"),1,0)","v":0},{"$f":"IF(AND($G12<>0,$AX12=\"\"),1,0)","v":0}]
["P11000160",null,null,"en TARV previa",{"$f":"IFERROR(VLOOKUP($A13,FILTRO!$A7:$AY632,2,FALSE),0)","v":7},{"$f":"IFERROR(VLOOKUP($A13,FILTRO!$A7:$AY632,3,FALSE),0)","v":0},{"$f":"IFERROR(VLOOKUP($A13,FILTRO!$A7:$AY632,4,FALSE),0)","v":7},{"$f":"IFERROR(VLOOKUP($A13,FILTRO!$A7:$AY632,5,FALSE),0)","v":0},{"$f":"IFERROR(VLOOKUP($A13,FILTRO!$A7:$AY632,6,FALSE),0)","v":0},{"$f":"IFERROR(VLOOKUP($A13,FILTRO!$A7:$AY632,7,FALSE),0)","v":0},{"$f":"IFERROR(VLOOKUP($A13,FILTRO!$A7:$AY632,8,FALSE),0)","v":0},{"$f":"IFERROR(VLOOKUP($A13,FILTRO!$A7:$AY632,9,FALSE),0)","v":0},{"$f":"IFERROR(VLOOKUP($A13,FILTRO!$A7:$AY632,10,FALSE),0)","v":0},{"$f":"IFERROR(VLOOKUP($A13,FILTRO!$A7:$AY632,11,FALSE),0)","v":0},{"$f":"IFERROR(VLOOKUP($A13,FILTRO!$A7:$AY632,12,FALSE),0)","v":0},{"$f":"IFERROR(VLOOKUP($A13,FILTRO!$A7:$AY632,13,FALSE),0)","v":0},{"$f":"IFERROR(VLOOKUP($A13,FILTRO!$A7:$AY632,14,FALSE),0)","v":0},{"$f":"IFERROR(VLOOKUP($A13,FILTRO!$A7:$AY632,15,FALSE),0)","v":0},{"$f":"IFERROR(VLOOKUP($A13,FILTRO!$A7:$AY632,16,FALSE),0)","v":0},{"$f":"IFERROR(VLOOKUP($A13,FILTRO!$A7:$AY632,17,FALSE),0)","v":0},{"$f":"IFERROR(VLOOKUP($A13,FILTRO!$A7:$AY632,18,FALSE),0)","v":0},{"$f":"IFERROR(VLOOKUP($A13,FILTRO!$A7:$AY632,19,FALSE),0)","v":0},{"$f":"IFERROR(VLOOKUP($A13,FILTRO!$A7:$AY632,20,FALSE),0)","v":1},{"$f":"IFERROR(VLOOKUP($A13,FILTRO!$A7:$AY632,21,FALSE),0)","v":0},{"$f":"IFERROR(VLOOKUP($A13,FILTRO!$A7:$AY632,22,FALSE),0)","v":1},{"$f":"IFERROR(VLOOKUP($A13,FILTRO!$A7:$AY632,23,FALSE),0)","v":0},{"$f":"IFERROR(VLOOKUP($A13,FILTRO!$A7:$AY632,24,FALSE),0)","v":5},{"$f":"IFERROR(VLOOKUP($A13,FILTRO!$A7:$AY632,25,FALSE),0)","v":0},{"$f":"IFERROR(VLOOKUP($A13,FILTRO!$A7:$AY632,26,FALSE),0)","v":0},{"$f":"IFERROR(VLOOKUP($A13,FILTRO!$A7:$AY632,27,FALSE),0)","v":0},{"$f":"IFERROR(VLOOKUP($A13,FILTRO!$A7:$AY632,28,FALSE),0)","v":0},{"$f":"IFERROR(VLOOKUP($A13,FILTRO!$A7:$AY632,29,FALSE),0)","v":0},{"$f":"IFERROR(VLOOKUP($A13,FILTRO!$A7:$AY632,30,FALSE),0)","v":0},{"$f":"IFERROR(VLOOKUP($A13,FILTRO!$A7:$AY632,31,FALSE),0)","v":0},{"$f":"IFERROR(VLOOKUP($A13,FILTRO!$A7:$AY632,32,FALSE),0)","v":0},{"$f":"IFERROR(VLOOKUP($A13,FILTRO!$A7:$AY632,33,FALSE),0)","v":0},{"$f":"IFERROR(VLOOKUP($A13,FILTRO!$A7:$AY632,34,FALSE),0)","v":0},{"$f":"IFERROR(VLOOKUP($A13,FILTRO!$A7:$AY632,35,FALSE),0)","v":0},{"$f":"IFERROR(VLOOKUP($A13,FILTRO!$A7:$AY632,36,FALSE),0)","v":0},{"$f":"IFERROR(VLOOKUP($A13,FILTRO!$A7:$AY632,37,FALSE),0)","v":0},{"$f":"IFERROR(VLOOKUP($A13,FILTRO!$A7:$AY632,38,FALSE),0)","v":0},{"$f":"IFERROR(VLOOKUP($A13,FILTRO!$A7:$AY632,39,FALSE),0)","v":0},{"$f":"IFERROR(VLOOKUP($A13,FILTRO!$A7:$AY632,40,FALSE),0)","v":0},{"$f":"IFERROR(VLOOKUP($A13,FILTRO!$A7:$AY632,41,FALSE),0)","v":0},{"$f":"IFERROR(VLOOKUP($A13,FILTRO!$A7:$AY632,42,FALSE),0)","v":0},{"$f":"IFERROR(VLOOKUP($A13,FILTRO!$A7:$AY632,43,FALSE),0)","v":0},{"$f":"IFERROR(VLOOKUP($A13,FILTRO!$A7:$AY632,44,FALSE),0)","v":0},{"$f":"IFERROR(VLOOKUP($A13,FILTRO!$A7:$AY632,45,FALSE),0)","v":0},{"$f":"IFERROR(VLOOKUP($A13,FILTRO!$A7:$AY632,46,FALSE),0)","v":0},{"$f":"IFERROR(VLOOKUP($A13,FILTRO!$A7:$AY632,47,FALSE),0)","v":0},{"$f":"IFERROR(VLOOKUP($A13,FILTRO!$A7:$AY632,48,FALSE),0)","v":0},{"$nulls":4},{"$f":"IF(($AT13+$AU13)<=$G13,\"\",\"* La suma de las celdas 'Trans' no debe ser mayor al Total de personas bajo control. \")","v":""},null,{"$f":"IF($AV13<=$G13,\"\",\"* La celda de 'Pueblos Originarios' no debe ser mayor al Total de personas bajo control. \")","v":""},{"$f":"IF($AW13<=$G13,\"\",\"* La celda de 'Población Migrantes' no debe ser mayor al Total de personas bajo control. \")","v":""},{"$f":"IF($AX13<=$G13,\"\",\"* La celda de 'Población SENAME' no debe ser mayor al Total de personas bajo control. \")","v":""},{"$f":"IF(AND($G13<>0,$AU13=\"\"),\"* No olvide escribir en la celda de Trans (Digite CERO si no tiene). \",IF(AND(E13<>0,AT13=\"\"),\"* No olvide escribir en la celda Trans (Digite CERO si no tiene). \",\"\"))","v":""},{"$f":"IF(AND($G13<>0,$AV13=\"\"),\"* No olvide escribir en la celda de Pueblos Originarios (Digite CERO si no tiene). \",\"\")","v":""},{"$f":"IF(AND($G13<>0,$AW13=\"\"),\"* No olvide escribir en la celda de Población Migrantes (Digite CERO si no tiene). \",\"\")","v":""},{"$f":"IF(AND($G13<>0,$AX13=\"\"),\"* No olvide escribir en la celda de Población SENAME (Digite CERO si no tiene). \",\"\")","v":""},null,null,{"$f":"IF(($AT13+$AU13)<=$G13,0,1)","v":0},null,{"$f":"IF($AV13<=$G13,0,1)","v":0},{"$f":"IF($AW13<=$G13,0,1)","v":0},{"$f":"IF($AX13<=$G13,0,1)","v":0},{"$f":"IF(AND($G13<>0,$AU13=\"\"),1,0)","v":0},{"$f":"IF(AND($G13<>0,$AV13=\"\"),1,0)","v":0},{"$f":"IF(AND($G13<>0,$AW13=\"\"),1,0)","v":0},{"$f":"IF(AND($G13<>0,$AX13=\"\"),1,0)","v":0}]
["P11000170",null,"NO GESTANTES","Con TARV",{"$f":"IFERROR(VLOOKUP($A14,FILTRO!$A8:$AY633,2,FALSE),0)","v":2228},{"$f":"IFERROR(VLOOKUP($A14,FILTRO!$A8:$AY633,3,FALSE),0)","v":1805},{"$f":"IFERROR(VLOOKUP($A14,FILTRO!$A8:$AY633,4,FALSE),0)","v":423},{"$f":"IFERROR(VLOOKUP($A14,FILTRO!$A8:$AY633,5,FALSE),0)","v":0},{"$f":"IFERROR(VLOOKUP($A14,FILTRO!$A8:$AY633,6,FALSE),0)","v":0},{"$f":"IFERROR(VLOOKUP($A14,FILTRO!$A8:$AY633,7,FALSE),0)","v":0},{"$f":"IFERROR(VLOOKUP($A14,FILTRO!$A8:$AY633,8,FALSE),0)","v":0},{"$f":"IFERROR(VLOOKUP($A14,FILTRO!$A8:$AY633,9,FALSE),0)","v":1},{"$f":"IFERROR(VLOOKUP($A14,FILTRO!$A8:$AY633,10,FALSE),0)","v":0},{"$f":"IFERROR(VLOOKUP($A14,FILTRO!$A8:$AY633,11,FALSE),0)","v":1},{"$f":"IFERROR(VLOOKUP($A14,FILTRO!$A8:$AY633,12,FALSE),0)","v":0},{"$f":"IFERROR(VLOOKUP($A14,FILTRO!$A8:$AY633,13,FALSE),0)","v":2},{"$f":"IFERROR(VLOOKUP($A14,FILTRO!$A8:$AY633,14,FALSE),0)","v":3},{"$f":"IFERROR(VLOOKUP($A14,FILTRO!$A8:$AY633,15,FALSE),0)","v":6},{"$f":"IFERROR(VLOOKUP($A14,FILTRO!$A8:$AY633,16,FALSE),0)","v":8},{"$f":"IFERROR(VLOOKUP($A14,FILTRO!$A8:$AY633,17,FALSE),0)","v":86},{"$f":"IFERROR(VLOOKUP($A14,FILTRO!$A8:$AY633,18,FALSE),0)","v":11},{"$f":"IFERROR(VLOOKUP($A14,FILTRO!$A8:$AY633,19,FALSE),0)","v":261},{"$f":"IFERROR(VLOOKUP($A14,FILTRO!$A8:$AY633,20,FALSE),0)","v":27},{"$f":"IFERROR(VLOOKUP($A14,FILTRO!$A8:$AY633,21,FALSE),0)","v":378},{"$f":"IFERROR(VLOOKUP($A14,FILTRO!$A8:$AY633,22,FALSE),0)","v":54},{"$f":"IFERROR(VLOOKUP($A14,FILTRO!$A8:$AY633,23,FALSE),0)","v":267},{"$f":"IFERROR(VLOOKUP($A14,FILTRO!$A8:$AY633,24,FALSE),0)","v":64},{"$f":"IFERROR(VLOOKUP($A14,FILTRO!$A8:$AY633,25,FALSE),0)","v":236},{"$f":"IFERROR(VLOOKUP($A14,FILTRO!$A8:$AY633,26,FALSE),0)","v":57},{"$f":"IFERROR(VLOOKUP($A14,FILTRO!$A8:$AY633,27,FALSE),0)","v":150},{"$f":"IFERROR(VLOOKUP($A14,FILTRO!$A8:$AY633,28,FALSE),0)","v":50},{"$f":"IFERROR(VLOOKUP($A14,FILTRO!$A8:$AY633,29,FALSE),0)","v":158},{"$f":"IFERROR(VLOOKUP($A14,FILTRO!$A8:$AY633,30,FALSE),0)","v":51},{"$f":"IFERROR(VLOOKUP($A14,FILTRO!$A8:$AY633,31,FALSE),0)","v":108},{"$f":"IFERROR(VLOOKUP($A14,FILTRO!$A8:$AY633,32,FALSE),0)","v":48},{"$f":"IFERROR(VLOOKUP($A14,FILTRO!$A8:$AY633,33,FALSE),0)","v":86},{"$f":"IFERROR(VLOOKUP($A14,FILTRO!$A8:$AY633,34,FALSE),0)","v":26},{"$f":"IFERROR(VLOOKUP($A14,FILTRO!$A8:$AY633,35,FALSE),0)","v":26},{"$f":"IFERROR(VLOOKUP($A14,FILTRO!$A8:$AY633,36,FALSE),0)","v":13},{"$f":"IFERROR(VLOOKUP($A14,FILTRO!$A8:$AY633,37,FALSE),0)","v":21},{"$f":"IFERROR(VLOOKUP($A14,FILTRO!$A8:$AY633,38,FALSE),0)","v":11},{"$f":"IFERROR(VLOOKUP($A14,FILTRO!$A8:$AY633,39,FALSE),0)","v":12},{"$f":"IFERROR(VLOOKUP($A14,FILTRO!$A8:$AY633,40,FALSE),0)","v":0},{"$f":"IFERROR(VLOOKUP($A14,FILTRO!$A8:$AY633,41,FALSE),0)","v":6},{"$f":"IFERROR(VLOOKUP($A14,FILTRO!$A8:$AY633,42,FALSE),0)","v":0},{"$f":"IFERROR(VLOOKUP($A14,FILTRO!$A8:$AY633,43,FALSE),0)","v":16},{"$f":"IFERROR(VLOOKUP($A14,FILTRO!$A8:$AY633,44,FALSE),0)","v":16},{"$f":"IFERROR(VLOOKUP($A14,FILTRO!$A8:$AY633,45,FALSE),0)","v":5},{"$f":"IFERROR(VLOOKUP($A14,FILTRO!$A8:$AY633,46,FALSE),0)","v":294},{"$f":"IFERROR(VLOOKUP($A14,FILTRO!$A8:$AY633,47,FALSE),0)","v":0},{"$f":"IFERROR(VLOOKUP($A14,FILTRO!$A8:$AY633,48,FALSE),0)","v":0},{"$nulls":4},{"$f":"IF(($AT14+$AU14)<=$E14,\"\",\"* La suma de las celdas 'Trans' no debe ser mayor al Total de personas bajo control. \")","v":""},null,{"$f":"IF($AV14<=$E14,\"\",\"* La celda de 'Pueblos Originarios' no debe ser mayor al Total de personas bajo control. \")","v":""},{"$f":"IF($AW14<=$E14,\"\",\"* La celda de 'Población Migrantes' no debe ser mayor al Total de personas bajo control. \")","v":""},{"$f":"IF($AX14<=$E14,\"\",\"* La celda de 'Población SENAME' no debe ser mayor al Total de personas bajo control. \")","v":""},{"$f":"IF(AND($E14<>0,$AU14=\"\"),\"* No olvide escribir en la celda de Trans (Digite CERO si no tiene). \",IF(AND(E14<>0,AT14=\"\"),\"* No olvide escribir en la celda Trans (Digite CERO si no tiene). \",\"\"))","v":""},{"$f":"IF(AND($E14<>0,$AV14=\"\"),\"* No olvide escribir en la celda de Pueblos Originarios (Digite CERO si no tiene). \",\"\")","v":""},{"$f":"IF(AND($E14<>0,$AW14=\"\"),\"* No olvide escribir en la celda de Población Migrantes (Digite CERO si no tiene). \",\"\")","v":""},{"$f":"IF(AND($E14<>0,$AX14=\"\"),\"* No olvide escribir en la celda de Población SENAME (Digite CERO si no tiene). \",\"\")","v":""},null,null,{"$f":"IF(($AT14+$AU14)<=$E14,0,1)","v":0},null,{"$f":"IF($AV14<=$E14,0,1)","v":0},{"$f":"IF($AW14<=$E14,0,1)","v":0},{"$f":"IF($AX14<=$E14,0,1)","v":0},{"$f":"IF(AND($E14<>0,$AU14=\"\"),1,0)","v":0},{"$f":"IF(AND($E14<>0,$AV14=\"\"),1,0)","v":0},{"$f":"IF(AND($E14<>0,$AW14=\"\"),1,0)","v":0},{"$f":"IF(AND($E14<>0,$AX14=\"\"),1,0)","v":0}]
["P11000180",null,null,"Sin TARV",{"$f":"IFERROR(VLOOKUP($A15,FILTRO!$A9:$AY634,2,FALSE),0)","v":81},{"$f":"IFERROR(VLOOKUP($A15,FILTRO!$A9:$AY634,3,FALSE),0)","v":60},{"$f":"IFERROR(VLOOKUP($A15,FILTRO!$A9:$AY634,4,FALSE),0)","v":21},{"$f":"IFERROR(VLOOKUP($A15,FILTRO!$A9:$AY634,5,FALSE),0)","v":0},{"$f":"IFERROR(VLOOKUP($A15,FILTRO!$A9:$AY634,6,FALSE),0)","v":0},{"$f":"IFERROR(VLOOKUP($A15,FILTRO!$A9:$AY634,7,FALSE),0)","v":0},{"$f":"IFERROR(VLOOKUP($A15,FILTRO!$A9:$AY634,8,FALSE),0)","v":0},{"$f":"IFERROR(VLOOKUP($A15,FILTRO!$A9:$AY634,9,FALSE),0)","v":0},{"$f":"IFERROR(VLOOKUP($A15,FILTRO!$A9:$AY634,10,FALSE),0)","v":0},{"$f":"IFERROR(VLOOKUP($A15,FILTRO!$A9:$AY634,11,FALSE),0)","v":0},{"$f":"IFERROR(VLOOKUP($A15,FILTRO!$A9:$AY634,12,FALSE),0)","v":0},{"$f":"IFERROR(VLOOKUP($A15,FILTRO!$A9:$AY634,13,FALSE),0)","v":0},{"$f":"IFERROR(VLOOKUP($A15,FILTRO!$A9:$AY634,14,FALSE),0)","v":0},{"$f":"IFERROR(VLOOKUP($A15,FILTRO!$A9:$AY634,15,FALSE),0)","v":0},{"$f":"IFERROR(VLOOKUP($A15,FILTRO!$A9:$AY634,16,FALSE),0)","v":0},{"$f":"IFERROR(VLOOKUP($A15,FILTRO!$A9:$AY634,17,FALSE),0)","v":6},{"$f":"IFERROR(VLOOKUP($A15,FILTRO!$A9:$AY634,18,FALSE),0)","v":1},{"$f":"IFERROR(VLOOKUP($A15,FILTRO!$A9:$AY634,19,FALSE),0)","v":13},{"$f":"IFERROR(VLOOKUP($A15,FILTRO!$A9:$AY634,20,FALSE),0)","v":0},{"$f":"IFERROR(VLOOKUP($A15,FILTRO!$A9:$AY634,21,FALSE),0)","v":12},{"$f":"IFERROR(VLOOKUP($A15,FILTRO!$A9:$AY634,22,FALSE),0)","v":3},{"$f":"IFERROR(VLOOKUP($A15,FILTRO!$A9:$AY634,23,FALSE),0)","v":13},{"$f":"IFERROR(VLOOKUP($A15,FILTRO!$A9:$AY634,24,FALSE),0)","v":7},{"$f":"IFERROR(VLOOKUP($A15,FILTRO!$A9:$AY634,25,FALSE),0)","v":11},{"$f":"IFERROR(VLOOKUP($A15,FILTRO!$A9:$AY634,26,FALSE),0)","v":2},{"$f":"IFERROR(VLOOKUP($A15,FILTRO!$A9:$AY634,27,FALSE),0)","v":1},{"$f":"IFERROR(VLOOKUP($A15,FILTRO!$A9:$AY634,28,FALSE),0)","v":3},{"$f":"IFERROR(VLOOKUP($A15,FILTRO!$A9:$AY634,29,FALSE),0)","v":4},{"$f":"IFERROR(VLOOKUP($A15,FILTRO!$A9:$AY634,30,FALSE),0)","v":1},{"$f":"IFERROR(VLOOKUP($A15,FILTRO!$A9:$AY634,31,FALSE),0)","v":0},{"$f":"IFERROR(VLOOKUP($A15,FILTRO!$A9:$AY634,32,FALSE),0)","v":0},{"$f":"IFERROR(VLOOKUP($A15,FILTRO!$A9:$AY634,33,FALSE),0)","v":0},{"$f":"IFERROR(VLOOKUP($A15,FILTRO!$A9:$AY634,34,FALSE),0)","v":4},{"$f":"IFERROR(VLOOKUP($A15,FILTRO!$A9:$AY634,35,FALSE),0)","v":0},{"$f":"IFERROR(VLOOKUP($A15,FILTRO!$A9:$AY634,36,FALSE),0)","v":0},{"$f":"IFERROR(VLOOKUP($A15,FILTRO!$A9:$AY634,37,FALSE),0)","v":0},{"$f":"IFERROR(VLOOKUP($A15,FILTRO!$A9:$AY634,38,FALSE),0)","v":0},{"$f":"IFERROR(VLOOKUP($A15,FILTRO!$A9:$AY634,39,FALSE),0)","v":0},{"$f":"IFERROR(VLOOKUP($A15,FILTRO!$A9:$AY634,40,FALSE),0)","v":0},{"$f":"IFERROR(VLOOKUP($A15,FILTRO!$A9:$AY634,41,FALSE),0)","v":0},{"$f":"IFERROR(VLOOKUP($A15,FILTRO!$A9:$AY634,42,FALSE),0)","v":0},{"$f":"IFERROR(VLOOKUP($A15,FILTRO!$A9:$AY634,43,FALSE),0)","v":0},{"$f":"IFERROR(VLOOKUP($A15,FILTRO!$A9:$AY634,44,FALSE),0)","v":0},{"$f":"IFERROR(VLOOKUP($A15,FILTRO!$A9:$AY634,45,FALSE),0)","v":0},{"$f":"IFERROR(VLOOKUP($A15,FILTRO!$A9:$AY634,46,FALSE),0)","v":5},{"$f":"IFERROR(VLOOKUP($A15,FILTRO!$A9:$AY634,47,FALSE),0)","v":0},{"$f":"IFERROR(VLOOKUP($A15,FILTRO!$A9:$AY634,48,FALSE),0)","v":0},{"$nulls":4},{"$f":"IF(($AT15+$AU15)<=$E15,\"\",\"* La suma de las celdas 'Trans' no debe ser mayor al Total de personas bajo control. \")","v":""},null,{"$f":"IF($AV15<=$E15,\"\",\"* La celda de 'Pueblos Originarios' no debe ser mayor al Total de personas bajo control. \")","v":""},{"$f":"IF($AW15<=$E15,\"\",\"* La celda de 'Población Migrantes' no debe ser mayor al Total de personas bajo control. \")","v":""},{"$f":"IF($AX15<=$E15,\"\",\"* La celda de 'Población SENAME' no debe ser mayor al Total de personas bajo control. \")","v":""},{"$f":"IF(AND($E15<>0,$AU15=\"\"),\"* No olvide escribir en la celda de Trans (Digite CERO si no tiene). \",IF(AND(E15<>0,AT15=\"\"),\"* No olvide escribir en la celda Trans (Digite CERO si no tiene). \",\"\"))","v":""},{"$f":"IF(AND($E15<>0,$AV15=\"\"),\"* No olvide escribir en la celda de Pueblos Originarios (Digite CERO si no tiene). \",\"\")","v":""},{"$f":"IF(AND($E15<>0,$AW15=\"\"),\"* No olvide escribir en la celda de Población Migrantes (Digite CERO si no tiene). \",\"\")","v":""},{"$f":"IF(AND($E15<>0,$AX15=\"\"),\"* No olvide escribir en la celda de Población SENAME (Digite CERO si no tiene). \",\"\")","v":""},null,null,{"$f":"IF(($AT15+$AU15)<=$E15,0,1)","v":0},null,{"$f":"IF($AV15<=$E15,0,1)","v":0},{"$f":"IF($AW15<=$E15,0,1)","v":0},{"$f":"IF($AX15<=$E15,0,1)","v":0},{"$f":"IF(AND($E15<>0,$AU15=\"\"),1,0)","v":0},{"$f":"IF(AND($E15<>0,$AV15=\"\"),1,0)","v":0},{"$f":"IF(AND($E15<>0,$AW15=\"\"),1,0)","v":0},{"$f":"IF(AND($E15<>0,$AX15=\"\"),1,0)","v":0}]
["P11000190","N° DE PERSONAS EN TARV","GESTANTES","Con carga viral <a 1000 copias",{"$f":"IFERROR(VLOOKUP($A16,FILTRO!$A10:$AY635,2,FALSE),0)","v":5},{"$f":"IFERROR(VLOOKUP($A16,FILTRO!$A10:$AY635,3,FALSE),0)","v":0},{"$f":"IFERROR(VLOOKUP($A16,FILTRO!$A10:$AY635,4,FALSE),0)","v":5},{"$f":"IFERROR(VLOOKUP($A16,FILTRO!$A10:$AY635,5,FALSE),0)","v":0},{"$f":"IFERROR(VLOOKUP($A16,FILTRO!$A10:$AY635,6,FALSE),0)","v":0},{"$f":"IFERROR(VLOOKUP($A16,FILTRO!$A10:$AY635,7,FALSE),0)","v":0},{"$f":"IFERROR(VLOOKUP($A16,FILTRO!$A10:$AY635,8,FALSE),0)","v":0},{"$f":"IFERROR(VLOOKUP($A16,FILTRO!$A10:$AY635,9,FALSE),0)","v":0},{"$f":"IFERROR(VLOOKUP($A16,FILTRO!$A10:$AY635,10,FALSE),0)","v":0},{"$f":"IFERROR(VLOOKUP($A16,FILTRO!$A10:$AY635,11,FALSE),0)","v":0},{"$f":"IFERROR(VLOOKUP($A16,FILTRO!$A10:$AY635,12,FALSE),0)","v":0},{"$f":"IFERROR(VLOOKUP($A16,FILTRO!$A10:$AY635,13,FALSE),0)","v":0},{"$f":"IFERROR(VLOOKUP($A16,FILTRO!$A10:$AY635,14,FALSE),0)","v":0},{"$f":"IFERROR(VLOOKUP($A16,FILTRO!$A10:$AY635,15,FALSE),0)","v":0},{"$f":"IFERROR(VLOOKUP($A16,FILTRO!$A10:$AY635,16,FALSE),0)","v":0},{"$f":"IFERROR(VLOOKUP($A16,FILTRO!$A10:$AY635,17,FALSE),0)","v":0},{"$f":"IFERROR(VLOOKUP($A16,FILTRO!$A10:$AY635,18,FALSE),0)","v":1},{"$f":"IFERROR(VLOOKUP($A16,FILTRO!$A10:$AY635,19,FALSE),0)","v":0},{"$f":"IFERROR(VLOOKUP($A16,FILTRO!$A10:$AY635,20,FALSE),0)","v":0},{"$f":"IFERROR(VLOOKUP($A16,FILTRO!$A10:$AY635,21,FALSE),0)","v":0},{"$f":"IFERROR(VLOOKUP($A16,FILTRO!$A10:$AY635,22,FALSE),0)","v":2},{"$f":"IFERROR(VLOOKUP($A16,FILTRO!$A10:$AY635,23,FALSE),0)","v":0},{"$f":"IFERROR(VLOOKUP($A16,FILTRO!$A10:$AY635,24,FALSE),0)","v":2},{"$f":"IFERROR(VLOOKUP($A16,FILTRO!$A10:$AY635,25,FALSE),0)","v":0},{"$f":"IFERROR(VLOOKUP($A16,FILTRO!$A10:$AY635,26,FALSE),0)","v":0},{"$f":"IFERROR(VLOOKUP($A16,FILTRO!$A10:$AY635,27,FALSE),0)","v":0},{"$f":"IFERROR(VLOOKUP($A16,FILTRO!$A10:$AY635,28,FALSE),0)","v":0},{"$f":"IFERROR(VLOOKUP($A16,FILTRO!$A10:$AY635,29,FALSE),0)","v":0},{"$f":"IFERROR(VLOOKUP($A16,FILTRO!$A10:$AY635,30,FALSE),0)","v":0},{"$f":"IFERROR(VLOOKUP($A16,FILTRO!$A10:$AY635,31,FALSE),0)","v":0},{"$f":"IFERROR(VLOOKUP($A16,FILTRO!$A10:$AY635,32,FALSE),0)","v":0},{"$f":"IFERROR(VLOOKUP($A16,FILTRO!$A10:$AY635,33,FALSE),0)","v":0},{"$f":"IFERROR(VLOOKUP($A16,FILTRO!$A10:$AY635,34,FALSE),0)","v":0},{"$f":"IFERROR(VLOOKUP($A16,FILTRO!$A10:$AY635,35,FALSE),0)","v":0},{"$f":"IFERROR(VLOOKUP($A16,FILTRO!$A10:$AY635,36,FALSE),0)","v":0},{"$f":"IFERROR(VLOOKUP($A16,FILTRO!$A10:$AY635,37,FALSE),0)","v":0},{"$f":"IFERROR(VLOOKUP($A16,FILTRO!$A10:$AY635,38,FALSE),0)","v":0},{"$f":"IFERROR(VLOOKUP($A16,FILTRO!$A10:$AY635,39,FALSE),0)","v":0},{"$f":"IFERROR(VLOOKUP($A16,FILTRO!$A10:$AY635,40,FALSE),0)","v":0},{"$f":"IFERROR(VLOOKUP($A16,FILTRO!$A10:$AY635,41,FALSE),0)","v":0},{"$f":"IFERROR(VLOOKUP($A16,FILTRO!$A10:$AY635,42,FALSE),0)","v":0},{"$f":"IFERROR(VLOOKUP($A16,FILTRO!$A10:$AY635,43,FALSE),0)","v":0},{"$f":"IFERROR(VLOOKUP($A16,FILTRO!$A10:$AY635,44,FALSE),0)","v":0},{"$f":"IFERROR(VLOOKUP($A16,FILTRO!$A10:$AY635,45,FALSE),0)","v":1},{"$f":"IFERROR(VLOOKUP($A16,FILTRO!$A10:$AY635,46,FALSE),0)","v":1},{"$f":"IFERROR(VLOOKUP($A16,FILTRO!$A10:$AY635,47,FALSE),0)","v":0},{"$f":"IFERROR(VLOOKUP($A16,FILTRO!$A10:$AY635,48,FALSE),0)","v":0},{"$nulls":4},{"$f":"IF(($AT16+$AU16)<=$E16,\"\",\"* La suma de las celdas 'Trans' no debe ser mayor al Total de personas bajo control. \")","v":""},null,{"$f":"IF($AV16<=$E16,\"\",\"* La celda de 'Pueblos Originarios' no debe ser mayor al Total de personas bajo control. \")","v":""},{"$f":"IF($AW16<=$E16,\"\",\"* La celda de 'Población Migrantes' no debe ser mayor al Total de personas bajo control. \")","v":""},{"$f":"IF($AX16<=$E16,\"\",\"* La celda de 'Población SENAME' no debe ser mayor al Total de personas bajo control. \")","v":""},{"$f":"IF(AND($E16<>0,$AU16=\"\"),\"* No olvide escribir en la celda de Trans (Digite CERO si no tiene). \",IF(AND(E16<>0,AT16=\"\"),\"* No olvide escribir en la celda Trans (Digite CERO si no tiene). \",\"\"))","v":""},{"$f":"IF(AND($E16<>0,$AV16=\"\"),\"* No olvide escribir en la celda de Pueblos Originarios (Digite CERO si no tiene). \",\"\")","v":""},{"$f":"IF(AND($E16<>0,$AW16=\"\"),\"* No olvide escribir en la celda de Población Migrantes (Digite CERO si no tiene). \",\"\")","v":""},{"$f":"IF(AND($E16<>0,$AX16=\"\"),\"* No olvide escribir en la celda de Población SENAME (Digite CERO si no tiene). \",\"\")","v":""},null,null,{"$f":"IF(($AT16+$AU16)<=$E16,0,1)","v":0},null,{"$f":"IF($AV16<=$E16,0,1)","v":0},{"$f":"IF($AW16<=$E16,0,1)","v":0},{"$f":"IF($AX16<=$E16,0,1)","v":0},{"$f":"IF(AND($E16<>0,$AU16=\"\"),1,0)","v":0},{"$f":"IF(AND($E16<>0,$AV16=\"\"),1,0)","v":0},{"$f":"IF(AND($E16<>0,$AW16=\"\"),1,0)","v":0},{"$f":"IF(AND($E16<>0,$AX16=\"\"),1,0)","v":0}]
["P11000200",null,"NO GESTANTES","Con carga viral <a 1000 copias",{"$f":"IFERROR(VLOOKUP($A17,FILTRO!$A11:$AY636,2,FALSE),0)","v":1934},{"$f":"IFERROR(VLOOKUP($A17,FILTRO!$A11:$AY636,3,FALSE),0)","v":1577},{"$f":"IFERROR(VLOOKUP($A17,FILTRO!$A11:$AY636,4,FALSE),0)","v":357},{"$f":"IFERROR(VLOOKUP($A17,FILTRO!$A11:$AY636,5,FALSE),0)","v":0},{"$f":"IFERROR(VLOOKUP($A17,FILTRO!$A11:$AY636,6,FALSE),0)","v":0},{"$f":"IFERROR(VLOOKUP($A17,FILTRO!$A11:$AY636,7,FALSE),0)","v":0},{"$f":"IFERROR(VLOOKUP($A17,FILTRO!$A11:$AY636,8,FALSE),0)","v":0},{"$f":"IFERROR(VLOOKUP($A17,FILTRO!$A11:$AY636,9,FALSE),0)","v":1},{"$f":"IFERROR(VLOOKUP($A17,FILTRO!$A11:$AY636,10,FALSE),0)","v":0},{"$f":"IFERROR(VLOOKUP($A17,FILTRO!$A11:$AY636,11,FALSE),0)","v":0},{"$f":"IFERROR(VLOOKUP($A17,FILTRO!$A11:$AY636,12,FALSE),0)","v":0},{"$f":"IFERROR(VLOOKUP($A17,FILTRO!$A11:$AY636,13,FALSE),0)","v":2},{"$f":"IFERROR(VLOOKUP($A17,FILTRO!$A11:$AY636,14,FALSE),0)","v":3},{"$f":"IFERROR(VLOOKUP($A17,FILTRO!$A11:$AY636,15,FALSE),0)","v":5},{"$f":"IFERROR(VLOOKUP($A17,FILTRO!$A11:$AY636,16,FALSE),0)","v":5},{"$f":"IFERROR(VLOOKUP($A17,FILTRO!$A11:$AY636,17,FALSE),0)","v":68},{"$f":"IFERROR(VLOOKUP($A17,FILTRO!$A11:$AY636,18,FALSE),0)","v":9},{"$f":"IFERROR(VLOOKUP($A17,FILTRO!$A11:$AY636,19,FALSE),0)","v":212},{"$f":"IFERROR(VLOOKUP($A17,FILTRO!$A11:$AY636,20,FALSE),0)","v":23},{"$f":"IFERROR(VLOOKUP($A17,FILTRO!$A11:$AY636,21,FALSE),0)","v":327},{"$f":"IFERROR(VLOOKUP($A17,FILTRO!$A11:$AY636,22,FALSE),0)","v":39},{"$f":"IFERROR(VLOOKUP($A17,FILTRO!$A11:$AY636,23,FALSE),0)","v":231},{"$f":"IFERROR(VLOOKUP($A17,FILTRO!$A11:$AY636,24,FALSE),0)","v":50},{"$f":"IFERROR(VLOOKUP($A17,FILTRO!$A11:$AY636,25,FALSE),0)","v":219},{"$f":"IFERROR(VLOOKUP($A17,FILTRO!$A11:$AY636,26,FALSE),0)","v":50},{"$f":"IFERROR(VLOOKUP($A17,FILTRO!$A11:$AY636,27,FALSE),0)","v":136},{"$f":"IFERROR(VLOOKUP($A17,FILTRO!$A11:$AY636,28,FALSE),0)","v":43},{"$f":"IFERROR(VLOOKUP($A17,FILTRO!$A11:$AY636,29,FALSE),0)","v":139},{"$f":"IFERROR(VLOOKUP($A17,FILTRO!$A11:$AY636,30,FALSE),0)","v":44},{"$f":"IFERROR(VLOOKUP($A17,FILTRO!$A11:$AY636,31,FALSE),0)","v":96},{"$f":"IFERROR(VLOOKUP($A17,FILTRO!$A11:$AY636,32,FALSE),0)","v":42},{"$f":"IFERROR(VLOOKUP($A17,FILTRO!$A11:$AY636,33,FALSE),0)","v":76},{"$f":"IFERROR(VLOOKUP($A17,FILTRO!$A11:$AY636,34,FALSE),0)","v":25},{"$f":"IFERROR(VLOOKUP($A17,FILTRO!$A11:$AY636,35,FALSE),0)","v":26},{"$f":"IFERROR(VLOOKUP($A17,FILTRO!$A11:$AY636,36,FALSE),0)","v":12},{"$f":"IFERROR(VLOOKUP($A17,FILTRO!$A11:$AY636,37,FALSE),0)","v":21},{"$f":"IFERROR(VLOOKUP($A17,FILTRO!$A11:$AY636,38,FALSE),0)","v":11},{"$f":"IFERROR(VLOOKUP($A17,FILTRO!$A11:$AY636,39,FALSE),0)","v":12},{"$f":"IFERROR(VLOOKUP($A17,FILTRO!$A11:$AY636,40,FALSE),0)","v":0},{"$f":"IFERROR(VLOOKUP($A17,FILTRO!$A11:$AY636,41,FALSE),0)","v":6},{"$f":"IFERROR(VLOOKUP($A17,FILTRO!$A11:$AY636,42,FALSE),0)","v":1},{"$f":"IFERROR(VLOOKUP($A17,FILTRO!$A11:$AY636,43,FALSE),0)","v":12},{"$f":"IFERROR(VLOOKUP($A17,FILTRO!$A11:$AY636,44,FALSE),0)","v":0},{"$f":"IFERROR(VLOOKUP($A17,FILTRO!$A11:$AY636,45,FALSE),0)","v":4},{"$f":"IFERROR(VLOOKUP($A17,FILTRO!$A11:$AY636,46,FALSE),0)","v":143},{"$f":"IFERROR(VLOOKUP($A17,FILTRO!$A11:$AY636,47,FALSE),0)","v":0},{"$f":"IFERROR(VLOOKUP($A17,FILTRO!$A11:$AY636,48,FALSE),0)","v":0},{"$nulls":4},"",null,"","","","","","","",null,null,0,null,0,0,0,0,0,0,0]
[null,"SECCION B: POBLACIÓN EN CONTROL POR COMERCIO SEXUAL (Uso exclusivo de Unidades Control Comercio Sexual)"]
[null,"CONCEPTO","TOTAL",null,null,"GRUPOS DE EDAD (en años)",{"$nulls":27},"TRANS",null,"Pueblos Originarios","Migrantes",{"$nulls":19},"TRANS",null,"Pueblos Originarios","Población Migrantes","TRANS","Pueblos Originarios","Población Migrantes",{"$nulls":4},"TRANS",null,"Pueblos Originarios","Población Migrantes","TRANS","Pueblos Originarios","Población Migrantes"]
[{"$nulls":5},"15 a 19 años",null,"20 a 24 años",null,"25 a 29 años",null,"30 a 34 años",null,"35 a 39 años",null,"40 a 44 años",null,"45 a 49 años",null,"50 a 54 años",null,"55 a 59 años",null,"60 a 64 años",null,"65 a 69 años",null,"70 a 74 años",null,"75 a 79 años",null,"80 y más años"]
[null,null,"Ambos\nsexos","Hombres","Mujeres","Hombres ","Mujeres","Hombres ","Mujeres","Hombres ","Mujeres","Hombres ","Mujeres","Hombres ","Mujeres","Hombres ","Mujeres","Hombres ","Mujeres","Hombres ","Mujeres","Hombres ","Mujeres","Hombres ","Mujeres","Hombres ","Mujeres","Hombres ","Mujeres","Hombres ","Mujeres","Hombres ","Mujeres","Masculino","Femenino",{"$nulls":21},"Masculino","Femenino (NO)",null,null,"No Olvide","No Olvide","No Olvide",{"$nulls":4},"Masculino","Femenino (NO)",null,null,"No Olvide","No Olvide","No Olvide"]
["P11000140","Nº DE PERSONAS / COMERCIO SEXUAL",{"$f":"IFERROR(VLOOKUP($A22,FILTRO!$A16:$AY641,2,FALSE),0)","v":12},{"$f":"IFERROR(VLOOKUP($A22,FILTRO!$A16:$AY641,3,FALSE),0)","v":2},{"$f":"IFERROR(VLOOKUP($A22,FILTRO!$A16:$AY641,4,FALSE),0)","v":10},{"$f":"IFERROR(VLOOKUP($A22,FILTRO!$A16:$AY641,5,FALSE),0)","v":0},{"$f":"IFERROR(VLOOKUP($A22,FILTRO!$A16:$AY641,6,FALSE),0)","v":0},{"$f":"IFERROR(VLOOKUP($A22,FILTRO!$A16:$AY641,7,FALSE),0)","v":0},{"$f":"IFERROR(VLOOKUP($A22,FILTRO!$A16:$AY641,8,FALSE),0)","v":0},{"$f":"IFERROR(VLOOKUP($A22,FILTRO!$A16:$AY641,9,FALSE),0)","v":1},{"$f":"IFERROR(VLOOKUP($A22,FILTRO!$A16:$AY641,10,FALSE),0)","v":1},{"$f":"IFERROR(VLOOKUP($A22,FILTRO!$A16:$AY641,11,FALSE),0)","v":0},{"$f":"IFERROR(VLOOKUP($A22,FILTRO!$A16:$AY641,12,FALSE),0)","v":0},{"$f":"IFERROR(VLOOKUP($A22,FILTRO!$A16:$AY641,13,FALSE),0)","v":1},{"$f":"IFERROR(VLOOKUP($A22,FILTRO!$A16:$AY641,14,FALSE),0)","v":5},{"$f":"IFERROR(VLOOKUP($A22,FILTRO!$A16:$AY641,15,FALSE),0)","v":0},{"$f":"IFERROR(VLOOKUP($A22,FILTRO!$A16:$AY641,16,FALSE),0)","v":2},{"$f":"IFERROR(VLOOKUP($A22,FILTRO!$A16:$AY641,17,FALSE),0)","v":0},{"$f":"IFERROR(VLOOKUP($A22,FILTRO!$A16:$AY641,18,FALSE),0)","v":2},{"$f":"IFERROR(VLOOKUP($A22,FILTRO!$A16:$AY641,19,FALSE),0)","v":0},{"$f":"IFERROR(VLOOKUP($A22,FILTRO!$A16:$AY641,20,FALSE),0)","v":0},{"$f":"IFERROR(VLOOKUP($A22,FILTRO!$A16:$AY641,21,FALSE),0)","v":0},{"$f":"IFERROR(VLOOKUP($A22,FILTRO!$A16:$AY641,22,FALSE),0)","v":0},{"$f":"IFERROR(VLOOKUP($A22,FILTRO!$A16:$AY641,23,FALSE),0)","v":0},{"$f":"IFERROR(VLOOKUP($A22,FILTRO!$A16:$AY641,24,FALSE),0)","v":0},{"$f":"IFERROR(VLOOKUP($A22,FILTRO!$A16:$AY641,25,FALSE),0)","v":0},{"$f":"IFERROR(VLOOKUP($A22,FILTRO!$A16:$AY641,26,FALSE),0)","v":0},{"$f":"IFERROR(VLOOKUP($A22,FILTRO!$A16:$AY641,27,FALSE),0)","v":0},{"$f":"IFERROR(VLOOKUP($A22,FILTRO!$A16:$AY641,28,FALSE),0)","v":0},{"$f":"IFERROR(VLOOKUP($A22,FILTRO!$A16:$AY641,29,FALSE),0)","v":0},{"$f":"IFERROR(VLOOKUP($A22,FILTRO!$A16:$AY641,30,FALSE),0)","v":0},{"$f":"IFERROR(VLOOKUP($A22,FILTRO!$A16:$AY641,31,FALSE),0)","v":0},{"$f":"IFERROR(VLOOKUP($A22,FILTRO!$A16:$AY641,32,FALSE),0)","v":0},{"$f":"IFERROR(VLOOKUP($A22,FILTRO!$A16:$AY641,33,FALSE),0)","v":0},{"$f":"IFERROR(VLOOKUP($A22,FILTRO!$A16:$AY641,34,FALSE),0)","v":0},{"$f":"IFERROR(VLOOKUP($A22,FILTRO!$A16:$AY641,35,FALSE),0)","v":0},{"$f":"IFERROR(VLOOKUP($A22,FILTRO!$A16:$AY641,36,FALSE),0)","v":7},{"$f":" BE22 & BF22 & BG22 & BH22 & BI22 & BJ22 & BK22","v":""},{"$nulls":18},{"$f":"IF(($AH22+$AI22)<=$C22,\"\",\"* La suma de las celdas 'Trans' no debe ser mayor al Total de personas bajo control. \")","v":""},null,{"$f":"IF($AJ22<=$C22,\"\",\"* La celda de 'Pueblos Originarios' no debe ser mayor al Total de personas bajo control. \")","v":""},{"$f":"IF($AK22<=$C22,\"\",\"* La celda de 'Población Migrantes' no debe ser mayor al Total de personas bajo control. \")","v":""},{"$f":"IF(AND($C22<>0,$AH22=\"\"),\"* No olvide escribir en la celda de Trans (Digite CERO si no tiene). \",IF(AND($C22<>0,$AI22=\"\"),\"* No olvide escribir en la celda Trans (Digite CERO si no tiene). \",\"\"))","v":""},{"$f":"IF(AND($C22<>0,$AJ22=\"\"),\"* No olvide escribir en la celda de Pueblos Originarios (Digite CERO si no tiene). \",\"\")","v":""},{"$f":"IF(AND($C22<>0,$AK22=\"\"),\"* No olvide escribir en la celda de Población Migrantes (Digite CERO si no tiene). \",\"\")","v":""},{"$nulls":4},{"$f":"IF(($AH22+$AI22)<=$C22,0,1)","v":0},{"$f":"IF($AI22<=$E22,0,0)","v":0},{"$f":"IF($AJ22<=$C22,0,1)","v":0},{"$f":"IF($AK22<=$C22,0,1)","v":0},{"$f":"IF(AND($C22<>0,$AH22=\"\"),1,IF(AND($C22<>0,$AI22=\"\"),1,0))","v":0},{"$f":"IF(AND($C22<>0,$AJ22=\"\"),1,0)","v":0},{"$f":"IF(AND($C22<>0,$AK22=\"\"),1,0)","v":0}]
{"$rows_empty":10}
[null,{"$f":"SUM(E12:AW14,C22:AK22)","v":7093},"datos"]
[null,{"$f":"SUM(BO12:BW22)","v":0},"errores"]

{"sheet":"P12","index":11,"n_rows":200,"n_cols":13,"rows_kept":200,"merged":[[4,14,4,15],[6,1,6,11],[23,1,23,3],[24,1,24,11],[25,1,27,1],[25,2,25,12],[26,2,27,2],[26,3,27,3],[26,4,26,5],[26,6,26,11],[26,12,27,12],[42,1,42,3],[43,1,43,11],[44,1,46,1],[44,2,44,12],[45,2,46,2],[45,3,46,3],[45,4,45,5],[45,6,45,11],[45,12,46,12],[98,1,98,11],[99,1,101,1],[99,2,99,7],[100,2,101,2],[100,3,101,3],[100,4,100,6],[100,7,101,7],[115,1,115,11],[116,1,118,1],[116,2,116,7],[117,2,118,2],[117,3,118,3],[117,4,117,6],[117,7,118,7]]}
[null,"DATOS DEL ESTABLECIMIENTO"]
[null,{"$f":"CONCATENATE(\"COMUNA: \",NOMBRE!$B$2,\" - \",\"( \",NOMBRE!$C$2,NOMBRE!$D$2,NOMBRE!$E$2,NOMBRE!$F$2,NOMBRE!$G$2,\" )\")","v":"COMUNA:  - (  )"}]
[null,{"$f":"CONCATENATE(\"ESTABLECIMIENTO/ESTRATEGIA: \",NOMBRE!$B$3,\" - \",\"( \",NOMBRE!$C$3,NOMBRE!$D$3,NOMBRE!$E$3,NOMBRE!$F$3,NOMBRE!$G$3,NOMBRE!$H$3,\" )\")","v":"ESTABLECIMIENTO/ESTRATEGIA:  - (  )"}]
[null,{"$f":"CONCATENATE(\"MES: \",NOMBRE!$B$6,\" - \",\"( \",NOMBRE!$C$6,NOMBRE!$D$6,\" )\")","v":"MES:  - (  )"}]
[null,{"$f":"CONCATENATE(\"AÑO: \",NOMBRE!$B$7)","v":"AÑO: 2023"}]
[]
[null,"REM-P12. PERSONAS CON TAMIZAJE PARA LA DETECCIÓN PRECOZ DE CÁNCER DE CUELLO UTERINO – \nMAMOGRAFIA - EXAMEN FISICO DE MAMA VIGENTES Y PRODUCCION DE PAP Y VPH (SEMESTRAL)"]
[null,"SECCION A: PROGRAMA DE CANCER DE CUELLO UTERINO: POBLACIÓN CON TAMIZAJE VIGENTE \nPARA LA DETECCIÓN PRECOZ DEL CÁNCER DE CUELLO UTERINO"]
[null,"GRUPOS DE EDAD (en años)","Mujeres\ncon Tamizaje Vigente \npara la Detección Precoz de Cáncer de Cuello Uterino","Trans Masculino\ncon Tamizaje Vigente \npara la Detección Precoz de Cáncer de Cuello Uterino"]
["P1207150","Menor de 25 años",{"$f":"IFERROR(VLOOKUP($A10,FILTRO!$A4:$AY629,2,FALSE),0)","v":5831},{"$f":"IFERROR(VLOOKUP($A10,FILTRO!$A4:$AY629,3,FALSE),0)","v":0}]
["P1206010","25 a 29 años ",{"$f":"IFERROR(VLOOKUP($A11,FILTRO!$A5:$AY630,2,FALSE),0)","v":9131},{"$f":"IFERROR(VLOOKUP($A11,FILTRO!$A5:$AY630,3,FALSE),0)","v":0}]
["P1206020","30 a 34 años",{"$f":"IFERROR(VLOOKUP($A12,FILTRO!$A6:$AY631,2,FALSE),0)","v":9559},{"$f":"IFERROR(VLOOKUP($A12,FILTRO!$A6:$AY631,3,FALSE),0)","v":0}]
["P1206030","35 a 39 años",{"$f":"IFERROR(VLOOKUP($A13,FILTRO!$A7:$AY632,2,FALSE),0)","v":8440},{"$f":"IFERROR(VLOOKUP($A13,FILTRO!$A7:$AY632,3,FALSE),0)","v":0}]
["P1206040","40 a 44 años",{"$f":"IFERROR(VLOOKUP($A14,FILTRO!$A8:$AY633,2,FALSE),0)","v":7751},{"$f":"IFERROR(VLOOKUP($A14,FILTRO!$A8:$AY633,3,FALSE),0)","v":0}]
["P1206050","45 a 49 años",{"$f":"IFERROR(VLOOKUP($A15,FILTRO!$A9:$AY634,2,FALSE),0)","v":7574},{"$f":"IFERROR(VLOOKUP($A15,FILTRO!$A9:$AY634,3,FALSE),0)","v":0}]
["P1206060","50 a 54 años",{"$f":"IFERROR(VLOOKUP($A16,FILTRO!$A10:$AY635,2,FALSE),0)","v":7408},{"$f":"IFERROR(VLOOKUP($A16,FILTRO!$A10:$AY635,3,FALSE),0)","v":0}]
["P1206070","55 a 59 años",{"$f":"IFERROR(VLOOKUP($A17,FILTRO!$A11:$AY636,2,FALSE),0)","v":6987},{"$f":"IFERROR(VLOOKUP($A17,FILTRO!$A11:$AY636,3,FALSE),0)","v":0}]
["P1206080","60 a 64 años",{"$f":"IFERROR(VLOOKUP($A18,FILTRO!$A12:$AY637,2,FALSE),0)","v":5683},{"$f":"IFERROR(VLOOKUP($A18,FILTRO!$A12:$AY637,3,FALSE),0)","v":0}]
["P1207160","65 a 69 años",{"$f":"IFERROR(VLOOKUP($A19,FILTRO!$A13:$AY638,2,FALSE),0)","v":2376},{"$f":"IFERROR(VLOOKUP($A19,FILTRO!$A13:$AY638,3,FALSE),0)","v":0}]
["P1230001","70 a 74 años",{"$f":"IFERROR(VLOOKUP($A20,FILTRO!$A14:$AY639,2,FALSE),0)","v":554},{"$f":"IFERROR(VLOOKUP($A20,FILTRO!$A14:$AY639,3,FALSE),0)","v":0}]
["P1230002","75 a 79 años",{"$f":"IFERROR(VLOOKUP($A21,FILTRO!$A15:$AY640,2,FALSE),0)","v":197},{"$f":"IFERROR(VLOOKUP($A21,FILTRO!$A15:$AY640,3,FALSE),0)","v":0}]
["P1230003","80 y más años",{"$f":"IFERROR(VLOOKUP($A22,FILTRO!$A16:$AY641,2,FALSE),0)","v":47},{"$f":"IFERROR(VLOOKUP($A22,FILTRO!$A16:$AY641,3,FALSE),0)","v":0}]
[null,"TOTAL",{"$f":"SUM(C10:C22)","v":71538},{"$f":"SUM(D10:D22)","v":0}]
[null,"(*) FUENTE DE INFORMACIÓN: CITOEXPERT O REVICAN"]
[null,"SECCIÓN B. PROGRAMA DE CANCER DE CUELLO UTERINO: PAP REALIZADOS E INFORMADOS SEGÚN RESULTADOS Y GRUPOS DE EDAD\n(Examen realizados en la red pública)"]
[null,"GRUPO DE EDAD \n(en años)","PAP INFORMADOS SEGÚN RESULTADO"]
[null,null,"TOTAL","NORMALES","INADECUADOS Y ATIPICOS",null,"POSITIVOS",{"$nulls":5},"TOTAL PAP INFORMADOS EN TRANS MASCULINO "]
[{"$nulls":4},"INADECUADOS","ATIPICOS"," HPV","NIE I","NIE II"," NIE III","Ca. Inv. (Epidermoide)","Ca. Inv. (Adenocarcinoma)"]
["P1207170","Menor de 25 años",{"$f":"IFERROR(VLOOKUP($A29,FILTRO!$A23:$AY648,2,FALSE),0)","v":1348},{"$f":"IFERROR(VLOOKUP($A29,FILTRO!$A23:$AY648,3,FALSE),0)","v":1102},{"$f":"IFERROR(VLOOKUP($A29,FILTRO!$A23:$AY648,4,FALSE),0)","v":170},{"$f":"IFERROR(VLOOKUP($A29,FILTRO!$A23:$AY648,5,FALSE),0)","v":34},{"$f":"IFERROR(VLOOKUP($A29,FILTRO!$A23:$AY648,6,FALSE),0)","v":13},{"$f":"IFERROR(VLOOKUP($A29,FILTRO!$A23:$AY648,7,FALSE),0)","v":17},{"$f":"IFERROR(VLOOKUP($A29,FILTRO!$A23:$AY648,8,FALSE),0)","v":10},{"$f":"IFERROR(VLOOKUP($A29,FILTRO!$A23:$AY648,9,FALSE),0)","v":2},{"$f":"IFERROR(VLOOKUP($A29,FILTRO!$A23:$AY648,10,FALSE),0)","v":0},{"$f":"IFERROR(VLOOKUP($A29,FILTRO!$A23:$AY648,11,FALSE),0)","v":0},{"$f":"IFERROR(VLOOKUP($A29,FILTRO!$A23:$AY648,12,FALSE),0)","v":0}]
["P1207010","25 a 29 años ",{"$f":"IFERROR(VLOOKUP($A30,FILTRO!$A24:$AY649,2,FALSE),0)","v":2657},{"$f":"IFERROR(VLOOKUP($A30,FILTRO!$A24:$AY649,3,FALSE),0)","v":2211},{"$f":"IFERROR(VLOOKUP($A30,FILTRO!$A24:$AY649,4,FALSE),0)","v":320},{"$f":"IFERROR(VLOOKUP($A30,FILTRO!$A24:$AY649,5,FALSE),0)","v":73},{"$f":"IFERROR(VLOOKUP($A30,FILTRO!$A24:$AY649,6,FALSE),0)","v":17},{"$f":"IFERROR(VLOOKUP($A30,FILTRO!$A24:$AY649,7,FALSE),0)","v":21},{"$f":"IFERROR(VLOOKUP($A30,FILTRO!$A24:$AY649,8,FALSE),0)","v":5},{"$f":"IFERROR(VLOOKUP($A30,FILTRO!$A24:$AY649,9,FALSE),0)","v":8},{"$f":"IFERROR(VLOOKUP($A30,FILTRO!$A24:$AY649,10,FALSE),0)","v":1},{"$f":"IFERROR(VLOOKUP($A30,FILTRO!$A24:$AY649,11,FALSE),0)","v":1},{"$f":"IFERROR(VLOOKUP($A30,FILTRO!$A24:$AY649,12,FALSE),0)","v":0}]
["P1207020","30 a 34 años",{"$f":"IFERROR(VLOOKUP($A31,FILTRO!$A25:$AY650,2,FALSE),0)","v":2775},{"$f":"IFERROR(VLOOKUP($A31,FILTRO!$A25:$AY650,3,FALSE),0)","v":2285},{"$f":"IFERROR(VLOOKUP($A31,FILTRO!$A25:$AY650,4,FALSE),0)","v":285},{"$f":"IFERROR(VLOOKUP($A31,FILTRO!$A25:$AY650,5,FALSE),0)","v":52},{"$f":"IFERROR(VLOOKUP($A31,FILTRO!$A25:$AY650,6,FALSE),0)","v":102},{"$f":"IFERROR(VLOOKUP($A31,FILTRO!$A25:$AY650,7,FALSE),0)","v":15},{"$f":"IFERROR(VLOOKUP($A31,FILTRO!$A25:$AY650,8,FALSE),0)","v":11},{"$f":"IFERROR(VLOOKUP($A31,FILTRO!$A25:$AY650,9,FALSE),0)","v":23},{"$f":"IFERROR(VLOOKUP($A31,FILTRO!$A25:$AY650,10,FALSE),0)","v":1},{"$f":"IFERROR(VLOOKUP($A31,FILTRO!$A25:$AY650,11,FALSE),0)","v":1},{"$f":"IFERROR(VLOOKUP($A31,FILTRO!$A25:$AY650,12,FALSE),0)","v":0}]
["P1208020","35 a 39 años",{"$f":"IFERROR(VLOOKUP($A32,FILTRO!$A26:$AY651,2,FALSE),0)","v":2437},{"$f":"IFERROR(VLOOKUP($A32,FILTRO!$A26:$AY651,3,FALSE),0)","v":1993},{"$f":"IFERROR(VLOOKUP($A32,FILTRO!$A26:$AY651,4,FALSE),0)","v":242},{"$f":"IFERROR(VLOOKUP($A32,FILTRO!$A26:$AY651,5,FALSE),0)","v":52},{"$f":"IFERROR(VLOOKUP($A32,FILTRO!$A26:$AY651,6,FALSE),0)","v":112},{"$f":"IFERROR(VLOOKUP($A32,FILTRO!$A26:$AY651,7,FALSE),0)","v":12},{"$f":"IFERROR(VLOOKUP($A32,FILTRO!$A26:$AY651,8,FALSE),0)","v":8},{"$f":"IFERROR(VLOOKUP($A32,FILTRO!$A26:$AY651,9,FALSE),0)","v":15},{"$f":"IFERROR(VLOOKUP($A32,FILTRO!$A26:$AY651,10,FALSE),0)","v":3},{"$f":"IFERROR(VLOOKUP($A32,FILTRO!$A26:$AY651,11,FALSE),0)","v":0},{"$f":"IFERROR(VLOOKUP($A32,FILTRO!$A26:$AY651,12,FALSE),0)","v":0}]
["P1208030","40 a 44 años",{"$f":"IFERROR(VLOOKUP($A33,FILTRO!$A27:$AY652,2,FALSE),0)","v":2275},{"$f":"IFERROR(VLOOKUP($A33,FILTRO!$A27:$AY652,3,FALSE),0)","v":1906},{"$f":"IFERROR(VLOOKUP($A33,FILTRO!$A27:$AY652,4,FALSE),0)","v":204},{"$f":"IFERROR(VLOOKUP($A33,FILTRO!$A27:$AY652,5,FALSE),0)","v":36},{"$f":"IFERROR(VLOOKUP($A33,FILTRO!$A27:$AY652,6,FALSE),0)","v":92},{"$f":"IFERROR(VLOOKUP($A33,FILTRO!$A27:$AY652,7,FALSE),0)","v":10},{"$f":"IFERROR(VLOOKUP($A33,FILTRO!$A27:$AY652,8,FALSE),0)","v":6},{"$f":"IFERROR(VLOOKUP($A33,FILTRO!$A27:$AY652,9,FALSE),0)","v":19},{"$f":"IFERROR(VLOOKUP($A33,FILTRO!$A27:$AY652,10,FALSE),0)","v":2},{"$f":"IFERROR(VLOOKUP($A33,FILTRO!$A27:$AY652,11,FALSE),0)","v":0},{"$f":"IFERROR(VLOOKUP($A33,FILTRO!$A27:$AY652,12,FALSE),0)","v":0}]
["P1208040","45 a 49 años",{"$f":"IFERROR(VLOOKUP($A34,FILTRO!$A28:$AY653,2,FALSE),0)","v":2312},{"$f":"IFERROR(VLOOKUP($A34,FILTRO!$A28:$AY653,3,FALSE),0)","v":1985},{"$f":"IFERROR(VLOOKUP($A34,FILTRO!$A28:$AY653,4,FALSE),0)","v":181},{"$f":"IFERROR(VLOOKUP($A34,FILTRO!$A28:$AY653,5,FALSE),0)","v":46},{"$f":"IFERROR(VLOOKUP($A34,FILTRO!$A28:$AY653,6,FALSE),0)","v":80},{"$f":"IFERROR(VLOOKUP($A34,FILTRO!$A28:$AY653,7,FALSE),0)","v":7},{"$f":"IFERROR(VLOOKUP($A34,FILTRO!$A28:$AY653,8,FALSE),0)","v":3},{"$f":"IFERROR(VLOOKUP($A34,FILTRO!$A28:$AY653,9,FALSE),0)","v":7},{"$f":"IFERROR(VLOOKUP($A34,FILTRO!$A28:$AY653,10,FALSE),0)","v":3},{"$f":"IFERROR(VLOOKUP($A34,FILTRO!$A28:$AY653,11,FALSE),0)","v":0},{"$f":"IFERROR(VLOOKUP($A34,FILTRO!$A28:$AY653,12,FALSE),0)","v":0}]
["P1208050","50 a 54 años",{"$f":"IFERROR(VLOOKUP($A35,FILTRO!$A29:$AY654,2,FALSE),0)","v":2158},{"$f":"IFERROR(VLOOKUP($A35,FILTRO!$A29:$AY654,3,FALSE),0)","v":1897},{"$f":"IFERROR(VLOOKUP($A35,FILTRO!$A29:$AY654,4,FALSE),0)","v":165},{"$f":"IFERROR(VLOOKUP($A35,FILTRO!$A29:$AY654,5,FALSE),0)","v":25},{"$f":"IFERROR(VLOOKUP($A35,FILTRO!$A29:$AY654,6,FALSE),0)","v":58},{"$f":"IFERROR(VLOOKUP($A35,FILTRO!$A29:$AY654,7,FALSE),0)","v":3},{"$f":"IFERROR(VLOOKUP($A35,FILTRO!$A29:$AY654,8,FALSE),0)","v":2},{"$f":"IFERROR(VLOOKUP($A35,FILTRO!$A29:$AY654,9,FALSE),0)","v":7},{"$f":"IFERROR(VLOOKUP($A35,FILTRO!$A29:$AY654,10,FALSE),0)","v":1},{"$f":"IFERROR(VLOOKUP($A35,FILTRO!$A29:$AY654,11,FALSE),0)","v":0},{"$f":"IFERROR(VLOOKUP($A35,FILTRO!$A29:$AY654,12,FALSE),0)","v":0}]
["P1208060","55 a 59 años",{"$f":"IFERROR(VLOOKUP($A36,FILTRO!$A30:$AY655,2,FALSE),0)","v":2101},{"$f":"IFERROR(VLOOKUP($A36,FILTRO!$A30:$AY655,3,FALSE),0)","v":1784},{"$f":"IFERROR(VLOOKUP($A36,FILTRO!$A30:$AY655,4,FALSE),0)","v":191},{"$f":"IFERROR(VLOOKUP($A36,FILTRO!$A30:$AY655,5,FALSE),0)","v":31},{"$f":"IFERROR(VLOOKUP($A36,FILTRO!$A30:$AY655,6,FALSE),0)","v":85},{"$f":"IFERROR(VLOOKUP($A36,FILTRO!$A30:$AY655,7,FALSE),0)","v":1},{"$f":"IFERROR(VLOOKUP($A36,FILTRO!$A30:$AY655,8,FALSE),0)","v":4},{"$f":"IFERROR(VLOOKUP($A36,FILTRO!$A30:$AY655,9,FALSE),0)","v":4},{"$f":"IFERROR(VLOOKUP($A36,FILTRO!$A30:$AY655,10,FALSE),0)","v":1},{"$f":"IFERROR(VLOOKUP($A36,FILTRO!$A30:$AY655,11,FALSE),0)","v":0},{"$f":"IFERROR(VLOOKUP($A36,FILTRO!$A30:$AY655,12,FALSE),0)","v":0}]
["P1208070","60 a 64 años",{"$f":"IFERROR(VLOOKUP($A37,FILTRO!$A31:$AY656,2,FALSE),0)","v":1690},{"$f":"IFERROR(VLOOKUP($A37,FILTRO!$A31:$AY656,3,FALSE),0)","v":1472},{"$f":"IFERROR(VLOOKUP($A37,FILTRO!$A31:$AY656,4,FALSE),0)","v":146},{"$f":"IFERROR(VLOOKUP($A37,FILTRO!$A31:$AY656,5,FALSE),0)","v":19},{"$f":"IFERROR(VLOOKUP($A37,FILTRO!$A31:$AY656,6,FALSE),0)","v":47},{"$f":"IFERROR(VLOOKUP($A37,FILTRO!$A31:$AY656,7,FALSE),0)","v":2},{"$f":"IFERROR(VLOOKUP($A37,FILTRO!$A31:$AY656,8,FALSE),0)","v":0},{"$f":"IFERROR(VLOOKUP($A37,FILTRO!$A31:$AY656,9,FALSE),0)","v":2},{"$f":"IFERROR(VLOOKUP($A37,FILTRO!$A31:$AY656,10,FALSE),0)","v":1},{"$f":"IFERROR(VLOOKUP($A37,FILTRO!$A31:$AY656,11,FALSE),0)","v":1},{"$f":"IFERROR(VLOOKUP($A37,FILTRO!$A31:$AY656,12,FALSE),0)","v":0}]
["P1208080","65 a 69 años",{"$f":"IFERROR(VLOOKUP($A38,FILTRO!$A32:$AY657,2,FALSE),0)","v":617},{"$f":"IFERROR(VLOOKUP($A38,FILTRO!$A32:$AY657,3,FALSE),0)","v":553},{"$f":"IFERROR(VLOOKUP($A38,FILTRO!$A32:$AY657,4,FALSE),0)","v":53},{"$f":"IFERROR(VLOOKUP($A38,FILTRO!$A32:$AY657,5,FALSE),0)","v":6},{"$f":"IFERROR(VLOOKUP($A38,FILTRO!$A32:$AY657,6,FALSE),0)","v":2},{"$f":"IFERROR(VLOOKUP($A38,FILTRO!$A32:$AY657,7,FALSE),0)","v":1},{"$f":"IFERROR(VLOOKUP($A38,FILTRO!$A32:$AY657,8,FALSE),0)","v":0},{"$f":"IFERROR(VLOOKUP($A38,FILTRO!$A32:$AY657,9,FALSE),0)","v":1},{"$f":"IFERROR(VLOOKUP($A38,FILTRO!$A32:$AY657,10,FALSE),0)","v":0},{"$f":"IFERROR(VLOOKUP($A38,FILTRO!$A32:$AY657,11,FALSE),0)","v":1},{"$f":"IFERROR(VLOOKUP($A38,FILTRO!$A32:$AY657,12,FALSE),0)","v":0}]
["P1208090","70 a 74 años",{"$f":"IFERROR(VLOOKUP($A39,FILTRO!$A33:$AY658,2,FALSE),0)","v":166},{"$f":"IFERROR(VLOOKUP($A39,FILTRO!$A33:$AY658,3,FALSE),0)","v":154},{"$f":"IFERROR(VLOOKUP($A39,FILTRO!$A33:$AY658,4,FALSE),0)","v":5},{"$f":"IFERROR(VLOOKUP($A39,FILTRO!$A33:$AY658,5,FALSE),0)","v":5},{"$f":"IFERROR(VLOOKUP($A39,FILTRO!$A33:$AY658,6,FALSE),0)","v":0},{"$f":"IFERROR(VLOOKUP($A39,FILTRO!$A33:$AY658,7,FALSE),0)","v":2},{"$f":"IFERROR(VLOOKUP($A39,FILTRO!$A33:$AY658,8,FALSE),0)","v":0},{"$f":"IFERROR(VLOOKUP($A39,FILTRO!$A33:$AY658,9,FALSE),0)","v":0},{"$f":"IFERROR(VLOOKUP($A39,FILTRO!$A33:$AY658,10,FALSE),0)","v":0},{"$f":"IFERROR(VLOOKUP($A39,FILTRO!$A33:$AY658,11,FALSE),0)","v":0},{"$f":"IFERROR(VLOOKUP($A39,FILTRO!$A33:$AY658,12,FALSE),0)","v":0}]
["P1208100","75 a 79 años",{"$f":"IFERROR(VLOOKUP($A40,FILTRO!$A34:$AY659,2,FALSE),0)","v":47},{"$f":"IFERROR(VLOOKUP($A40,FILTRO!$A34:$AY659,3,FALSE),0)","v":45},{"$f":"IFERROR(VLOOKUP($A40,FILTRO!$A34:$AY659,4,FALSE),0)","v":1},{"$f":"IFERROR(VLOOKUP($A40,FILTRO!$A34:$AY659,5,FALSE),0)","v":1},{"$f":"IFERROR(VLOOKUP($A40,FILTRO!$A34:$AY659,6,FALSE),0)","v":0},{"$f":"IFERROR(VLOOKUP($A40,FILTRO!$A34:$AY659,7,FALSE),0)","v":0},{"$f":"IFERROR(VLOOKUP($A40,FILTRO!$A34:$AY659,8,FALSE),0)","v":0},{"$f":"IFERROR(VLOOKUP($A40,FILTRO!$A34:$AY659,9,FALSE),0)","v":0},{"$f":"IFERROR(VLOOKUP($A40,FILTRO!$A34:$AY659,10,FALSE),0)","v":0},{"$f":"IFERROR(VLOOKUP($A40,FILTRO!$A34:$AY659,11,FALSE),0)","v":0},{"$f":"IFERROR(VLOOKUP($A40,FILTRO!$A34:$AY659,12,FALSE),0)","v":0}]
["P1230004","80 y más años",{"$f":"IFERROR(VLOOKUP($A41,FILTRO!$A35:$AY660,2,FALSE),0)","v":8},{"$f":"IFERROR(VLOOKUP($A41,FILTRO!$A35:$AY660,3,FALSE),0)","v":8},{"$f":"IFERROR(VLOOKUP($A41,FILTRO!$A35:$AY660,4,FALSE),0)","v":0},{"$f":"IFERROR(VLOOKUP($A41,FILTRO!$A35:$AY660,5,FALSE),0)","v":0},{"$f":"IFERROR(VLOOKUP($A41,FILTRO!$A35:$AY660,6,FALSE),0)","v":0},{"$f":"IFERROR(VLOOKUP($A41,FILTRO!$A35:$AY660,7,FALSE),0)","v":0},{"$f":"IFERROR(VLOOKUP($A41,FILTRO!$A35:$AY660,8,FALSE),0)","v":0},{"$f":"IFERROR(VLOOKUP($A41,FILTRO!$A35:$AY660,9,FALSE),0)","v":0},{"$f":"IFERROR(VLOOKUP($A41,FILTRO!$A35:$AY660,10,FALSE),0)","v":0},{"$f":"IFERROR(VLOOKUP($A41,FILTRO!$A35:$AY660,11,FALSE),0)","v":0},{"$f":"IFERROR(VLOOKUP($A41,FILTRO!$A35:$AY660,12,FALSE),0)","v":0}]
[null,"TOTAL",{"$f":"SUM(D42:L42)","v":20591},{"$f":"SUM(D29:D41)","v":17395},{"$f":"SUM(E29:E41)","v":1963},380,608,91,49,88,13,4,{"$f":"SUM(M29:M41)","v":0}]
[null,"(*) FUENTE DE INFORMACIÓN: CITOEXPERT O REVICAN"]
[null,"SECCIÓN B.1 PROGRAMA DE CANCER DE CUELLO UTERINO: PAP REALIZADOS E INFORMADOS SEGÚN RESULTADOS Y GRUPOS DE EDAD\n(Examen realizados en extrasistema)"]
[null,"GRUPO DE EDAD \n(en años)","PAP INFORMADOS SEGÚN RESULTADO"]
[null,null,"TOTAL","NORMALES","INADECUADOS Y ATIPICOS",null,"POSITIVOS",{"$nulls":5},"TOTAL PAP INFORMADOS EN TRANS MASCULINO "]
[{"$nulls":4},"INADECUADOS","ATIPICOS"," HPV","NIE I","NIE II"," NIE III","Ca. Inv. (Epidermoide)","Ca. Inv. (Adenocarcinoma)"]
["P1220091","Menor de 25 años",{"$f":"IFERROR(VLOOKUP($A48,FILTRO!$A42:$AY667,2,FALSE),0)","v":2},{"$f":"IFERROR(VLOOKUP($A48,FILTRO!$A42:$AY667,3,FALSE),0)","v":0},{"$f":"IFERROR(VLOOKUP($A48,FILTRO!$A42:$AY667,4,FALSE),0)","v":0},{"$f":"IFERROR(VLOOKUP($A48,FILTRO!$A42:$AY667,5,FALSE),0)","v":1},{"$f":"IFERROR(VLOOKUP($A48,FILTRO!$A42:$AY667,6,FALSE),0)","v":0},{"$f":"IFERROR(VLOOKUP($A48,FILTRO!$A42:$AY667,7,FALSE),0)","v":0},{"$f":"IFERROR(VLOOKUP($A48,FILTRO!$A42:$AY667,8,FALSE),0)","v":0},{"$f":"IFERROR(VLOOKUP($A48,FILTRO!$A42:$AY667,9,FALSE),0)","v":1},{"$f":"IFERROR(VLOOKUP($A48,FILTRO!$A42:$AY667,10,FALSE),0)","v":0},{"$f":"IFERROR(VLOOKUP($A48,FILTRO!$A42:$AY667,11,FALSE),0)","v":0},{"$f":"IFERROR(VLOOKUP($A48,FILTRO!$A42:$AY667,12,FALSE),0)","v":0}]
["P1220092","25 a 29 años ",{"$f":"IFERROR(VLOOKUP($A49,FILTRO!$A43:$AY668,2,FALSE),0)","v":9},{"$f":"IFERROR(VLOOKUP($A49,FILTRO!$A43:$AY668,3,FALSE),0)","v":6},{"$f":"IFERROR(VLOOKUP($A49,FILTRO!$A43:$AY668,4,FALSE),0)","v":0},{"$f":"IFERROR(VLOOKUP($A49,FILTRO!$A43:$AY668,5,FALSE),0)","v":1},{"$f":"IFERROR(VLOOKUP($A49,FILTRO!$A43:$AY668,6,FALSE),0)","v":0},{"$f":"IFERROR(VLOOKUP($A49,FILTRO!$A43:$AY668,7,FALSE),0)","v":1},{"$f":"IFERROR(VLOOKUP($A49,FILTRO!$A43:$AY668,8,FALSE),0)","v":0},{"$f":"IFERROR(VLOOKUP($A49,FILTRO!$A43:$AY668,9,FALSE),0)","v":1},{"$f":"IFERROR(VLOOKUP($A49,FILTRO!$A43:$AY668,10,FALSE),0)","v":0},{"$f":"IFERROR(VLOOKUP($A49,FILTRO!$A43:$AY668,11,FALSE),0)","v":0},{"$f":"IFERROR(VLOOKUP($A49,FILTRO!$A43:$AY668,12,FALSE),0)","v":0}]
["P1220093","30 a 34 años",{"$f":"IFERROR(VLOOKUP($A50,FILTRO!$A44:$AY669,2,FALSE),0)","v":13},{"$f":"IFERROR(VLOOKUP($A50,FILTRO!$A44:$AY669,3,FALSE),0)","v":10},{"$f":"IFERROR(VLOOKUP($A50,FILTRO!$A44:$AY669,4,FALSE),0)","v":0},{"$f":"IFERROR(VLOOKUP($A50,FILTRO!$A44:$AY669,5,FALSE),0)","v":0},{"$f":"IFERROR(VLOOKUP($A50,FILTRO!$A44:$AY669,6,FALSE),0)","v":0},{"$f":"IFERROR(VLOOKUP($A50,FILTRO!$A44:$AY669,7,FALSE),0)","v":3},{"$f":"IFERROR(VLOOKUP($A50,FILTRO!$A44:$AY669,8,FALSE),0)","v":0},{"$f":"IFERROR(VLOOKUP($A50,FILTRO!$A44:$AY669,9,FALSE),0)","v":0},{"$f":"IFERROR(VLOOKUP($A50,FILTRO!$A44:$AY669,10,FALSE),0)","v":0},{"$f":"IFERROR(VLOOKUP($A50,FILTRO!$A44:$AY669,11,FALSE),0)","v":0},{"$f":"IFERROR(VLOOKUP($A50,FILTRO!$A44:$AY669,12,FALSE),0)","v":0}]
["P1220094","35 a 39 años",{"$f":"IFERROR(VLOOKUP($A51,FILTRO!$A45:$AY670,2,FALSE),0)","v":10},{"$f":"IFERROR(VLOOKUP($A51,FILTRO!$A45:$AY670,3,FALSE),0)","v":7},{"$f":"IFERROR(VLOOKUP($A51,FILTRO!$A45:$AY670,4,FALSE),0)","v":0},{"$f":"IFERROR(VLOOKUP($A51,FILTRO!$A45:$AY670,5,FALSE),0)","v":0},{"$f":"IFERROR(VLOOKUP($A51,FILTRO!$A45:$AY670,6,FALSE),0)","v":0},{"$f":"IFERROR(VLOOKUP($A51,FILTRO!$A45:$AY670,7,FALSE),0)","v":1},{"$f":"IFERROR(VLOOKUP($A51,FILTRO!$A45:$AY670,8,FALSE),0)","v":1},{"$f":"IFERROR(VLOOKUP($A51,FILTRO!$A45:$AY670,9,FALSE),0)","v":1},{"$f":"IFERROR(VLOOKUP($A51,FILTRO!$A45:$AY670,10,FALSE),0)","v":0},{"$f":"IFERROR(VLOOKUP($A51,FILTRO!$A45:$AY670,11,FALSE),0)","v":0},{"$f":"IFERROR(VLOOKUP($A51,FILTRO!$A45:$AY670,12,FALSE),0)","v":0}]
["P1220095","40 a 44 años",{"$f":"IFERROR(VLOOKUP($A52,FILTRO!$A46:$AY671,2,FALSE),0)","v":18},{"$f":"IFERROR(VLOOKUP($A52,FILTRO!$A46:$AY671,3,FALSE),0)","v":14},{"$f":"IFERROR(VLOOKUP($A52,FILTRO!$A46:$AY671,4,FALSE),0)","v":0},{"$f":"IFERROR(VLOOKUP($A52,FILTRO!$A46:$AY671,5,FALSE),0)","v":1},{"$f":"IFERROR(VLOOKUP($A52,FILTRO!$A46:$AY671,6,FALSE),0)","v":0},{"$f":"IFERROR(VLOOKUP($A52,FILTRO!$A46:$AY671,7,FALSE),0)","v":1},{"$f":"IFERROR(VLOOKUP($A52,FILTRO!$A46:$AY671,8,FALSE),0)","v":1},{"$f":"IFERROR(VLOOKUP($A52,FILTRO!$A46:$AY671,9,FALSE),0)","v":1},{"$f":"IFERROR(VLOOKUP($A52,FILTRO!$A46:$AY671,10,FALSE),0)","v":0},{"$f":"IFERROR(VLOOKUP($A52,FILTRO!$A46:$AY671,11,FALSE),0)","v":0},{"$f":"IFERROR(VLOOKUP($A52,FILTRO!$A46:$AY671,12,FALSE),0)","v":0}]
["P1220096","45 a 49 años",{"$f":"IFERROR(VLOOKUP($A53,FILTRO!$A47:$AY672,2,FALSE),0)","v":10},{"$f":"IFERROR(VLOOKUP($A53,FILTRO!$A47:$AY672,3,FALSE),0)","v":7},{"$f":"IFERROR(VLOOKUP($A53,FILTRO!$A47:$AY672,4,FALSE),0)","v":1},{"$f":"IFERROR(VLOOKUP($A53,FILTRO!$A47:$AY672,5,FALSE),0)","v":0},{"$f":"IFERROR(VLOOKUP($A53,FILTRO!$A47:$AY672,6,FALSE),0)","v":0},{"$f":"IFERROR(VLOOKUP($A53,FILTRO!$A47:$AY672,7,FALSE),0)","v":1},{"$f":"IFERROR(VLOOKUP($A53,FILTRO!$A47:$AY672,8,FALSE),0)","v":1},{"$f":"IFERROR(VLOOKUP($A53,FILTRO!$A47:$AY672,9,FALSE),0)","v":0},{"$f":"IFERROR(VLOOKUP($A53,FILTRO!$A47:$AY672,10,FALSE),0)","v":0},{"$f":"IFERROR(VLOOKUP($A53,FILTRO!$A47:$AY672,11,FALSE),0)","v":0},{"$f":"IFERROR(VLOOKUP($A53,FILTRO!$A47:$AY672,12,FALSE),0)","v":0}]
["P1220097","50 a 54 años",{"$f":"IFERROR(VLOOKUP($A54,FILTRO!$A48:$AY673,2,FALSE),0)","v":12},{"$f":"IFERROR(VLOOKUP($A54,FILTRO!$A48:$AY673,3,FALSE),0)","v":7},{"$f":"IFERROR(VLOOKUP($A54,FILTRO!$A48:$AY673,4,FALSE),0)","v":0},{"$f":"IFERROR(VLOOKUP($A54,FILTRO!$A48:$AY673,5,FALSE),0)","v":0},{"$f":"IFERROR(VLOOKUP($A54,FILTRO!$A48:$AY673,6,FALSE),0)","v":1},{"$f":"IFERROR(VLOOKUP($A54,FILTRO!$A48:$AY673,7,FALSE),0)","v":1},{"$f":"IFERROR(VLOOKUP($A54,FILTRO!$A48:$AY673,8,FALSE),0)","v":1},{"$f":"IFERROR(VLOOKUP($A54,FILTRO!$A48:$AY673,9,FALSE),0)","v":0},{"$f":"IFERROR(VLOOKUP($A54,FILTRO!$A48:$AY673,10,FALSE),0)","v":1},{"$f":"IFERROR(VLOOKUP($A54,FILTRO!$A48:$AY673,11,FALSE),0)","v":1},{"$f":"IFERROR(VLOOKUP($A54,FILTRO!$A48:$AY673,12,FALSE),0)","v":0}]
["P1220098","55 a 59 años",{"$f":"IFERROR(VLOOKUP($A55,FILTRO!$A49:$AY674,2,FALSE),0)","v":6},{"$f":"IFERROR(VLOOKUP($A55,FILTRO!$A49:$AY674,3,FALSE),0)","v":5},{"$f":"IFERROR(VLOOKUP($A55,FILTRO!$A49:$AY674,4,FALSE),0)","v":0},{"$f":"IFERROR(VLOOKUP($A55,FILTRO!$A49:$AY674,5,FALSE),0)","v":1},{"$f":"IFERROR(VLOOKUP($A55,FILTRO!$A49:$AY674,6,FALSE),0)","v":0},{"$f":"IFERROR(VLOOKUP($A55,FILTRO!$A49:$AY674,7,FALSE),0)","v":0},{"$f":"IFERROR(VLOOKUP($A55,FILTRO!$A49:$AY674,8,FALSE),0)","v":0},{"$f":"IFERROR(VLOOKUP($A55,FILTRO!$A49:$AY674,9,FALSE),0)","v":0},{"$f":"IFERROR(VLOOKUP($A55,FILTRO!$A49:$AY674,10,FALSE),0)","v":0},{"$f":"IFERROR(VLOOKUP($A55,FILTRO!$A49:$AY674,11,FALSE),0)","v":0},{"$f":"IFERROR(VLOOKUP($A55,FILTRO!$A49:$AY674,12,FALSE),0)","v":0}]
["P1220099","60 a 64 años",{"$f":"IFERROR(VLOOKUP($A56,FILTRO!$A50:$AY675,2,FALSE),0)","v":1},{"$f":"IFERROR(VLOOKUP($A56,FILTRO!$A50:$AY675,3,FALSE),0)","v":1},{"$f":"IFERROR(VLOOKUP($A56,FILTRO!$A50:$AY675,4,FALSE),0)","v":0},{"$f":"IFERROR(VLOOKUP($A56,FILTRO!$A50:$AY675,5,FALSE),0)","v":0},{"$f":"IFERROR(VLOOKUP($A56,FILTRO!$A50:$AY675,6,FALSE),0)","v":0},{"$f":"IFERROR(VLOOKUP($A56,FILTRO!$A50:$AY675,7,FALSE),0)","v":0},{"$f":"IFERROR(VLOOKUP($A56,FILTRO!$A50:$AY675,8,FALSE),0)","v":0},{"$f":"IFERROR(VLOOKUP($A56,FILTRO!$A50:$AY675,9,FALSE),0)","v":0},{"$f":"IFERROR(VLOOKUP($A56,FILTRO!$A50:$AY675,10,FALSE),0)","v":0},{"$f":"IFERROR(VLOOKUP($A56,FILTRO!$A50:$AY675,11,FALSE),0)","v":0},{"$f":"IFERROR(VLOOKUP($A56,FILTRO!$A50:$AY675,12,FALSE),0)","v":0}]
["P1220100","65 a 69 años",{"$f":"IFERROR(VLOOKUP($A57,FILTRO!$A51:$AY676,2,FALSE),0)","v":0},{"$f":"IFERROR(VLOOKUP($A57,FILTRO!$A51:$AY676,3,FALSE),0)","v":0},{"$f":"IFERROR(VLOOKUP($A57,FILTRO!$A51:$AY676,4,FALSE),0)","v":0},{"$f":"IFERROR(VLOOKUP($A57,FILTRO!$A51:$AY676,5,FALSE),0)","v":0},{"$f":"IFERROR(VLOOKUP($A57,FILTRO!$A51:$AY676,6,FALSE),0)","v":0},{"$f":"IFERROR(VLOOKUP($A57,FILTRO!$A51:$AY676,7,FALSE),0)","v":0},{"$f":"IFERROR(VLOOKUP($A57,FILTRO!$A51:$AY676,8,FALSE),0)","v":0},{"$f":"IFERROR(VLOOKUP($A57,FILTRO!$A51:$AY676,9,FALSE),0)","v":0},{"$f":"IFERROR(VLOOKUP($A57,FILTRO!$A51:$AY676,10,FALSE),0)","v":0},{"$f":"IFERROR(VLOOKUP($A57,FILTRO!$A51:$AY676,11,FALSE),0)","v":0},{"$f":"IFERROR(VLOOKUP($A57,FILTRO!$A51:$AY676,12,FALSE),0)","v":0}]
["P1220101","70 a 74 años",{"$f":"IFERROR(VLOOKUP($A58,FILTRO!$A52:$AY677,2,FALSE),0)","v":1},{"$f":"IFERROR(VLOOKUP($A58,FILTRO!$A52:$AY677,3,FALSE),0)","v":0},{"$f":"IFERROR(VLOOKUP($A58,FILTRO!$A52:$AY677,4,FALSE),0)","v":0},{"$f":"IFERROR(VLOOKUP($A58,FILTRO!$A52:$AY677,5,FALSE),0)","v":0},{"$f":"IFERROR(VLOOKUP($A58,FILTRO!$A52:$AY677,6,FALSE),0)","v":0},{"$f":"IFERROR(VLOOKUP($A58,FILTRO!$A52:$AY677,7,FALSE),0)","v":0},{"$f":"IFERROR(VLOOKUP($A58,FILTRO!$A52:$AY677,8,FALSE),0)","v":0},{"$f":"IFERROR(VLOOKUP($A58,FILTRO!$A52:$AY677,9,FALSE),0)","v":0},{"$f":"IFERROR(VLOOKUP($A58,FILTRO!$A52:$AY677,10,FALSE),0)","v":0},{"$f":"IFERROR(VLOOKUP($A58,FILTRO!$A52:$AY677,11,FALSE),0)","v":1},{"$f":"IFERROR(VLOOKUP($A58,FILTRO!$A52:$AY677,12,FALSE),0)","v":0}]
["P1220102","75 a 79 años",{"$f":"IFERROR(VLOOKUP($A59,FILTRO!$A53:$AY678,2,FALSE),0)","v":0},{"$f":"IFERROR(VLOOKUP($A59,FILTRO!$A53:$AY678,3,FALSE),0)","v":0},{"$f":"IFERROR(VLOOKUP($A59,FILTRO!$A53:$AY678,4,FALSE),0)","v":0},{"$f":"IFERROR(VLOOKUP($A59,FILTRO!$A53:$AY678,5,FALSE),0)","v":0},{"$f":"IFERROR(VLOOKUP($A59,FILTRO!$A53:$AY678,6,FALSE),0)","v":0},{"$f":"IFERROR(VLOOKUP($A59,FILTRO!$A53:$AY678,7,FALSE),0)","v":0},{"$f":"IFERROR(VLOOKUP($A59,FILTRO!$A53:$AY678,8,FALSE),0)","v":0},{"$f":"IFERROR(VLOOKUP($A59,FILTRO!$A53:$AY678,9,FALSE),0)","v":0},{"$f":"IFERROR(VLOOKUP($A59,FILTRO!$A53:$AY678,10,FALSE),0)","v":0},{"$f":"IFERROR(VLOOKUP($A59,FILTRO!$A53:$AY678,11,FALSE),0)","v":0},{"$f":"IFERROR(VLOOKUP($A59,FILTRO!$A53:$AY678,12,FALSE),0)","v":0}]
["P1230005","80 y más años",{"$f":"IFERROR(VLOOKUP($A60,FILTRO!$A54:$AY679,2,FALSE),0)","v":0},{"$f":"IFERROR(VLOOKUP($A60,FILTRO!$A54:$AY679,3,FALSE),0)","v":0},{"$f":"IFERROR(VLOOKUP($A60,FILTRO!$A54:$AY679,4,FALSE),0)","v":0},{"$f":"IFERROR(VLOOKUP($A60,FILTRO!$A54:$AY679,5,FALSE),0)","v":0},{"$f":"IFERROR(VLOOKUP($A60,FILTRO!$A54:$AY679,6,FALSE),0)","v":0},{"$f":"IFERROR(VLOOKUP($A60,FILTRO!$A54:$AY679,7,FALSE),0)","v":0},{"$f":"IFERROR(VLOOKUP($A60,FILTRO!$A54:$AY679,8,FALSE),0)","v":0},{"$f":"IFERROR(VLOOKUP($A60,FILTRO!$A54:$AY679,9,FALSE),0)","v":0},{"$f":"IFERROR(VLOOKUP($A60,FILTRO!$A54:$AY679,10,FALSE),0)","v":0},{"$f":"IFERROR(VLOOKUP($A60,FILTRO!$A54:$AY679,11,FALSE),0)","v":0},{"$f":"IFERROR(VLOOKUP($A60,FILTRO!$A54:$AY679,12,FALSE),0)","v":0}]
[null,"TOTAL",{"$f":"SUM(D61:L61)","v":82},{"$f":"SUM(D48:D60)","v":57},{"$f":"SUM(E48:E60)","v":1},{"$f":"SUM(F48:F60)","v":4},1,8,4,4,1,2,{"$f":"SUM(M48:M60)","v":0}]
[null,"(*) FUENTE DE INFORMACIÓN: CITOEXPERT O REVICAN"]
[null,"SECCION C: PROGRAMA DE CANCER DE MAMA: MUJERES CON MAMOGRAFÍA VIGENTE EN LOS ULTIMOS 2 AÑOS. "]
[null,"GRUPO DE EDAD \n(en años)","Mujeres con mamografia vigente  (Menor o igual a 2 años)"]
["P1207190","Menor de 35 años",{"$f":"IFERROR(VLOOKUP($A65,FILTRO!$A59:$AY684,2,FALSE),0)","v":165}]
["P1220020","35 a 49 años",{"$f":"IFERROR(VLOOKUP($A66,FILTRO!$A60:$AY685,2,FALSE),0)","v":10697}]
["P1220030","50 a 54 años",{"$f":"IFERROR(VLOOKUP($A67,FILTRO!$A61:$AY686,2,FALSE),0)","v":7030}]
["P1207030","55 a 59 años",{"$f":"IFERROR(VLOOKUP($A68,FILTRO!$A62:$AY687,2,FALSE),0)","v":6679}]
["P1207040","60 a 64 años",{"$f":"IFERROR(VLOOKUP($A69,FILTRO!$A63:$AY688,2,FALSE),0)","v":5397}]
["P1207050","65 a 69 años",{"$f":"IFERROR(VLOOKUP($A70,FILTRO!$A64:$AY689,2,FALSE),0)","v":3008}]
["P1207060","70 a 74 años",{"$f":"IFERROR(VLOOKUP($A71,FILTRO!$A65:$AY690,2,FALSE),0)","v":1259}]
["P1207070","75 a 79 años",{"$f":"IFERROR(VLOOKUP($A72,FILTRO!$A66:$AY691,2,FALSE),0)","v":477}]
["P1207080","80 y más años",{"$f":"IFERROR(VLOOKUP($A73,FILTRO!$A67:$AY692,2,FALSE),0)","v":168}]
[null,"TOTAL",{"$f":"SUM(C65:C73)","v":34880}]
[null,"(*) FUENTE DE INFORMACIÓN: TARJETERO POBLACIONAL DE LA APS"]
[null,"SECCION D: PROGRAMA DE CANCER DE MAMA: NÚMERO DE MUJERES CON EXAMEN FÍSICO DE MAMA (VIGENTE)"]
[null,"GRUPO DE EDAD \n(en años)","Mujeres con EFM vigente\n"]
["P1207180","Menor de 35 años",{"$f":"IFERROR(VLOOKUP($A78,FILTRO!$A72:$AY697,2,FALSE),0)","v":23203}]
["P1220070","35 a 49 años",{"$f":"IFERROR(VLOOKUP($A79,FILTRO!$A73:$AY698,2,FALSE),0)","v":25215}]
["P1220090","50 a 54 años",{"$f":"IFERROR(VLOOKUP($A80,FILTRO!$A74:$AY699,2,FALSE),0)","v":8159}]
["P1207090","55 a 59 años",{"$f":"IFERROR(VLOOKUP($A81,FILTRO!$A75:$AY700,2,FALSE),0)","v":7623}]
["P1207100","60 a 64 años",{"$f":"IFERROR(VLOOKUP($A82,FILTRO!$A76:$AY701,2,FALSE),0)","v":5949}]
["P1207110","65 a 69 años",{"$f":"IFERROR(VLOOKUP($A83,FILTRO!$A77:$AY702,2,FALSE),0)","v":2695}]
["P1207120","70 a 74 años",{"$f":"IFERROR(VLOOKUP($A84,FILTRO!$A78:$AY703,2,FALSE),0)","v":759}]
["P1207130","75 a 79 años",{"$f":"IFERROR(VLOOKUP($A85,FILTRO!$A79:$AY704,2,FALSE),0)","v":245}]
["P1207140","80 y más años",{"$f":"IFERROR(VLOOKUP($A86,FILTRO!$A80:$AY705,2,FALSE),0)","v":62}]
[null,"TOTAL",{"$f":"SUM(C78:C86)","v":73910}]
[null,"(*) FUENTE DE INFORMACIÓN: TARJETERO POBLACIONAL DE LA APS"]
[null,"SECCION E: PROGRAMA DE CANCER DE CUELLO UTERINO: POBLACIÓN CON VPH VIGENTE"]
[null,"GRUPOS DE EDAD (en años)","MUJERES\ncon Examen VPH Vigente \nen los ultimos 5 años","TRANS MASCULINO\ncon Examen VPH Vigente \nen los ultimos 5 años"]
["P1240010","30 a 34 años",{"$f":"IFERROR(VLOOKUP($A91,FILTRO!$A85:$AY710,2,FALSE),0)","v":2765},{"$f":"IFERROR(VLOOKUP($A91,FILTRO!$A85:$AY710,3,FALSE),0)","v":0}]
["P1240011","35 a 39 años",{"$f":"IFERROR(VLOOKUP($A92,FILTRO!$A86:$AY711,2,FALSE),0)","v":2935},{"$f":"IFERROR(VLOOKUP($A92,FILTRO!$A86:$AY711,3,FALSE),0)","v":0}]
["P1240012","40 a 44 años",{"$f":"IFERROR(VLOOKUP($A93,FILTRO!$A87:$AY712,2,FALSE),0)","v":2565},{"$f":"IFERROR(VLOOKUP($A93,FILTRO!$A87:$AY712,3,FALSE),0)","v":0}]
["P1240013","45 a 49 años",{"$f":"IFERROR(VLOOKUP($A94,FILTRO!$A88:$AY713,2,FALSE),0)","v":2538},{"$f":"IFERROR(VLOOKUP($A94,FILTRO!$A88:$AY713,3,FALSE),0)","v":0}]
["P1240014","50 a 54 años",{"$f":"IFERROR(VLOOKUP($A95,FILTRO!$A89:$AY714,2,FALSE),0)","v":2330},{"$f":"IFERROR(VLOOKUP($A95,FILTRO!$A89:$AY714,3,FALSE),0)","v":0}]
["P1240015","55 a 59 años",{"$f":"IFERROR(VLOOKUP($A96,FILTRO!$A90:$AY715,2,FALSE),0)","v":2124},{"$f":"IFERROR(VLOOKUP($A96,FILTRO!$A90:$AY715,3,FALSE),0)","v":0}]
["P1240016","60 a 64 años",{"$f":"IFERROR(VLOOKUP($A97,FILTRO!$A91:$AY716,2,FALSE),0)","v":1497},{"$f":"IFERROR(VLOOKUP($A97,FILTRO!$A91:$AY716,3,FALSE),0)","v":0}]
[null,"TOTAL",{"$f":"SUM(C91:C97)","v":16754},{"$f":"SUM(D91:D97)","v":0}]
[null,"SECCIÓN F: PROGRAMA DE CANCER DE CUELLO UTERINO: RESULTADOS DE VPH  REALIZADOS EN EL SISTEMA PUBLICO SEGÚN GRUPOS DE EDAD \n(Examen realizados en la red pública)"]
[null,"GRUPO DE EDAD \n(en años)","VPH INFORMADOS SEGÚN RESULTADO"]
[null,null,"TOTAL","VPH (-)","POSITIVOS",null,null,"TOTAL VPH  INFORMADOS EN TRANS MASCULINO "]
[{"$nulls":4},"VPH 16 (+)","VPH 18 (+)","VPH AR* (+) "]
["P1240017","30 a 34 años",{"$f":"IFERROR(VLOOKUP($A103,FILTRO!$A97:$AY722,2,FALSE),0)","v":1685},{"$f":"IFERROR(VLOOKUP($A103,FILTRO!$A97:$AY722,3,FALSE),0)","v":1305},{"$f":"IFERROR(VLOOKUP($A103,FILTRO!$A97:$AY722,4,FALSE),0)","v":93},{"$f":"IFERROR(VLOOKUP($A103,FILTRO!$A97:$AY722,5,FALSE),0)","v":23},{"$f":"IFERROR(VLOOKUP($A103,FILTRO!$A97:$AY722,6,FALSE),0)","v":281},{"$f":"IFERROR(VLOOKUP($A103,FILTRO!$A97:$AY722,7,FALSE),0)","v":0}]
["P1240018","35 a 39 años",{"$f":"IFERROR(VLOOKUP($A104,FILTRO!$A98:$AY723,2,FALSE),0)","v":1779},{"$f":"IFERROR(VLOOKUP($A104,FILTRO!$A98:$AY723,3,FALSE),0)","v":1518},{"$f":"IFERROR(VLOOKUP($A104,FILTRO!$A98:$AY723,4,FALSE),0)","v":63},{"$f":"IFERROR(VLOOKUP($A104,FILTRO!$A98:$AY723,5,FALSE),0)","v":24},{"$f":"IFERROR(VLOOKUP($A104,FILTRO!$A98:$AY723,6,FALSE),0)","v":206},{"$f":"IFERROR(VLOOKUP($A104,FILTRO!$A98:$AY723,7,FALSE),0)","v":0}]
["P1240019","40 a 44 años",{"$f":"IFERROR(VLOOKUP($A105,FILTRO!$A99:$AY724,2,FALSE),0)","v":1574},{"$f":"IFERROR(VLOOKUP($A105,FILTRO!$A99:$AY724,3,FALSE),0)","v":1371},{"$f":"IFERROR(VLOOKUP($A105,FILTRO!$A99:$AY724,4,FALSE),0)","v":65},{"$f":"IFERROR(VLOOKUP($A105,FILTRO!$A99:$AY724,5,FALSE),0)","v":17},{"$f":"IFERROR(VLOOKUP($A105,FILTRO!$A99:$AY724,6,FALSE),0)","v":148},{"$f":"IFERROR(VLOOKUP($A105,FILTRO!$A99:$AY724,7,FALSE),0)","v":0}]
["P1240020","45 a 49 años",{"$f":"IFERROR(VLOOKUP($A106,FILTRO!$A100:$AY725,2,FALSE),0)","v":1540},{"$f":"IFERROR(VLOOKUP($A106,FILTRO!$A100:$AY725,3,FALSE),0)","v":1374},{"$f":"IFERROR(VLOOKUP($A106,FILTRO!$A100:$AY725,4,FALSE),0)","v":46},{"$f":"IFERROR(VLOOKUP($A106,FILTRO!$A100:$AY725,5,FALSE),0)","v":7},{"$f":"IFERROR(VLOOKUP($A106,FILTRO!$A100:$AY725,6,FALSE),0)","v":129},{"$f":"IFERROR(VLOOKUP($A106,FILTRO!$A100:$AY725,7,FALSE),0)","v":0}]
["P1240021","50 a 54 años",{"$f":"IFERROR(VLOOKUP($A107,FILTRO!$A101:$AY726,2,FALSE),0)","v":1359},{"$f":"IFERROR(VLOOKUP($A107,FILTRO!$A101:$AY726,3,FALSE),0)","v":1207},{"$f":"IFERROR(VLOOKUP($A107,FILTRO!$A101:$AY726,4,FALSE),0)","v":59},{"$f":"IFERROR(VLOOKUP($A107,FILTRO!$A101:$AY726,5,FALSE),0)","v":10},{"$f":"IFERROR(VLOOKUP($A107,FILTRO!$A101:$AY726,6,FALSE),0)","v":101},{"$f":"IFERROR(VLOOKUP($A107,FILTRO!$A101:$AY726,7,FALSE),0)","v":0}]
["P1240022","55 a 59 años",{"$f":"IFERROR(VLOOKUP($A108,FILTRO!$A102:$AY727,2,FALSE),0)","v":1311},{"$f":"IFERROR(VLOOKUP($A108,FILTRO!$A102:$AY727,3,FALSE),0)","v":1167},{"$f":"IFERROR(VLOOKUP($A108,FILTRO!$A102:$AY727,4,FALSE),0)","v":37},{"$f":"IFERROR(VLOOKUP($A108,FILTRO!$A102:$AY727,5,FALSE),0)","v":10},{"$f":"IFERROR(VLOOKUP($A108,FILTRO!$A102:$AY727,6,FALSE),0)","v":108},{"$f":"IFERROR(VLOOKUP($A108,FILTRO!$A102:$AY727,7,FALSE),0)","v":0}]
["P1240023","60 a 64 años",{"$f":"IFERROR(VLOOKUP($A109,FILTRO!$A103:$AY728,2,FALSE),0)","v":872},{"$f":"IFERROR(VLOOKUP($A109,FILTRO!$A103:$AY728,3,FALSE),0)","v":789},{"$f":"IFERROR(VLOOKUP($A109,FILTRO!$A103:$AY728,4,FALSE),0)","v":26},{"$f":"IFERROR(VLOOKUP($A109,FILTRO!$A103:$AY728,5,FALSE),0)","v":2},{"$f":"IFERROR(VLOOKUP($A109,FILTRO!$A103:$AY728,6,FALSE),0)","v":62},{"$f":"IFERROR(VLOOKUP($A109,FILTRO!$A103:$AY728,7,FALSE),0)","v":0}]
["P1240024","65 a 69 años",{"$f":"IFERROR(VLOOKUP($A110,FILTRO!$A104:$AY729,2,FALSE),0)","v":117},{"$f":"IFERROR(VLOOKUP($A110,FILTRO!$A104:$AY729,3,FALSE),0)","v":107},{"$f":"IFERROR(VLOOKUP($A110,FILTRO!$A104:$AY729,4,FALSE),0)","v":2},{"$f":"IFERROR(VLOOKUP($A110,FILTRO!$A104:$AY729,5,FALSE),0)","v":2},{"$f":"IFERROR(VLOOKUP($A110,FILTRO!$A104:$AY729,6,FALSE),0)","v":6},{"$f":"IFERROR(VLOOKUP($A110,FILTRO!$A104:$AY729,7,FALSE),0)","v":0}]
["P1240025","70 a 74 años",{"$f":"IFERROR(VLOOKUP($A111,FILTRO!$A105:$AY730,2,FALSE),0)","v":2},{"$f":"IFERROR(VLOOKUP($A111,FILTRO!$A105:$AY730,3,FALSE),0)","v":2},{"$f":"IFERROR(VLOOKUP($A111,FILTRO!$A105:$AY730,4,FALSE),0)","v":0},{"$f":"IFERROR(VLOOKUP($A111,FILTRO!$A105:$AY730,5,FALSE),0)","v":0},{"$f":"IFERROR(VLOOKUP($A111,FILTRO!$A105:$AY730,6,FALSE),0)","v":0},{"$f":"IFERROR(VLOOKUP($A111,FILTRO!$A105:$AY730,7,FALSE),0)","v":0}]
["P1240026","75 a 79 años",{"$f":"IFERROR(VLOOKUP($A112,FILTRO!$A106:$AY731,2,FALSE),0)","v":1},{"$f":"IFERROR(VLOOKUP($A112,FILTRO!$A106:$AY731,3,FALSE),0)","v":0},{"$f":"IFERROR(VLOOKUP($A112,FILTRO!$A106:$AY731,4,FALSE),0)","v":0},{"$f":"IFERROR(VLOOKUP($A112,FILTRO!$A106:$AY731,5,FALSE),0)","v":0},{"$f":"IFERROR(VLOOKUP($A112,FILTRO!$A106:$AY731,6,FALSE),0)","v":1},{"$f":"IFERROR(VLOOKUP($A112,FILTRO!$A106:$AY731,7,FALSE),0)","v":0}]
["P1240027","80 y más años",{"$f":"IFERROR(VLOOKUP($A113,FILTRO!$A107:$AY732,2,FALSE),0)","v":0},{"$f":"IFERROR(VLOOKUP($A113,FILTRO!$A107:$AY732,3,FALSE),0)","v":0},{"$f":"IFERROR(VLOOKUP($A113,FILTRO!$A107:$AY732,4,FALSE),0)","v":0},{"$f":"IFERROR(VLOOKUP($A113,FILTRO!$A107:$AY732,5,FALSE),0)","v":0},{"$f":"IFERROR(VLOOKUP($A113,FILTRO!$A107:$AY732,6,FALSE),0)","v":0},{"$f":"IFERROR(VLOOKUP($A113,FILTRO!$A107:$AY732,7,FALSE),0)","v":0}]
[null,"TOTAL",{"$f":"SUM(D114:G114)","v":10368},{"$f":"SUM(D103:D113)","v":8840},{"$f":"SUM(E103:E113)","v":391},{"$f":"SUM(F103:F113)","v":95},{"$f":"SUM(G103:G113)","v":1042},{"$f":"SUM(H103:H113)","v":0}]
[null,"* Agrupados Alto Riesgo"]
[null,"SECCIÓN F.1: PROGRAMA DE CANCER DE CUELLO UTERINO: RESULTADOS DE  VPH, REALIZADOS EN EL EXTRASISTEMA SEGÚN  GRUPOS DE EDAD\n(Exámenes realizados en extrasistema)"]
[null,"GRUPO DE EDAD \n(en años)","VPH INFORMADOS SEGÚN RESULTADO"]
[null,null,"TOTAL","VPH (-)","POSITIVOS",null,null,"TOTAL VPH  INFORMADOS EN TRANS MASCULINO "]
[{"$nulls":4},"VPH 16 (+)","VPH 18 (+)","VPH AR (+) "]
["P1240028","30 a 34 años",{"$f":"IFERROR(VLOOKUP($A120,FILTRO!$A114:$AY739,2,FALSE),0)","v":3},{"$f":"IFERROR(VLOOKUP($A120,FILTRO!$A114:$AY739,3,FALSE),0)","v":0},{"$f":"IFERROR(VLOOKUP($A120,FILTRO!$A114:$AY739,4,FALSE),0)","v":1},{"$f":"IFERROR(VLOOKUP($A120,FILTRO!$A114:$AY739,5,FALSE),0)","v":0},{"$f":"IFERROR(VLOOKUP($A120,FILTRO!$A114:$AY739,6,FALSE),0)","v":2},{"$f":"IFERROR(VLOOKUP($A120,FILTRO!$A114:$AY739,7,FALSE),0)","v":0}]
["P1240029","35 a 39 años",{"$f":"IFERROR(VLOOKUP($A121,FILTRO!$A115:$AY740,2,FALSE),0)","v":0},{"$f":"IFERROR(VLOOKUP($A121,FILTRO!$A115:$AY740,3,FALSE),0)","v":0},{"$f":"IFERROR(VLOOKUP($A121,FILTRO!$A115:$AY740,4,FALSE),0)","v":0},{"$f":"IFERROR(VLOOKUP($A121,FILTRO!$A115:$AY740,5,FALSE),0)","v":0},{"$f":"IFERROR(VLOOKUP($A121,FILTRO!$A115:$AY740,6,FALSE),0)","v":0},{"$f":"IFERROR(VLOOKUP($A121,FILTRO!$A115:$AY740,7,FALSE),0)","v":0}]
["P1240030","40 a 44 años",{"$f":"IFERROR(VLOOKUP($A122,FILTRO!$A116:$AY741,2,FALSE),0)","v":1},{"$f":"IFERROR(VLOOKUP($A122,FILTRO!$A116:$AY741,3,FALSE),0)","v":1},{"$f":"IFERROR(VLOOKUP($A122,FILTRO!$A116:$AY741,4,FALSE),0)","v":0},{"$f":"IFERROR(VLOOKUP($A122,FILTRO!$A116:$AY741,5,FALSE),0)","v":0},{"$f":"IFERROR(VLOOKUP($A122,FILTRO!$A116:$AY741,6,FALSE),0)","v":0},{"$f":"IFERROR(VLOOKUP($A122,FILTRO!$A116:$AY741,7,FALSE),0)","v":0}]
["P1240031","45 a 49 años",{"$f":"IFERROR(VLOOKUP($A123,FILTRO!$A117:$AY742,2,FALSE),0)","v":0},{"$f":"IFERROR(VLOOKUP($A123,FILTRO!$A117:$AY742,3,FALSE),0)","v":0},{"$f":"IFERROR(VLOOKUP($A123,FILTRO!$A117:$AY742,4,FALSE),0)","v":0},{"$f":"IFERROR(VLOOKUP($A123,FILTRO!$A117:$AY742,5,FALSE),0)","v":0},{"$f":"IFERROR(VLOOKUP($A123,FILTRO!$A117:$AY742,6,FALSE),0)","v":0},{"$f":"IFERROR(VLOOKUP($A123,FILTRO!$A117:$AY742,7,FALSE),0)","v":0}]
["P1240032","50 a 54 años",{"$f":"IFERROR(VLOOKUP($A124,FILTRO!$A118:$AY743,2,FALSE),0)","v":1},{"$f":"IFERROR(VLOOKUP($A124,FILTRO!$A118:$AY743,3,FALSE),0)","v":0},{"$f":"IFERROR(VLOOKUP($A124,FILTRO!$A118:$AY743,4,FALSE),0)","v":1},{"$f":"IFERROR(VLOOKUP($A124,FILTRO!$A118:$AY743,5,FALSE),0)","v":0},{"$f":"IFERROR(VLOOKUP($A124,FILTRO!$A118:$AY743,6,FALSE),0)","v":0},{"$f":"IFERROR(VLOOKUP($A124,FILTRO!$A118:$AY743,7,FALSE),0)","v":0}]
["P1240033","55 a 59 años",{"$f":"IFERROR(VLOOKUP($A125,FILTRO!$A119:$AY744,2,FALSE),0)","v":2},{"$f":"IFERROR(VLOOKUP($A125,FILTRO!$A119:$AY744,3,FALSE),0)","v":1},{"$f":"IFERROR(VLOOKUP($A125,FILTRO!$A119:$AY744,4,FALSE),0)","v":0},{"$f":"IFERROR(VLOOKUP($A125,FILTRO!$A119:$AY744,5,FALSE),0)","v":0},{"$f":"IFERROR(VLOOKUP($A125,FILTRO!$A119:$AY744,6,FALSE),0)","v":1},{"$f":"IFERROR(VLOOKUP($A125,FILTRO!$A119:$AY744,7,FALSE),0)","v":0}]
["P1240034","60 a 64 años",{"$f":"IFERROR(VLOOKUP($A126,FILTRO!$A120:$AY745,2,FALSE),0)","v":1},{"$f":"IFERROR(VLOOKUP($A126,FILTRO!$A120:$AY745,3,FALSE),0)","v":1},{"$f":"IFERROR(VLOOKUP($A126,FILTRO!$A120:$AY745,4,FALSE),0)","v":0},{"$f":"IFERROR(VLOOKUP($A126,FILTRO!$A120:$AY745,5,FALSE),0)","v":0},{"$f":"IFERROR(VLOOKUP($A126,FILTRO!$A120:$AY745,6,FALSE),0)","v":0},{"$f":"IFERROR(VLOOKUP($A126,FILTRO!$A120:$AY745,7,FALSE),0)","v":0}]
["P1240035","65 a 69 años",{"$f":"IFERROR(VLOOKUP($A127,FILTRO!$A121:$AY746,2,FALSE),0)","v":0},{"$f":"IFERROR(VLOOKUP($A127,FILTRO!$A121:$AY746,3,FALSE),0)","v":0},{"$f":"IFERROR(VLOOKUP($A127,FILTRO!$A121:$AY746,4,FALSE),0)","v":0},{"$f":"IFERROR(VLOOKUP($A127,FILTRO!$A121:$AY746,5,FALSE),0)","v":0},{"$f":"IFERROR(VLOOKUP($A127,FILTRO!$A121:$AY746,6,FALSE),0)","v":0},{"$f":"IFERROR(VLOOKUP($A127,FILTRO!$A121:$AY746,7,FALSE),0)","v":0}]
["P1240036","70 a 74 años",{"$f":"IFERROR(VLOOKUP($A128,FILTRO!$A122:$AY747,2,FALSE),0)","v":0},{"$f":"IFERROR(VLOOKUP($A128,FILTRO!$A122:$AY747,3,FALSE),0)","v":0},{"$f":"IFERROR(VLOOKUP($A128,FILTRO!$A122:$AY747,4,FALSE),0)","v":0},{"$f":"IFERROR(VLOOKUP($A128,FILTRO!$A122:$AY747,5,FALSE),0)","v":0},{"$f":"IFERROR(VLOOKUP($A128,FILTRO!$A122:$AY747,6,FALSE),0)","v":0},{"$f":"IFERROR(VLOOKUP($A128,FILTRO!$A122:$AY747,7,FALSE),0)","v":0}]
["P1240037","75 a 79 años",{"$f":"IFERROR(VLOOKUP($A129,FILTRO!$A123:$AY748,2,FALSE),0)","v":0},{"$f":"IFERROR(VLOOKUP($A129,FILTRO!$A123:$AY748,3,FALSE),0)","v":0},{"$f":"IFERROR(VLOOKUP($A129,FILTRO!$A123:$AY748,4,FALSE),0)","v":0},{"$f":"IFERROR(VLOOKUP($A129,FILTRO!$A123:$AY748,5,FALSE),0)","v":0},{"$f":"IFERROR(VLOOKUP($A129,FILTRO!$A123:$AY748,6,FALSE),0)","v":0},{"$f":"IFERROR(VLOOKUP($A129,FILTRO!$A123:$AY748,7,FALSE),0)","v":0}]
["P1240038","80 y más años",{"$f":"IFERROR(VLOOKUP($A130,FILTRO!$A124:$AY749,2,FALSE),0)","v":0},{"$f":"IFERROR(VLOOKUP($A130,FILTRO!$A124:$AY749,3,FALSE),0)","v":0},{"$f":"IFERROR(VLOOKUP($A130,FILTRO!$A124:$AY749,4,FALSE),0)","v":0},{"$f":"IFERROR(VLOOKUP($A130,FILTRO!$A124:$AY749,5,FALSE),0)","v":0},{"$f":"IFERROR(VLOOKUP($A130,FILTRO!$A124:$AY749,6,FALSE),0)","v":0},{"$f":"IFERROR(VLOOKUP($A130,FILTRO!$A124:$AY749,7,FALSE),0)","v":0}]
[null,"TOTAL",{"$f":"SUM(D131:G131)","v":8},{"$f":"SUM(D120:D130)","v":3},{"$f":"SUM(E120:E130)","v":2},{"$f":"SUM(F120:F130)","v":0},{"$f":"SUM(G120:G130)","v":3},{"$f":"SUM(H120:H130)","v":0}]
{"$rows_empty":67}
[null,{"$f":"SUM(C10:D22,D29:M41,D48:M60,C65:C73,C78:C86,C91:D97,D103:H113,D120:H130)","v":228131},"datos"]
[null,{"$f":"SUM(BB$10:CA130)","v":0},"errores"]

{"sheet":"P13","index":12,"n_rows":40,"n_cols":72,"rows_kept":40,"merged":[[6,2,6,13],[8,1,10,1],[8,2,9,4],[8,5,8,16],[8,17,10,17],[8,18,10,18],[9,5,9,6],[9,7,9,8],[9,9,9,10],[9,11,9,12],[9,13,9,14],[9,15,9,16],[16,1,18,1],[16,2,17,4],[16,5,16,16],[16,17,18,17],[16,18,18,18],[16,19,18,19],[16,20,18,20],[17,5,17,6],[17,7,17,8],[17,9,17,10],[17,11,17,12],[17,13,17,14],[17,15,17,16]]}
[null,"DATOS DEL ESTABLECIMIENTO"]
[null,{"$f":"CONCATENATE(\"COMUNA: \",NOMBRE!$B$2,\" - \",\"( \",NOMBRE!$C$2,NOMBRE!$D$2,NOMBRE!$E$2,NOMBRE!$F$2,NOMBRE!$G$2,\" )\")","v":"COMUNA:  - (  )"}]
[null,{"$f":"CONCATENATE(\"ESTABLECIMIENTO/ESTRATEGIA: \",NOMBRE!$B$3,\" - \",\"( \",NOMBRE!$C$3,NOMBRE!$D$3,NOMBRE!$E$3,NOMBRE!$F$3,NOMBRE!$G$3,NOMBRE!$H$3,\" )\")","v":"ESTABLECIMIENTO/ESTRATEGIA:  - (  )"}]
[null,{"$f":"CONCATENATE(\"MES: \",NOMBRE!$B$6,\" - \",\"( \",NOMBRE!$C$6,NOMBRE!$D$6,\" )\")","v":"MES:  - (  )"}]
[null,{"$f":"CONCATENATE(\"AÑO: \",NOMBRE!$B$7)","v":"AÑO: 2023"}]
[]
[null,null,"REM-P13. NIÑOS, NIÑAS, ADOLESCENTES Y JÓVENES CON VULNERACIÓN DE DERECHOS Y/O INFRACCIÓN A LA LEY BAJO LA PROTECCIÓN DEL ESTADO EN ATENCIÓN"]
[null,"SECCIÓN A: NIÑOS, NIÑAS, ADOLESCENTES Y JÓVENES CON VULNERACIÓN DE DERECHOS Y/O INFRACIÓN A LA LEY EN CONTROL DE SALUD EN APS AL CORTE"]
[null,"Tipo de Programas SENAME","TOTAL",null,null,"POR EDAD ",{"$nulls":11},"Migrantes","Pueblos Originarios"]
[{"$nulls":5}," 0 - 4",null," 5 - 9",null," 10 - 14 ",null,"15 a 19",null,"20 - 24",null,"Mayor a 25 años"]
[null,null,"Ambos sexos","Hombre","Mujer","Hombre","Mujer","Hombre","Mujer","Hombre","Mujer","Hombre","Mujer","Hombre","Mujer","Hombre","Mujer"]
[null,"TOTAL",{"$f":"SUM(D12:E12)","v":2934},{"$f":"SUM(D13:D15)","v":1368},{"$f":"SUM(E13:E15)","v":1566},{"$f":"SUM(F13:F14)","v":346},{"$f":"SUM(G13:G15)","v":399},350,309,394,466,256,357,17,9,5,26,37,{"$f":"SUM(S13:S15)","v":48},{"$f":"BB12&BC12&BD12&BE12","v":""},{"$nulls":33},{"$f":"IF(BQ12=1,\" * El total de Migrantes no debe superar el total de población ingresada. \",\"\")","v":""},null,{"$f":"IF(BS12=1,\" * El total de Pueblos Originarios no debe superar el total de población ingresada. \",\"\")","v":""},{"$nulls":12},{"$f":"IF(R12>C12,1,0)","v":0},null,{"$f":"IF(S12>C12,1,0)","v":0}]
["P1310020","AMBULATORIO / SANCIÓN MEDIO LIBRE",{"$f":"IFERROR(VLOOKUP($A13,FILTRO!$A7:$AY632,2,FALSE),0)","v":2708},{"$f":"IFERROR(VLOOKUP($A13,FILTRO!$A7:$AY632,3,FALSE),0)","v":1240},{"$f":"IFERROR(VLOOKUP($A13,FILTRO!$A7:$AY632,4,FALSE),0)","v":1468},{"$f":"IFERROR(VLOOKUP($A13,FILTRO!$A7:$AY632,5,FALSE),0)","v":327},{"$f":"IFERROR(VLOOKUP($A13,FILTRO!$A7:$AY632,6,FALSE),0)","v":388},{"$f":"IFERROR(VLOOKUP($A13,FILTRO!$A7:$AY632,7,FALSE),0)","v":326},{"$f":"IFERROR(VLOOKUP($A13,FILTRO!$A7:$AY632,8,FALSE),0)","v":290},{"$f":"IFERROR(VLOOKUP($A13,FILTRO!$A7:$AY632,9,FALSE),0)","v":364},{"$f":"IFERROR(VLOOKUP($A13,FILTRO!$A7:$AY632,10,FALSE),0)","v":432},{"$f":"IFERROR(VLOOKUP($A13,FILTRO!$A7:$AY632,11,FALSE),0)","v":206},{"$f":"IFERROR(VLOOKUP($A13,FILTRO!$A7:$AY632,12,FALSE),0)","v":323},{"$f":"IFERROR(VLOOKUP($A13,FILTRO!$A7:$AY632,13,FALSE),0)","v":12},{"$f":"IFERROR(VLOOKUP($A13,FILTRO!$A7:$AY632,14,FALSE),0)","v":9},{"$f":"IFERROR(VLOOKUP($A13,FILTRO!$A7:$AY632,15,FALSE),0)","v":5},{"$f":"IFERROR(VLOOKUP($A13,FILTRO!$A7:$AY632,16,FALSE),0)","v":26},{"$f":"IFERROR(VLOOKUP($A13,FILTRO!$A7:$AY632,17,FALSE),0)","v":32},{"$f":"IFERROR(VLOOKUP($A13,FILTRO!$A7:$AY632,18,FALSE),0)","v":47}]
["P1310030","RESIDENCIALES",{"$f":"IFERROR(VLOOKUP($A14,FILTRO!$A8:$AY633,2,FALSE),0)","v":199},{"$f":"IFERROR(VLOOKUP($A14,FILTRO!$A8:$AY633,3,FALSE),0)","v":102},{"$f":"IFERROR(VLOOKUP($A14,FILTRO!$A8:$AY633,4,FALSE),0)","v":97},{"$f":"IFERROR(VLOOKUP($A14,FILTRO!$A8:$AY633,5,FALSE),0)","v":19},{"$f":"IFERROR(VLOOKUP($A14,FILTRO!$A8:$AY633,6,FALSE),0)","v":11},{"$f":"IFERROR(VLOOKUP($A14,FILTRO!$A8:$AY633,7,FALSE),0)","v":24},{"$f":"IFERROR(VLOOKUP($A14,FILTRO!$A8:$AY633,8,FALSE),0)","v":19},{"$f":"IFERROR(VLOOKUP($A14,FILTRO!$A8:$AY633,9,FALSE),0)","v":29},{"$f":"IFERROR(VLOOKUP($A14,FILTRO!$A8:$AY633,10,FALSE),0)","v":34},{"$f":"IFERROR(VLOOKUP($A14,FILTRO!$A8:$AY633,11,FALSE),0)","v":30},{"$f":"IFERROR(VLOOKUP($A14,FILTRO!$A8:$AY633,12,FALSE),0)","v":33},{"$f":"IFERROR(VLOOKUP($A14,FILTRO!$A8:$AY633,13,FALSE),0)","v":0},{"$f":"IFERROR(VLOOKUP($A14,FILTRO!$A8:$AY633,14,FALSE),0)","v":0},{"$f":"IFERROR(VLOOKUP($A14,FILTRO!$A8:$AY633,15,FALSE),0)","v":0},{"$f":"IFERROR(VLOOKUP($A14,FILTRO!$A8:$AY633,16,FALSE),0)","v":0},{"$f":"IFERROR(VLOOKUP($A14,FILTRO!$A8:$AY633,17,FALSE),0)","v":4},{"$f":"IFERROR(VLOOKUP($A14,FILTRO!$A8:$AY633,18,FALSE),0)","v":0},{"$nulls":34},{"$f":"IF(BQ14=1,\" * El total de Migrantes no debe superar el total de población ingresada. \",\"\")","v":""},{"$f":"IF(BR14=1,\"* No olvide ingresar la columna Migrantes (Digite Cero si no tiene). \",\"\")","v":""},{"$f":"IF(BS14=1,\" * El total de Pueblos Originarios no debe superar el total de población ingresada. \",\"\")","v":""},{"$f":"IF(BT14=1,\"* No olvide ingresar la columna Pueblos Originarios (Digite Cero si no tiene). \",\"\")","v":""},{"$nulls":11},{"$f":"IF(R14>C14,1,0)","v":0},{"$f":"IF(AND(C14<>0,R14=\"\"),1,0)","v":0},{"$f":"IF(S14>C14,1,0)","v":0},{"$f":"IF(AND(C14<>0,S14=\"\"),1,0)","v":0}]
["P1310040","CIP-CRC",{"$f":"IFERROR(VLOOKUP($A15,FILTRO!$A9:$AY634,2,FALSE),0)","v":27},{"$f":"IFERROR(VLOOKUP($A15,FILTRO!$A9:$AY634,3,FALSE),0)","v":26},{"$f":"IFERROR(VLOOKUP($A15,FILTRO!$A9:$AY634,4,FALSE),0)","v":1},{"$f":"IFERROR(VLOOKUP($A15,FILTRO!$A9:$AY634,5,FALSE),0)","v":0},{"$f":"IFERROR(VLOOKUP($A15,FILTRO!$A9:$AY634,6,FALSE),0)","v":0},{"$f":"IFERROR(VLOOKUP($A15,FILTRO!$A9:$AY634,7,FALSE),0)","v":0},{"$f":"IFERROR(VLOOKUP($A15,FILTRO!$A9:$AY634,8,FALSE),0)","v":0},{"$f":"IFERROR(VLOOKUP($A15,FILTRO!$A9:$AY634,9,FALSE),0)","v":1},{"$f":"IFERROR(VLOOKUP($A15,FILTRO!$A9:$AY634,10,FALSE),0)","v":0},{"$f":"IFERROR(VLOOKUP($A15,FILTRO!$A9:$AY634,11,FALSE),0)","v":20},{"$f":"IFERROR(VLOOKUP($A15,FILTRO!$A9:$AY634,12,FALSE),0)","v":1},{"$f":"IFERROR(VLOOKUP($A15,FILTRO!$A9:$AY634,13,FALSE),0)","v":5},{"$f":"IFERROR(VLOOKUP($A15,FILTRO!$A9:$AY634,14,FALSE),0)","v":0},{"$f":"IFERROR(VLOOKUP($A15,FILTRO!$A9:$AY634,15,FALSE),0)","v":0},{"$f":"IFERROR(VLOOKUP($A15,FILTRO!$A9:$AY634,16,FALSE),0)","v":0},{"$f":"IFERROR(VLOOKUP($A15,FILTRO!$A9:$AY634,17,FALSE),0)","v":1},{"$f":"IFERROR(VLOOKUP($A15,FILTRO!$A9:$AY634,18,FALSE),0)","v":1},{"$nulls":34},{"$f":"IF(BQ15=1,\" * El total de Migrantes no debe superar el total de población ingresada. \",\"\")","v":""},{"$f":"IF(BR15=1,\"* No olvide ingresar la columna Migrantes (Digite Cero si no tiene). \",\"\")","v":""},"","",{"$nulls":11},{"$f":"IF(R15>C15,1,0)","v":0},{"$f":"IF(AND(C15<>0,R15=\"\"),1,0)","v":0},0,{"$f":"IF(AND(C15<>0,S15=\"\"),1,0)","v":0}]
[null,"SECCIÓN B: VARIABLES DE SEGUIMIENTO A POBLACIÓN DEL SERVICIO DE PROTECCIÓN ESPECIALIZADA MEJOR NIÑEZ Y SENAME EN CONTROL DE SALUD EN APS AL CORTE"]
[null,"Variable","TOTAL",null,null,"POR EDAD ",{"$nulls":11},"Migrantes","Pueblos Originarios","Servicio de Protección Especializada","SENAME"]
[{"$nulls":5}," 0 - 4",null," 5 - 9",null," 10 - 14 ",null,"15 a 19",null,"20 a 24",null,"Mayor a 25 años"]
[null,null,"Ambos sexos","Hombre","Mujer","Hombre","Mujer","Hombre","Mujer","Hombre","Mujer","Hombre","Mujer","Hombre","Mujer","Hombre","Mujer"]
["P1310050","POBLACIÓN EN CONTROL CON MÉTODO DE REGULACIÓN DE FERTILIDAD",{"$f":"IFERROR(VLOOKUP($A20,FILTRO!$A14:$AY639,2,FALSE),0)","v":430},{"$f":"IFERROR(VLOOKUP($A20,FILTRO!$A14:$AY639,3,FALSE),0)","v":7},{"$f":"IFERROR(VLOOKUP($A20,FILTRO!$A14:$AY639,4,FALSE),0)","v":423},{"$f":"IFERROR(VLOOKUP($A20,FILTRO!$A14:$AY639,5,FALSE),0)","v":0},{"$f":"IFERROR(VLOOKUP($A20,FILTRO!$A14:$AY639,6,FALSE),0)","v":0},{"$f":"IFERROR(VLOOKUP($A20,FILTRO!$A14:$AY639,7,FALSE),0)","v":0},{"$f":"IFERROR(VLOOKUP($A20,FILTRO!$A14:$AY639,8,FALSE),0)","v":0},{"$f":"IFERROR(VLOOKUP($A20,FILTRO!$A14:$AY639,9,FALSE),0)","v":4},{"$f":"IFERROR(VLOOKUP($A20,FILTRO!$A14:$AY639,10,FALSE),0)","v":42},{"$f":"IFERROR(VLOOKUP($A20,FILTRO!$A14:$AY639,11,FALSE),0)","v":3},{"$f":"IFERROR(VLOOKUP($A20,FILTRO!$A14:$AY639,12,FALSE),0)","v":131},{"$f":"IFERROR(VLOOKUP($A20,FILTRO!$A14:$AY639,13,FALSE),0)","v":0},{"$f":"IFERROR(VLOOKUP($A20,FILTRO!$A14:$AY639,14,FALSE),0)","v":55},{"$f":"IFERROR(VLOOKUP($A20,FILTRO!$A14:$AY639,15,FALSE),0)","v":0},{"$f":"IFERROR(VLOOKUP($A20,FILTRO!$A14:$AY639,16,FALSE),0)","v":195},{"$f":"IFERROR(VLOOKUP($A20,FILTRO!$A14:$AY639,17,FALSE),0)","v":5},{"$f":"IFERROR(VLOOKUP($A20,FILTRO!$A14:$AY639,18,FALSE),0)","v":10},{"$f":"IFERROR(VLOOKUP($A20,FILTRO!$A14:$AY639,19,FALSE),0)","v":117},{"$f":"IFERROR(VLOOKUP($A20,FILTRO!$A14:$AY639,20,FALSE),0)","v":30},{"$nulls":32},{"$f":"IF(BQ20=1,\" * El total de Migrantes no debe superar el total de población ingresada. \",\"\")","v":""},{"$f":"IF(BR20=1,\"* No olvide ingresar la columna Migrantes (Digite Cero si no tiene). \",\"\")","v":""},{"$f":"IF(BS20=1,\" * El total de Pueblos Originarios no debe superar el total de población ingresada. \",\"\")","v":""},{"$f":"IF(BT20=1,\"* No olvide ingresar la columna Pueblos Originarios (Digite Cero si no tiene). \",\"\")","v":""},{"$nulls":11},{"$f":"IF(R20>C20,1,0)","v":0},{"$f":"IF(AND(C20<>0,R20=\"\"),1,0)","v":0},{"$f":"IF(S20>C20,1,0)","v":0},{"$f":"IF(AND(C20<>0,S20=\"\"),1,0)","v":0}]
["P1310060","GESTANTES EN CONTROL CON RIESGO PSICOSOCIAL",{"$f":"IFERROR(VLOOKUP($A21,FILTRO!$A15:$AY640,2,FALSE),0)","v":19},{"$f":"IFERROR(VLOOKUP($A21,FILTRO!$A15:$AY640,3,FALSE),0)","v":6},{"$f":"IFERROR(VLOOKUP($A21,FILTRO!$A15:$AY640,4,FALSE),0)","v":13},{"$f":"IFERROR(VLOOKUP($A21,FILTRO!$A15:$AY640,5,FALSE),0)","v":0},{"$f":"IFERROR(VLOOKUP($A21,FILTRO!$A15:$AY640,6,FALSE),0)","v":0},{"$f":"IFERROR(VLOOKUP($A21,FILTRO!$A15:$AY640,7,FALSE),0)","v":0},{"$f":"IFERROR(VLOOKUP($A21,FILTRO!$A15:$AY640,8,FALSE),0)","v":0},{"$f":"IFERROR(VLOOKUP($A21,FILTRO!$A15:$AY640,9,FALSE),0)","v":1},{"$f":"IFERROR(VLOOKUP($A21,FILTRO!$A15:$AY640,10,FALSE),0)","v":2},{"$f":"IFERROR(VLOOKUP($A21,FILTRO!$A15:$AY640,11,FALSE),0)","v":3},{"$f":"IFERROR(VLOOKUP($A21,FILTRO!$A15:$AY640,12,FALSE),0)","v":10},{"$f":"IFERROR(VLOOKUP($A21,FILTRO!$A15:$AY640,13,FALSE),0)","v":2},{"$f":"IFERROR(VLOOKUP($A21,FILTRO!$A15:$AY640,14,FALSE),0)","v":0},{"$f":"IFERROR(VLOOKUP($A21,FILTRO!$A15:$AY640,15,FALSE),0)","v":0},{"$f":"IFERROR(VLOOKUP($A21,FILTRO!$A15:$AY640,16,FALSE),0)","v":1},{"$f":"IFERROR(VLOOKUP($A21,FILTRO!$A15:$AY640,17,FALSE),0)","v":0},{"$f":"IFERROR(VLOOKUP($A21,FILTRO!$A15:$AY640,18,FALSE),0)","v":0},{"$f":"IFERROR(VLOOKUP($A21,FILTRO!$A15:$AY640,19,FALSE),0)","v":19},{"$f":"IFERROR(VLOOKUP($A21,FILTRO!$A15:$AY640,20,FALSE),0)","v":0},{"$nulls":32},"","","","",{"$nulls":11},0,0,0,0]
["P1310070","POBLACIÓN INFANTIL EN CONTROL",{"$f":"IFERROR(VLOOKUP($A22,FILTRO!$A16:$AY641,2,FALSE),0)","v":644},{"$f":"IFERROR(VLOOKUP($A22,FILTRO!$A16:$AY641,3,FALSE),0)","v":328},{"$f":"IFERROR(VLOOKUP($A22,FILTRO!$A16:$AY641,4,FALSE),0)","v":316},{"$f":"IFERROR(VLOOKUP($A22,FILTRO!$A16:$AY641,5,FALSE),0)","v":139},{"$f":"IFERROR(VLOOKUP($A22,FILTRO!$A16:$AY641,6,FALSE),0)","v":138},{"$f":"IFERROR(VLOOKUP($A22,FILTRO!$A16:$AY641,7,FALSE),0)","v":189},{"$f":"IFERROR(VLOOKUP($A22,FILTRO!$A16:$AY641,8,FALSE),0)","v":178},{"$f":"IFERROR(VLOOKUP($A22,FILTRO!$A16:$AY641,9,FALSE),0)","v":0},{"$f":"IFERROR(VLOOKUP($A22,FILTRO!$A16:$AY641,10,FALSE),0)","v":0},{"$f":"IFERROR(VLOOKUP($A22,FILTRO!$A16:$AY641,11,FALSE),0)","v":0},{"$f":"IFERROR(VLOOKUP($A22,FILTRO!$A16:$AY641,12,FALSE),0)","v":0},{"$f":"IFERROR(VLOOKUP($A22,FILTRO!$A16:$AY641,13,FALSE),0)","v":0},{"$f":"IFERROR(VLOOKUP($A22,FILTRO!$A16:$AY641,14,FALSE),0)","v":0},{"$f":"IFERROR(VLOOKUP($A22,FILTRO!$A16:$AY641,15,FALSE),0)","v":0},{"$f":"IFERROR(VLOOKUP($A22,FILTRO!$A16:$AY641,16,FALSE),0)","v":0},{"$f":"IFERROR(VLOOKUP($A22,FILTRO!$A16:$AY641,17,FALSE),0)","v":5},{"$f":"IFERROR(VLOOKUP($A22,FILTRO!$A16:$AY641,18,FALSE),0)","v":12},{"$f":"IFERROR(VLOOKUP($A22,FILTRO!$A16:$AY641,19,FALSE),0)","v":423},{"$f":"IFERROR(VLOOKUP($A22,FILTRO!$A16:$AY641,20,FALSE),0)","v":36},{"$nulls":32},"","","","",{"$nulls":11},0,0,0,0]
["P1310080","POBLACIÓN EN CONTROL DE SALUD INTEGRAL DE ADOLESCENTES SEGÚN ÁREA DE RIESGO",{"$f":"IFERROR(VLOOKUP($A23,FILTRO!$A17:$AY642,2,FALSE),0)","v":467},{"$f":"IFERROR(VLOOKUP($A23,FILTRO!$A17:$AY642,3,FALSE),0)","v":209},{"$f":"IFERROR(VLOOKUP($A23,FILTRO!$A17:$AY642,4,FALSE),0)","v":258},{"$f":"IFERROR(VLOOKUP($A23,FILTRO!$A17:$AY642,5,FALSE),0)","v":0},{"$f":"IFERROR(VLOOKUP($A23,FILTRO!$A17:$AY642,6,FALSE),0)","v":0},{"$f":"IFERROR(VLOOKUP($A23,FILTRO!$A17:$AY642,7,FALSE),0)","v":0},{"$f":"IFERROR(VLOOKUP($A23,FILTRO!$A17:$AY642,8,FALSE),0)","v":0},{"$f":"IFERROR(VLOOKUP($A23,FILTRO!$A17:$AY642,9,FALSE),0)","v":136},{"$f":"IFERROR(VLOOKUP($A23,FILTRO!$A17:$AY642,10,FALSE),0)","v":166},{"$f":"IFERROR(VLOOKUP($A23,FILTRO!$A17:$AY642,11,FALSE),0)","v":73},{"$f":"IFERROR(VLOOKUP($A23,FILTRO!$A17:$AY642,12,FALSE),0)","v":92},{"$f":"IFERROR(VLOOKUP($A23,FILTRO!$A17:$AY642,13,FALSE),0)","v":0},{"$f":"IFERROR(VLOOKUP($A23,FILTRO!$A17:$AY642,14,FALSE),0)","v":0},{"$f":"IFERROR(VLOOKUP($A23,FILTRO!$A17:$AY642,15,FALSE),0)","v":0},{"$f":"IFERROR(VLOOKUP($A23,FILTRO!$A17:$AY642,16,FALSE),0)","v":0},{"$f":"IFERROR(VLOOKUP($A23,FILTRO!$A17:$AY642,17,FALSE),0)","v":7},{"$f":"IFERROR(VLOOKUP($A23,FILTRO!$A17:$AY642,18,FALSE),0)","v":11},{"$f":"IFERROR(VLOOKUP($A23,FILTRO!$A17:$AY642,19,FALSE),0)","v":355},{"$f":"IFERROR(VLOOKUP($A23,FILTRO!$A17:$AY642,20,FALSE),0)","v":32},{"$nulls":32},"","","","",{"$nulls":11},0,0,0,0]
["P1310090","POBLACIÓN EN CONTROL DE SALUD MENTAL",{"$f":"IFERROR(VLOOKUP($A24,FILTRO!$A18:$AY643,2,FALSE),0)","v":1230},{"$f":"IFERROR(VLOOKUP($A24,FILTRO!$A18:$AY643,3,FALSE),0)","v":562},{"$f":"IFERROR(VLOOKUP($A24,FILTRO!$A18:$AY643,4,FALSE),0)","v":668},{"$f":"IFERROR(VLOOKUP($A24,FILTRO!$A18:$AY643,5,FALSE),0)","v":12},{"$f":"IFERROR(VLOOKUP($A24,FILTRO!$A18:$AY643,6,FALSE),0)","v":14},{"$f":"IFERROR(VLOOKUP($A24,FILTRO!$A18:$AY643,7,FALSE),0)","v":174},{"$f":"IFERROR(VLOOKUP($A24,FILTRO!$A18:$AY643,8,FALSE),0)","v":147},{"$f":"IFERROR(VLOOKUP($A24,FILTRO!$A18:$AY643,9,FALSE),0)","v":194},{"$f":"IFERROR(VLOOKUP($A24,FILTRO!$A18:$AY643,10,FALSE),0)","v":262},{"$f":"IFERROR(VLOOKUP($A24,FILTRO!$A18:$AY643,11,FALSE),0)","v":165},{"$f":"IFERROR(VLOOKUP($A24,FILTRO!$A18:$AY643,12,FALSE),0)","v":219},{"$f":"IFERROR(VLOOKUP($A24,FILTRO!$A18:$AY643,13,FALSE),0)","v":13},{"$f":"IFERROR(VLOOKUP($A24,FILTRO!$A18:$AY643,14,FALSE),0)","v":7},{"$f":"IFERROR(VLOOKUP($A24,FILTRO!$A18:$AY643,15,FALSE),0)","v":4},{"$f":"IFERROR(VLOOKUP($A24,FILTRO!$A18:$AY643,16,FALSE),0)","v":19},{"$f":"IFERROR(VLOOKUP($A24,FILTRO!$A18:$AY643,17,FALSE),0)","v":18},{"$f":"IFERROR(VLOOKUP($A24,FILTRO!$A18:$AY643,18,FALSE),0)","v":10},{"$f":"IFERROR(VLOOKUP($A24,FILTRO!$A18:$AY643,19,FALSE),0)","v":760},{"$f":"IFERROR(VLOOKUP($A24,FILTRO!$A18:$AY643,20,FALSE),0)","v":293},{"$nulls":32},"","","","",{"$nulls":11},0,0,0,0]
["P1320010","POBLACIÓN EN PROGRAMA DE ACOMPAÑAMIENTO PSICOSOCIAL",{"$f":"IFERROR(VLOOKUP($A25,FILTRO!$A19:$AY644,2,FALSE),0)","v":153},{"$f":"IFERROR(VLOOKUP($A25,FILTRO!$A19:$AY644,3,FALSE),0)","v":64},{"$f":"IFERROR(VLOOKUP($A25,FILTRO!$A19:$AY644,4,FALSE),0)","v":89},{"$f":"IFERROR(VLOOKUP($A25,FILTRO!$A19:$AY644,5,FALSE),0)","v":9},{"$f":"IFERROR(VLOOKUP($A25,FILTRO!$A19:$AY644,6,FALSE),0)","v":18},{"$f":"IFERROR(VLOOKUP($A25,FILTRO!$A19:$AY644,7,FALSE),0)","v":20},{"$f":"IFERROR(VLOOKUP($A25,FILTRO!$A19:$AY644,8,FALSE),0)","v":22},{"$f":"IFERROR(VLOOKUP($A25,FILTRO!$A19:$AY644,9,FALSE),0)","v":24},{"$f":"IFERROR(VLOOKUP($A25,FILTRO!$A19:$AY644,10,FALSE),0)","v":26},{"$f":"IFERROR(VLOOKUP($A25,FILTRO!$A19:$AY644,11,FALSE),0)","v":10},{"$f":"IFERROR(VLOOKUP($A25,FILTRO!$A19:$AY644,12,FALSE),0)","v":23},{"$f":"IFERROR(VLOOKUP($A25,FILTRO!$A19:$AY644,13,FALSE),0)","v":1},{"$f":"IFERROR(VLOOKUP($A25,FILTRO!$A19:$AY644,14,FALSE),0)","v":0},{"$f":"IFERROR(VLOOKUP($A25,FILTRO!$A19:$AY644,15,FALSE),0)","v":0},{"$f":"IFERROR(VLOOKUP($A25,FILTRO!$A19:$AY644,16,FALSE),0)","v":0},{"$f":"IFERROR(VLOOKUP($A25,FILTRO!$A19:$AY644,17,FALSE),0)","v":2},{"$f":"IFERROR(VLOOKUP($A25,FILTRO!$A19:$AY644,18,FALSE),0)","v":4},{"$f":"IFERROR(VLOOKUP($A25,FILTRO!$A19:$AY644,19,FALSE),0)","v":98},{"$f":"IFERROR(VLOOKUP($A25,FILTRO!$A19:$AY644,20,FALSE),0)","v":20},{"$nulls":32},"","","","",{"$nulls":11},0,0,0,0]
[]
[]
["CODIGOS ELIMINADOS"]
["P1310010"]
["P1320030"]
["P1320040"]
["P1320050"]
[]
[]
[]
[]
[]
[]
[null,{"$f":"SUM(C12:Q15,C20:Q25)","v":26433},"datos"]
[null,{"$f":"SUM(BQ5:BT25)","v":0},"errores"]